{"text_format":"1","workbook":"xlsx","n_sheets":28,"sheets":["CAPA","Base","FORMALIZACAO","FUNDAMENTAÇÃO PED. EMPREENDER","FUNDAMENTAÇÃO PED. INTERNACION.","FUNDAMENTAÇÃO PED. VALORIZAR","FUNDAMENTAÇÃO PED. Funcionament","FUNDAMENTAÇÃO PED","INDICADORESRESULTADO (5)","Mapa","FINANCIAMENTO","CONDICOES","VENDAS EXTERIOR","INDICADORESRESULTADO","INDICADORESRESULTADO (2)","INDICADORESRESULTADO (3)","INDICADORESRESULTADO (4)","IGUALDADE_OPORTUNIDADES","REGRAS_AMBIENTAIS","CONTRATACAO_PUBLICA","CHECKLIST SI INV.","Instrucoes","CHECKLIST SI FUNC.","AvaliaçãoValorizar","AvaliaçãoProciencia","Avaliação Empreender","Avaliação Internacionalizar","CAES"],"not_rendered":{"charts":0,"images":5,"macros":1,"external_links":2,"defined_names":83,"comments":0,"pivot_tables":0},"unopened":[],"bounds":{"document_bytes":16777216,"sheet_cells":100000,"rows_first":2000,"rows_last":500,"rows_between":2000,"halvings":0,"cell_chars":16384,"cell_head_chars":4096},"cells_cut":0,"cells_raw":0,"read":"whole","date_system":"1900"}

{"sheet":"CAPA","index":0,"n_rows":58,"n_cols":13,"rows_kept":58,"cut":false,"hidden":false,"merged":[[0,1,0,10],[18,2,19,27],[10,2,11,27],[14,2,15,27],[16,1,17,1],[16,2,17,27],[50,3,51,26],[32,19,36,20],[32,22,36,23],[32,12,36,13],[32,14,36,15],[32,24,36,25],[32,17,36,18],[38,24,39,25],[38,12,39,13],[38,14,39,15],[38,17,39,18],[38,19,39,20],[38,22,39,23],[25,8,26,25],[25,4,26,7],[28,4,29,7],[28,8,29,25],[42,2,47,27]]}
[null,"V_2_08_11_2016_10_20"]
[]
[]
[]
[]
[]
[]
[]
[]
[]
[null,null,"ANEXO COMPLEMENTAR DO\nFORMULÁRIO DE PEDIDO PÓS CONTRATAÇÃO"]
[]
[]
[]
[null,null,{"$f":"Base!N8","v":"PROCiência 2020 - Sistema de Incentivos à Produção de Conhecimento Científico e Tecnológico da Região Autónoma da Madeira"}]
[]
[null,null,{"$f":"+Base!Q8","v":"PROCiência 2020 - Individuais"}]
[]
[null,null,{"$f":"+Base!R8","v":"Portaria n.º 371/2015"}]
[]
[]
[]
[]
[]
[]
[null,null,null,null,"Nº Projecto:"]
[]
[]
[null,null,null,null,"Beneficiário"]
[]
[]
[]
[]
[]
[]
[]
[]
[]
[]
[]
[]
[]
[]
[]
[]
[]
[]
[]
[]
[]
[null,null,null,"INSTITUTO DE DESENVOLVIMENTO EMPRESARIAL"]
[]
[]
[null,null,null,null,null,"Avenida Arriaga, 21-A"]
[null,null,null,null,null,"Edificio Golden, 3º Piso"]
[null,null,null,null,null,"9004-528 Funchal",null,null,null,null,null,null,"Email : ideram@ideram.pt "]
[null,null,null,null,null,"Telefone: 291 20 21 70",null,null,null,null,null,null,"ide@gov-madeira.pt"]
[null,null,null,null,null,"Fax: 291 20 21 90",null,null,null,null,null,null,"Web: _http://www.ideram.pt"]

{"sheet":"Base","index":1,"n_rows":185,"n_cols":44,"rows_kept":185,"cut":false,"hidden":true,"merged":[[2,1,2,3],[2,5,2,7],[2,8,2,10]]}
[]
[]
[null,"Tipos de Pagamento",null,null,null,"TipoDocDesp",null,null,"TipoDocQuit",null,null,null,"id","Descrição","Eixo","Cod","Sistema","Portaria",null,null,null,null,"Acao","Cod","Descricao","AcaoApoio","CodApoio","Sistema",null,"Cod","Rubrica","CodApoio",null,"Cod","Concelho","CodApoio",null,"Cod","Contratação P","CodApoio",null,"Cod","Tipo de investigação","CodApoio"]
[null,null,null,null,null,"AR","Aviso/Recibo","AR","DC","Documento Contabilístico","DC",null,1,"Empreender 2020 - Sistema de Incentivos ao Empreendedorismo da Região Autónoma da Madeira","11-03-06-03",51,"Empreender 2020","Portaria n.º 85/2015",null,null,null,null,"11-03-06-03",510301,"a1) Custos de aquisição de máquinas e equipamentos e os custos diretamente atribuíveis para os colocar na localização e condições necessárias para os mesmos serem capazes de funcionar.","11-03-06-03",510301,51,null,"411 ","411 INVESTIMENTOS EM SUBSIDIÁRIAS","411 ",null,3101,"Calheta",3101,null,1,"Sim",1,null,1,"Investigação Industrial",1]
[null,{"$f":"+D5","v":"A - Pagamento Após Conclusão Invto"},-1,"A - Pagamento Após Conclusão Invto",null,"BL","Boletim","BL","EB","Extractos Bancários","EB",null,2,"Internacionalizar 2020 - Sistema de Incentivos à Internacionalização das Empresas da Região Autónoma da Madeira","11-03-07-03",52,"Internacionalizar 2020","Portaria n.º 75/2015",null,null,null,null,"11-03-06-03",510302,"a2) Custos de aquisição de equipamentos informáticos, incluindo o software necessário ao seu funcionamento.","11-03-06-03",510302,51,null,"4111","4111 PARTICIPAÇÕES DE CAPITAL - MÉTODO DA EQUIVALÊNCIA PATRIMONIAL","4111",null,3102,"Câmara de Lobos",3102,null,2,"Não",2,null,2,"Desenvolvimento experimental",2]
[null,{"$f":"+D6","v":"(A) Pagamento único após Conclusão do investimento"},"SA","(A) Pagamento único após Conclusão do investimento",null,"FC","Factura","FC","FE","Recibo de Fornecedores  ou de empresas de Factoring","FE",null,3,"VALORIZAR 2020 - Sistema de Incentivos à Valorização e Qualificação Empresarial da Região Autónoma da Madeira","11-03-08-02",53,"Valorizar 2020","Portaria n.º 98/2015",null,null,null,null,"11-03-06-03",510303,"a3) Custos com a construção de edifícios, obras de remodelação e outras construções até ao limite de 30% do total das despesas elegíveis.","11-03-06-03",510303,51,null,"4112","4112 PARTICIPAÇÕES DE CAPITAL - OUTROS MÉTODOS","4112",null,3103,"Funchal",3103]
[null,"B - Pagamento em 2 momentos",-1,"B - Pagamento em 2 momentos",null,"FL","Folha","FL","FR","Factura / Recibo","FR",null,4,"Funcionamento 2020 - Sistema de apoio à compensação dos custos adicionais das empresas da Região Autónoma da Madeira","11-11-60-01",76,"Funcionamento 2020","Portaria n.º 119/2015",null,null,null,null,"11-03-06-03",510304,"a4) Custos com a aquisição e adaptação de material circulante que constitua a própria atividade a desenvolver, em casos devidamente justificados e apenas nos projetos do setor do turismo, com exceção das atividades tradicionais de rent-a-car.","11-03-06-03",510304,51,null,"4113","4113 EMPRÉSTIMOS CONCEDIDOS","4113",null,3104,"Machico",3104]
[null,"(B) Adiantamento contra garantia (1º)","AD","(B) Adiantamento contra garantia (1º)",null,"NC","Nota de Crédito","NC","RD","Recibo de Despesa","RD",null,5,"PROCiência 2020 - Sistema de Incentivos à Produção de Conhecimento Científico e Tecnológico da Região Autónoma da Madeira","11-01-02-01",47,"PROCiência 2020 - Individuais","Portaria n.º 371/2015",null,null,null,null,"11-03-06-03",510305,"a5) Sobrecustos com a aquisição e custos com a conversão de material circulante c/ utilização de energia menos poluentes.","11-03-06-03",510305,51,null,"412 ","412 INVESTIMENTOS EM ASSOCIADAS","412 ",null,3105,"Ponta do Sol",3105]
[null,"(B) Pagamento de saldo final (2º)","SA","(B) Pagamento de saldo final (2º)",null,"ND","Nota de Débito","ND","TB","Transferencia Bancária","TB",null,null,null,null,null,null,null,null,null,null,null,"11-03-06-03",510306,"b1) Transferência de tecnologia através da aquisição de direitos de patentes, nacionais e internacionais.","11-03-06-03",510306,51,null,"4121","4121 PARTICIPAÇÕES DE CAPITAL - MÉTODO DA EQUIVALÊNCIA PATRIMONIAL","4121",null,3106,"Porto Moniz",3106]
[null,"C - Pagamento em 3 momentos",-1,"C - Pagamento em 3 momentos",null,"RV","Recibo Verde","RV","VD","Venda a dinheiro","VD",null,null,null,null,null,null,null,null,null,null,null,"11-03-06-03",510307,"b2) Despesas com a obtenção, validação e defesa de patentes, «saber-fazer» ou conhecimentos técnicos não protegidos por patente, licenças ou outros tipos de propriedade intelectual.","11-03-06-03",510307,51,null,"4122","4122 PARTICIPAÇÕES DE CAPITAL - OUTROS MÉTODOS","4122",null,3107,"Ribeira Brava",3107]
[null,"(C) Adiantamento contra garantia (1º)","AD","(C) Adiantamento contra garantia (1º)",null,"OU","Outros","OU",null,null,null,null,null,null,null,null,null,null,null,null,null,null,"11-03-06-03",510308,"b3) Software standard ou desenvolvido especificamente para determinado fim.","11-03-06-03",510308,51,null,"4123","4123 EMPRÉSTIMOS CONCEDIDOS","4123",null,3108,"Santa Cruz",3108]
[null,"(C) Pagamento a título de reembolso (2º)","RE","(C) Pagamento a título de reembolso (2º)",null,"VD","Venda a dinheiro","VD",null,null,null,null,null,null,null,null,null,null,null,null,null,null,"11-03-06-03",510309,"c1) Despesas com a conceção e registo associados à criação de marcas e insígnias.","11-03-06-03",510309,51,null,"413 ","413 INVESTIMENTOS EM ENTIDADES CONJUNTAMENTE CONTROLADAS","413 ",null,3109,"Santana",3109]
[null,"(C) Pagamento de saldo final (3º)","SA","(C) Pagamento de saldo final (3º)",null,null,null,null,null,null,null,null,null,null,null,null,null,null,null,null,null,null,"11-03-06-03",510310,"c2) Despesas iniciais associados à domiciliação de aplicações, adesão inicial a plataformas eletrónicas.","11-03-06-03",510310,51,null,"4131","4131 PARTICIPAÇÕES DE CAPITAL - MÉTODO DA EQUIVALÊNCIA PATRIMONIAL","4131",null,3110,"São Vicente",3110]
[null,"D - Pagamento em 2 ou 3 momentos",-1,"D - Pagamento em 2 ou 3 momentos",null,null,null,null,null,null,null,null,null,null,null,null,null,null,null,null,null,null,"11-03-06-03",510311,"c3) Projeto de design, desenvolvimento e engenharia de produtos, serviços e processos.","11-03-06-03",510311,51,null,"4132","4132 PARTICIPAÇÕES DE CAPITAL - OUTROS MÉTODOS","4132",null,3201,"Porto Santo",3201]
[null,"(D) Pagamento a título de reembolso (1º)","RE","(D) Pagamento a título de reembolso (1º)",null,null,null,null,null,null,null,null,null,null,null,null,null,null,null,null,null,null,"11-03-06-03",510312,"c4) Despesas com a certificação e marcação de produtos, serviços e sistemas e com a realização de testes e ensaios em laboratórios acreditados.","11-03-06-03",510312,51,null,"4133","4133 EMPRÉSTIMOS CONCEDIDOS","4133"]
[null,"(D) Pagamento a título de reembolso (2º)","RE","(D) Pagamento a título de reembolso (2º)",null,null,null,null,null,null,null,null,null,null,null,null,null,null,null,null,null,null,"11-03-06-03",510313,"c5) Estudos e diagnósticos para a implementação do projeto em setores da alta e média-alta tecnologia e serviços intensivos em conhecimento.","11-03-06-03",510313,51,null,"414 ","414 INVESTIMENTOS NOUTRAS EMPRESAS","414 "]
[null,"(D) Pagamento de saldo final (3º)","SA","(D) Pagamento de saldo final (3º)",null,null,null,null,null,null,null,null,null,null,null,null,null,null,null,null,null,null,"11-03-06-03",510314,"c6) Planos de marketing associados ao projeto de investimento até ao limite de 15 000 do total das despesas elegíveis do projeto.","11-03-06-03",510314,51,null,"4141","4141 PARTICIPAÇÕES DE CAPITAL","4141"]
[null,"E - Pagamento em 2 ou 3 momentos",-1,"E - Pagamento em 2 ou 3 momentos",null,null,null,null,null,null,null,null,null,null,null,null,null,null,null,null,null,null,"11-03-06-03",510315,"c7) Projetos de arquitetura e de engenharia associados ao projeto de investimento até ao limite de 20 000.","11-03-06-03",510315,51,null,"4142","4142 EMPRÉSTIMOS CONCEDIDOS","4142"]
[null,"(E) Adiantamento contra fatura (1º)","AD","(E) Adiantamento contra fatura (1º)",null,null,null,null,null,null,null,null,null,null,null,null,null,null,null,null,null,null,"11-03-06-03",510316,"c8) Despesas com a intervenção de técnicos oficiais de contas ou revisores oficiais de contas, na validação da despesa dos pedidos de pagamento, até ao limite de 4 000 por projeto e apenas para os efeitos previstos no número 4 do artigo 27º.","11-03-06-03",510316,51,null,"415 ","415 OUTROS INVESTIMENTOS FINANCEIROS","415 "]
[null,"(E) Justificação de Adiantamento contra fatura (1º)","JÁ","(E) Justificação de Adiantamento contra fatura (1º)",null,null,null,null,null,null,null,null,null,null,null,null,null,null,null,null,null,null,"11-03-06-03",510317,"c9) Despesas com a elaboração da candidatura e planos de negócios diretamente relacionados com a conceção, implementação e avaliação do projeto até ao limite de 5 000 e para os efeitos previstos na alínea c) do artigo 10º.","11-03-06-03",510317,51,null,"4151","4151 DETIDOS ATÉ À MATURIDADE","4151"]
[null,"(E) Adiantamento contra fatura (2º)","AD","(E) Adiantamento contra fatura (2º)",null,null,null,null,null,null,null,null,null,null,null,null,null,null,null,null,null,null,"11-03-06-03",510318,"i) Contratação de postos de trabalho altamente qualificados.","11-03-06-03",510318,51,null,"4158","4158 OUTROS","4158"]
[null,"(E) Justificação de Adiantamento contra fatura (2º)","JÁ","(E) Justificação de Adiantamento contra fatura (2º)",null,null,null,null,null,null,null,null,null,null,null,null,null,null,null,null,null,null,"11-03-06-03",1,"a) Custos normais de funcionamento do beneficiário e investimentos de manutenção e substituição","11-03-06-03",1,51,null,"419 ","419 PERDAS POR IMPARIDADE ACUMULADAS","419 "]
[null,"(E) Pagamento de saldo final (3º)","SA","(E) Pagamento de saldo final (3º)",null,null,null,null,null,null,null,null,null,null,null,null,null,null,null,null,null,null,"11-03-06-03",2,"b) Custos referentes a atividades relacionadas com a exportação","11-03-06-03",2,51,null,"",null,""]
[null,"F - Pagamento em 2 ou 3 momentos",-1,"F - Pagamento em 2 ou 3 momentos",null,null,null,null,null,null,null,null,null,null,null,null,null,null,null,null,null,null,"11-03-06-03",3,"c) Custos referentes a investimentos diretos no estrangeiro","11-03-06-03",3,51,null,"421 ","421 TERRENOS E RECURSOS NATURAIS","421 "]
[null,"(F) Adiantamento contra fatura (1º)","AD","(F) Adiantamento contra fatura (1º)",null,null,null,null,null,null,null,null,null,null,null,null,null,null,null,null,null,null,"11-03-06-03",5,"e) Compra de imóveis, incluindo terrenos","11-03-06-03",5,51,null,"422 ","422 EDIFÍCIOS E OUTRAS CONSTRUÇÕES","422 "]
[null,"(F) Justificação de Adiantamento contra fatura (1º)","JÁ","(F) Justificação de Adiantamento contra fatura (1º)",null,null,null,null,null,null,null,null,null,null,null,null,null,null,null,null,null,null,"11-03-06-03",6,"f) Trespasses e direitos de utilização de espaços","11-03-06-03",6,51,null,"426 ","426 OUTRAS PROPRIEDADES DE INVESTIMENTO","426 "]
[null,"(F) Pagamento a título de reembolso (2º)","RE","(F) Pagamento a título de reembolso (2º)",null,null,null,null,null,null,null,null,null,null,null,null,null,null,null,null,null,null,"11-03-06-03",7,"g) Aquisição de veículos automóveis, aeronaves e outro material de transporte ou aeronáutico","11-03-06-03",7,51,null,"428 ","428 DEPRECIAÇÕES ACUMULADAS","428 "]
[null,"(F) Pagamento de saldo final (3º)","SA","(F) Pagamento de saldo final (3º)",null,null,null,null,null,null,null,null,null,null,null,null,null,null,null,null,null,null,"11-03-06-03",8,"h) Aquisição de bens em estado de uso","11-03-06-03",8,51,null,"429 ","429 PERDAS POR IMPARIDADE ACUMULADAS","429 "]
[null,"G - Pagamento em 2 ou 3 momentos",-1,"G - Pagamento em 2 ou 3 momentos",null,null,null,null,null,null,null,null,null,null,null,null,null,null,null,null,null,null,"11-03-06-03",9,"i) Imposto sobre o valor acrescentado recuperável ainda que não tenha sido ou não venha a ser efetivamente recuperado pelo beneficiário","11-03-06-03",9,51,null,"",null,""]
[null,"(G) Pagamento a título de reembolso (1º)","RE","(G) Pagamento a título de reembolso (1º)",null,null,null,null,null,null,null,null,null,null,null,null,null,null,null,null,null,null,"11-03-06-03",10,"j) Juros durante o período de realização do investimento","11-03-06-03",10,51,null,"431 ","431 TERRENOS E RECURSOS NATURAIS","431 "]
[null,"(G) Adiantamento contra fatura (2º)","AD","(G) Adiantamento contra fatura (2º)",null,null,null,null,null,null,null,null,null,null,null,null,null,null,null,null,null,null,"11-03-06-03",11,"k) Fundo de maneio","11-03-06-03",11,51,null,"432 ","432 EDIFÍCIOS E OUTRAS CONSTRUÇÕES","432 "]
[null,"(G) Justificação de Adiantamento contra fatura (2º)","JÁ","(G) Justificação de Adiantamento contra fatura (2º)",null,null,null,null,null,null,null,null,null,null,null,null,null,null,null,null,null,null,"11-03-06-03",12,"l) Trabalhos da empresa para ela própria","11-03-06-03",12,51,null,"433 ","433 EQUIPAMENTO BÁSICO","433 "]
[null,"(G) Pagamento de saldo final (3º)","SA","(G) Pagamento de saldo final (3º)",null,null,null,null,null,null,null,null,null,null,null,null,null,null,null,null,null,null,"11-03-06-03",13,"m) Pagamentos em numerário","11-03-06-03",13,51,null,"434 ","434 EQUIPAMENTO DE TRANSPORTE","434 "]
[null,"--- Avaliação ---",-1,"--- Avaliação ---",null,null,null,null,null,null,null,null,null,null,null,null,null,null,null,null,null,null,"11-03-06-03",14,"n) Custos com garantias bancárias","11-03-06-03",14,51,null,"435 ","435 EQUIPAMENTO ADMINISTRATIVO","435 "]
[null,"Avaliação de Resultados",13,"Avaliação de Resultados",null,null,null,null,null,null,null,null,null,null,null,null,null,null,null,null,null,null,"11-03-06-03",15,"o) Despesas pagas no âmbito de contratos efetuados através de intermediários ou consultores","11-03-06-03",15,51,null,"436 ","436 EQUIPAMENTOS BIOLÓGICOS","436 "]
[null,null,null,null,null,null,null,null,null,null,null,null,null,null,null,null,null,null,null,null,null,null,"11-03-06-03",16,"p) Custos de investimento correspondentes às unidades de alojamento exploradas em regime de direito de habitação periódica, de natureza real ou obrigacional.","11-03-06-03",16,51,null,"437 ","437 OUTROS ACTIVOS FIXOS TANGÍVEIS","437 "]
[null,null,null,null,null,null,null,null,null,null,null,null,null,null,null,null,null,null,null,null,null,null,"11-03-06-03",17,"q) Ações de formação.","11-03-06-03",17,51,null,"438 ","438 DEPRECIAÇÕES ACUMULADAS","438 "]
[null,null,null,null,null,null,null,null,null,null,null,null,null,null,null,null,null,null,null,null,null,null,"11-03-06-03",19,"s) Outras despesas não elegíveis","11-03-06-03",19,51,null,"439 ","439 PERDAS POR IMPARIDADE ACUMULADAS","439 "]
[null,null,null,null,null,null,null,null,null,null,null,null,null,null,null,null,null,null,null,null,null,null,"11-03-07-03",520301,"ai) Equipamentos, na medida em que forem utilizados no projeto","11-03-07-03",520301,52,null,"",null,""]
[null,null,null,null,null,null,null,null,null,null,null,null,null,null,null,null,null,null,null,null,null,null,"11-03-07-03",520302,"aii) Software relacionado com o desenvolvimento do projeto","11-03-07-03",520302,52,null,"441 ","441 GOODWILL","441 "]
[null,null,null,null,null,null,null,null,null,null,null,null,null,null,null,null,null,null,null,null,null,null,"11-03-07-03",520303,"aiii) Custo com a contratação de um máximo de dois novos quadros técnicos por projeto, com nível de qualificação igual ou superior a 6","11-03-07-03",520303,52,null,"442 ","442 PROJECTOS DE DESENVOLVIMENTO","442 "]
[null,null,null,null,null,null,null,null,null,null,null,null,null,null,null,null,null,null,null,null,null,null,"11-03-07-03",520304,"bi) Custos com o arrendamento de espaços, incluindo os serviços prestados pelas entidades organizadoras das feiras","11-03-07-03",520304,52,null,"443 ","443 PROGRAMAS DE COMPUTADOR","443 "]
[null,null,null,null,null,null,null,null,null,null,null,null,null,null,null,null,null,null,null,null,null,null,"11-03-07-03",520305,"bii) Custos com a construção do stand, incluindo os serviços associados à conceção, construção e montagem de espaços de exposição","11-03-07-03",520305,52,null,"444 ","444 PROPRIEDADE INDUSTRIAL","444 "]
[null,null,null,null,null,null,null,null,null,null,null,null,null,null,null,null,null,null,null,null,null,null,"11-03-07-03",520306,"biii) Custos de funcionamento do stand, incluindo os serviços de deslocação e alojamento dos representantes das empresas","11-03-07-03",520306,52,null,"446 ","446 OUTROS ACTIVOS INTANGÍVEIS","446 "]
[null,null,null,null,null,null,null,null,null,null,null,null,null,null,null,null,null,null,null,null,null,null,"11-03-07-03",520307,"ci) Prospeção e captação de novos clientes","11-03-07-03",520307,52,null,"447 ","447 ACTIVOS AFECTOS À CONCESSÃO","447 "]
[null,null,null,null,null,null,null,null,null,null,null,null,null,null,null,null,null,null,null,null,null,null,"11-03-07-03",520308,"cii) Ações de promoção realizadas em mercados externos","11-03-07-03",520308,52,null,"4472","4472 EDIFÍCIOS E OUTRAS CONSTRUÇÕES","4472"]
[null,null,null,null,null,null,null,null,null,null,null,null,null,null,null,null,null,null,null,null,null,null,"11-03-07-03",520309,"ciii) Campanhas de marketing nos mercados externos","11-03-07-03",520309,52,null,"448 ","448 AMORTIZAÇÕES ACUMULADAS","448 "]
[null,null,null,null,null,null,null,null,null,null,null,null,null,null,null,null,null,null,null,null,null,null,"11-03-07-03",520310,"civ) Custos com a entidade certificadora e com a realização de testes e ensaios em laboratórios acreditados","11-03-07-03",520310,52,null,"449 ","449 PERDAS POR IMPARIDADE ACUMULADAS","449 "]
[null,null,null,null,null,null,null,null,null,null,null,null,null,null,null,null,null,null,null,null,null,null,"11-03-07-03",520311,"cv) Custos de conceção e registo associados à criação de novas marcas","11-03-07-03",520311,52,null,"",null,""]
[null,null,null,null,null,null,null,null,null,null,null,null,null,null,null,null,null,null,null,null,null,null,"11-03-07-03",520312,"cvi) Custos iniciais associados à domiciliação de aplicações","11-03-07-03",520312,52,null,"451 ","451 INVESTIMENTOS FINANCEIROS EM CURSO","451 "]
[null,null,null,null,null,null,null,null,null,null,null,null,null,null,null,null,null,null,null,null,null,null,"11-03-07-03",520313,"cvii) Custos com a elaboração de propostas de serviços/fornecimentos no âmbito da contratação pública internacional","11-03-07-03",520313,52,null,"452 ","452 PROPRIEDADES DE INVESTIMENTO EM CURSO","452 "]
[null,null,null,null,null,null,null,null,null,null,null,null,null,null,null,null,null,null,null,null,null,null,"11-03-07-03",520314,"cviii) Estudos, diagnósticos e auditorias para o conhecimento dos mercados alvo e da estratégia de internacionalização","11-03-07-03",520314,52,null,"453 ","453 ACTIVOS FIXOS TANGÍVEIS EM CURSO","453 "]
[null,null,null,null,null,null,null,null,null,null,null,null,null,null,null,null,null,null,null,null,null,null,"11-03-07-03",520315,"cix) Custos com o projeto de design, desenvolvimento e engenharia de produtos, serviços e processos","11-03-07-03",520315,52,null,"454 ","454 ACTIVOS INTANGÍVEIS EM CURSO","454 "]
[null,null,null,null,null,null,null,null,null,null,null,null,null,null,null,null,null,null,null,null,null,null,"11-03-07-03",520316,"cx) Custos com o desenvolvimento de software e redesenho de processos adequados ao processamento da informação e das infraestrutura de rede local","11-03-07-03",520316,52,null,"455 ","455 ADIANTAMENTOS POR CONTA DE INVESTIMENTOS","455 "]
[null,null,null,null,null,null,null,null,null,null,null,null,null,null,null,null,null,null,null,null,null,null,"11-03-07-03",520317,"cxi) Custos com a intervenção de Técnicos Oficiais de Contas ou Revisores Oficiais de Contas na validação da despesa dos pedidos de pagamento até ao limite de 3.000 por projeto","11-03-07-03",520317,52,null,"459 ","459 PERDAS POR IMPARIDADE ACUMULADAS","459 "]
[null,null,null,null,null,null,null,null,null,null,null,null,null,null,null,null,null,null,null,null,null,null,"11-03-07-03",520318,"cxii) Custos com a elaboração da candidatura e planos de negócios diretamente relacionados com a conceção, implementação e avaliação do projeto até ao limite de 5.000","11-03-07-03",520318,52,null,"46 A","46 ACTIVOS NÃO CORRENTES DETIDOS PARA VENDA","46 A"]
[null,null,null,null,null,null,null,null,null,null,null,null,null,null,null,null,null,null,null,null,null,null,"11-03-07-03",520319,"d) Obtenção, validação e defesa de patentes e outros custos de registo de propriedade industrial","11-03-07-03",520319,52,null,"469 ","469 PERDAS POR IMPARIDADE ACUMULADAS","469 "]
[null,null,null,null,null,null,null,null,null,null,null,null,null,null,null,null,null,null,null,null,null,null,"11-03-07-03",1,"a) Custos normais de funcionamento do beneficiário e investimentos de manutenção e substituição","11-03-07-03",1,52,null,"",null,""]
[null,null,null,null,null,null,null,null,null,null,null,null,null,null,null,null,null,null,null,null,null,null,"11-03-07-03",2,"b) Custos referentes a atividades relacionadas com a exportação","11-03-07-03",2,52,null,"",null,""]
[null,null,null,null,null,null,null,null,null,null,null,null,null,null,null,null,null,null,null,null,null,null,"11-03-07-03",3,"c) Custos referentes a investimentos diretos no estrangeiro","11-03-07-03",3,52,null,"611 ","611 MERCADORIAS","611 "]
[null,null,null,null,null,null,null,null,null,null,null,null,null,null,null,null,null,null,null,null,null,null,"11-03-07-03",4,"d) Custos na área produtiva ou operacional","11-03-07-03",4,52,null,"612 ","612 MATÉRIAS-PRIMAS, SUBSIDIÁRIAS E DE CONSUMO","612 "]
[null,null,null,null,null,null,null,null,null,null,null,null,null,null,null,null,null,null,null,null,null,null,"11-03-07-03",5,"e) Compra de imóveis, incluindo terrenos","11-03-07-03",5,52,null,"613 ","613 ACTIVOS BIOLÓGICOS (COMPRAS)","613 "]
[null,null,null,null,null,null,null,null,null,null,null,null,null,null,null,null,null,null,null,null,null,null,"11-03-07-03",6,"f) Trespasses e direitos de utilização de espaços","11-03-07-03",6,52,null,"",null,""]
[null,null,null,null,null,null,null,null,null,null,null,null,null,null,null,null,null,null,null,null,null,null,"11-03-07-03",7,"g) Aquisição de veículos automóveis, aeronaves e outro material de transporte ou aeronáutico","11-03-07-03",7,52,null,"621 ","621 SUBCONTRATOS","621 "]
[null,null,null,null,null,null,null,null,null,null,null,null,null,null,null,null,null,null,null,null,null,null,"11-03-07-03",8,"h) Aquisição de bens em estado de uso","11-03-07-03",8,52,null,"622 ","622 SERVIÇOS ESPECIALIZADOS","622 "]
[null,null,null,null,null,null,null,null,null,null,null,null,null,null,null,null,null,null,null,null,null,null,"11-03-07-03",9,"i) Imposto sobre o valor acrescentado recuperável ainda que não tenha sido ou não venha a ser efetivamente recuperado pelo beneficiário","11-03-07-03",9,52,null,"6221","6221 TRABALHOS ESPECIALIZADOS","6221"]
[null,null,null,null,null,null,null,null,null,null,null,null,null,null,null,null,null,null,null,null,null,null,"11-03-07-03",10,"j) Juros durante o período de realização do investimento","11-03-07-03",10,52,null,"6222","6222 PUBLICIDADE E PROPAGANDA","6222"]
[null,null,null,null,null,null,null,null,null,null,null,null,null,null,null,null,null,null,null,null,null,null,"11-03-07-03",11,"k) Fundo de maneio","11-03-07-03",11,52,null,"6223","6223 VIGILÂNCIA E SEGURANÇA","6223"]
[null,null,null,null,null,null,null,null,null,null,null,null,null,null,null,null,null,null,null,null,null,null,"11-03-07-03",12,"l) Trabalhos da empresa para ela própria","11-03-07-03",12,52,null,"6224","6224 HONORÁRIOS","6224"]
[null,null,null,null,null,null,null,null,null,null,null,null,null,null,null,null,null,null,null,null,null,null,"11-03-07-03",13,"m) Pagamentos em numerário","11-03-07-03",13,52,null,"6225","6225 COMISSÕES","6225"]
[null,null,null,null,null,null,null,null,null,null,null,null,null,null,null,null,null,null,null,null,null,null,"11-03-07-03",14,"n) Custos com garantias bancárias","11-03-07-03",14,52,null,"6226","6226 CONSERVAÇÃO E REPARAÇÃO","6226"]
[null,null,null,null,null,null,null,null,null,null,null,null,null,null,null,null,null,null,null,null,null,null,"11-03-07-03",15,"o) Despesas pagas no âmbito de contratos efetuados através de intermediários ou consultores","11-03-07-03",15,52,null,"6228","6228 OUTROS","6228"]
[null,null,null,null,null,null,null,null,null,null,null,null,null,null,null,null,null,null,null,null,null,null,"11-03-07-03",19,"s) Outras despesas não elegíveis","11-03-07-03",19,52,null,"623 ","623 MATERIAIS","623 "]
[null,null,null,null,null,null,null,null,null,null,null,null,null,null,null,null,null,null,null,null,null,null,"11-03-08-02",530201,"ai)Custos de aquisição de máquinas, equipamentos e sistemas técnicos e os custos diretamente atribuíveis para os colocar na localização e condições necessárias para os mesmos serem capazes de funcionar","11-03-08-02",530201,53,null,"6231","6231 FERRAMENTAS E UTENSÍLIOS DE DESGASTE RÁPIDO","6231"]
[null,null,null,null,null,null,null,null,null,null,null,null,null,null,null,null,null,null,null,null,null,null,"11-03-08-02",530202,"aii) Custos de aquisição de sistemas informáticos e de comunicações, incluindo o hardware, software e serviços de instalação e ensaios necessários para assegurar o seu funcionamento;","11-03-08-02",530202,53,null,"6232","6232 LIVROS E DOCUMENTAÇÃO TÉCNICA","6232"]
[null,null,null,null,null,null,null,null,null,null,null,null,null,null,null,null,null,null,null,null,null,null,"11-03-08-02",530203,"aaiii.a) Custos com a construção de edifícios, obras de remodelação e outras construções até ao limite de 50% das despesas elegíveis totais, para o setor do turismo;","11-03-08-02",530203,53,null,"6233","6233 MATERIAL DE ESCRITÓRIO","6233"]
[null,null,null,null,null,null,null,null,null,null,null,null,null,null,null,null,null,null,null,null,null,null,"11-03-08-02",530224,"aaiii.aa) Custos com a construção de edifícios, obras de remodelação e outras construções até ao limite de 60% das despesas elegíveis totais, para o setor do turismo dos projetos localizados no Porto Santo.","11-03-08-02",530224,53,null,"6234","6234 ARTIGOS PARA OFERTA","6234"]
[null,null,null,null,null,null,null,null,null,null,null,null,null,null,null,null,null,null,null,null,null,null,"11-03-08-02",530204,"aaiii.b) Custos com a construção de edifícios, obras de remodelação e outras construções até ao limite de 30% das despesas elegíveis totais do projeto, para os restantes setores;","11-03-08-02",530204,53,null,"6238","6238 OUTROS","6238"]
[null,null,null,null,null,null,null,null,null,null,null,null,null,null,null,null,null,null,null,null,null,null,"11-03-08-02",530205,"aaiii.c) Custos com a construção de edifícios, obras de remodelação e outras construções até ao limite de 40% das despesas elegíveis totais do projeto para os projetos localizados nos parques empresariais;","11-03-08-02",530205,53,null,"624 ","624 ENERGIA E FLUIDOS","624 "]
[null,null,null,null,null,null,null,null,null,null,null,null,null,null,null,null,null,null,null,null,null,null,"11-03-08-02",530206,"aiv) Custos com a aquisição e adaptação de material circulante que constitua a própria atividade a desenvolver, em casos devidamente justificados e apenas nos projetos do setor do turismo, com exceção das atividades tradicionais de rent-a-car;","11-03-08-02",530206,53,null,"6241","6241 ELECTRICIDADE","6241"]
[null,null,null,null,null,null,null,null,null,null,null,null,null,null,null,null,null,null,null,null,null,null,"11-03-08-02",530207,"av) Sobrecustos com a aquisição e custos com a conversão de material circulante, decorrente da utilização de formas de energia menos poluentes e mais eficientes","11-03-08-02",530207,53,null,"6242","6242 COMBUSTÍVEIS","6242"]
[null,null,null,null,null,null,null,null,null,null,null,null,null,null,null,null,null,null,null,null,null,null,"11-03-08-02",530208,"bi) Transferência de tecnologia através da aquisição de direitos de patentes, nacionais e internacionais;","11-03-08-02",530208,53,null,"6243","6243 ÁGUA","6243"]
[null,null,null,null,null,null,null,null,null,null,null,null,null,null,null,null,null,null,null,null,null,null,"11-03-08-02",530209,"bii) Despesas com a obtenção, validação e defesa de patentes, «saber-fazer» ou conhecimentos técnicos não protegidos por patente, licenças ou outros tipos de propriedade intelectual;","11-03-08-02",530209,53,null,"6248","6248 OUTROS","6248"]
[null,null,null,null,null,null,null,null,null,null,null,null,null,null,null,null,null,null,null,null,null,null,"11-03-08-02",530210,"biii) Software standard ou desenvolvido especificamente para o projeto.","11-03-08-02",530210,53,null,"625 ","625 DESLOCAÇÕES, ESTADAS E TRANSPORTES","625 "]
[null,null,null,null,null,null,null,null,null,null,null,null,null,null,null,null,null,null,null,null,null,null,"11-03-08-02",530211,"ci) Despesas com a conceção e registo associados à criação de marcas e insígnias;","11-03-08-02",530211,53,null,"6251","6251 DESLOCAÇÕES E ESTADAS","6251"]
[null,null,null,null,null,null,null,null,null,null,null,null,null,null,null,null,null,null,null,null,null,null,"11-03-08-02",530212,"cii) Despesas iniciais associados à domiciliação de aplicações, adesão inicial a plataformas eletrónicas, subscrição inicial de aplicações em regimes de software as a service, criação e publicação inicial de novos conteúdos eletrónicos","11-03-08-02",530212,53,null,"6252","6252 TRANSPORTES DE PESSOAL","6252"]
[null,null,null,null,null,null,null,null,null,null,null,null,null,null,null,null,null,null,null,null,null,null,"11-03-08-02",530213,"ciii) Desenho e instalação da infraestrutura de rede local;","11-03-08-02",530213,53,null,"6253","6253 TRANSPORTES DE MERCADORIAS","6253"]
[null,null,null,null,null,null,null,null,null,null,null,null,null,null,null,null,null,null,null,null,null,null,"11-03-08-02",530214,"civ) Projeto de design, conceção, desenvolvimento e engenharia de produtos, serviços e processos, logística e gestão de conteúdos;","11-03-08-02",530214,53,null,"6258","6258 OUTROS","6258"]
[null,null,null,null,null,null,null,null,null,null,null,null,null,null,null,null,null,null,null,null,null,null,"11-03-08-02",530215,"cv) Estudo e conceção de sistemas energéticos de produção de energia elétrica a partir de fontes de energia renováveis para consumo local sem ligação à rede elétrica.","11-03-08-02",530215,53,null,"626 ","626 SERVIÇOS DIVERSOS","626 "]
[null,null,null,null,null,null,null,null,null,null,null,null,null,null,null,null,null,null,null,null,null,null,"11-03-08-02",530216,"cvi) Despesas com a implementação e certificação de sistemas e com a certificação e marcação de produtos;","11-03-08-02",530216,53,null,"6261","6261 RENDAS E ALUGUERES","6261"]
[null,null,null,null,null,null,null,null,null,null,null,null,null,null,null,null,null,null,null,null,null,null,"11-03-08-02",530217,"cvii) Despesas inerentes à implementação de sistemas de gestão pela qualidade total e a candidaturas a níveis de excelência e/ou prémios nacionais ou internacionais de reconhecimento da gestão pela qualidade total;","11-03-08-02",530217,53,null,"6262","6262 COMUNICAÇÃO","6262"]
[null,null,null,null,null,null,null,null,null,null,null,null,null,null,null,null,null,null,null,null,null,null,"11-03-08-02",530218,"cviii) Outros estudos, auditorias, diagnósticos, inspeções e verificações para a implementação das diferentes tipologias de projeto investimento;","11-03-08-02",530218,53,null,"6263","6263 SEGUROS","6263"]
[null,null,null,null,null,null,null,null,null,null,null,null,null,null,null,null,null,null,null,null,null,null,"11-03-08-02",530219,"cix)Planos de marketing associados ao projeto de investimento até ao limite de 15 000;","11-03-08-02",530219,53,null,"6264","6264 ROYALTIES","6264"]
[null,null,null,null,null,null,null,null,null,null,null,null,null,null,null,null,null,null,null,null,null,null,"11-03-08-02",530220,"cx) Projetos de arquitetura e de engenharia associados ao projeto de investimento até ao limite de 20 000;","11-03-08-02",530220,53,null,"6265","6265 CONTENCIOSO E NOTARIADO","6265"]
[null,null,null,null,null,null,null,null,null,null,null,null,null,null,null,null,null,null,null,null,null,null,"11-03-08-02",530221,"cxi) Despesas com a intervenção de técnicos oficiais de contas ou revisores oficiais de contas, na validação da despesa dos pedidos de pagamento, até ao limite de 5 000 por projeto e apenas para os efeitos previstos no número 3 do artigo 27º;","11-03-08-02",530221,53,null,"6266","6266 DESPESAS DE REPRESENTAÇÃO","6266"]
[null,null,null,null,null,null,null,null,null,null,null,null,null,null,null,null,null,null,null,null,null,null,"11-03-08-02",530222,"cxii) Despesas com a elaboração da candidatura e planos de negócios diretamente relacionados com a conceção, implementação e avaliação do projeto até ao limite de 5 000;","11-03-08-02",530222,53,null,"6267","6267 LIMPEZA, HIGIENE E CONFORTO","6267"]
[null,null,null,null,null,null,null,null,null,null,null,null,null,null,null,null,null,null,null,null,null,null,"11-03-08-02",530223,"4a) Contratação de postos de trabalho altamente qualificados (com nível de qualificação igual ou superior a VI, nos termos definidos no anexo II da Portaria n.º 782/2009, de 23 de julho);","11-03-08-02",530223,53,null,"6268","6268 OUTROS SERVIÇOS","6268"]
[null,null,null,null,null,null,null,null,null,null,null,null,null,null,null,null,null,null,null,null,null,null,"11-03-08-02",1,"a) Custos normais de funcionamento do beneficiário e investimentos de manutenção e substituição","11-03-08-02",1,53,null,"",null,""]
[null,null,null,null,null,null,null,null,null,null,null,null,null,null,null,null,null,null,null,null,null,null,"11-03-08-02",2,"b) Custos referentes a atividades relacionadas com a exportação","11-03-08-02",2,53,null,"631 ","631 REMUNERAÇÕES DOS ÓRGÃOS SOCIAIS","631 "]
[null,null,null,null,null,null,null,null,null,null,null,null,null,null,null,null,null,null,null,null,null,null,"11-03-08-02",3,"c) Custos referentes a investimentos diretos no estrangeiro","11-03-08-02",3,53,null,"632 ","632 REMUNERAÇÕES DO PESSOAL","632 "]
[null,null,null,null,null,null,null,null,null,null,null,null,null,null,null,null,null,null,null,null,null,null,"11-03-08-02",5,"e) Compra de imóveis, incluindo terrenos","11-03-08-02",5,53,null,"633 ","633 BENEFÍCIOS PÓS-EMPREGO","633 "]
[null,null,null,null,null,null,null,null,null,null,null,null,null,null,null,null,null,null,null,null,null,null,"11-03-08-02",6,"f) Trespasses e direitos de utilização de espaços","11-03-08-02",6,53,null,"6331","6331 PRÉMIOS PARA PENSÕES","6331"]
[null,null,null,null,null,null,null,null,null,null,null,null,null,null,null,null,null,null,null,null,null,null,"11-03-08-02",7,"g) Aquisição de veículos automóveis, aeronaves e outro material de transporte ou aeronáutico","11-03-08-02",7,53,null,"6332","6332 OUTROS BENEFÍCIOS","6332"]
[null,null,null,null,null,null,null,null,null,null,null,null,null,null,null,null,null,null,null,null,null,null,"11-03-08-02",8,"h) Aquisição de bens em estado de uso","11-03-08-02",8,53,null,"634 ","634 INDEMNIZAÇÕES","634 "]
[null,null,null,null,null,null,null,null,null,null,null,null,null,null,null,null,null,null,null,null,null,null,"11-03-08-02",9,"i) Imposto sobre o valor acrescentado recuperável ainda que não tenha sido ou não venha a ser efetivamente recuperado pelo beneficiário","11-03-08-02",9,53,null,"635 ","635 ENCARGOS SOBRE REMUNERAÇÕES","635 "]
[null,null,null,null,null,null,null,null,null,null,null,null,null,null,null,null,null,null,null,null,null,null,"11-03-08-02",10,"j) Juros durante o período de realização do investimento","11-03-08-02",10,53,null,"6351","6351 Encargos sobre Remunerações - Orgãos sociais","6351"]
[null,null,null,null,null,null,null,null,null,null,null,null,null,null,null,null,null,null,null,null,null,null,"11-03-08-02",11,"k) Fundo de maneio","11-03-08-02",11,53,null,"6352","6352 Encargos sobre Remunerações - de pessoal","6352"]
[null,null,null,null,null,null,null,null,null,null,null,null,null,null,null,null,null,null,null,null,null,null,"11-03-08-02",12,"l) Trabalhos da empresa para ela própria","11-03-08-02",12,53,null,"636 ","636 SEGUROS DE ACIDENTES NO TRABALHO E DOENÇAS PROFISSIONAIS","636 "]
[null,null,null,null,null,null,null,null,null,null,null,null,null,null,null,null,null,null,null,null,null,null,"11-03-08-02",13,"m) Pagamentos em numerário","11-03-08-02",13,53,null,"637 ","637 GASTOS DE ACÇÃO SOCIAL","637 "]
[null,null,null,null,null,null,null,null,null,null,null,null,null,null,null,null,null,null,null,null,null,null,"11-03-08-02",14,"n) Custos com garantias bancárias","11-03-08-02",14,53,null,"638 ","638 OUTROS GASTOS COM O PESSOAL","638 "]
[null,null,null,null,null,null,null,null,null,null,null,null,null,null,null,null,null,null,null,null,null,null,"11-03-08-02",15,"o) Despesas pagas no âmbito de contratos efetuados através de intermediários ou consultores","11-03-08-02",15,53,null,"",null,""]
[null,null,null,null,null,null,null,null,null,null,null,null,null,null,null,null,null,null,null,null,null,null,"11-03-08-02",16,"p) Custos de investimento correspondentes às unidades de alojamento exploradas em regime de direito de habitação periódica, de natureza real ou obrigacional.","11-03-08-02",16,53,null,"641 ","641 PROPRIEDADES DE INVESTIMENTO","641 "]
[null,null,null,null,null,null,null,null,null,null,null,null,null,null,null,null,null,null,null,null,null,null,"11-03-08-02",17,"q) Ações de formação.","11-03-08-02",17,53,null,"642 ","642 ACTIVOS FIXOS TANGÍVEIS","642 "]
[null,null,null,null,null,null,null,null,null,null,null,null,null,null,null,null,null,null,null,null,null,null,"11-03-08-02",19,"s) Outras despesas não elegíveis","11-03-08-02",19,53,null,"643 ","643 ACTIVOS INTANGÍVEIS.","643 "]
[null,null,null,null,null,null,null,null,null,null,null,null,null,null,null,null,null,null,null,null,null,null,"11-11-60-01",760101,"a) Custos de transporte de mercadorias produzidas na RAM, bem como os custos de transporte de mercadorias ali reprocessadas;","11-11-60-01",760101,76,null,"6434","6434 PROPRIEDADE INDUSTRIAL","6434"]
[null,null,null,null,null,null,null,null,null,null,null,null,null,null,null,null,null,null,null,null,null,null,"11-11-60-01",760102,"bi) Salário bruto;","11-11-60-01",760102,76,null,"",null,""]
[null,null,null,null,null,null,null,null,null,null,null,null,null,null,null,null,null,null,null,null,null,null,"11-11-60-01",760103,"bii) Contribuições obrigatórias para a segurança social;","11-11-60-01",760103,76,null,"651 ","651 EM DÍVIDAS A RECEBER","651 "]
[null,null,null,null,null,null,null,null,null,null,null,null,null,null,null,null,null,null,null,null,null,null,"11-11-60-01",760104,"biii) Rendas de instalações;","11-11-60-01",760104,76,null,"6511","6511 CLIENTES","6511"]
[null,null,null,null,null,null,null,null,null,null,null,null,null,null,null,null,null,null,null,null,null,null,"11-11-60-01",760105,"biv) Rendas de equipamentos de produção;","11-11-60-01",760105,76,null,"6512","6512 OUTROS DEVEDORES","6512"]
[null,null,null,null,null,null,null,null,null,null,null,null,null,null,null,null,null,null,null,null,null,null,"11-11-60-01",760106,"bv) Custos com o consumo de energia elétrica e respetivas taxas;","11-11-60-01",760106,76,null,"652 ","652 EM INVENTÁRIOS","652 "]
[null,null,null,null,null,null,null,null,null,null,null,null,null,null,null,null,null,null,null,null,null,null,"11-11-60-01",760107,"bvi) Custos com o consumo de água e respetivas taxas;","11-11-60-01",760107,76,null,"653 ","653 EM INVESTIMENTOS FINANCEIROS","653 "]
[null,null,null,null,null,null,null,null,null,null,null,null,null,null,null,null,null,null,null,null,null,null,"11-11-60-01",760108,"bvii) Custos com serviços contratados relacionados com a elaboração da candidatura até o limite de 1 000.","11-11-60-01",760108,76,null,"654 ","654 EM PROPRIEDADES DE INVESTIMENTO","654 "]
[null,null,null,null,null,null,null,null,null,null,null,null,null,null,null,null,null,null,null,null,null,null,"11-11-60-01",9,"i) Imposto sobre o valor acrescentado recuperável ainda que não tenha sido ou não venha a ser efetivamente recuperado pelo beneficiário","11-11-60-01",9,76,null,"655 ","655 EM ACTIVOS FIXOS TANGÍVEIS","655 "]
[null,null,null,null,null,null,null,null,null,null,null,null,null,null,null,null,null,null,null,null,null,null,"11-11-60-01",11,"k) Fundo de maneio","11-11-60-01",11,76,null,"656 ","656 EM ACTIVOS INTANGÍVEIS","656 "]
[null,null,null,null,null,null,null,null,null,null,null,null,null,null,null,null,null,null,null,null,null,null,"11-11-60-01",13,"m) Pagamentos em numerário","11-11-60-01",13,76,null,"657 ","657 EM INVESTIMENTOS EM CURSO","657 "]
[null,null,null,null,null,null,null,null,null,null,null,null,null,null,null,null,null,null,null,null,null,null,"11-11-60-01",15,"o) Despesas pagas no âmbito de contratos efetuados através de intermediários ou consultores","11-11-60-01",15,76,null,"658 ","658 EM ACTIVOS NÃO CORRENTES DETIDOS PARA VENDA","658 "]
[null,null,null,null,null,null,null,null,null,null,null,null,null,null,null,null,null,null,null,null,null,null,"11-11-60-01",18,"e) Rendas de locação financeira.","11-11-60-01",18,76,null,"",null,""]
[null,null,null,null,null,null,null,null,null,null,null,null,null,null,null,null,null,null,null,null,null,null,"11-11-60-01",19,"s) Outras despesas não elegíveis","11-11-60-01",19,76,null,"661 ","661 EM INSTRUMENTOS FINANCEIROS","661 "]
[null,null,null,null,null,null,null,null,null,null,null,null,null,null,null,null,null,null,null,null,null,null,null,null,null,null,null,null,null,"662 ","662 EM INVESTIMENTOS FINANCEIROS","662 "]
[null,null,null,null,null,null,null,null,null,null,null,null,null,null,null,null,null,null,null,null,null,null,"11-01-02-01",470101,"i) Despesas com pessoal técnico do beneficiário dedicado a atividades de I&D, incluindo bolseiros contratados pelo beneficiário com bolsa integralmente suportada por este;",null,470101,47,null,"663 ","663 EM PROPRIEDADES DE INVESTIMENTO","663 "]
[null,null,null,null,null,null,null,null,null,null,null,null,null,null,null,null,null,null,null,null,null,null,"11-01-02-01",470102,"ii) Aquisição de patentes a fontes externas ou por estas licenciadas, a preços de mercado, e que se traduzam na sua efetiva endogeneização por parte do beneficiário;",null,470102,47,null,"664 ","664 EM ACTIVOS BIOLÓGICOS","664 "]
[null,null,null,null,null,null,null,null,null,null,null,null,null,null,null,null,null,null,null,null,null,null,"11-01-02-01",470103,"iii) Matérias-primas, materiais consumíveis e componentes necessárias para a construção de instalações piloto ou experimentais e ou de demonstração e para a construção de protótipos;",null,470103,47,null,"",null,""]
[null,null,null,null,null,null,null,null,null,null,null,null,null,null,null,null,null,null,null,null,null,null,"11-01-02-01",470104,"iv) Aquisição de serviços a terceiros, incluindo assistência técnica, científica e consultoria, bem como os custos decorrentes da utilização de plataformas eletrónicas de inovação aberta e “crowdsourcing”; ",null,470104,47,null,"671 ","671 IMPOSTOS","671 "]
[null,null,null,null,null,null,null,null,null,null,null,null,null,null,null,null,null,null,null,null,null,null,"11-01-02-01",470105,"v) Aquisição de instrumentos e equipamento científico e técnico, na medida em que for utilizado no projeto e durante a sua execução;",null,470105,47,null,"672 ","672 GARANTIAS A CLIENTES","672 "]
[null,null,null,null,null,null,null,null,null,null,null,null,null,null,null,null,null,null,null,null,null,null,"11-01-02-01",470106,"vi) Aquisição de software específico para o projeto, na medida em que for utilizado no projeto, e durante a execução do mesmo;",null,470106,47,null,"673 ","673 PROCESSOS JUDICIAIS EM CURSO","673 "]
[null,null,null,null,null,null,null,null,null,null,null,null,null,null,null,null,null,null,null,null,null,null,"11-01-02-01",470107,"vii) Despesas com a promoção e divulgação dos resultados de projetos de inovação de produto ou de processo com aplicação comercial junto do setor utilizador final ou de empresas alvo, excluindo despesas correntes e ou com fins de natureza comercial;",null,470107,47,null,"674 ","674 ACIDENTES NO TRABALHO E DOENÇAS PROFISSIONAIS","674 "]
[null,null,null,null,null,null,null,null,null,null,null,null,null,null,null,null,null,null,null,null,null,null,"11-01-02-01",470108,"viii) Despesas relativas à participação em feiras e exposições, designadamente despesas incorridas com o aluguer, a montagem e o funcionamento dos stands, excluindo despesas correntes e ou com fins de natureza comercial;",null,470108,47,null,"675 ","675 MATÉRIAS AMBIENTAIS","675 "]
[null,null,null,null,null,null,null,null,null,null,null,null,null,null,null,null,null,null,null,null,null,null,"11-01-02-01",470109,"ix) Viagens e estadas no estrangeiro diretamente imputáveis ao projeto e comprovadamente necessárias à sua realização, excluindo deslocações para contactos e outros fins de natureza comercial;",null,470109,47,null,"676 ","676 CONTRATOS ONEROSOS","676 "]
[null,null,null,null,null,null,null,null,null,null,null,null,null,null,null,null,null,null,null,null,null,null,"11-01-02-01",470110,"x) Despesas com o processo de certificação do sistema de gestão da investigação, desenvolvimento e inovação certificado segundo a NP 4457:2007;",null,470110,47,null,"677 ","677 REESTRUTURAÇÃO","677 "]
[null,null,null,null,null,null,null,null,null,null,null,null,null,null,null,null,null,null,null,null,null,null,"11-01-02-01",470111,"xi) Custos com a obtenção e validação de pedidos de patente, modelos de utilidade, desenhos ou modelos, incluindo taxas, honorários e outras despesas relacionadas com a proteção de propriedade industrial;",null,470111,47,null,"678 ","678 OUTRAS PROVISÕES","678 "]
[null,null,null,null,null,null,null,null,null,null,null,null,null,null,null,null,null,null,null,null,null,null,"11-01-02-01",470112,"xii) Despesas com a intervenção de auditor técnico-científico, até ao limite de 1.500 euros, para efeitos do número 4 do artigo 27º;",null,470112,47,null,"",null,""]
[null,null,null,null,null,null,null,null,null,null,null,null,null,null,null,null,null,null,null,null,null,null,"11-01-02-01",470113,"xiii) Custos com a intervenção de Técnicos Oficiais de Contas ou Revisores Oficiais de Contas, na validação da despesa dos pedidos de pagamento até ao limite de 5.000 euros por projeto;",null,470113,47,null,"681 ","681 IMPOSTOS","681 "]
[null,null,null,null,null,null,null,null,null,null,null,null,null,null,null,null,null,null,null,null,null,null,"11-01-02-01",470114,"xiv) Custos com a elaboração do estudo de viabilidade, excluindo os custos com a elaboração da candidatura, até ao limite de € 5 000, quando elaborado por um técnico inscrito na Ordem dos Economistas;",null,470114,47,null,"6811","6811 IMPOSTOS DIRECTOS","6811"]
[null,null,null,null,null,null,null,null,null,null,null,null,null,null,null,null,null,null,null,null,null,null,"11-01-02-01",470115,"b) Custos indiretos",null,470115,47,null,"6812","6812 IMPOSTOS INDIRECTOS:","6812"]
[null,null,null,null,null,null,null,null,null,null,null,null,null,null,null,null,null,null,null,null,null,null,"11-01-02-01",null,"--- Projetos Demonstradores, acresce ainda as seguintes despesas",null,null,47,null,"6813","6813 TAXAS","6813"]
[null,null,null,null,null,null,null,null,null,null,null,null,null,null,null,null,null,null,null,null,null,null,"11-01-02-01",470116,"a) Adaptação de edifícios e instalações na medida em que forem utilizados no projeto e durante a execução do mesmo. São considerados elegíveis apenas os custos de amortização correspondentes à duração do projeto; ",null,470116,47,null,"682 ","682 DESCONTOS DE PRONTO PAGAMENTO CONCEDIDOS","682 "]
[null,null,null,null,null,null,null,null,null,null,null,null,null,null,null,null,null,null,null,null,null,null,"11-01-02-01",470117,"b) Transporte, seguros, montagens e desmontagens de equipamentos e instalações específicas do projeto; ",null,470117,47,null,"683 ","683 DÍVIDAS INCOBRÁVEIS","683 "]
[null,null,null,null,null,null,null,null,null,null,null,null,null,null,null,null,null,null,null,null,null,null,"11-01-02-01",470118,"c) Despesas inerentes à aplicação real no setor utilizador, até ao limite máximo de 15% das despesas elegíveis do projeto;",null,470118,47,null,"684 ","684 PERDAS EM INVENTÁRIOS","684 "]
[null,null,null,null,null,null,null,null,null,null,null,null,null,null,null,null,null,null,null,null,null,null,"11-01-02-01",470119,"d) Modelos computacionais dos protótipos com funções de simulação, quando adequados à demonstração dos resultados.",null,470119,47,null,"6841","6841 SINISTROS","6841"]
[null,null,null,null,null,null,null,null,null,null,null,null,null,null,null,null,null,null,null,null,null,null,"11-01-02-01",null,null,null,null,47,null,"6842","6842 QUEBRAS","6842"]
[null,null,null,null,null,null,null,null,null,null,null,null,null,null,null,null,null,null,null,null,null,null,"11-01-02-01",1,"a) Custos normais de funcionamento do beneficiário e investimentos de manutenção e substituição",null,1,47,null,"6848","6848 OUTRAS PERDAS","6848"]
[null,null,null,null,null,null,null,null,null,null,null,null,null,null,null,null,null,null,null,null,null,null,"11-01-02-01",2,"b) Custos referentes a atividades relacionadas com a exportação",null,2,47,null,"685 ","685 GASTOS E PERDAS EM SUBSIDIÁRIAS, ASSOCIADAS E EMPREENDIMENTOS CONJUNTOS","685 "]
[null,null,null,null,null,null,null,null,null,null,null,null,null,null,null,null,null,null,null,null,null,null,"11-01-02-01",3,"c) Custos referentes a investimentos diretos no estrangeiro",null,3,47,null,"6851","6851 COBERTURA DE PREJUÍZOS","6851"]
[null,null,null,null,null,null,null,null,null,null,null,null,null,null,null,null,null,null,null,null,null,null,"11-01-02-01",4,"d) Custos na área produtiva ou operacional",null,4,47,null,"6852","6852 APLICAÇÃO DO MÉTODO DA EQUIVALÊNCIA PATRIMONIAL","6852"]
[null,null,null,null,null,null,null,null,null,null,null,null,null,null,null,null,null,null,null,null,null,null,"11-01-02-01",5,"e) Compra de imóveis, incluindo terrenos",null,5,47,null,"6853","6853 ALIENAÇÕES","6853"]
[null,null,null,null,null,null,null,null,null,null,null,null,null,null,null,null,null,null,null,null,null,null,"11-01-02-01",6,"f) Trespasses e direitos de utilização de espaços",null,6,47,null,"6858","6858 OUTROS GASTOS E PERDAS","6858"]
[null,null,null,null,null,null,null,null,null,null,null,null,null,null,null,null,null,null,null,null,null,null,"11-01-02-01",7,"g) Aquisição de veículos automóveis, aeronaves e outro material de transporte ou aeronáutico",null,7,47,null,"686 ","686 GASTOS E PERDAS NOS RESTANTES INVESTIMENTOS FINANCEIROS","686 "]
[null,null,null,null,null,null,null,null,null,null,null,null,null,null,null,null,null,null,null,null,null,null,"11-01-02-01",8,"h) Aquisição de bens em estado de uso",null,8,47,null,"6861","6861 COBERTURA DE PREJUÍZOS","6861"]
[null,null,null,null,null,null,null,null,null,null,null,null,null,null,null,null,null,null,null,null,null,null,"11-01-02-01",9,"i) Imposto sobre o valor acrescentado recuperável ainda que não tenha sido ou não venha a ser efetivamente recuperado pelo beneficiário",null,9,47,null,"6862","6862 ALIENAÇÕES","6862"]
[null,null,null,null,null,null,null,null,null,null,null,null,null,null,null,null,null,null,null,null,null,null,"11-01-02-01",10,"j) Juros durante o período de realização do investimento",null,10,47,null,"6868","6868 OUTROS GASTOS E PERDAS","6868"]
[null,null,null,null,null,null,null,null,null,null,null,null,null,null,null,null,null,null,null,null,null,null,"11-01-02-01",11,"k) Fundo de maneio",null,11,47,null,"687 ","687 GASTOS E PERDAS EM INVESTIMENTOS NÃO FINANCEIROS","687 "]
[null,null,null,null,null,null,null,null,null,null,null,null,null,null,null,null,null,null,null,null,null,null,"11-01-02-01",12,"l) Trabalhos da empresa para ela própria",null,12,47,null,"6871","6871 ALIENAÇÕES","6871"]
[null,null,null,null,null,null,null,null,null,null,null,null,null,null,null,null,null,null,null,null,null,null,"11-01-02-01",13,"m) Pagamentos em numerário",null,13,47,null,"6872","6872 SINISTROS","6872"]
[null,null,null,null,null,null,null,null,null,null,null,null,null,null,null,null,null,null,null,null,null,null,"11-01-02-01",14,"n) Custos com garantias bancárias",null,14,47,null,"6873","6873 ABATES","6873"]
[null,null,null,null,null,null,null,null,null,null,null,null,null,null,null,null,null,null,null,null,null,null,"11-01-02-01",15,"o) Despesas pagas no âmbito de contratos efetuados através de intermediários ou consultores",null,15,47,null,"6874","6874 GASTOS EM PROPRIEDADES DE INVESTIMENTO","6874"]
[null,null,null,null,null,null,null,null,null,null,null,null,null,null,null,null,null,null,null,null,null,null,"11-01-02-01",16,"p) Custos de investimento correspondentes às unidades de alojamento exploradas em regime de direito de habitação periódica, de natureza real ou obrigacional.",null,16,47,null,"6878","6878 OUTRAS GASTOS E PERDAS","6878"]
[null,null,null,null,null,null,null,null,null,null,null,null,null,null,null,null,null,null,null,null,null,null,"11-01-02-01",17,"q) Ações de formação.",null,17,47,null,"688 ","688 OUTROS","688 "]
[null,null,null,null,null,null,null,null,null,null,null,null,null,null,null,null,null,null,null,null,null,null,"11-01-02-01",18,"r) Rendas de locação financeira.",null,18,47,null,"6881","6881 CORRECÇÕES RELATIVAS A PERÍODOS ANTERIORES","6881"]
[null,null,null,null,null,null,null,null,null,null,null,null,null,null,null,null,null,null,null,null,null,null,"11-01-02-01",19,"s) Outras despesas não elegíveis",null,19,47,null,"6882","6882 DONATIVOS","6882"]
[null,null,null,null,null,null,null,null,null,null,null,null,null,null,null,null,null,null,null,null,null,null,"11-01-02-01",20,"o)    Transações entre beneficiários nos projetos;",null,20,47,null,"6883","6883 QUOTIZAÇÕES","6883"]
[null,null,null,null,null,null,null,null,null,null,null,null,null,null,null,null,null,null,null,null,null,null,"11-01-02-01",21,"p)    Construção, adaptação ou remodelação de edifícios, à exceção das despesas previstas na alínea a) do número 2 do artigo 14º;",null,21,47,null,"6884","6884 OFERTAS E AMOSTRAS DE INVENTÁRIOS","6884"]
[null,null,null,null,null,null,null,null,null,null,null,null,null,null,null,null,null,null,null,null,null,null,"11-01-02-01",22,"q)    Custos referentes à utilização de produtos nacionais em detrimento de produtos importados;",null,22,47,null,"6885","6885 INSUFICIÊNCIA DA ESTIMATIVA PARA IMPOSTOS","6885"]
[null,null,null,null,null,null,null,null,null,null,null,null,null,null,null,null,null,null,null,null,null,null,"11-01-02-01",23,"r)     Custos de desenvolvimento I&D financiados por uma entidade terceira ao abrigo de um contrato.",null,23,47,null,"6886","6886 PERDAS EM INSTRUMENTOS FINANCEIROS","6886"]
[null,null,null,null,null,null,null,null,null,null,null,null,null,null,null,null,null,null,null,null,null,null,null,null,null,null,null,null,null,"6888","6888 OUTROS NÃO ESPECIFICADOS","6888"]
[null,null,null,null,null,null,null,null,null,null,null,null,null,null,null,null,null,null,null,null,null,null,null,null,null,null,null,null,null,"",null,""]
[null,null,null,null,null,null,null,null,null,null,null,null,null,null,null,null,null,null,null,null,null,null,null,null,null,null,null,null,null,"691 ","691 JUROS SUPORTADOS","691 "]
[null,null,null,null,null,null,null,null,null,null,null,null,null,null,null,null,null,null,null,null,null,null,null,null,null,null,null,null,null,"6911","6911 JUROS DE FINANCIAMENTOS OBTIDOS","6911"]
[null,null,null,null,null,null,null,null,null,null,null,null,null,null,null,null,null,null,null,null,null,null,null,null,null,null,null,null,null,"6918","6918 OUTROS JUROS","6918"]
[null,null,null,null,null,null,null,null,null,null,null,null,null,null,null,null,null,null,null,null,null,null,null,null,null,null,null,null,null,"692 ","692 DIFERENÇAS DE CÂMBIO DESFAVORÁVEIS","692 "]
[null,null,null,null,null,null,null,null,null,null,null,null,null,null,null,null,null,null,null,null,null,null,null,null,null,null,null,null,null,"6921","6921 RELATIVAS A FINANCIAMENTOS OBTIDOS","6921"]
[null,null,null,null,null,null,null,null,null,null,null,null,null,null,null,null,null,null,null,null,null,null,null,null,null,null,null,null,null,"6928","6928 OUTRAS","6928"]
[null,null,null,null,null,null,null,null,null,null,null,null,null,null,null,null,null,null,null,null,null,null,null,null,null,null,null,null,null,"698 ","698 OUTROS GASTOS E PERDAS DE FINANCIAMENTO","698 "]
[null,null,null,null,null,null,null,null,null,null,null,null,null,null,null,null,null,null,null,null,null,null,null,null,null,null,null,null,null,"6981","6981 RELATIVOS A FINANCIAMENTOS OBTIDOS","6981"]
[null,null,null,null,null,null,null,null,null,null,null,null,null,null,null,null,null,null,null,null,null,null,null,null,null,null,null,null,null,"6988","6988 OUTROS","6988"]
[null,null,null,null,null,null,null,null,null,null,null,null,null,null,null,null,null,null,null,null,null,null,null,null,null,null,null,null,null,"999 ","999 FUNDO DE MANEIO","999 "]

{"sheet":"FORMALIZACAO","index":2,"n_rows":105,"n_cols":27,"rows_kept":105,"cut":false,"hidden":false,"merged":[[29,8,29,12],[29,22,29,27],[25,8,25,12],[25,22,25,27],[99,19,99,27],[63,23,63,25],[65,23,65,25],[67,23,67,25],[9,8,9,13],[87,4,89,26],[102,2,102,27],[104,2,104,27],[3,2,3,28],[33,8,33,9],[11,8,11,13],[15,8,15,27],[13,8,13,20],[33,11,33,27],[21,8,21,27],[23,8,23,27],[19,23,19,27],[27,8,27,27],[19,8,19,20],[17,8,17,27]]}
[]
[]
[]
[null,null,"DADOS DO BENEFICIÁRIO E TIPOLOGIA DE PEDIDO DE PAGAMENTO"]
[]
[]
[]
[null,null,null,"Dados do Beneficiário"]
[]
[null,null,null,"Ação:",null,null,null,null,{"$f":"+Base!O8","v":"11-01-02-01"}]
[]
[null,null,null,"NIF:"]
[]
[null,null,null,"N.º do Projeto:",null,null,null,null,{"$f":"+CAPA!I26","v":0}]
[]
[null,null,null,"Beneficiário:",null,null,null,null,{"$f":"+CAPA!I29","v":0}]
[]
[null,null,null,"Morada do projeto:"]
[]
[null,null,null,"Concelho do projeto:",null,null,null,null,null,null,null,null,null,null,null,null,null,null,null,null,null,null,"Codigo postal: "]
[]
[null,null,null,"Setor do projeto:"]
[]
[null,null,null,"Pessoa a contatar:"]
[]
[null,null,null,"Telefone:",null,null,null,null,null,null,null,null,null,null,null,null,null,null,null,null,"E-mail:"]
[]
[null,null,null,"Entidade consultora:"]
[]
[null,null,null,"Telefone:",null,null,null,null,null,null,null,null,null,null,null,null,null,null,null,null,"E-mail:"]
[]
[null,null,null,"Tipologia do Pedido de Pagamento (De acordo com as Normas de Pagamento)"]
[]
[null,null,null,"Escolha o pedido",null,null,null,null,{"$f":"IF(IF(ISERROR(VLOOKUP(L34,TiposPagamentos,2,FALSE)),\"\",VLOOKUP(L34,TiposPagamentos,2,FALSE))=-1,\"Inválido\",IF(ISERROR(VLOOKUP(L34,TiposPagamentos,2,FALSE)),\"\",VLOOKUP(L34,TiposPagamentos,2,FALSE)))","v":""}]
[]
[null,null,null,"Tipo de Pedido de Pagamento"]
[]
[]
[null,null,null,null,"A - Pagamento Após Conclusão Investimento",null,null,null,null,null,null,null,null,null,null,null,null,null,null,null,null,"B - Pagamento em 2 momentos"]
[null,null,null,null,{"$f":"+Base!D6","v":"(A) Pagamento único após Conclusão do investimento"},null,null,null,null,null,null,null,null,null,null,{"$f":"IF(E40=$L$34,\"X\",\"\")","v":""},null,null,null,null,null,{"$f":"+Base!D8","v":"(B) Adiantamento contra garantia (1º)"},null,null,null,null,{"$f":"IF(V40=$L$34,\"X\",\"\")","v":""}]
[]
[null,null,null,null,null,null,null,null,null,null,null,null,null,null,null,null,null,null,null,null,null,{"$f":"+Base!D9","v":"(B) Pagamento de saldo final (2º)"},null,null,null,null,{"$f":"IF(V42=$L$34,\"X\",\"\")","v":""}]
[null,null,null,null,"C - Pagamento em 3 momentos"]
[null,null,null,null,{"$f":"+Base!D11","v":"(C) Adiantamento contra garantia (1º)"},null,null,null,null,null,null,null,null,null,null,{"$f":"IF(E44=$L$34,\"X\",\"\")","v":""},null,null,null,null,null,"D - Pagamento em 2 ou 3 momentos"]
[]
[null,null,null,null,{"$f":"+Base!D12","v":"(C) Pagamento a título de reembolso (2º)"},null,null,null,null,null,null,null,null,null,null,{"$f":"IF(E46=$L$34,\"X\",\"\")","v":""},null,null,null,null,null,{"$f":"+Base!D15","v":"(D) Pagamento a título de reembolso (1º)"},null,null,null,null,{"$f":"IF(V46=$L$34,\"X\",\"\")","v":""}]
[]
[null,null,null,null,{"$f":"+Base!D13","v":"(C) Pagamento de saldo final (3º)"},null,null,null,null,null,null,null,null,null,null,{"$f":"IF(E48=$L$34,\"X\",\"\")","v":""},null,null,null,null,null,{"$f":"+Base!D16","v":"(D) Pagamento a título de reembolso (2º)"},null,null,null,null,{"$f":"IF(V48=$L$34,\"X\",\"\")","v":""}]
[]
[null,null,null,null,null,null,null,null,null,null,null,null,null,null,null,null,null,null,null,null,null,{"$f":"+Base!D17","v":"(D) Pagamento de saldo final (3º)"},null,null,null,null,{"$f":"IF(V50=$L$34,\"X\",\"\")","v":""}]
[]
[null,null,null,null,"E - Pagamento em 2 ou 3 momentos",null,null,null,null,null,null,null,null,null,null,null,null,null,null,null,null,"F - Pagamento em 2 ou 3 momentos"]
[null,null,null,null,{"$f":"+Base!D19","v":"(E) Adiantamento contra fatura (1º)"},null,null,null,null,null,null,null,null,null,null,{"$f":"IF(E53=$L$34,\"X\",\"\")","v":""},null,null,null,null,null,{"$f":"+Base!D25","v":"(F) Adiantamento contra fatura (1º)"},null,null,null,null,{"$f":"IF(V53=$L$34,\"X\",\"\")","v":""}]
[]
[null,null,null,null,{"$f":"+Base!D20","v":"(E) Justificação de Adiantamento contra fatura (1º)"},null,null,null,null,null,null,null,null,null,null,{"$f":"IF(E55=$L$34,\"X\",\"\")","v":""},null,null,null,null,null,{"$f":"+Base!D26","v":"(F) Justificação de Adiantamento contra fatura (1º)"},null,null,null,null,{"$f":"IF(V55=$L$34,\"X\",\"\")","v":""}]
[]
[null,null,null,null,{"$f":"+Base!D21","v":"(E) Adiantamento contra fatura (2º)"},null,null,null,null,null,null,null,null,null,null,{"$f":"IF(E57=$L$34,\"X\",\"\")","v":""},null,null,null,null,null,{"$f":"+Base!D27","v":"(F) Pagamento a título de reembolso (2º)"},null,null,null,null,{"$f":"IF(V57=$L$34,\"X\",\"\")","v":""}]
[]
[null,null,null,null,{"$f":"+Base!D22","v":"(E) Justificação de Adiantamento contra fatura (2º)"},null,null,null,null,null,null,null,null,null,null,{"$f":"IF(E59=$L$34,\"X\",\"\")","v":""},null,null,null,null,null,{"$f":"+Base!D28","v":"(F) Pagamento de saldo final (3º)"},null,null,null,null,{"$f":"IF(V59=$L$34,\"X\",\"\")","v":""}]
[]
[null,null,null,null,{"$f":"+Base!D23","v":"(E) Pagamento de saldo final (3º)"},null,null,null,null,null,null,null,null,null,null,{"$f":"IF(E61=$L$34,\"X\",\"\")","v":""}]
[]
[null,null,null,null,"G - Pagamento em 2 ou 3 momentos",null,null,null,null,null,null,null,null,null,null,null,null,null,null,null,null,"Com Garantia Bancária:"]
[null,null,null,null,{"$f":"+Base!D30","v":"(G) Pagamento a título de reembolso (1º)"},null,null,null,null,null,null,null,null,null,null,{"$f":"IF(E64=$L$34,\"X\",\"\")","v":""},null,null,null,null,null,"Banco:"]
[]
[null,null,null,null,{"$f":"+Base!D31","v":"(G) Adiantamento contra fatura (2º)"},null,null,null,null,null,null,null,null,null,null,{"$f":"IF(E66=$L$34,\"X\",\"\")","v":""},null,null,null,null,null,"Valor (€):"]
[]
[null,null,null,null,{"$f":"+Base!D32","v":"(G) Justificação de Adiantamento contra fatura (2º)"},null,null,null,null,null,null,null,null,null,null,{"$f":"IF(E68=$L$34,\"X\",\"\")","v":""},null,null,null,null,null,"Nº G. Bancária:"]
[]
[null,null,null,null,{"$f":"+Base!D33","v":"(G) Pagamento de saldo final (3º)"},null,null,null,null,null,null,null,null,null,null,{"$f":"IF(E70=$L$34,\"X\",\"\")","v":""}]
[]
[]
[null,null,null,"Avaliação de Resultados",null,null,null,null,null,null,null,null,null,null,null,null,null,null,"Outros pedidos (a apresentar em simultâneo com o pedido de pagamento)"]
[]
[]
[null,null,null,null,"Avaliação",null,null,null,null,null,null,null,null,null,null,null,null,null,null,"Alteração à configuração do Investimento"]
[null,null,null,null,{"$f":"+Base!D35","v":"Avaliação de Resultados"},null,null,null,null,null,null,null,null,null,null,{"$f":"IF(E77=$L$34,\"X\",\"\")","v":""}]
[null,null,null,null,null,null,null,null,null,null,null,null,null,null,null,null,null,null,null,"Alteração da calendarização do investimento"]
[]
[null,null,null,null,null,null,null,null,null,null,null,null,null,null,null,null,null,null,null,"Alteração ao modelo de financiamento"]
[]
[null,null,null,null,null,null,null,null,null,null,null,null,null,null,null,null,null,null,null,"Alteração na criação de postos de trabalho"]
[]
[]
[]
[]
[null,null,null,null,"Declaro que todas as informações constantes do presente formulário e respectivos anexos são verdadeiras."]
[null,null,null,null,"Assinatura dos subscritores do contrato ou de quem obriga a empresa (deve proceder à assinatura do Formulário de Pedido de pagamento e enviar juntamente com os demais documentos constantes da checklist e necessário à correta instrução do mesmo). "]
[]
[]
[]
[]
[]
[]
[]
[]
[]
[]
[]
[]
[]
[]
[null,null,{"$f":"+CAPA!I29","v":0}]
[]
[null,null,{"$f":"+CAPA!C17","v":"PROCiência 2020 - Individuais"}]

{"sheet":"FUNDAMENTAÇÃO PED. EMPREENDER","index":3,"n_rows":43,"n_cols":4,"rows_kept":43,"cut":false,"hidden":true,"merged":[[64,17,64,25],[67,2,67,25],[69,2,69,25],[3,2,3,26]]}
[]
[]
[]
[null,null,"FUNDAMENTAÇÃO, ANOMALIAS E DESCRIÇÃO DO PROJETO IMPLEMENTADO"]
[]
[]
[]
[null,null,null," Fundamentação do pedido apresentado"]
[]
[]
[]
[]
[]
[]
[]
[]
[]
[]
[]
[]
[]
[]
[]
[]
[null,null,null,"Sintese das Anomalias Detectadas (incluindo os pedidos de alterações)"]
[]
[]
[]
[]
[]
[]
[]
[]
[]
[]
[]
[]
[]
[]
[]
[]
[null,null,null,"Descrição da implementação do projeto "]
[null,null,null," - Descrição do carater inovador implementado."]

{"sheet":"FUNDAMENTAÇÃO PED. INTERNACION.","index":4,"n_rows":45,"n_cols":4,"rows_kept":45,"cut":false,"hidden":true,"merged":[[3,2,3,26],[67,17,67,25],[70,2,70,25],[72,2,72,25],[42,3,42,25]]}
[]
[]
[]
[null,null,"FUNDAMENTAÇÃO, ANOMALIAS E DESCRIÇÃO DO PROJETO IMPLEMENTADO"]
[]
[]
[]
[null,null,null," Fundamentação do pedido apresentado"]
[]
[]
[]
[]
[]
[]
[]
[]
[]
[]
[]
[]
[]
[]
[]
[]
[null,null,null,"Sintese das Anomalias Detectadas (incluindo os pedidos de alterações)"]
[]
[]
[]
[]
[]
[]
[]
[]
[]
[]
[]
[]
[]
[]
[]
[]
[null,null,null,"Descrição da implementação do projeto "]
[null,null,null," - Implementação da estratégia de internacionalização / Identificação clara e quantificada dos objetivos estratégicos, detalhando informação respeitante a locais e países de destino, representantes do beneficiário envolvidos, motivos da deslocação, planos de trabalho, parceiros contatados e resultados da ação de prospeção."]
[null,null,null," - Identificação da captação de novos clientes / por ação.\n\n"]
[null,null,null," - Evolução estratégica da empresa em matéria de internacionalização. "]

{"sheet":"FUNDAMENTAÇÃO PED. VALORIZAR","index":5,"n_rows":44,"n_cols":4,"rows_kept":44,"cut":false,"hidden":true,"merged":[[3,2,3,26],[42,3,42,25],[66,17,66,25],[69,2,69,25],[71,2,71,25],[43,3,43,25]]}
[]
[]
[]
[null,null,"FUNDAMENTAÇÃO, ANOMALIAS E DESCRIÇÃO DO PROJETO IMPLEMENTADO"]
[]
[]
[]
[null,null,null," Fundamentação do pedido apresentado"]
[]
[]
[]
[]
[]
[]
[]
[]
[]
[]
[]
[]
[]
[]
[]
[]
[null,null,null,"Sintese das Anomalias Detectadas (incluindo os pedidos de alterações)"]
[]
[]
[]
[]
[]
[]
[]
[]
[]
[]
[]
[]
[]
[]
[]
[]
[null,null,null,"Descrição da implementação do projeto "]
[null,null,null," - Descrição do investimento inicial implementado."]
[null,null,null," - Descrição das atividades de inovação e das estratégias de qualificação implementadas.\n\n"]

{"sheet":"FUNDAMENTAÇÃO PED. Funcionament","index":6,"n_rows":47,"n_cols":4,"rows_kept":47,"cut":false,"hidden":true,"merged":[[3,2,3,26],[41,17,41,25],[44,2,44,25],[46,2,46,25]]}
[]
[]
[]
[null,null,"FUNDAMENTAÇÃO, ANOMALIAS E DESCRIÇÃO DO PROJETO IMPLEMENTADO"]
[]
[]
[]
[null,null,null," Fundamentação do pedido apresentado"]
[]
[]
[]
[]
[]
[]
[]
[]
[]
[]
[]
[]
[]
[]
[]
[]
[null,null,null,"Sintese das Anomalias Detectadas (incluindo os pedidos de alterações)"]
[]
[]
[]
[]
[]
[]
[]
[]
[]
[]
[]
[]
[]
[]
[]
[]
[]
[]
[]
[null,null,{"$f":"+CAPA!I29","v":0}]
[]
[null,null,{"$f":"+CAPA!C17","v":"PROCiência 2020 - Individuais"}]

{"sheet":"FUNDAMENTAÇÃO PED","index":7,"n_rows":44,"n_cols":4,"rows_kept":44,"cut":false,"hidden":false,"merged":[[71,2,71,25],[3,2,3,26],[42,3,42,25],[43,3,43,25],[66,17,66,25],[69,2,69,25]]}
[]
[]
[]
[null,null,"FUNDAMENTAÇÃO, ANOMALIAS E DESCRIÇÃO DO PROJETO IMPLEMENTADO"]
[]
[]
[]
[null,null,null," Fundamentação do pedido apresentado"]
[]
[]
[]
[]
[]
[]
[]
[]
[]
[]
[]
[]
[]
[]
[]
[]
[null,null,null,"Sintese das Anomalias Detectadas (incluindo os pedidos de alterações)"]
[]
[]
[]
[]
[]
[]
[]
[]
[]
[]
[]
[]
[]
[]
[]
[]
[null,null,null,"Descrição da implementação do projeto "]
[null,null,null," - Descrição do investimento inicial implementado."]
[null,null,null," - Descrição das atividades de inovação e das estratégias de qualificação implementadas.\n\n"]

{"sheet":"INDICADORESRESULTADO (5)","index":8,"n_rows":93,"n_cols":29,"rows_kept":93,"cut":false,"hidden":false,"merged":[[11,4,11,11],[11,12,11,14],[11,15,11,17],[11,18,11,20],[12,4,12,11],[12,12,12,20],[3,2,3,24],[9,4,9,11],[9,12,9,14],[9,15,9,17],[9,18,9,20],[10,4,10,11],[10,12,10,14],[10,15,10,17],[10,18,10,20],[18,4,18,11],[18,12,18,14],[18,15,18,17],[18,18,18,20],[19,4,19,11],[19,12,19,14],[19,15,19,17],[19,18,19,20],[13,4,13,11],[13,12,13,14],[13,15,13,17],[13,18,13,20],[17,4,17,11],[17,12,17,14],[17,15,17,17],[17,18,17,20],[25,4,25,11],[25,12,25,14],[25,15,25,17],[25,18,25,20],[26,4,26,11],[26,12,26,14],[26,15,26,17],[26,18,26,20],[20,4,20,11],[20,12,20,20],[21,4,21,11],[21,12,21,14],[21,15,21,17],[21,18,21,20],[29,4,29,11],[29,12,29,14],[29,15,29,17],[29,18,29,20],[30,4,30,11],[30,12,30,14],[30,15,30,17],[30,18,30,20],[27,4,27,11],[27,12,27,14],[27,15,27,17],[27,18,27,20],[28,4,28,11],[28,12,28,14],[28,15,28,17],[28,18,28,20],[33,4,33,11],[33,12,33,14],[33,15,33,17],[33,18,33,20],[34,4,34,11],[34,12,34,14],[34,15,34,17],[34,18,34,20],[31,4,31,11],[31,12,31,14],[31,15,31,17],[31,18,31,20],[32,4,32,11],[32,12,32,14],[32,15,32,17],[32,18,32,20],[37,4,37,11],[37,12,37,14],[37,15,37,17],[37,18,37,20],[38,4,38,11],[38,12,38,14],[38,15,38,17],[38,18,38,20],[35,4,35,11],[35,12,35,14],[35,15,35,17],[35,18,35,20],[36,4,36,11],[36,12,36,14],[36,15,36,17],[36,18,36,20],[41,4,41,11],[41,12,41,14],[41,15,41,17],[41,18,41,20],[42,4,42,11],[42,12,42,20],[39,4,39,11],[39,12,39,14],[39,15,39,17],[39,18,39,20],[40,4,40,11],[40,12,40,14],[40,15,40,17],[40,18,40,20],[48,4,48,11],[48,12,48,14],[48,15,48,17],[48,18,48,20],[49,4,49,11],[49,12,49,14],[49,15,49,17],[49,18,49,20],[43,4,43,11],[43,12,43,14],[43,15,43,17],[43,18,43,20],[46,12,46,14],[46,15,46,17],[46,18,46,20],[52,4,52,11],[52,12,52,14],[52,15,52,17],[52,18,52,20],[53,12,53,14],[53,15,53,17],[50,4,50,11],[50,12,50,14],[50,15,50,17],[50,18,50,20],[51,4,51,11],[51,12,51,20],[57,22,57,23],[61,5,61,14],[61,16,61,18],[61,19,61,21],[54,12,54,14],[54,15,54,17],[56,4,56,11],[56,12,56,14],[56,15,56,17],[56,18,56,20],[62,5,62,14],[62,16,62,18],[62,19,62,21],[63,5,63,14],[63,16,63,18],[63,19,63,21],[57,4,57,11],[57,12,57,14],[57,15,57,17],[57,18,57,20],[66,5,66,14],[66,16,66,18],[66,19,66,21],[67,5,67,14],[67,16,67,18],[67,19,67,21],[64,5,64,14],[64,16,64,18],[64,19,64,21],[65,5,65,14],[65,16,65,18],[65,19,65,21],[71,5,71,16],[71,17,71,18],[71,19,71,21],[82,2,82,23],[84,2,84,23],[69,5,69,16],[69,17,69,18],[69,19,69,21],[70,5,70,16],[70,17,70,18],[70,19,70,21]]}
[]
[]
[]
[null,null,"INDICADORES"]
[]
[]
[]
[null,null,null,null,"Emprego Jovem"]
[]
[null,null,null,null,"Indicador Resultado",null,null,null,null,null,null,null,"Unidade",null,null,"Valor Base",null,null,"Valor Final"]
[null,null,"XML",301,"Homens - Emprego Jovem",null,null,null,null,null,null,null,"nº",null,null,null,null,null,null,null,null,{"$f":"IF(P11=S11,0,IF(P11>S11,-1,2))","v":0}]
[null,null,"XML",302,"Mulheres - Emprego Jovem",null,null,null,null,null,null,null,"nº",null,null,null,null,null,null,null,null,{"$f":"IF(P12=S12,0,IF(P12>S12,-1,2))","v":0}]
[null,null,null,null,"Variação Total Emprego Jovem:",null,null,null,null,null,null,null,{"$f":"+S11+S12-P11-P12","v":0},null,null,null,null,null,null,null,null,{"$f":"IF(M13=0,0,IF(M13<0,-1,2))","v":0}]
[null,null,null,null,"Total:",null,null,null,null,null,null,null,"nº",null,null,{"$f":"+P12+P11","v":0},null,null,{"$f":"+S12+S11","v":0}]
[]
[null,null,null,null,"Emprego Não Qualificado"]
[]
[null,null,null,null,"Indicador Resultado",null,null,null,null,null,null,null,"Unidade",null,null,"Valor Base",null,null,"Valor Final"]
[null,null,"XML",201,"Homens - Emprego Não Qualificado",null,null,null,null,null,null,null,"nº",null,null,null,null,null,null,null,null,{"$f":"IF(P19=S19,0,IF(P19>S19,-1,2))","v":0}]
[null,null,"XML",202,"Mulheres - Emprego Não Qualificado",null,null,null,null,null,null,null,"nº",null,null,null,null,null,null,null,null,{"$f":"IF(P20=S20,0,IF(P20>S20,-1,2))","v":0}]
[null,null,null,null,"Variação Total emprego não qualificado:",null,null,null,null,null,null,null,{"$f":"+S19+S20-P19-P20","v":0},null,null,null,null,null,null,null,null,{"$f":"IF(M21=0,0,IF(M21<0,-1,2))","v":0}]
[null,null,null,null,"Total:",null,null,null,null,null,null,null,"nº",null,null,{"$f":"+P20+P19","v":0},null,null,{"$f":"+S20+S19","v":0}]
[]
[null,null,null,null,"Emprego Qualificado"]
[]
[null,null,null,null,"Indicador Resultado",null,null,null,null,null,null,null,"Unidade",null,null,"Valor Base",null,null,"Valor Final"]
[null,null,"XML",101,"Homens - Emprego Qualificado Nivel I",null,null,null,null,null,null,null,"nº",null,null,null,null,null,null,null,null,{"$f":"IF(P27=S27,0,IF(P27>S27,-1,2))","v":0}]
[null,null,"XML",102,"Mulheres - Emprego Qualificado Nivel I",null,null,null,null,null,null,null,"nº",null,null,null,null,null,null,null,null,{"$f":"IF(P28=S28,0,IF(P28>S28,-1,2))","v":0}]
[null,null,"XML",103,"Homens - Emprego Qualificado Nivel II",null,null,null,null,null,null,null,"nº",null,null,null,null,null,null,null,null,0]
[null,null,"XML",104,"Mulheres - Emprego Qualificado  Nivel II",null,null,null,null,null,null,null,"nº",null,null,null,null,null,null,null,null,0]
[null,null,"XML",105,"Homens - Emprego Qualificado Nivel III",null,null,null,null,null,null,null,"nº",null,null,null,null,null,null,null,null,0]
[null,null,"XML",106,"Mulheres - Emprego Qualificado Nivel III",null,null,null,null,null,null,null,"nº",null,null,null,null,null,null,null,null,0]
[null,null,"XML",107,"Homens - Emprego Qualificado Nivel IV",null,null,null,null,null,null,null,"nº",null,null,null,null,null,null,null,null,0]
[null,null,"XML",108,"Mulheres  - Emprego QualificadoNivel IV",null,null,null,null,null,null,null,"nº",null,null,null,null,null,null,null,null,0]
[null,null,"XML",109,"Homens - Emprego Qualificado Nivel V",null,null,null,null,null,null,null,"nº",null,null,null,null,null,null,null,null,0]
[null,null,"XML",110,"Mulheres - Emprego Qualificado Nivel V",null,null,null,null,null,null,null,"nº",null,null,null,null,null,null,null,null,0]
[null,null,"XML",111,"Homens - Emprego Qualificado Nivel VI",null,null,null,null,null,null,null,"nº",null,null,null,null,null,null,null,null,0]
[null,null,"XML",112,"Mulheres - Emprego Qualificado Nivel VI",null,null,null,null,null,null,null,"nº",null,null,null,null,null,null,null,null,0]
[null,null,"XML",113,"Homens - Emprego Qualificado Nivel VII",null,null,null,null,null,null,null,"nº",null,null,null,null,null,null,null,null,0]
[null,null,"XML",114,"Mulheres - Emprego Qualificado Nivel VII",null,null,null,null,null,null,null,"nº",null,null,null,null,null,null,null,null,0]
[null,null,"XML",115,"Homens - Emprego Qualificado Nivel VIII",null,null,null,null,null,null,null,"nº",null,null,null,null,null,null,null,null,0]
[null,null,"XML",116,"Mulheres - Emprego Qualificado Nivel VIII",null,null,null,null,null,null,null,"nº",null,null,null,null,null,null,null,null,0]
[null,null,null,null,"Variação Total Emprego qualificado:",null,null,null,null,null,null,null,{"$f":"+S27+S28+S29+S30+S31+S32+S33+S34+S35+S36+S37+S38+S39+S40+S41+S42-P27-P28-P29-P30-P31-P32-P33-P34-P35-P36-P37-P38-P39-P40-P41-P42","v":0},null,null,null,null,null,null,null,null,{"$f":"IF(M43=0,0,IF(M43<0,-1,2))","v":0}]
[null,null,null,null,"Total:",null,null,null,null,null,null,null,"nº",null,null,{"$f":"SUM(P27:R42)","v":0},null,null,{"$f":"SUM(S27:U42)","v":0}]
[]
[]
[null,null,null,null,"Total Emprego",null,null,null,null,null,null,null,"nº",null,null,{"$f":"+P44+P22","v":0},null,null,{"$f":"+S44+S22","v":0}]
[null,null,null,null,"Variação Total Emprego para efeitos de SI:"]
[null,null,null,null,"Tipo",null,null,null,null,null,null,null,"Não Qualif.<= nivel 5",null,null,"Qualif.>= nivel 6",null,null,"Total"]
[null,null,"XML",null,"Variação Homens",null,null,null,null,null,null,null,null,null,null,null,null,null,{"$f":"+M50+P50","v":0}]
[null,null,"XML",null,"Variação Mulheres",null,null,null,null,null,null,null,null,null,null,null,null,null,{"$f":"+M51+P51","v":0}]
[null,null,null,null,"Variação Total Emprego para SI:",null,null,null,null,null,null,null,{"$f":"+S50+S51","v":0},null,null,null,null,null,null,null,null,{"$f":"IF(M52=0,0,IF(M52<0,-1,2))","v":0}]
[null,null,null,null,"Variação Q e NQ:",null,null,null,null,null,null,null,{"$f":"+M51+M50","v":0},null,null,{"$f":"+P51+P50","v":0}]
[null,null,null,null,"Total Emprego Homens",null,null,null,null,null,null,null,"nº",null,null,{"$f":"+S19+S27+S29+S31+S33+S35+S37+S39+S41","v":0}]
[null,null,null,null,"Total Emprego Mulheres",null,null,null,null,null,null,null,"nº",null,null,{"$f":"+S20+S28+S30+S32+S34+S36+S38+S40+S42","v":0}]
[null,null,null,null,"Vendas ao Exterior"]
[null,null,null,null,"Tipo",null,null,null,null,null,null,null,"Unidade",null,null,"Valor Base",null,null,"Valor Final"]
[null,null,"XML",310,"Vendas ao Exterior",null,null,null,null,null,null,null,"€",null,null,null,null,null,null,null,null,{"$f":"IF(P58=S58,0,IF(P58>S58,-1,2))","v":0}]
[]
[]
[]
[null,null,null,null,"N","Designação",null,null,null,null,null,null,null,null,null,"Unidade de Medida","Valor pré projeto",null,null,"Valor no ano de conclusão do projeto"]
[null,null,null,null,1,"Despesas de I&D das empresas",null,null,null,null,null,null,null,null,null,"€"]
[null,null,null,null,2,"Despesas de I&D das entidades não empresariais do SRDITI",null,null,null,null,null,null,null,null,null,"€"]
[null,null,null,null,3,"Certificação de Sistemas de Gestão da Investigação Desenvolvimento e Inovação",null,null,null,null,null,null,null,null,null,"€"]
[null,null,null,null,4,"Patentes Nacionais",null,null,null,null,null,null,null,null,null,"Nº"]
[null,null,null,null,5,"Patentes Europeias",null,null,null,null,null,null,null,null,null,"Nº"]
[null,null,null,null,6,"Protótipos",null,null,null,null,null,null,null,null,null,"Nº"]
[]
[null,null,null,null,"N","Designação",null,null,null,null,null,null,null,null,null,null,null,"Unidade de Medida",null,"Valor no ano de conclusão do projeto"]
[null,null,null,null,7,"O.01.02.03.C - Empresas apoiadas para introduzirem  produtos novos no mercado",null,null,null,null,null,null,null,null,null,null,null,"Nº"]
[null,null,null,null,8,"O.01.02.01.E - Projetos de transferência e utilização de conhecimento",null,null,null,null,null,null,null,null,null,null,null,"Nº"]
[]
[]
[]
[]
[]
[]
[]
[]
[]
[]
[null,null,{"$f":"+[1]Beneficiario!C65","v":0}]
[]
[null,null,{"$f":"+[1]Capa!C15","v":"PROCiência 2020"}]
[]
[]
[]
[]
[]
[]
[]
[null,null,null,null,null,null,null,null,null,null,null,null,null,null,null,null,null,null,null,null,null,null,null,null,null,null,null,null,{"$f":"+'INDICADORESRESULTADO (5)'!S387","v":0}]

{"sheet":"Mapa","index":9,"n_rows":5001,"n_cols":71,"rows_kept":1125,"cut":true,"hidden":false,"merged":[[3,31,3,32],[3,37,3,38],[3,23,3,24],[4,62,4,64],[4,65,4,67],[3,60,3,70],[3,51,3,59],[0,1,0,29],[1,1,1,29],[3,8,3,16],[3,17,3,22],[3,26,3,27],[3,28,3,29],[3,5,3,7]],"bounds":{"rows_first":500,"rows_last":125,"rows_between":500,"halvings":2}}
[null,"MAPA DE CLASSIFICAÇÃO DAS DESPESAS DO PROJETO"]
[]
[null,null,null,null,null,null,null,null,null,null,null,null,{"$f":"SUM(M6:M1001)","v":0},{"$f":"SUM(N6:N1001)","v":0},{"$f":"SUM(O6:O1001)","v":0},{"$f":"SUM(P6:P1001)","v":0},{"$f":"SUM(Q6:Q1001)","v":0},null,null,null,null,{"$f":"SUM(V6:V1001)","v":0},{"$f":"SUM(W6:W1001)","v":0},null,null,null,null,null,null,null,null,null,null,null,null,null,0]
[null,null,null,null,null,"Fornecedor",null,null,"Documento de Despesa",null,null,null,null,null,null,null,null,"Documento de Quitação",null,null,null,null,null,"Lançamento",null,null,"Componentes",null,"Rúbricas",null,null,"Concelho",null,null,null,null,1,"Validações (deverá ser igual a zero)",null,null,null,null,null,null,null,null,null,null,null,null,null,"Valores negativos nas colunas validação não são aceites e os valores positivos deverão ser verificados",null,null,null,null,null,null,null,null,"Validações de Datas"]
[null,"ID","Id Candidatura","Id.Seq.F","Estab","NIF","NOME","Descrição do Bem/ Serviço","Doc. Despesa","Tipo Doc. Despesa","Nº Doc. Despesa","Data do Documento","Valor Doc. Despesa","Valor Doc. Des. Imputado","Valor Elegível","Valor Não Elegivel","Valor Elegivel \nNão Comparticipado","Doc. Quitação","Tipo Doc. Quitação","Nº Doc. Quitação","Data Doc. Quitação","Valor Doc. Quitação","Valor Doc. Quitação Imp","N.º Lançamento contabilidade","Data lançamento","N.º Certificação da despesa\n (TOC/ ROC)","idC_I","Componentes de Despesa","IdR_I","Rúbricas SNC","Obs","Id_C","Concelho","Eficiência \nEnergética","Tipo de investigação \n(PRO CIENCIA)","Cod. Contrato \n(Contratação Pública)","COVID-19","Validação da Despesa","Validação do \nDocumento de Quitação","Id.Seq.F","Valor Doc. Despesa","Valor Doc. Des. Imp","ValidaId.Seq.F","Nº Doc. Desp","ValidaDocDespesa","Nº Doc. Quit.","Valor Doc. Quit.","Valor Doc. Quit. Imp","Valida Doc. Quit.","ANO Despesa","ANO Quitacao","Id.Seq.F","Valor Doc. Desp. Imp - Id.Seq.F","Validacão Valor Doc. Desp. Imp - Id.Seq.F","N.º Doc. Desp","Valor Doc. Despesa - N.º Doc. Desp","Validacão Valor Doc. Desp. Imp - N.º Doc. Desp","Nº Doc. Quit.","Valor Doc. Quit.","Validacão Valor Doc. Quitação Imp - Nº Doc. Quit.","DATA DA FACTURA <= DATA DE QUITACAO","VALIDAÇÃO FORMATO DATA","VALIDAÇÃO NUMERICA",null,null,"VALIDAÇÃO NA DATA",null,null,"VALIDAÇÃO FORMATO DATA FACTURA","VALIDAÇÃO FORMATO DATA QUITACAO","VALIDAÇÃO FORMATO DATA CONTABILZAÇÃO"]
["00:00:00",{"$f":"IF(G6<>\"\",+$A$6+1,\"\")","v":""},null,null,null,null,null,null,{"$f":"IF(ISERROR(VLOOKUP(J6,tipoDocDesp,2,FALSE)),\"\",VLOOKUP(J6,tipoDocDesp,2,FALSE))","v":""},null,null,null,null,null,null,null,null,{"$f":"IF(ISERROR(VLOOKUP(S6,tipoDocQuit,2,FALSE)),\"\",VLOOKUP(S6,tipoDocQuit,2,FALSE))","v":""},null,null,null,null,null,null,null,null,{"$f":"IF(ISERROR(VLOOKUP(AB6,DESPESASGERAL,3,FALSE)),\"\",VLOOKUP(AB6,DESPESASGERAL,3,FALSE))","v":""},null,{"$f":"IF(ISERROR(VLOOKUP(AD6,RUBRICASGERAL,2,FALSE)),\"\",VLOOKUP(AD6,RUBRICASGERAL,2,FALSE))","v":""},null,null,{"$f":"IF(ISERROR(VLOOKUP(AG6,CONCELHOGERAL,2,FALSE)),\"\",VLOOKUP(AG6,CONCELHOGERAL,2,FALSE))","v":""},null,null,null,null,null,{"$f":"+O6+P6+Q6-N6","v":0},{"$f":"+O6+P6+Q6-W6","v":0},{"$f":"+D6","v":0},{"$f":"+M6","v":0},{"$f":"+N6","v":0},{"$f":"IF(AO6<>0,SUMIFS($AP$6:$AP$1001,$AN$6:$AN$1001,AN6,$F$6:$F$1001,F6,$AX$6:$AX$1001,AX6),0)","v":0},{"$f":"+K6","v":0},{"$f":"IF(AO6<>0,SUMIFS($AP$6:$AP$1001,$AR$6:$AR$1001,AR6,$F$6:$F$1001,F6,$AX$6:$AX$1001,AX6),0)","v":0},{"$f":"+T6","v":0},{"$f":"+V6","v":0},{"$f":"+W6","v":0},{"$f":"IF(AU6<>0,SUMIFS($AV$6:$AV$1001,$AT$6:$AT$1001,AT6,$F$6:$F$1001,F6,$AY$6:$AY$1001,AY6),0)","v":0},{"$f":"YEAR(L6)","v":1900},{"$f":"YEAR(U6)","v":1900},{"$f":"+AN6","v":0},{"$f":"+AQ6","v":0},{"$f":"+M6-BA6","v":0},{"$f":"+AR6","v":0},{"$f":"ROUND(AS6,2)","v":0},{"$f":"+M6-BD6","v":0},{"$f":"+AT6","v":0},{"$f":"ROUND(AW6,2)","v":0},{"$f":"+V6-BG6","v":0},{"$f":"IF(ISERROR(L6<=U6),\"FORMATO INCORRECTO\",IF(AND(L6=0,U6=0),\"\",IF(L6<=U6,\"VALIDADO\",\"NÃO VALIDADO\")))","v":""},{"$f":"IF(AND(L6=\"\",U6=\"\",Y6=\"\"),\"\",IF(OR(ISERROR(BK6),ISERROR(BL6),ISERROR(BM6)),\"ERRO NO FORMATO\",\"FORMATO CORRECTO\"))","v":""},{"$f":"convdata(L6)","v":0},{"$f":"convdata(U6)","v":0},{"$f":"convdata(Y6)","v":0},{"$f":"ENULO(L6)","v":"FORMATO INCORRECTO"},{"$f":"ENULO(U6)","v":"FORMATO INCORRECTO"},{"$f":"ENULO(Y6)","v":"FORMATO INCORRECTO"},{"$f":"IF(L6=\"\",\"\",IF(ISERROR(edata(L6)),\"FORMATO INCORRECTO\",\"FORMATO CORRECTO\"))","v":""},{"$f":"IF(U6=\"\",\"\",IF(ISERROR(edata(U6)),\"FORMATO INCORRECTO\",\"FORMATO CORRECTO\"))","v":""},{"$f":"IF(N6=\"\",\"\",IF(ISERROR(edata(N6)),\"FORMATO INCORRECTO\",\"FORMATO CORRECTO\"))","v":""}]
["1900-01-01",{"$f":"IF(G7<>\"\",+B6+1,\"\")","v":""},null,null,null,null,null,null,"",null,null,null,null,null,null,null,null,"",null,null,null,null,null,null,null,null,"",null,"",null,null,"",null,null,null,null,null,{"$f":"+O7+P7+Q7-N7","v":0},{"$f":"+O7+P7+Q7-W7","v":0},{"$f":"+D7","v":0},0,0,{"$f":"IF(AO7<>0,SUMIFS($AP$6:$AP$1001,$AN$6:$AN$1001,AN7,$F$6:$F$1001,F7,$AX$6:$AX$1001,AX7),0)","v":0},0,{"$f":"IF(AO7<>0,SUMIFS($AP$6:$AP$1001,$AR$6:$AR$1001,AR7,$F$6:$F$1001,F7,$AX$6:$AX$1001,AX7),0)","v":0},0,0,0,{"$f":"IF(AU7<>0,SUMIFS($AV$6:$AV$1001,$AT$6:$AT$1001,AT7,$F$6:$F$1001,F7,$AY$6:$AY$1001,AY7),0)","v":0},1900,1900,{"$f":"+AN7","v":0},{"$f":"+AQ7","v":0},0,{"$f":"+AR7","v":0},{"$f":"ROUND(AS7,2)","v":0},0,{"$f":"+AT7","v":0},{"$f":"ROUND(AW7,2)","v":0},0,{"$f":"IF(ISERROR(L7<=U7),\"FORMATO INCORRECTO\",IF(AND(L7=0,U7=0),\"\",IF(L7<=U7,\"VALIDADO\",\"NÃO VALIDADO\")))","v":""},{"$f":"IF(AND(L7=\"\",U7=\"\",Y7=\"\"),\"\",IF(OR(ISERROR(BK7),ISERROR(BL7),ISERROR(BM7)),\"ERRO NO FORMATO\",\"FORMATO CORRECTO\"))","v":""},{"$f":"convdata(L7)","v":0},{"$f":"convdata(U7)","v":0},{"$f":"convdata(Y7)","v":0},{"$f":"ENULO(L7)","v":"FORMATO INCORRECTO"},{"$f":"ENULO(U7)","v":"FORMATO INCORRECTO"},{"$f":"ENULO(Y7)","v":"FORMATO INCORRECTO"},{"$f":"IF(L7=\"\",\"\",IF(ISERROR(edata(L7)),\"FORMATO INCORRECTO\",\"FORMATO CORRECTO\"))","v":""},{"$f":"IF(U7=\"\",\"\",IF(ISERROR(edata(U7)),\"FORMATO INCORRECTO\",\"FORMATO CORRECTO\"))","v":""},{"$f":"IF(N7=\"\",\"\",IF(ISERROR(edata(N7)),\"FORMATO INCORRECTO\",\"FORMATO CORRECTO\"))","v":""}]
["1900-01-02",{"$f":"IF(G8<>\"\",+B7+1,\"\")","v":""},null,null,null,null,null,null,"",null,null,null,null,null,null,null,null,"",null,null,null,null,null,null,null,null,"",null,"",null,null,"",null,null,null,null,null,0,0,0,0,0,{"$f":"IF(AO8<>0,SUMIFS($AP$6:$AP$1001,$AN$6:$AN$1001,AN8,$F$6:$F$1001,F8,$AX$6:$AX$1001,AX8),0)","v":0},0,{"$f":"IF(AO8<>0,SUMIFS($AP$6:$AP$1001,$AR$6:$AR$1001,AR8,$F$6:$F$1001,F8,$AX$6:$AX$1001,AX8),0)","v":0},0,0,0,{"$f":"IF(AU8<>0,SUMIFS($AV$6:$AV$1001,$AT$6:$AT$1001,AT8,$F$6:$F$1001,F8,$AY$6:$AY$1001,AY8),0)","v":0},1900,1900,0,0,0,0,0,0,0,0,0,"","",0,0,0,"FORMATO INCORRECTO","FORMATO INCORRECTO","FORMATO INCORRECTO",{"$f":"IF(L8=\"\",\"\",IF(ISERROR(edata(L8)),\"FORMATO INCORRECTO\",\"FORMATO CORRECTO\"))","v":""},{"$f":"IF(U8=\"\",\"\",IF(ISERROR(edata(U8)),\"FORMATO INCORRECTO\",\"FORMATO CORRECTO\"))","v":""},{"$f":"IF(N8=\"\",\"\",IF(ISERROR(edata(N8)),\"FORMATO INCORRECTO\",\"FORMATO CORRECTO\"))","v":""}]
["1900-01-03","",null,null,null,null,null,null,"",null,null,null,null,null,null,null,null,"",null,null,null,null,null,null,null,null,"",null,"",null,null,"",null,null,null,null,null,0,0,0,0,0,{"$f":"IF(AO9<>0,SUMIFS($AP$6:$AP$1001,$AN$6:$AN$1001,AN9,$F$6:$F$1001,F9,$AX$6:$AX$1001,AX9),0)","v":0},0,{"$f":"IF(AO9<>0,SUMIFS($AP$6:$AP$1001,$AR$6:$AR$1001,AR9,$F$6:$F$1001,F9,$AX$6:$AX$1001,AX9),0)","v":0},0,0,0,{"$f":"IF(AU9<>0,SUMIFS($AV$6:$AV$1001,$AT$6:$AT$1001,AT9,$F$6:$F$1001,F9,$AY$6:$AY$1001,AY9),0)","v":0},1900,1900,0,0,0,0,0,0,0,0,0,"","",0,0,0,"FORMATO INCORRECTO","FORMATO INCORRECTO","FORMATO INCORRECTO",{"$f":"IF(L9=\"\",\"\",IF(ISERROR(edata(L9)),\"FORMATO INCORRECTO\",\"FORMATO CORRECTO\"))","v":""},{"$f":"IF(U9=\"\",\"\",IF(ISERROR(edata(U9)),\"FORMATO INCORRECTO\",\"FORMATO CORRECTO\"))","v":""},{"$f":"IF(N9=\"\",\"\",IF(ISERROR(edata(N9)),\"FORMATO INCORRECTO\",\"FORMATO CORRECTO\"))","v":""}]
["1900-01-04","",null,null,null,null,null,null,"",null,null,null,null,null,null,null,null,"",null,null,null,null,null,null,null,null,"",null,"",null,null,"",null,null,null,null,null,0,0,0,0,0,{"$f":"IF(AO10<>0,SUMIFS($AP$6:$AP$1001,$AN$6:$AN$1001,AN10,$F$6:$F$1001,F10,$AX$6:$AX$1001,AX10),0)","v":0},0,{"$f":"IF(AO10<>0,SUMIFS($AP$6:$AP$1001,$AR$6:$AR$1001,AR10,$F$6:$F$1001,F10,$AX$6:$AX$1001,AX10),0)","v":0},0,0,0,{"$f":"IF(AU10<>0,SUMIFS($AV$6:$AV$1001,$AT$6:$AT$1001,AT10,$F$6:$F$1001,F10,$AY$6:$AY$1001,AY10),0)","v":0},1900,1900,0,0,0,0,0,0,0,0,0,"","",0,0,0,"FORMATO INCORRECTO","FORMATO INCORRECTO","FORMATO INCORRECTO",{"$f":"IF(L10=\"\",\"\",IF(ISERROR(edata(L10)),\"FORMATO INCORRECTO\",\"FORMATO CORRECTO\"))","v":""},{"$f":"IF(U10=\"\",\"\",IF(ISERROR(edata(U10)),\"FORMATO INCORRECTO\",\"FORMATO CORRECTO\"))","v":""},{"$f":"IF(N10=\"\",\"\",IF(ISERROR(edata(N10)),\"FORMATO INCORRECTO\",\"FORMATO CORRECTO\"))","v":""}]
["1900-01-05","",null,null,null,null,null,null,"",null,null,null,null,null,null,null,null,"",null,null,null,null,null,null,null,null,"",null,"",null,null,"",null,null,null,null,null,0,0,0,0,0,{"$f":"IF(AO11<>0,SUMIFS($AP$6:$AP$1001,$AN$6:$AN$1001,AN11,$F$6:$F$1001,F11,$AX$6:$AX$1001,AX11),0)","v":0},0,{"$f":"IF(AO11<>0,SUMIFS($AP$6:$AP$1001,$AR$6:$AR$1001,AR11,$F$6:$F$1001,F11,$AX$6:$AX$1001,AX11),0)","v":0},0,0,0,{"$f":"IF(AU11<>0,SUMIFS($AV$6:$AV$1001,$AT$6:$AT$1001,AT11,$F$6:$F$1001,F11,$AY$6:$AY$1001,AY11),0)","v":0},1900,1900,0,0,0,0,0,0,0,0,0,"","",0,0,0,"FORMATO INCORRECTO","FORMATO INCORRECTO","FORMATO INCORRECTO",{"$f":"IF(L11=\"\",\"\",IF(ISERROR(edata(L11)),\"FORMATO INCORRECTO\",\"FORMATO CORRECTO\"))","v":""},{"$f":"IF(U11=\"\",\"\",IF(ISERROR(edata(U11)),\"FORMATO INCORRECTO\",\"FORMATO CORRECTO\"))","v":""},{"$f":"IF(N11=\"\",\"\",IF(ISERROR(edata(N11)),\"FORMATO INCORRECTO\",\"FORMATO CORRECTO\"))","v":""}]
["1900-01-06","",null,null,null,null,null,null,"",null,null,null,null,null,null,null,null,"",null,null,null,null,null,null,null,null,"",null,"",null,null,"",null,null,null,null,null,0,0,0,0,0,{"$f":"IF(AO12<>0,SUMIFS($AP$6:$AP$1001,$AN$6:$AN$1001,AN12,$F$6:$F$1001,F12,$AX$6:$AX$1001,AX12),0)","v":0},0,{"$f":"IF(AO12<>0,SUMIFS($AP$6:$AP$1001,$AR$6:$AR$1001,AR12,$F$6:$F$1001,F12,$AX$6:$AX$1001,AX12),0)","v":0},0,0,0,{"$f":"IF(AU12<>0,SUMIFS($AV$6:$AV$1001,$AT$6:$AT$1001,AT12,$F$6:$F$1001,F12,$AY$6:$AY$1001,AY12),0)","v":0},1900,1900,0,0,0,0,0,0,0,0,0,"","",0,0,0,"FORMATO INCORRECTO","FORMATO INCORRECTO","FORMATO INCORRECTO",{"$f":"IF(L12=\"\",\"\",IF(ISERROR(edata(L12)),\"FORMATO INCORRECTO\",\"FORMATO CORRECTO\"))","v":""},{"$f":"IF(U12=\"\",\"\",IF(ISERROR(edata(U12)),\"FORMATO INCORRECTO\",\"FORMATO CORRECTO\"))","v":""},{"$f":"IF(N12=\"\",\"\",IF(ISERROR(edata(N12)),\"FORMATO INCORRECTO\",\"FORMATO CORRECTO\"))","v":""}]
["1900-01-07","",null,null,null,null,null,null,"",null,null,null,null,null,null,null,null,"",null,null,null,null,null,null,null,null,"",null,"",null,null,"",null,null,null,null,null,0,0,0,0,0,{"$f":"IF(AO13<>0,SUMIFS($AP$6:$AP$1001,$AN$6:$AN$1001,AN13,$F$6:$F$1001,F13,$AX$6:$AX$1001,AX13),0)","v":0},0,{"$f":"IF(AO13<>0,SUMIFS($AP$6:$AP$1001,$AR$6:$AR$1001,AR13,$F$6:$F$1001,F13,$AX$6:$AX$1001,AX13),0)","v":0},0,0,0,{"$f":"IF(AU13<>0,SUMIFS($AV$6:$AV$1001,$AT$6:$AT$1001,AT13,$F$6:$F$1001,F13,$AY$6:$AY$1001,AY13),0)","v":0},1900,1900,0,0,0,0,0,0,0,0,0,"","",0,0,0,"FORMATO INCORRECTO","FORMATO INCORRECTO","FORMATO INCORRECTO",{"$f":"IF(L13=\"\",\"\",IF(ISERROR(edata(L13)),\"FORMATO INCORRECTO\",\"FORMATO CORRECTO\"))","v":""},{"$f":"IF(U13=\"\",\"\",IF(ISERROR(edata(U13)),\"FORMATO INCORRECTO\",\"FORMATO CORRECTO\"))","v":""},{"$f":"IF(N13=\"\",\"\",IF(ISERROR(edata(N13)),\"FORMATO INCORRECTO\",\"FORMATO CORRECTO\"))","v":""}]
["1900-01-08","",null,null,null,null,null,null,"",null,null,null,null,null,null,null,null,"",null,null,null,null,null,null,null,null,"",null,"",null,null,"",null,null,null,null,null,0,0,0,0,0,{"$f":"IF(AO14<>0,SUMIFS($AP$6:$AP$1001,$AN$6:$AN$1001,AN14,$F$6:$F$1001,F14,$AX$6:$AX$1001,AX14),0)","v":0},0,{"$f":"IF(AO14<>0,SUMIFS($AP$6:$AP$1001,$AR$6:$AR$1001,AR14,$F$6:$F$1001,F14,$AX$6:$AX$1001,AX14),0)","v":0},0,0,0,{"$f":"IF(AU14<>0,SUMIFS($AV$6:$AV$1001,$AT$6:$AT$1001,AT14,$F$6:$F$1001,F14,$AY$6:$AY$1001,AY14),0)","v":0},1900,1900,0,0,0,0,0,0,0,0,0,"","",0,0,0,"FORMATO INCORRECTO","FORMATO INCORRECTO","FORMATO INCORRECTO",{"$f":"IF(L14=\"\",\"\",IF(ISERROR(edata(L14)),\"FORMATO INCORRECTO\",\"FORMATO CORRECTO\"))","v":""},{"$f":"IF(U14=\"\",\"\",IF(ISERROR(edata(U14)),\"FORMATO INCORRECTO\",\"FORMATO CORRECTO\"))","v":""},{"$f":"IF(N14=\"\",\"\",IF(ISERROR(edata(N14)),\"FORMATO INCORRECTO\",\"FORMATO CORRECTO\"))","v":""}]
["1900-01-09","",null,null,null,null,null,null,"",null,null,null,null,null,null,null,null,"",null,null,null,null,null,null,null,null,"",null,"",null,null,"",null,null,null,null,null,0,0,0,0,0,{"$f":"IF(AO15<>0,SUMIFS($AP$6:$AP$1001,$AN$6:$AN$1001,AN15,$F$6:$F$1001,F15,$AX$6:$AX$1001,AX15),0)","v":0},0,{"$f":"IF(AO15<>0,SUMIFS($AP$6:$AP$1001,$AR$6:$AR$1001,AR15,$F$6:$F$1001,F15,$AX$6:$AX$1001,AX15),0)","v":0},0,0,0,{"$f":"IF(AU15<>0,SUMIFS($AV$6:$AV$1001,$AT$6:$AT$1001,AT15,$F$6:$F$1001,F15,$AY$6:$AY$1001,AY15),0)","v":0},1900,1900,0,0,0,0,0,0,0,0,0,"","",0,0,0,"FORMATO INCORRECTO","FORMATO INCORRECTO","FORMATO INCORRECTO",{"$f":"IF(L15=\"\",\"\",IF(ISERROR(edata(L15)),\"FORMATO INCORRECTO\",\"FORMATO CORRECTO\"))","v":""},{"$f":"IF(U15=\"\",\"\",IF(ISERROR(edata(U15)),\"FORMATO INCORRECTO\",\"FORMATO CORRECTO\"))","v":""},{"$f":"IF(N15=\"\",\"\",IF(ISERROR(edata(N15)),\"FORMATO INCORRECTO\",\"FORMATO CORRECTO\"))","v":""}]
["1900-01-10","",null,null,null,null,null,null,"",null,null,null,null,null,null,null,null,"",null,null,null,null,null,null,null,null,"",null,"",null,null,"",null,null,null,null,null,0,0,0,0,0,{"$f":"IF(AO16<>0,SUMIFS($AP$6:$AP$1001,$AN$6:$AN$1001,AN16,$F$6:$F$1001,F16,$AX$6:$AX$1001,AX16),0)","v":0},0,{"$f":"IF(AO16<>0,SUMIFS($AP$6:$AP$1001,$AR$6:$AR$1001,AR16,$F$6:$F$1001,F16,$AX$6:$AX$1001,AX16),0)","v":0},0,0,0,{"$f":"IF(AU16<>0,SUMIFS($AV$6:$AV$1001,$AT$6:$AT$1001,AT16,$F$6:$F$1001,F16,$AY$6:$AY$1001,AY16),0)","v":0},1900,1900,0,0,0,0,0,0,0,0,0,"","",0,0,0,"FORMATO INCORRECTO","FORMATO INCORRECTO","FORMATO INCORRECTO",{"$f":"IF(L16=\"\",\"\",IF(ISERROR(edata(L16)),\"FORMATO INCORRECTO\",\"FORMATO CORRECTO\"))","v":""},{"$f":"IF(U16=\"\",\"\",IF(ISERROR(edata(U16)),\"FORMATO INCORRECTO\",\"FORMATO CORRECTO\"))","v":""},{"$f":"IF(N16=\"\",\"\",IF(ISERROR(edata(N16)),\"FORMATO INCORRECTO\",\"FORMATO CORRECTO\"))","v":""}]
["1900-01-11","",null,null,null,null,null,null,"",null,null,null,null,null,null,null,null,"",null,null,null,null,null,null,null,null,"",null,"",null,null,"",null,null,null,null,null,0,0,0,0,0,{"$f":"IF(AO17<>0,SUMIFS($AP$6:$AP$1001,$AN$6:$AN$1001,AN17,$F$6:$F$1001,F17,$AX$6:$AX$1001,AX17),0)","v":0},0,{"$f":"IF(AO17<>0,SUMIFS($AP$6:$AP$1001,$AR$6:$AR$1001,AR17,$F$6:$F$1001,F17,$AX$6:$AX$1001,AX17),0)","v":0},0,0,0,{"$f":"IF(AU17<>0,SUMIFS($AV$6:$AV$1001,$AT$6:$AT$1001,AT17,$F$6:$F$1001,F17,$AY$6:$AY$1001,AY17),0)","v":0},1900,1900,0,0,0,0,0,0,0,0,0,"","",0,0,0,"FORMATO INCORRECTO","FORMATO INCORRECTO","FORMATO INCORRECTO",{"$f":"IF(L17=\"\",\"\",IF(ISERROR(edata(L17)),\"FORMATO INCORRECTO\",\"FORMATO CORRECTO\"))","v":""},{"$f":"IF(U17=\"\",\"\",IF(ISERROR(edata(U17)),\"FORMATO INCORRECTO\",\"FORMATO CORRECTO\"))","v":""},{"$f":"IF(N17=\"\",\"\",IF(ISERROR(edata(N17)),\"FORMATO INCORRECTO\",\"FORMATO CORRECTO\"))","v":""}]
["1900-01-12","",null,null,null,null,null,null,"",null,null,null,null,null,null,null,null,"",null,null,null,null,null,null,null,null,"",null,"",null,null,"",null,null,null,null,null,0,0,0,0,0,{"$f":"IF(AO18<>0,SUMIFS($AP$6:$AP$1001,$AN$6:$AN$1001,AN18,$F$6:$F$1001,F18,$AX$6:$AX$1001,AX18),0)","v":0},0,{"$f":"IF(AO18<>0,SUMIFS($AP$6:$AP$1001,$AR$6:$AR$1001,AR18,$F$6:$F$1001,F18,$AX$6:$AX$1001,AX18),0)","v":0},0,0,0,{"$f":"IF(AU18<>0,SUMIFS($AV$6:$AV$1001,$AT$6:$AT$1001,AT18,$F$6:$F$1001,F18,$AY$6:$AY$1001,AY18),0)","v":0},1900,1900,0,0,0,0,0,0,0,0,0,"","",0,0,0,"FORMATO INCORRECTO","FORMATO INCORRECTO","FORMATO INCORRECTO",{"$f":"IF(L18=\"\",\"\",IF(ISERROR(edata(L18)),\"FORMATO INCORRECTO\",\"FORMATO CORRECTO\"))","v":""},{"$f":"IF(U18=\"\",\"\",IF(ISERROR(edata(U18)),\"FORMATO INCORRECTO\",\"FORMATO CORRECTO\"))","v":""},{"$f":"IF(N18=\"\",\"\",IF(ISERROR(edata(N18)),\"FORMATO INCORRECTO\",\"FORMATO CORRECTO\"))","v":""}]
["1900-01-13","",null,null,null,null,null,null,"",null,null,null,null,null,null,null,null,"",null,null,null,null,null,null,null,null,"",null,"",null,null,"",null,null,null,null,null,0,0,0,0,0,{"$f":"IF(AO19<>0,SUMIFS($AP$6:$AP$1001,$AN$6:$AN$1001,AN19,$F$6:$F$1001,F19,$AX$6:$AX$1001,AX19),0)","v":0},0,{"$f":"IF(AO19<>0,SUMIFS($AP$6:$AP$1001,$AR$6:$AR$1001,AR19,$F$6:$F$1001,F19,$AX$6:$AX$1001,AX19),0)","v":0},0,0,0,{"$f":"IF(AU19<>0,SUMIFS($AV$6:$AV$1001,$AT$6:$AT$1001,AT19,$F$6:$F$1001,F19,$AY$6:$AY$1001,AY19),0)","v":0},1900,1900,0,0,0,0,0,0,0,0,0,"","",0,0,0,"FORMATO INCORRECTO","FORMATO INCORRECTO","FORMATO INCORRECTO",{"$f":"IF(L19=\"\",\"\",IF(ISERROR(edata(L19)),\"FORMATO INCORRECTO\",\"FORMATO CORRECTO\"))","v":""},{"$f":"IF(U19=\"\",\"\",IF(ISERROR(edata(U19)),\"FORMATO INCORRECTO\",\"FORMATO CORRECTO\"))","v":""},{"$f":"IF(N19=\"\",\"\",IF(ISERROR(edata(N19)),\"FORMATO INCORRECTO\",\"FORMATO CORRECTO\"))","v":""}]
["1900-01-14","",null,null,null,null,null,null,"",null,null,null,null,null,null,null,null,"",null,null,null,null,null,null,null,null,"",null,"",null,null,"",null,null,null,null,null,0,0,0,0,0,{"$f":"IF(AO20<>0,SUMIFS($AP$6:$AP$1001,$AN$6:$AN$1001,AN20,$F$6:$F$1001,F20,$AX$6:$AX$1001,AX20),0)","v":0},0,{"$f":"IF(AO20<>0,SUMIFS($AP$6:$AP$1001,$AR$6:$AR$1001,AR20,$F$6:$F$1001,F20,$AX$6:$AX$1001,AX20),0)","v":0},0,0,0,{"$f":"IF(AU20<>0,SUMIFS($AV$6:$AV$1001,$AT$6:$AT$1001,AT20,$F$6:$F$1001,F20,$AY$6:$AY$1001,AY20),0)","v":0},1900,1900,0,0,0,0,0,0,0,0,0,"","",0,0,0,"FORMATO INCORRECTO","FORMATO INCORRECTO","FORMATO INCORRECTO",{"$f":"IF(L20=\"\",\"\",IF(ISERROR(edata(L20)),\"FORMATO INCORRECTO\",\"FORMATO CORRECTO\"))","v":""},{"$f":"IF(U20=\"\",\"\",IF(ISERROR(edata(U20)),\"FORMATO INCORRECTO\",\"FORMATO CORRECTO\"))","v":""},{"$f":"IF(N20=\"\",\"\",IF(ISERROR(edata(N20)),\"FORMATO INCORRECTO\",\"FORMATO CORRECTO\"))","v":""}]
["1900-01-15","",null,null,null,null,null,null,"",null,null,null,null,null,null,null,null,"",null,null,null,null,null,null,null,null,"",null,"",null,null,"",null,null,null,null,null,0,0,0,0,0,{"$f":"IF(AO21<>0,SUMIFS($AP$6:$AP$1001,$AN$6:$AN$1001,AN21,$F$6:$F$1001,F21,$AX$6:$AX$1001,AX21),0)","v":0},0,{"$f":"IF(AO21<>0,SUMIFS($AP$6:$AP$1001,$AR$6:$AR$1001,AR21,$F$6:$F$1001,F21,$AX$6:$AX$1001,AX21),0)","v":0},0,0,0,{"$f":"IF(AU21<>0,SUMIFS($AV$6:$AV$1001,$AT$6:$AT$1001,AT21,$F$6:$F$1001,F21,$AY$6:$AY$1001,AY21),0)","v":0},1900,1900,0,0,0,0,0,0,0,0,0,"","",0,0,0,"FORMATO INCORRECTO","FORMATO INCORRECTO","FORMATO INCORRECTO",{"$f":"IF(L21=\"\",\"\",IF(ISERROR(edata(L21)),\"FORMATO INCORRECTO\",\"FORMATO CORRECTO\"))","v":""},{"$f":"IF(U21=\"\",\"\",IF(ISERROR(edata(U21)),\"FORMATO INCORRECTO\",\"FORMATO CORRECTO\"))","v":""},{"$f":"IF(N21=\"\",\"\",IF(ISERROR(edata(N21)),\"FORMATO INCORRECTO\",\"FORMATO CORRECTO\"))","v":""}]
["1900-01-16","",null,null,null,null,null,null,"",null,null,null,null,null,null,null,null,"",null,null,null,null,null,null,null,null,"",null,"",null,null,"",null,null,null,null,null,0,0,0,0,0,{"$f":"IF(AO22<>0,SUMIFS($AP$6:$AP$1001,$AN$6:$AN$1001,AN22,$F$6:$F$1001,F22,$AX$6:$AX$1001,AX22),0)","v":0},0,{"$f":"IF(AO22<>0,SUMIFS($AP$6:$AP$1001,$AR$6:$AR$1001,AR22,$F$6:$F$1001,F22,$AX$6:$AX$1001,AX22),0)","v":0},0,0,0,{"$f":"IF(AU22<>0,SUMIFS($AV$6:$AV$1001,$AT$6:$AT$1001,AT22,$F$6:$F$1001,F22,$AY$6:$AY$1001,AY22),0)","v":0},1900,1900,0,0,0,0,0,0,0,0,0,"","",0,0,0,"FORMATO INCORRECTO","FORMATO INCORRECTO","FORMATO INCORRECTO",{"$f":"IF(L22=\"\",\"\",IF(ISERROR(edata(L22)),\"FORMATO INCORRECTO\",\"FORMATO CORRECTO\"))","v":""},{"$f":"IF(U22=\"\",\"\",IF(ISERROR(edata(U22)),\"FORMATO INCORRECTO\",\"FORMATO CORRECTO\"))","v":""},{"$f":"IF(N22=\"\",\"\",IF(ISERROR(edata(N22)),\"FORMATO INCORRECTO\",\"FORMATO CORRECTO\"))","v":""}]
["1900-01-17","",null,null,null,null,null,null,"",null,null,null,null,null,null,null,null,"",null,null,null,null,null,null,null,null,"",null,"",null,null,"",null,null,null,null,null,0,0,0,0,0,{"$f":"IF(AO23<>0,SUMIFS($AP$6:$AP$1001,$AN$6:$AN$1001,AN23,$F$6:$F$1001,F23,$AX$6:$AX$1001,AX23),0)","v":0},0,{"$f":"IF(AO23<>0,SUMIFS($AP$6:$AP$1001,$AR$6:$AR$1001,AR23,$F$6:$F$1001,F23,$AX$6:$AX$1001,AX23),0)","v":0},0,0,0,{"$f":"IF(AU23<>0,SUMIFS($AV$6:$AV$1001,$AT$6:$AT$1001,AT23,$F$6:$F$1001,F23,$AY$6:$AY$1001,AY23),0)","v":0},1900,1900,0,0,0,0,0,0,0,0,0,"","",0,0,0,"FORMATO INCORRECTO","FORMATO INCORRECTO","FORMATO INCORRECTO",{"$f":"IF(L23=\"\",\"\",IF(ISERROR(edata(L23)),\"FORMATO INCORRECTO\",\"FORMATO CORRECTO\"))","v":""},{"$f":"IF(U23=\"\",\"\",IF(ISERROR(edata(U23)),\"FORMATO INCORRECTO\",\"FORMATO CORRECTO\"))","v":""},{"$f":"IF(N23=\"\",\"\",IF(ISERROR(edata(N23)),\"FORMATO INCORRECTO\",\"FORMATO CORRECTO\"))","v":""}]
["1900-01-18","",null,null,null,null,null,null,"",null,null,null,null,null,null,null,null,"",null,null,null,null,null,null,null,null,"",null,"",null,null,"",null,null,null,null,null,0,0,0,0,0,{"$f":"IF(AO24<>0,SUMIFS($AP$6:$AP$1001,$AN$6:$AN$1001,AN24,$F$6:$F$1001,F24,$AX$6:$AX$1001,AX24),0)","v":0},0,{"$f":"IF(AO24<>0,SUMIFS($AP$6:$AP$1001,$AR$6:$AR$1001,AR24,$F$6:$F$1001,F24,$AX$6:$AX$1001,AX24),0)","v":0},0,0,0,{"$f":"IF(AU24<>0,SUMIFS($AV$6:$AV$1001,$AT$6:$AT$1001,AT24,$F$6:$F$1001,F24,$AY$6:$AY$1001,AY24),0)","v":0},1900,1900,0,0,0,0,0,0,0,0,0,"","",0,0,0,"FORMATO INCORRECTO","FORMATO INCORRECTO","FORMATO INCORRECTO",{"$f":"IF(L24=\"\",\"\",IF(ISERROR(edata(L24)),\"FORMATO INCORRECTO\",\"FORMATO CORRECTO\"))","v":""},{"$f":"IF(U24=\"\",\"\",IF(ISERROR(edata(U24)),\"FORMATO INCORRECTO\",\"FORMATO CORRECTO\"))","v":""},{"$f":"IF(N24=\"\",\"\",IF(ISERROR(edata(N24)),\"FORMATO INCORRECTO\",\"FORMATO CORRECTO\"))","v":""}]
["1900-01-19","",null,null,null,null,null,null,"",null,null,null,null,null,null,null,null,"",null,null,null,null,null,null,null,null,"",null,"",null,null,"",null,null,null,null,null,0,0,0,0,0,{"$f":"IF(AO25<>0,SUMIFS($AP$6:$AP$1001,$AN$6:$AN$1001,AN25,$F$6:$F$1001,F25,$AX$6:$AX$1001,AX25),0)","v":0},0,{"$f":"IF(AO25<>0,SUMIFS($AP$6:$AP$1001,$AR$6:$AR$1001,AR25,$F$6:$F$1001,F25,$AX$6:$AX$1001,AX25),0)","v":0},0,0,0,{"$f":"IF(AU25<>0,SUMIFS($AV$6:$AV$1001,$AT$6:$AT$1001,AT25,$F$6:$F$1001,F25,$AY$6:$AY$1001,AY25),0)","v":0},1900,1900,0,0,0,0,0,0,0,0,0,"","",0,0,0,"FORMATO INCORRECTO","FORMATO INCORRECTO","FORMATO INCORRECTO",{"$f":"IF(L25=\"\",\"\",IF(ISERROR(edata(L25)),\"FORMATO INCORRECTO\",\"FORMATO CORRECTO\"))","v":""},{"$f":"IF(U25=\"\",\"\",IF(ISERROR(edata(U25)),\"FORMATO INCORRECTO\",\"FORMATO CORRECTO\"))","v":""},{"$f":"IF(N25=\"\",\"\",IF(ISERROR(edata(N25)),\"FORMATO INCORRECTO\",\"FORMATO CORRECTO\"))","v":""}]
["1900-01-20","",null,null,null,null,null,null,"",null,null,null,null,null,null,null,null,"",null,null,null,null,null,null,null,null,"",null,"",null,null,"",null,null,null,null,null,0,0,0,0,0,{"$f":"IF(AO26<>0,SUMIFS($AP$6:$AP$1001,$AN$6:$AN$1001,AN26,$F$6:$F$1001,F26,$AX$6:$AX$1001,AX26),0)","v":0},0,{"$f":"IF(AO26<>0,SUMIFS($AP$6:$AP$1001,$AR$6:$AR$1001,AR26,$F$6:$F$1001,F26,$AX$6:$AX$1001,AX26),0)","v":0},0,0,0,{"$f":"IF(AU26<>0,SUMIFS($AV$6:$AV$1001,$AT$6:$AT$1001,AT26,$F$6:$F$1001,F26,$AY$6:$AY$1001,AY26),0)","v":0},1900,1900,0,0,0,0,0,0,0,0,0,"","",0,0,0,"FORMATO INCORRECTO","FORMATO INCORRECTO","FORMATO INCORRECTO",{"$f":"IF(L26=\"\",\"\",IF(ISERROR(edata(L26)),\"FORMATO INCORRECTO\",\"FORMATO CORRECTO\"))","v":""},{"$f":"IF(U26=\"\",\"\",IF(ISERROR(edata(U26)),\"FORMATO INCORRECTO\",\"FORMATO CORRECTO\"))","v":""},{"$f":"IF(N26=\"\",\"\",IF(ISERROR(edata(N26)),\"FORMATO INCORRECTO\",\"FORMATO CORRECTO\"))","v":""}]
["1900-01-21","",null,null,null,null,null,null,"",null,null,null,null,null,null,null,null,"",null,null,null,null,null,null,null,null,"",null,"",null,null,"",null,null,null,null,null,0,0,0,0,0,{"$f":"IF(AO27<>0,SUMIFS($AP$6:$AP$1001,$AN$6:$AN$1001,AN27,$F$6:$F$1001,F27,$AX$6:$AX$1001,AX27),0)","v":0},0,{"$f":"IF(AO27<>0,SUMIFS($AP$6:$AP$1001,$AR$6:$AR$1001,AR27,$F$6:$F$1001,F27,$AX$6:$AX$1001,AX27),0)","v":0},0,0,0,{"$f":"IF(AU27<>0,SUMIFS($AV$6:$AV$1001,$AT$6:$AT$1001,AT27,$F$6:$F$1001,F27,$AY$6:$AY$1001,AY27),0)","v":0},1900,1900,0,0,0,0,0,0,0,0,0,"","",0,0,0,"FORMATO INCORRECTO","FORMATO INCORRECTO","FORMATO INCORRECTO",{"$f":"IF(L27=\"\",\"\",IF(ISERROR(edata(L27)),\"FORMATO INCORRECTO\",\"FORMATO CORRECTO\"))","v":""},{"$f":"IF(U27=\"\",\"\",IF(ISERROR(edata(U27)),\"FORMATO INCORRECTO\",\"FORMATO CORRECTO\"))","v":""},{"$f":"IF(N27=\"\",\"\",IF(ISERROR(edata(N27)),\"FORMATO INCORRECTO\",\"FORMATO CORRECTO\"))","v":""}]
["1900-01-22","",null,null,null,null,null,null,"",null,null,null,null,null,null,null,null,"",null,null,null,null,null,null,null,null,"",null,"",null,null,"",null,null,null,null,null,0,0,0,0,0,{"$f":"IF(AO28<>0,SUMIFS($AP$6:$AP$1001,$AN$6:$AN$1001,AN28,$F$6:$F$1001,F28,$AX$6:$AX$1001,AX28),0)","v":0},0,{"$f":"IF(AO28<>0,SUMIFS($AP$6:$AP$1001,$AR$6:$AR$1001,AR28,$F$6:$F$1001,F28,$AX$6:$AX$1001,AX28),0)","v":0},0,0,0,{"$f":"IF(AU28<>0,SUMIFS($AV$6:$AV$1001,$AT$6:$AT$1001,AT28,$F$6:$F$1001,F28,$AY$6:$AY$1001,AY28),0)","v":0},1900,1900,0,0,0,0,0,0,0,0,0,"","",0,0,0,"FORMATO INCORRECTO","FORMATO INCORRECTO","FORMATO INCORRECTO",{"$f":"IF(L28=\"\",\"\",IF(ISERROR(edata(L28)),\"FORMATO INCORRECTO\",\"FORMATO CORRECTO\"))","v":""},{"$f":"IF(U28=\"\",\"\",IF(ISERROR(edata(U28)),\"FORMATO INCORRECTO\",\"FORMATO CORRECTO\"))","v":""},{"$f":"IF(N28=\"\",\"\",IF(ISERROR(edata(N28)),\"FORMATO INCORRECTO\",\"FORMATO CORRECTO\"))","v":""}]
["1900-01-23","",null,null,null,null,null,null,"",null,null,null,null,null,null,null,null,"",null,null,null,null,null,null,null,null,"",null,"",null,null,"",null,null,null,null,null,0,0,0,0,0,{"$f":"IF(AO29<>0,SUMIFS($AP$6:$AP$1001,$AN$6:$AN$1001,AN29,$F$6:$F$1001,F29,$AX$6:$AX$1001,AX29),0)","v":0},0,{"$f":"IF(AO29<>0,SUMIFS($AP$6:$AP$1001,$AR$6:$AR$1001,AR29,$F$6:$F$1001,F29,$AX$6:$AX$1001,AX29),0)","v":0},0,0,0,{"$f":"IF(AU29<>0,SUMIFS($AV$6:$AV$1001,$AT$6:$AT$1001,AT29,$F$6:$F$1001,F29,$AY$6:$AY$1001,AY29),0)","v":0},1900,1900,0,0,0,0,0,0,0,0,0,"","",0,0,0,"FORMATO INCORRECTO","FORMATO INCORRECTO","FORMATO INCORRECTO",{"$f":"IF(L29=\"\",\"\",IF(ISERROR(edata(L29)),\"FORMATO INCORRECTO\",\"FORMATO CORRECTO\"))","v":""},{"$f":"IF(U29=\"\",\"\",IF(ISERROR(edata(U29)),\"FORMATO INCORRECTO\",\"FORMATO CORRECTO\"))","v":""},{"$f":"IF(N29=\"\",\"\",IF(ISERROR(edata(N29)),\"FORMATO INCORRECTO\",\"FORMATO CORRECTO\"))","v":""}]
["1900-01-24","",null,null,null,null,null,null,"",null,null,null,null,null,null,null,null,"",null,null,null,null,null,null,null,null,"",null,"",null,null,"",null,null,null,null,null,0,0,0,0,0,{"$f":"IF(AO30<>0,SUMIFS($AP$6:$AP$1001,$AN$6:$AN$1001,AN30,$F$6:$F$1001,F30,$AX$6:$AX$1001,AX30),0)","v":0},0,{"$f":"IF(AO30<>0,SUMIFS($AP$6:$AP$1001,$AR$6:$AR$1001,AR30,$F$6:$F$1001,F30,$AX$6:$AX$1001,AX30),0)","v":0},0,0,0,{"$f":"IF(AU30<>0,SUMIFS($AV$6:$AV$1001,$AT$6:$AT$1001,AT30,$F$6:$F$1001,F30,$AY$6:$AY$1001,AY30),0)","v":0},1900,1900,0,0,0,0,0,0,0,0,0,"","",0,0,0,"FORMATO INCORRECTO","FORMATO INCORRECTO","FORMATO INCORRECTO",{"$f":"IF(L30=\"\",\"\",IF(ISERROR(edata(L30)),\"FORMATO INCORRECTO\",\"FORMATO CORRECTO\"))","v":""},{"$f":"IF(U30=\"\",\"\",IF(ISERROR(edata(U30)),\"FORMATO INCORRECTO\",\"FORMATO CORRECTO\"))","v":""},{"$f":"IF(N30=\"\",\"\",IF(ISERROR(edata(N30)),\"FORMATO INCORRECTO\",\"FORMATO CORRECTO\"))","v":""}]
["1900-01-25","",null,null,null,null,null,null,"",null,null,null,null,null,null,null,null,"",null,null,null,null,null,null,null,null,"",null,"",null,null,"",null,null,null,null,null,0,0,0,0,0,{"$f":"IF(AO31<>0,SUMIFS($AP$6:$AP$1001,$AN$6:$AN$1001,AN31,$F$6:$F$1001,F31,$AX$6:$AX$1001,AX31),0)","v":0},0,{"$f":"IF(AO31<>0,SUMIFS($AP$6:$AP$1001,$AR$6:$AR$1001,AR31,$F$6:$F$1001,F31,$AX$6:$AX$1001,AX31),0)","v":0},0,0,0,{"$f":"IF(AU31<>0,SUMIFS($AV$6:$AV$1001,$AT$6:$AT$1001,AT31,$F$6:$F$1001,F31,$AY$6:$AY$1001,AY31),0)","v":0},1900,1900,0,0,0,0,0,0,0,0,0,"","",0,0,0,"FORMATO INCORRECTO","FORMATO INCORRECTO","FORMATO INCORRECTO",{"$f":"IF(L31=\"\",\"\",IF(ISERROR(edata(L31)),\"FORMATO INCORRECTO\",\"FORMATO CORRECTO\"))","v":""},{"$f":"IF(U31=\"\",\"\",IF(ISERROR(edata(U31)),\"FORMATO INCORRECTO\",\"FORMATO CORRECTO\"))","v":""},{"$f":"IF(N31=\"\",\"\",IF(ISERROR(edata(N31)),\"FORMATO INCORRECTO\",\"FORMATO CORRECTO\"))","v":""}]
["1900-01-26","",null,null,null,null,null,null,"",null,null,null,null,null,null,null,null,"",null,null,null,null,null,null,null,null,"",null,"",null,null,"",null,null,null,null,null,0,0,0,0,0,{"$f":"IF(AO32<>0,SUMIFS($AP$6:$AP$1001,$AN$6:$AN$1001,AN32,$F$6:$F$1001,F32,$AX$6:$AX$1001,AX32),0)","v":0},0,{"$f":"IF(AO32<>0,SUMIFS($AP$6:$AP$1001,$AR$6:$AR$1001,AR32,$F$6:$F$1001,F32,$AX$6:$AX$1001,AX32),0)","v":0},0,0,0,{"$f":"IF(AU32<>0,SUMIFS($AV$6:$AV$1001,$AT$6:$AT$1001,AT32,$F$6:$F$1001,F32,$AY$6:$AY$1001,AY32),0)","v":0},1900,1900,0,0,0,0,0,0,0,0,0,"","",0,0,0,"FORMATO INCORRECTO","FORMATO INCORRECTO","FORMATO INCORRECTO",{"$f":"IF(L32=\"\",\"\",IF(ISERROR(edata(L32)),\"FORMATO INCORRECTO\",\"FORMATO CORRECTO\"))","v":""},{"$f":"IF(U32=\"\",\"\",IF(ISERROR(edata(U32)),\"FORMATO INCORRECTO\",\"FORMATO CORRECTO\"))","v":""},{"$f":"IF(N32=\"\",\"\",IF(ISERROR(edata(N32)),\"FORMATO INCORRECTO\",\"FORMATO CORRECTO\"))","v":""}]
["1900-01-27","",null,null,null,null,null,null,"",null,null,null,null,null,null,null,null,"",null,null,null,null,null,null,null,null,"",null,"",null,null,"",null,null,null,null,null,0,0,0,0,0,{"$f":"IF(AO33<>0,SUMIFS($AP$6:$AP$1001,$AN$6:$AN$1001,AN33,$F$6:$F$1001,F33,$AX$6:$AX$1001,AX33),0)","v":0},0,{"$f":"IF(AO33<>0,SUMIFS($AP$6:$AP$1001,$AR$6:$AR$1001,AR33,$F$6:$F$1001,F33,$AX$6:$AX$1001,AX33),0)","v":0},0,0,0,{"$f":"IF(AU33<>0,SUMIFS($AV$6:$AV$1001,$AT$6:$AT$1001,AT33,$F$6:$F$1001,F33,$AY$6:$AY$1001,AY33),0)","v":0},1900,1900,0,0,0,0,0,0,0,0,0,"","",0,0,0,"FORMATO INCORRECTO","FORMATO INCORRECTO","FORMATO INCORRECTO",{"$f":"IF(L33=\"\",\"\",IF(ISERROR(edata(L33)),\"FORMATO INCORRECTO\",\"FORMATO CORRECTO\"))","v":""},{"$f":"IF(U33=\"\",\"\",IF(ISERROR(edata(U33)),\"FORMATO INCORRECTO\",\"FORMATO CORRECTO\"))","v":""},{"$f":"IF(N33=\"\",\"\",IF(ISERROR(edata(N33)),\"FORMATO INCORRECTO\",\"FORMATO CORRECTO\"))","v":""}]
["1900-01-28","",null,null,null,null,null,null,"",null,null,null,null,null,null,null,null,"",null,null,null,null,null,null,null,null,"",null,"",null,null,"",null,null,null,null,null,0,0,0,0,0,{"$f":"IF(AO34<>0,SUMIFS($AP$6:$AP$1001,$AN$6:$AN$1001,AN34,$F$6:$F$1001,F34,$AX$6:$AX$1001,AX34),0)","v":0},0,{"$f":"IF(AO34<>0,SUMIFS($AP$6:$AP$1001,$AR$6:$AR$1001,AR34,$F$6:$F$1001,F34,$AX$6:$AX$1001,AX34),0)","v":0},0,0,0,{"$f":"IF(AU34<>0,SUMIFS($AV$6:$AV$1001,$AT$6:$AT$1001,AT34,$F$6:$F$1001,F34,$AY$6:$AY$1001,AY34),0)","v":0},1900,1900,0,0,0,0,0,0,0,0,0,"","",0,0,0,"FORMATO INCORRECTO","FORMATO INCORRECTO","FORMATO INCORRECTO",{"$f":"IF(L34=\"\",\"\",IF(ISERROR(edata(L34)),\"FORMATO INCORRECTO\",\"FORMATO CORRECTO\"))","v":""},{"$f":"IF(U34=\"\",\"\",IF(ISERROR(edata(U34)),\"FORMATO INCORRECTO\",\"FORMATO CORRECTO\"))","v":""},{"$f":"IF(N34=\"\",\"\",IF(ISERROR(edata(N34)),\"FORMATO INCORRECTO\",\"FORMATO CORRECTO\"))","v":""}]
["1900-01-29","",null,null,null,null,null,null,"",null,null,null,null,null,null,null,null,"",null,null,null,null,null,null,null,null,"",null,"",null,null,"",null,null,null,null,null,0,0,0,0,0,{"$f":"IF(AO35<>0,SUMIFS($AP$6:$AP$1001,$AN$6:$AN$1001,AN35,$F$6:$F$1001,F35,$AX$6:$AX$1001,AX35),0)","v":0},0,{"$f":"IF(AO35<>0,SUMIFS($AP$6:$AP$1001,$AR$6:$AR$1001,AR35,$F$6:$F$1001,F35,$AX$6:$AX$1001,AX35),0)","v":0},0,0,0,{"$f":"IF(AU35<>0,SUMIFS($AV$6:$AV$1001,$AT$6:$AT$1001,AT35,$F$6:$F$1001,F35,$AY$6:$AY$1001,AY35),0)","v":0},1900,1900,0,0,0,0,0,0,0,0,0,"","",0,0,0,"FORMATO INCORRECTO","FORMATO INCORRECTO","FORMATO INCORRECTO",{"$f":"IF(L35=\"\",\"\",IF(ISERROR(edata(L35)),\"FORMATO INCORRECTO\",\"FORMATO CORRECTO\"))","v":""},{"$f":"IF(U35=\"\",\"\",IF(ISERROR(edata(U35)),\"FORMATO INCORRECTO\",\"FORMATO CORRECTO\"))","v":""},{"$f":"IF(N35=\"\",\"\",IF(ISERROR(edata(N35)),\"FORMATO INCORRECTO\",\"FORMATO CORRECTO\"))","v":""}]
["1900-01-30","",null,null,null,null,null,null,"",null,null,null,null,null,null,null,null,"",null,null,null,null,null,null,null,null,"",null,"",null,null,"",null,null,null,null,null,0,0,0,0,0,{"$f":"IF(AO36<>0,SUMIFS($AP$6:$AP$1001,$AN$6:$AN$1001,AN36,$F$6:$F$1001,F36,$AX$6:$AX$1001,AX36),0)","v":0},0,{"$f":"IF(AO36<>0,SUMIFS($AP$6:$AP$1001,$AR$6:$AR$1001,AR36,$F$6:$F$1001,F36,$AX$6:$AX$1001,AX36),0)","v":0},0,0,0,{"$f":"IF(AU36<>0,SUMIFS($AV$6:$AV$1001,$AT$6:$AT$1001,AT36,$F$6:$F$1001,F36,$AY$6:$AY$1001,AY36),0)","v":0},1900,1900,0,0,0,0,0,0,0,0,0,"","",0,0,0,"FORMATO INCORRECTO","FORMATO INCORRECTO","FORMATO INCORRECTO",{"$f":"IF(L36=\"\",\"\",IF(ISERROR(edata(L36)),\"FORMATO INCORRECTO\",\"FORMATO CORRECTO\"))","v":""},{"$f":"IF(U36=\"\",\"\",IF(ISERROR(edata(U36)),\"FORMATO INCORRECTO\",\"FORMATO CORRECTO\"))","v":""},{"$f":"IF(N36=\"\",\"\",IF(ISERROR(edata(N36)),\"FORMATO INCORRECTO\",\"FORMATO CORRECTO\"))","v":""}]
["1900-01-31","",null,null,null,null,null,null,"",null,null,null,null,null,null,null,null,"",null,null,null,null,null,null,null,null,"",null,"",null,null,"",null,null,null,null,null,0,0,0,0,0,{"$f":"IF(AO37<>0,SUMIFS($AP$6:$AP$1001,$AN$6:$AN$1001,AN37,$F$6:$F$1001,F37,$AX$6:$AX$1001,AX37),0)","v":0},0,{"$f":"IF(AO37<>0,SUMIFS($AP$6:$AP$1001,$AR$6:$AR$1001,AR37,$F$6:$F$1001,F37,$AX$6:$AX$1001,AX37),0)","v":0},0,0,0,{"$f":"IF(AU37<>0,SUMIFS($AV$6:$AV$1001,$AT$6:$AT$1001,AT37,$F$6:$F$1001,F37,$AY$6:$AY$1001,AY37),0)","v":0},1900,1900,0,0,0,0,0,0,0,0,0,"","",0,0,0,"FORMATO INCORRECTO","FORMATO INCORRECTO","FORMATO INCORRECTO",{"$f":"IF(L37=\"\",\"\",IF(ISERROR(edata(L37)),\"FORMATO INCORRECTO\",\"FORMATO CORRECTO\"))","v":""},{"$f":"IF(U37=\"\",\"\",IF(ISERROR(edata(U37)),\"FORMATO INCORRECTO\",\"FORMATO CORRECTO\"))","v":""},{"$f":"IF(N37=\"\",\"\",IF(ISERROR(edata(N37)),\"FORMATO INCORRECTO\",\"FORMATO CORRECTO\"))","v":""}]
["1900-02-01","",null,null,null,null,null,null,"",null,null,null,null,null,null,null,null,"",null,null,null,null,null,null,null,null,"",null,"",null,null,"",null,null,null,null,null,0,0,0,0,0,{"$f":"IF(AO38<>0,SUMIFS($AP$6:$AP$1001,$AN$6:$AN$1001,AN38,$F$6:$F$1001,F38,$AX$6:$AX$1001,AX38),0)","v":0},0,{"$f":"IF(AO38<>0,SUMIFS($AP$6:$AP$1001,$AR$6:$AR$1001,AR38,$F$6:$F$1001,F38,$AX$6:$AX$1001,AX38),0)","v":0},0,0,0,{"$f":"IF(AU38<>0,SUMIFS($AV$6:$AV$1001,$AT$6:$AT$1001,AT38,$F$6:$F$1001,F38,$AY$6:$AY$1001,AY38),0)","v":0},1900,1900,0,0,0,0,0,0,0,0,0,"","",0,0,0,"FORMATO INCORRECTO","FORMATO INCORRECTO","FORMATO INCORRECTO",{"$f":"IF(L38=\"\",\"\",IF(ISERROR(edata(L38)),\"FORMATO INCORRECTO\",\"FORMATO CORRECTO\"))","v":""},{"$f":"IF(U38=\"\",\"\",IF(ISERROR(edata(U38)),\"FORMATO INCORRECTO\",\"FORMATO CORRECTO\"))","v":""},{"$f":"IF(N38=\"\",\"\",IF(ISERROR(edata(N38)),\"FORMATO INCORRECTO\",\"FORMATO CORRECTO\"))","v":""}]
["1900-02-02","",null,null,null,null,null,null,"",null,null,null,null,null,null,null,null,"",null,null,null,null,null,null,null,null,"",null,"",null,null,"",null,null,null,null,null,0,0,0,0,0,{"$f":"IF(AO39<>0,SUMIFS($AP$6:$AP$1001,$AN$6:$AN$1001,AN39,$F$6:$F$1001,F39,$AX$6:$AX$1001,AX39),0)","v":0},0,{"$f":"IF(AO39<>0,SUMIFS($AP$6:$AP$1001,$AR$6:$AR$1001,AR39,$F$6:$F$1001,F39,$AX$6:$AX$1001,AX39),0)","v":0},0,0,0,{"$f":"IF(AU39<>0,SUMIFS($AV$6:$AV$1001,$AT$6:$AT$1001,AT39,$F$6:$F$1001,F39,$AY$6:$AY$1001,AY39),0)","v":0},1900,1900,0,0,0,0,0,0,0,0,0,"","",0,0,0,"FORMATO INCORRECTO","FORMATO INCORRECTO","FORMATO INCORRECTO",{"$f":"IF(L39=\"\",\"\",IF(ISERROR(edata(L39)),\"FORMATO INCORRECTO\",\"FORMATO CORRECTO\"))","v":""},{"$f":"IF(U39=\"\",\"\",IF(ISERROR(edata(U39)),\"FORMATO INCORRECTO\",\"FORMATO CORRECTO\"))","v":""},{"$f":"IF(N39=\"\",\"\",IF(ISERROR(edata(N39)),\"FORMATO INCORRECTO\",\"FORMATO CORRECTO\"))","v":""}]
["1900-02-03","",null,null,null,null,null,null,"",null,null,null,null,null,null,null,null,"",null,null,null,null,null,null,null,null,"",null,"",null,null,"",null,null,null,null,null,0,0,0,0,0,{"$f":"IF(AO40<>0,SUMIFS($AP$6:$AP$1001,$AN$6:$AN$1001,AN40,$F$6:$F$1001,F40,$AX$6:$AX$1001,AX40),0)","v":0},0,{"$f":"IF(AO40<>0,SUMIFS($AP$6:$AP$1001,$AR$6:$AR$1001,AR40,$F$6:$F$1001,F40,$AX$6:$AX$1001,AX40),0)","v":0},0,0,0,{"$f":"IF(AU40<>0,SUMIFS($AV$6:$AV$1001,$AT$6:$AT$1001,AT40,$F$6:$F$1001,F40,$AY$6:$AY$1001,AY40),0)","v":0},1900,1900,0,0,0,0,0,0,0,0,0,"","",0,0,0,"FORMATO INCORRECTO","FORMATO INCORRECTO","FORMATO INCORRECTO",{"$f":"IF(L40=\"\",\"\",IF(ISERROR(edata(L40)),\"FORMATO INCORRECTO\",\"FORMATO CORRECTO\"))","v":""},{"$f":"IF(U40=\"\",\"\",IF(ISERROR(edata(U40)),\"FORMATO INCORRECTO\",\"FORMATO CORRECTO\"))","v":""},{"$f":"IF(N40=\"\",\"\",IF(ISERROR(edata(N40)),\"FORMATO INCORRECTO\",\"FORMATO CORRECTO\"))","v":""}]
["1900-02-04","",null,null,null,null,null,null,"",null,null,null,null,null,null,null,null,"",null,null,null,null,null,null,null,null,"",null,"",null,null,"",null,null,null,null,null,0,0,0,0,0,{"$f":"IF(AO41<>0,SUMIFS($AP$6:$AP$1001,$AN$6:$AN$1001,AN41,$F$6:$F$1001,F41,$AX$6:$AX$1001,AX41),0)","v":0},0,{"$f":"IF(AO41<>0,SUMIFS($AP$6:$AP$1001,$AR$6:$AR$1001,AR41,$F$6:$F$1001,F41,$AX$6:$AX$1001,AX41),0)","v":0},0,0,0,{"$f":"IF(AU41<>0,SUMIFS($AV$6:$AV$1001,$AT$6:$AT$1001,AT41,$F$6:$F$1001,F41,$AY$6:$AY$1001,AY41),0)","v":0},1900,1900,0,0,0,0,0,0,0,0,0,"","",0,0,0,"FORMATO INCORRECTO","FORMATO INCORRECTO","FORMATO INCORRECTO",{"$f":"IF(L41=\"\",\"\",IF(ISERROR(edata(L41)),\"FORMATO INCORRECTO\",\"FORMATO CORRECTO\"))","v":""},{"$f":"IF(U41=\"\",\"\",IF(ISERROR(edata(U41)),\"FORMATO INCORRECTO\",\"FORMATO CORRECTO\"))","v":""},{"$f":"IF(N41=\"\",\"\",IF(ISERROR(edata(N41)),\"FORMATO INCORRECTO\",\"FORMATO CORRECTO\"))","v":""}]
["1900-02-05","",null,null,null,null,null,null,"",null,null,null,null,null,null,null,null,"",null,null,null,null,null,null,null,null,"",null,"",null,null,"",null,null,null,null,null,0,0,0,0,0,{"$f":"IF(AO42<>0,SUMIFS($AP$6:$AP$1001,$AN$6:$AN$1001,AN42,$F$6:$F$1001,F42,$AX$6:$AX$1001,AX42),0)","v":0},0,{"$f":"IF(AO42<>0,SUMIFS($AP$6:$AP$1001,$AR$6:$AR$1001,AR42,$F$6:$F$1001,F42,$AX$6:$AX$1001,AX42),0)","v":0},0,0,0,{"$f":"IF(AU42<>0,SUMIFS($AV$6:$AV$1001,$AT$6:$AT$1001,AT42,$F$6:$F$1001,F42,$AY$6:$AY$1001,AY42),0)","v":0},1900,1900,0,0,0,0,0,0,0,0,0,"","",0,0,0,"FORMATO INCORRECTO","FORMATO INCORRECTO","FORMATO INCORRECTO",{"$f":"IF(L42=\"\",\"\",IF(ISERROR(edata(L42)),\"FORMATO INCORRECTO\",\"FORMATO CORRECTO\"))","v":""},{"$f":"IF(U42=\"\",\"\",IF(ISERROR(edata(U42)),\"FORMATO INCORRECTO\",\"FORMATO CORRECTO\"))","v":""},{"$f":"IF(N42=\"\",\"\",IF(ISERROR(edata(N42)),\"FORMATO INCORRECTO\",\"FORMATO CORRECTO\"))","v":""}]
["1900-02-06","",null,null,null,null,null,null,"",null,null,null,null,null,null,null,null,"",null,null,null,null,null,null,null,null,"",null,"",null,null,"",null,null,null,null,null,0,0,0,0,0,{"$f":"IF(AO43<>0,SUMIFS($AP$6:$AP$1001,$AN$6:$AN$1001,AN43,$F$6:$F$1001,F43,$AX$6:$AX$1001,AX43),0)","v":0},0,{"$f":"IF(AO43<>0,SUMIFS($AP$6:$AP$1001,$AR$6:$AR$1001,AR43,$F$6:$F$1001,F43,$AX$6:$AX$1001,AX43),0)","v":0},0,0,0,{"$f":"IF(AU43<>0,SUMIFS($AV$6:$AV$1001,$AT$6:$AT$1001,AT43,$F$6:$F$1001,F43,$AY$6:$AY$1001,AY43),0)","v":0},1900,1900,0,0,0,0,0,0,0,0,0,"","",0,0,0,"FORMATO INCORRECTO","FORMATO INCORRECTO","FORMATO INCORRECTO",{"$f":"IF(L43=\"\",\"\",IF(ISERROR(edata(L43)),\"FORMATO INCORRECTO\",\"FORMATO CORRECTO\"))","v":""},{"$f":"IF(U43=\"\",\"\",IF(ISERROR(edata(U43)),\"FORMATO INCORRECTO\",\"FORMATO CORRECTO\"))","v":""},{"$f":"IF(N43=\"\",\"\",IF(ISERROR(edata(N43)),\"FORMATO INCORRECTO\",\"FORMATO CORRECTO\"))","v":""}]
["1900-02-07","",null,null,null,null,null,null,"",null,null,null,null,null,null,null,null,"",null,null,null,null,null,null,null,null,"",null,"",null,null,"",null,null,null,null,null,0,0,0,0,0,{"$f":"IF(AO44<>0,SUMIFS($AP$6:$AP$1001,$AN$6:$AN$1001,AN44,$F$6:$F$1001,F44,$AX$6:$AX$1001,AX44),0)","v":0},0,{"$f":"IF(AO44<>0,SUMIFS($AP$6:$AP$1001,$AR$6:$AR$1001,AR44,$F$6:$F$1001,F44,$AX$6:$AX$1001,AX44),0)","v":0},0,0,0,{"$f":"IF(AU44<>0,SUMIFS($AV$6:$AV$1001,$AT$6:$AT$1001,AT44,$F$6:$F$1001,F44,$AY$6:$AY$1001,AY44),0)","v":0},1900,1900,0,0,0,0,0,0,0,0,0,"","",0,0,0,"FORMATO INCORRECTO","FORMATO INCORRECTO","FORMATO INCORRECTO",{"$f":"IF(L44=\"\",\"\",IF(ISERROR(edata(L44)),\"FORMATO INCORRECTO\",\"FORMATO CORRECTO\"))","v":""},{"$f":"IF(U44=\"\",\"\",IF(ISERROR(edata(U44)),\"FORMATO INCORRECTO\",\"FORMATO CORRECTO\"))","v":""},{"$f":"IF(N44=\"\",\"\",IF(ISERROR(edata(N44)),\"FORMATO INCORRECTO\",\"FORMATO CORRECTO\"))","v":""}]
["1900-02-08","",null,null,null,null,null,null,"",null,null,null,null,null,null,null,null,"",null,null,null,null,null,null,null,null,"",null,"",null,null,"",null,null,null,null,null,0,0,0,0,0,{"$f":"IF(AO45<>0,SUMIFS($AP$6:$AP$1001,$AN$6:$AN$1001,AN45,$F$6:$F$1001,F45,$AX$6:$AX$1001,AX45),0)","v":0},0,{"$f":"IF(AO45<>0,SUMIFS($AP$6:$AP$1001,$AR$6:$AR$1001,AR45,$F$6:$F$1001,F45,$AX$6:$AX$1001,AX45),0)","v":0},0,0,0,{"$f":"IF(AU45<>0,SUMIFS($AV$6:$AV$1001,$AT$6:$AT$1001,AT45,$F$6:$F$1001,F45,$AY$6:$AY$1001,AY45),0)","v":0},1900,1900,0,0,0,0,0,0,0,0,0,"","",0,0,0,"FORMATO INCORRECTO","FORMATO INCORRECTO","FORMATO INCORRECTO",{"$f":"IF(L45=\"\",\"\",IF(ISERROR(edata(L45)),\"FORMATO INCORRECTO\",\"FORMATO CORRECTO\"))","v":""},{"$f":"IF(U45=\"\",\"\",IF(ISERROR(edata(U45)),\"FORMATO INCORRECTO\",\"FORMATO CORRECTO\"))","v":""},{"$f":"IF(N45=\"\",\"\",IF(ISERROR(edata(N45)),\"FORMATO INCORRECTO\",\"FORMATO CORRECTO\"))","v":""}]
["1900-02-09","",null,null,null,null,null,null,"",null,null,null,null,null,null,null,null,"",null,null,null,null,null,null,null,null,"",null,"",null,null,"",null,null,null,null,null,0,0,0,0,0,{"$f":"IF(AO46<>0,SUMIFS($AP$6:$AP$1001,$AN$6:$AN$1001,AN46,$F$6:$F$1001,F46,$AX$6:$AX$1001,AX46),0)","v":0},0,{"$f":"IF(AO46<>0,SUMIFS($AP$6:$AP$1001,$AR$6:$AR$1001,AR46,$F$6:$F$1001,F46,$AX$6:$AX$1001,AX46),0)","v":0},0,0,0,{"$f":"IF(AU46<>0,SUMIFS($AV$6:$AV$1001,$AT$6:$AT$1001,AT46,$F$6:$F$1001,F46,$AY$6:$AY$1001,AY46),0)","v":0},1900,1900,0,0,0,0,0,0,0,0,0,"","",0,0,0,"FORMATO INCORRECTO","FORMATO INCORRECTO","FORMATO INCORRECTO",{"$f":"IF(L46=\"\",\"\",IF(ISERROR(edata(L46)),\"FORMATO INCORRECTO\",\"FORMATO CORRECTO\"))","v":""},{"$f":"IF(U46=\"\",\"\",IF(ISERROR(edata(U46)),\"FORMATO INCORRECTO\",\"FORMATO CORRECTO\"))","v":""},{"$f":"IF(N46=\"\",\"\",IF(ISERROR(edata(N46)),\"FORMATO INCORRECTO\",\"FORMATO CORRECTO\"))","v":""}]
["1900-02-10","",null,null,null,null,null,null,"",null,null,null,null,null,null,null,null,"",null,null,null,null,null,null,null,null,"",null,"",null,null,"",null,null,null,null,null,0,0,0,0,0,{"$f":"IF(AO47<>0,SUMIFS($AP$6:$AP$1001,$AN$6:$AN$1001,AN47,$F$6:$F$1001,F47,$AX$6:$AX$1001,AX47),0)","v":0},0,{"$f":"IF(AO47<>0,SUMIFS($AP$6:$AP$1001,$AR$6:$AR$1001,AR47,$F$6:$F$1001,F47,$AX$6:$AX$1001,AX47),0)","v":0},0,0,0,{"$f":"IF(AU47<>0,SUMIFS($AV$6:$AV$1001,$AT$6:$AT$1001,AT47,$F$6:$F$1001,F47,$AY$6:$AY$1001,AY47),0)","v":0},1900,1900,0,0,0,0,0,0,0,0,0,"","",0,0,0,"FORMATO INCORRECTO","FORMATO INCORRECTO","FORMATO INCORRECTO",{"$f":"IF(L47=\"\",\"\",IF(ISERROR(edata(L47)),\"FORMATO INCORRECTO\",\"FORMATO CORRECTO\"))","v":""},{"$f":"IF(U47=\"\",\"\",IF(ISERROR(edata(U47)),\"FORMATO INCORRECTO\",\"FORMATO CORRECTO\"))","v":""},{"$f":"IF(N47=\"\",\"\",IF(ISERROR(edata(N47)),\"FORMATO INCORRECTO\",\"FORMATO CORRECTO\"))","v":""}]
["1900-02-11","",null,null,null,null,null,null,"",null,null,null,null,null,null,null,null,"",null,null,null,null,null,null,null,null,"",null,"",null,null,"",null,null,null,null,null,0,0,0,0,0,{"$f":"IF(AO48<>0,SUMIFS($AP$6:$AP$1001,$AN$6:$AN$1001,AN48,$F$6:$F$1001,F48,$AX$6:$AX$1001,AX48),0)","v":0},0,{"$f":"IF(AO48<>0,SUMIFS($AP$6:$AP$1001,$AR$6:$AR$1001,AR48,$F$6:$F$1001,F48,$AX$6:$AX$1001,AX48),0)","v":0},0,0,0,{"$f":"IF(AU48<>0,SUMIFS($AV$6:$AV$1001,$AT$6:$AT$1001,AT48,$F$6:$F$1001,F48,$AY$6:$AY$1001,AY48),0)","v":0},1900,1900,0,0,0,0,0,0,0,0,0,"","",0,0,0,"FORMATO INCORRECTO","FORMATO INCORRECTO","FORMATO INCORRECTO",{"$f":"IF(L48=\"\",\"\",IF(ISERROR(edata(L48)),\"FORMATO INCORRECTO\",\"FORMATO CORRECTO\"))","v":""},{"$f":"IF(U48=\"\",\"\",IF(ISERROR(edata(U48)),\"FORMATO INCORRECTO\",\"FORMATO CORRECTO\"))","v":""},{"$f":"IF(N48=\"\",\"\",IF(ISERROR(edata(N48)),\"FORMATO INCORRECTO\",\"FORMATO CORRECTO\"))","v":""}]
["1900-02-12","",null,null,null,null,null,null,"",null,null,null,null,null,null,null,null,"",null,null,null,null,null,null,null,null,"",null,"",null,null,"",null,null,null,null,null,0,0,0,0,0,{"$f":"IF(AO49<>0,SUMIFS($AP$6:$AP$1001,$AN$6:$AN$1001,AN49,$F$6:$F$1001,F49,$AX$6:$AX$1001,AX49),0)","v":0},0,{"$f":"IF(AO49<>0,SUMIFS($AP$6:$AP$1001,$AR$6:$AR$1001,AR49,$F$6:$F$1001,F49,$AX$6:$AX$1001,AX49),0)","v":0},0,0,0,{"$f":"IF(AU49<>0,SUMIFS($AV$6:$AV$1001,$AT$6:$AT$1001,AT49,$F$6:$F$1001,F49,$AY$6:$AY$1001,AY49),0)","v":0},1900,1900,0,0,0,0,0,0,0,0,0,"","",0,0,0,"FORMATO INCORRECTO","FORMATO INCORRECTO","FORMATO INCORRECTO",{"$f":"IF(L49=\"\",\"\",IF(ISERROR(edata(L49)),\"FORMATO INCORRECTO\",\"FORMATO CORRECTO\"))","v":""},{"$f":"IF(U49=\"\",\"\",IF(ISERROR(edata(U49)),\"FORMATO INCORRECTO\",\"FORMATO CORRECTO\"))","v":""},{"$f":"IF(N49=\"\",\"\",IF(ISERROR(edata(N49)),\"FORMATO INCORRECTO\",\"FORMATO CORRECTO\"))","v":""}]
["1900-02-13","",null,null,null,null,null,null,"",null,null,null,null,null,null,null,null,"",null,null,null,null,null,null,null,null,"",null,"",null,null,"",null,null,null,null,null,0,0,0,0,0,{"$f":"IF(AO50<>0,SUMIFS($AP$6:$AP$1001,$AN$6:$AN$1001,AN50,$F$6:$F$1001,F50,$AX$6:$AX$1001,AX50),0)","v":0},0,{"$f":"IF(AO50<>0,SUMIFS($AP$6:$AP$1001,$AR$6:$AR$1001,AR50,$F$6:$F$1001,F50,$AX$6:$AX$1001,AX50),0)","v":0},0,0,0,{"$f":"IF(AU50<>0,SUMIFS($AV$6:$AV$1001,$AT$6:$AT$1001,AT50,$F$6:$F$1001,F50,$AY$6:$AY$1001,AY50),0)","v":0},1900,1900,0,0,0,0,0,0,0,0,0,"","",0,0,0,"FORMATO INCORRECTO","FORMATO INCORRECTO","FORMATO INCORRECTO",{"$f":"IF(L50=\"\",\"\",IF(ISERROR(edata(L50)),\"FORMATO INCORRECTO\",\"FORMATO CORRECTO\"))","v":""},{"$f":"IF(U50=\"\",\"\",IF(ISERROR(edata(U50)),\"FORMATO INCORRECTO\",\"FORMATO CORRECTO\"))","v":""},{"$f":"IF(N50=\"\",\"\",IF(ISERROR(edata(N50)),\"FORMATO INCORRECTO\",\"FORMATO CORRECTO\"))","v":""}]
["1900-02-14","",null,null,null,null,null,null,"",null,null,null,null,null,null,null,null,"",null,null,null,null,null,null,null,null,"",null,"",null,null,"",null,null,null,null,null,0,0,0,0,0,{"$f":"IF(AO51<>0,SUMIFS($AP$6:$AP$1001,$AN$6:$AN$1001,AN51,$F$6:$F$1001,F51,$AX$6:$AX$1001,AX51),0)","v":0},0,{"$f":"IF(AO51<>0,SUMIFS($AP$6:$AP$1001,$AR$6:$AR$1001,AR51,$F$6:$F$1001,F51,$AX$6:$AX$1001,AX51),0)","v":0},0,0,0,{"$f":"IF(AU51<>0,SUMIFS($AV$6:$AV$1001,$AT$6:$AT$1001,AT51,$F$6:$F$1001,F51,$AY$6:$AY$1001,AY51),0)","v":0},1900,1900,0,0,0,0,0,0,0,0,0,"","",0,0,0,"FORMATO INCORRECTO","FORMATO INCORRECTO","FORMATO INCORRECTO",{"$f":"IF(L51=\"\",\"\",IF(ISERROR(edata(L51)),\"FORMATO INCORRECTO\",\"FORMATO CORRECTO\"))","v":""},{"$f":"IF(U51=\"\",\"\",IF(ISERROR(edata(U51)),\"FORMATO INCORRECTO\",\"FORMATO CORRECTO\"))","v":""},{"$f":"IF(N51=\"\",\"\",IF(ISERROR(edata(N51)),\"FORMATO INCORRECTO\",\"FORMATO CORRECTO\"))","v":""}]
["1900-02-15","",null,null,null,null,null,null,"",null,null,null,null,null,null,null,null,"",null,null,null,null,null,null,null,null,"",null,"",null,null,"",null,null,null,null,null,0,0,0,0,0,{"$f":"IF(AO52<>0,SUMIFS($AP$6:$AP$1001,$AN$6:$AN$1001,AN52,$F$6:$F$1001,F52,$AX$6:$AX$1001,AX52),0)","v":0},0,{"$f":"IF(AO52<>0,SUMIFS($AP$6:$AP$1001,$AR$6:$AR$1001,AR52,$F$6:$F$1001,F52,$AX$6:$AX$1001,AX52),0)","v":0},0,0,0,{"$f":"IF(AU52<>0,SUMIFS($AV$6:$AV$1001,$AT$6:$AT$1001,AT52,$F$6:$F$1001,F52,$AY$6:$AY$1001,AY52),0)","v":0},1900,1900,0,0,0,0,0,0,0,0,0,"","",0,0,0,"FORMATO INCORRECTO","FORMATO INCORRECTO","FORMATO INCORRECTO",{"$f":"IF(L52=\"\",\"\",IF(ISERROR(edata(L52)),\"FORMATO INCORRECTO\",\"FORMATO CORRECTO\"))","v":""},{"$f":"IF(U52=\"\",\"\",IF(ISERROR(edata(U52)),\"FORMATO INCORRECTO\",\"FORMATO CORRECTO\"))","v":""},{"$f":"IF(N52=\"\",\"\",IF(ISERROR(edata(N52)),\"FORMATO INCORRECTO\",\"FORMATO CORRECTO\"))","v":""}]
["1900-02-16","",null,null,null,null,null,null,"",null,null,null,null,null,null,null,null,"",null,null,null,null,null,null,null,null,"",null,"",null,null,"",null,null,null,null,null,0,0,0,0,0,{"$f":"IF(AO53<>0,SUMIFS($AP$6:$AP$1001,$AN$6:$AN$1001,AN53,$F$6:$F$1001,F53,$AX$6:$AX$1001,AX53),0)","v":0},0,{"$f":"IF(AO53<>0,SUMIFS($AP$6:$AP$1001,$AR$6:$AR$1001,AR53,$F$6:$F$1001,F53,$AX$6:$AX$1001,AX53),0)","v":0},0,0,0,{"$f":"IF(AU53<>0,SUMIFS($AV$6:$AV$1001,$AT$6:$AT$1001,AT53,$F$6:$F$1001,F53,$AY$6:$AY$1001,AY53),0)","v":0},1900,1900,0,0,0,0,0,0,0,0,0,"","",0,0,0,"FORMATO INCORRECTO","FORMATO INCORRECTO","FORMATO INCORRECTO",{"$f":"IF(L53=\"\",\"\",IF(ISERROR(edata(L53)),\"FORMATO INCORRECTO\",\"FORMATO CORRECTO\"))","v":""},{"$f":"IF(U53=\"\",\"\",IF(ISERROR(edata(U53)),\"FORMATO INCORRECTO\",\"FORMATO CORRECTO\"))","v":""},{"$f":"IF(N53=\"\",\"\",IF(ISERROR(edata(N53)),\"FORMATO INCORRECTO\",\"FORMATO CORRECTO\"))","v":""}]
["1900-02-17","",null,null,null,null,null,null,"",null,null,null,null,null,null,null,null,"",null,null,null,null,null,null,null,null,"",null,"",null,null,"",null,null,null,null,null,0,0,0,0,0,{"$f":"IF(AO54<>0,SUMIFS($AP$6:$AP$1001,$AN$6:$AN$1001,AN54,$F$6:$F$1001,F54,$AX$6:$AX$1001,AX54),0)","v":0},0,{"$f":"IF(AO54<>0,SUMIFS($AP$6:$AP$1001,$AR$6:$AR$1001,AR54,$F$6:$F$1001,F54,$AX$6:$AX$1001,AX54),0)","v":0},0,0,0,{"$f":"IF(AU54<>0,SUMIFS($AV$6:$AV$1001,$AT$6:$AT$1001,AT54,$F$6:$F$1001,F54,$AY$6:$AY$1001,AY54),0)","v":0},1900,1900,0,0,0,0,0,0,0,0,0,"","",0,0,0,"FORMATO INCORRECTO","FORMATO INCORRECTO","FORMATO INCORRECTO",{"$f":"IF(L54=\"\",\"\",IF(ISERROR(edata(L54)),\"FORMATO INCORRECTO\",\"FORMATO CORRECTO\"))","v":""},{"$f":"IF(U54=\"\",\"\",IF(ISERROR(edata(U54)),\"FORMATO INCORRECTO\",\"FORMATO CORRECTO\"))","v":""},{"$f":"IF(N54=\"\",\"\",IF(ISERROR(edata(N54)),\"FORMATO INCORRECTO\",\"FORMATO CORRECTO\"))","v":""}]
["1900-02-18","",null,null,null,null,null,null,"",null,null,null,null,null,null,null,null,"",null,null,null,null,null,null,null,null,"",null,"",null,null,"",null,null,null,null,null,0,0,0,0,0,{"$f":"IF(AO55<>0,SUMIFS($AP$6:$AP$1001,$AN$6:$AN$1001,AN55,$F$6:$F$1001,F55,$AX$6:$AX$1001,AX55),0)","v":0},0,{"$f":"IF(AO55<>0,SUMIFS($AP$6:$AP$1001,$AR$6:$AR$1001,AR55,$F$6:$F$1001,F55,$AX$6:$AX$1001,AX55),0)","v":0},0,0,0,{"$f":"IF(AU55<>0,SUMIFS($AV$6:$AV$1001,$AT$6:$AT$1001,AT55,$F$6:$F$1001,F55,$AY$6:$AY$1001,AY55),0)","v":0},1900,1900,0,0,0,0,0,0,0,0,0,"","",0,0,0,"FORMATO INCORRECTO","FORMATO INCORRECTO","FORMATO INCORRECTO",{"$f":"IF(L55=\"\",\"\",IF(ISERROR(edata(L55)),\"FORMATO INCORRECTO\",\"FORMATO CORRECTO\"))","v":""},{"$f":"IF(U55=\"\",\"\",IF(ISERROR(edata(U55)),\"FORMATO INCORRECTO\",\"FORMATO CORRECTO\"))","v":""},{"$f":"IF(N55=\"\",\"\",IF(ISERROR(edata(N55)),\"FORMATO INCORRECTO\",\"FORMATO CORRECTO\"))","v":""}]
["1900-02-19","",null,null,null,null,null,null,"",null,null,null,null,null,null,null,null,"",null,null,null,null,null,null,null,null,"",null,"",null,null,"",null,null,null,null,null,0,0,0,0,0,{"$f":"IF(AO56<>0,SUMIFS($AP$6:$AP$1001,$AN$6:$AN$1001,AN56,$F$6:$F$1001,F56,$AX$6:$AX$1001,AX56),0)","v":0},0,{"$f":"IF(AO56<>0,SUMIFS($AP$6:$AP$1001,$AR$6:$AR$1001,AR56,$F$6:$F$1001,F56,$AX$6:$AX$1001,AX56),0)","v":0},0,0,0,{"$f":"IF(AU56<>0,SUMIFS($AV$6:$AV$1001,$AT$6:$AT$1001,AT56,$F$6:$F$1001,F56,$AY$6:$AY$1001,AY56),0)","v":0},1900,1900,0,0,0,0,0,0,0,0,0,"","",0,0,0,"FORMATO INCORRECTO","FORMATO INCORRECTO","FORMATO INCORRECTO",{"$f":"IF(L56=\"\",\"\",IF(ISERROR(edata(L56)),\"FORMATO INCORRECTO\",\"FORMATO CORRECTO\"))","v":""},{"$f":"IF(U56=\"\",\"\",IF(ISERROR(edata(U56)),\"FORMATO INCORRECTO\",\"FORMATO CORRECTO\"))","v":""},{"$f":"IF(N56=\"\",\"\",IF(ISERROR(edata(N56)),\"FORMATO INCORRECTO\",\"FORMATO CORRECTO\"))","v":""}]
["1900-02-20","",null,null,null,null,null,null,"",null,null,null,null,null,null,null,null,"",null,null,null,null,null,null,null,null,"",null,"",null,null,"",null,null,null,null,null,0,0,0,0,0,{"$f":"IF(AO57<>0,SUMIFS($AP$6:$AP$1001,$AN$6:$AN$1001,AN57,$F$6:$F$1001,F57,$AX$6:$AX$1001,AX57),0)","v":0},0,{"$f":"IF(AO57<>0,SUMIFS($AP$6:$AP$1001,$AR$6:$AR$1001,AR57,$F$6:$F$1001,F57,$AX$6:$AX$1001,AX57),0)","v":0},0,0,0,{"$f":"IF(AU57<>0,SUMIFS($AV$6:$AV$1001,$AT$6:$AT$1001,AT57,$F$6:$F$1001,F57,$AY$6:$AY$1001,AY57),0)","v":0},1900,1900,0,0,0,0,0,0,0,0,0,"","",0,0,0,"FORMATO INCORRECTO","FORMATO INCORRECTO","FORMATO INCORRECTO",{"$f":"IF(L57=\"\",\"\",IF(ISERROR(edata(L57)),\"FORMATO INCORRECTO\",\"FORMATO CORRECTO\"))","v":""},{"$f":"IF(U57=\"\",\"\",IF(ISERROR(edata(U57)),\"FORMATO INCORRECTO\",\"FORMATO CORRECTO\"))","v":""},{"$f":"IF(N57=\"\",\"\",IF(ISERROR(edata(N57)),\"FORMATO INCORRECTO\",\"FORMATO CORRECTO\"))","v":""}]
["1900-02-21","",null,null,null,null,null,null,"",null,null,null,null,null,null,null,null,"",null,null,null,null,null,null,null,null,"",null,"",null,null,"",null,null,null,null,null,0,0,0,0,0,{"$f":"IF(AO58<>0,SUMIFS($AP$6:$AP$1001,$AN$6:$AN$1001,AN58,$F$6:$F$1001,F58,$AX$6:$AX$1001,AX58),0)","v":0},0,{"$f":"IF(AO58<>0,SUMIFS($AP$6:$AP$1001,$AR$6:$AR$1001,AR58,$F$6:$F$1001,F58,$AX$6:$AX$1001,AX58),0)","v":0},0,0,0,{"$f":"IF(AU58<>0,SUMIFS($AV$6:$AV$1001,$AT$6:$AT$1001,AT58,$F$6:$F$1001,F58,$AY$6:$AY$1001,AY58),0)","v":0},1900,1900,0,0,0,0,0,0,0,0,0,"","",0,0,0,"FORMATO INCORRECTO","FORMATO INCORRECTO","FORMATO INCORRECTO",{"$f":"IF(L58=\"\",\"\",IF(ISERROR(edata(L58)),\"FORMATO INCORRECTO\",\"FORMATO CORRECTO\"))","v":""},{"$f":"IF(U58=\"\",\"\",IF(ISERROR(edata(U58)),\"FORMATO INCORRECTO\",\"FORMATO CORRECTO\"))","v":""},{"$f":"IF(N58=\"\",\"\",IF(ISERROR(edata(N58)),\"FORMATO INCORRECTO\",\"FORMATO CORRECTO\"))","v":""}]
["1900-02-22","",null,null,null,null,null,null,"",null,null,null,null,null,null,null,null,"",null,null,null,null,null,null,null,null,"",null,"",null,null,"",null,null,null,null,null,0,0,0,0,0,{"$f":"IF(AO59<>0,SUMIFS($AP$6:$AP$1001,$AN$6:$AN$1001,AN59,$F$6:$F$1001,F59,$AX$6:$AX$1001,AX59),0)","v":0},0,{"$f":"IF(AO59<>0,SUMIFS($AP$6:$AP$1001,$AR$6:$AR$1001,AR59,$F$6:$F$1001,F59,$AX$6:$AX$1001,AX59),0)","v":0},0,0,0,{"$f":"IF(AU59<>0,SUMIFS($AV$6:$AV$1001,$AT$6:$AT$1001,AT59,$F$6:$F$1001,F59,$AY$6:$AY$1001,AY59),0)","v":0},1900,1900,0,0,0,0,0,0,0,0,0,"","",0,0,0,"FORMATO INCORRECTO","FORMATO INCORRECTO","FORMATO INCORRECTO",{"$f":"IF(L59=\"\",\"\",IF(ISERROR(edata(L59)),\"FORMATO INCORRECTO\",\"FORMATO CORRECTO\"))","v":""},{"$f":"IF(U59=\"\",\"\",IF(ISERROR(edata(U59)),\"FORMATO INCORRECTO\",\"FORMATO CORRECTO\"))","v":""},{"$f":"IF(N59=\"\",\"\",IF(ISERROR(edata(N59)),\"FORMATO INCORRECTO\",\"FORMATO CORRECTO\"))","v":""}]
["1900-02-23","",null,null,null,null,null,null,"",null,null,null,null,null,null,null,null,"",null,null,null,null,null,null,null,null,"",null,"",null,null,"",null,null,null,null,null,0,0,0,0,0,{"$f":"IF(AO60<>0,SUMIFS($AP$6:$AP$1001,$AN$6:$AN$1001,AN60,$F$6:$F$1001,F60,$AX$6:$AX$1001,AX60),0)","v":0},0,{"$f":"IF(AO60<>0,SUMIFS($AP$6:$AP$1001,$AR$6:$AR$1001,AR60,$F$6:$F$1001,F60,$AX$6:$AX$1001,AX60),0)","v":0},0,0,0,{"$f":"IF(AU60<>0,SUMIFS($AV$6:$AV$1001,$AT$6:$AT$1001,AT60,$F$6:$F$1001,F60,$AY$6:$AY$1001,AY60),0)","v":0},1900,1900,0,0,0,0,0,0,0,0,0,"","",0,0,0,"FORMATO INCORRECTO","FORMATO INCORRECTO","FORMATO INCORRECTO",{"$f":"IF(L60=\"\",\"\",IF(ISERROR(edata(L60)),\"FORMATO INCORRECTO\",\"FORMATO CORRECTO\"))","v":""},{"$f":"IF(U60=\"\",\"\",IF(ISERROR(edata(U60)),\"FORMATO INCORRECTO\",\"FORMATO CORRECTO\"))","v":""},{"$f":"IF(N60=\"\",\"\",IF(ISERROR(edata(N60)),\"FORMATO INCORRECTO\",\"FORMATO CORRECTO\"))","v":""}]
["1900-02-24","",null,null,null,null,null,null,"",null,null,null,null,null,null,null,null,"",null,null,null,null,null,null,null,null,"",null,"",null,null,"",null,null,null,null,null,0,0,0,0,0,{"$f":"IF(AO61<>0,SUMIFS($AP$6:$AP$1001,$AN$6:$AN$1001,AN61,$F$6:$F$1001,F61,$AX$6:$AX$1001,AX61),0)","v":0},0,{"$f":"IF(AO61<>0,SUMIFS($AP$6:$AP$1001,$AR$6:$AR$1001,AR61,$F$6:$F$1001,F61,$AX$6:$AX$1001,AX61),0)","v":0},0,0,0,{"$f":"IF(AU61<>0,SUMIFS($AV$6:$AV$1001,$AT$6:$AT$1001,AT61,$F$6:$F$1001,F61,$AY$6:$AY$1001,AY61),0)","v":0},1900,1900,0,0,0,0,0,0,0,0,0,"","",0,0,0,"FORMATO INCORRECTO","FORMATO INCORRECTO","FORMATO INCORRECTO",{"$f":"IF(L61=\"\",\"\",IF(ISERROR(edata(L61)),\"FORMATO INCORRECTO\",\"FORMATO CORRECTO\"))","v":""},{"$f":"IF(U61=\"\",\"\",IF(ISERROR(edata(U61)),\"FORMATO INCORRECTO\",\"FORMATO CORRECTO\"))","v":""},{"$f":"IF(N61=\"\",\"\",IF(ISERROR(edata(N61)),\"FORMATO INCORRECTO\",\"FORMATO CORRECTO\"))","v":""}]
["1900-02-25","",null,null,null,null,null,null,"",null,null,null,null,null,null,null,null,"",null,null,null,null,null,null,null,null,"",null,"",null,null,"",null,null,null,null,null,0,0,0,0,0,{"$f":"IF(AO62<>0,SUMIFS($AP$6:$AP$1001,$AN$6:$AN$1001,AN62,$F$6:$F$1001,F62,$AX$6:$AX$1001,AX62),0)","v":0},0,{"$f":"IF(AO62<>0,SUMIFS($AP$6:$AP$1001,$AR$6:$AR$1001,AR62,$F$6:$F$1001,F62,$AX$6:$AX$1001,AX62),0)","v":0},0,0,0,{"$f":"IF(AU62<>0,SUMIFS($AV$6:$AV$1001,$AT$6:$AT$1001,AT62,$F$6:$F$1001,F62,$AY$6:$AY$1001,AY62),0)","v":0},1900,1900,0,0,0,0,0,0,0,0,0,"","",0,0,0,"FORMATO INCORRECTO","FORMATO INCORRECTO","FORMATO INCORRECTO",{"$f":"IF(L62=\"\",\"\",IF(ISERROR(edata(L62)),\"FORMATO INCORRECTO\",\"FORMATO CORRECTO\"))","v":""},{"$f":"IF(U62=\"\",\"\",IF(ISERROR(edata(U62)),\"FORMATO INCORRECTO\",\"FORMATO CORRECTO\"))","v":""},{"$f":"IF(N62=\"\",\"\",IF(ISERROR(edata(N62)),\"FORMATO INCORRECTO\",\"FORMATO CORRECTO\"))","v":""}]
["1900-02-26","",null,null,null,null,null,null,"",null,null,null,null,null,null,null,null,"",null,null,null,null,null,null,null,null,"",null,"",null,null,"",null,null,null,null,null,0,0,0,0,0,{"$f":"IF(AO63<>0,SUMIFS($AP$6:$AP$1001,$AN$6:$AN$1001,AN63,$F$6:$F$1001,F63,$AX$6:$AX$1001,AX63),0)","v":0},0,{"$f":"IF(AO63<>0,SUMIFS($AP$6:$AP$1001,$AR$6:$AR$1001,AR63,$F$6:$F$1001,F63,$AX$6:$AX$1001,AX63),0)","v":0},0,0,0,{"$f":"IF(AU63<>0,SUMIFS($AV$6:$AV$1001,$AT$6:$AT$1001,AT63,$F$6:$F$1001,F63,$AY$6:$AY$1001,AY63),0)","v":0},1900,1900,0,0,0,0,0,0,0,0,0,"","",0,0,0,"FORMATO INCORRECTO","FORMATO INCORRECTO","FORMATO INCORRECTO",{"$f":"IF(L63=\"\",\"\",IF(ISERROR(edata(L63)),\"FORMATO INCORRECTO\",\"FORMATO CORRECTO\"))","v":""},{"$f":"IF(U63=\"\",\"\",IF(ISERROR(edata(U63)),\"FORMATO INCORRECTO\",\"FORMATO CORRECTO\"))","v":""},{"$f":"IF(N63=\"\",\"\",IF(ISERROR(edata(N63)),\"FORMATO INCORRECTO\",\"FORMATO CORRECTO\"))","v":""}]
["1900-02-27","",null,null,null,null,null,null,"",null,null,null,null,null,null,null,null,"",null,null,null,null,null,null,null,null,"",null,"",null,null,"",null,null,null,null,null,0,0,0,0,0,{"$f":"IF(AO64<>0,SUMIFS($AP$6:$AP$1001,$AN$6:$AN$1001,AN64,$F$6:$F$1001,F64,$AX$6:$AX$1001,AX64),0)","v":0},0,{"$f":"IF(AO64<>0,SUMIFS($AP$6:$AP$1001,$AR$6:$AR$1001,AR64,$F$6:$F$1001,F64,$AX$6:$AX$1001,AX64),0)","v":0},0,0,0,{"$f":"IF(AU64<>0,SUMIFS($AV$6:$AV$1001,$AT$6:$AT$1001,AT64,$F$6:$F$1001,F64,$AY$6:$AY$1001,AY64),0)","v":0},1900,1900,0,0,0,0,0,0,0,0,0,"","",0,0,0,"FORMATO INCORRECTO","FORMATO INCORRECTO","FORMATO INCORRECTO",{"$f":"IF(L64=\"\",\"\",IF(ISERROR(edata(L64)),\"FORMATO INCORRECTO\",\"FORMATO CORRECTO\"))","v":""},{"$f":"IF(U64=\"\",\"\",IF(ISERROR(edata(U64)),\"FORMATO INCORRECTO\",\"FORMATO CORRECTO\"))","v":""},{"$f":"IF(N64=\"\",\"\",IF(ISERROR(edata(N64)),\"FORMATO INCORRECTO\",\"FORMATO CORRECTO\"))","v":""}]
["1900-02-28","",null,null,null,null,null,null,"",null,null,null,null,null,null,null,null,"",null,null,null,null,null,null,null,null,"",null,"",null,null,"",null,null,null,null,null,0,0,0,0,0,{"$f":"IF(AO65<>0,SUMIFS($AP$6:$AP$1001,$AN$6:$AN$1001,AN65,$F$6:$F$1001,F65,$AX$6:$AX$1001,AX65),0)","v":0},0,{"$f":"IF(AO65<>0,SUMIFS($AP$6:$AP$1001,$AR$6:$AR$1001,AR65,$F$6:$F$1001,F65,$AX$6:$AX$1001,AX65),0)","v":0},0,0,0,{"$f":"IF(AU65<>0,SUMIFS($AV$6:$AV$1001,$AT$6:$AT$1001,AT65,$F$6:$F$1001,F65,$AY$6:$AY$1001,AY65),0)","v":0},1900,1900,0,0,0,0,0,0,0,0,0,"","",0,0,0,"FORMATO INCORRECTO","FORMATO INCORRECTO","FORMATO INCORRECTO",{"$f":"IF(L65=\"\",\"\",IF(ISERROR(edata(L65)),\"FORMATO INCORRECTO\",\"FORMATO CORRECTO\"))","v":""},{"$f":"IF(U65=\"\",\"\",IF(ISERROR(edata(U65)),\"FORMATO INCORRECTO\",\"FORMATO CORRECTO\"))","v":""},{"$f":"IF(N65=\"\",\"\",IF(ISERROR(edata(N65)),\"FORMATO INCORRECTO\",\"FORMATO CORRECTO\"))","v":""}]
[60,"",null,null,null,null,null,null,"",null,null,null,null,null,null,null,null,"",null,null,null,null,null,null,null,null,"",null,"",null,null,"",null,null,null,null,null,0,0,0,0,0,{"$f":"IF(AO66<>0,SUMIFS($AP$6:$AP$1001,$AN$6:$AN$1001,AN66,$F$6:$F$1001,F66,$AX$6:$AX$1001,AX66),0)","v":0},0,{"$f":"IF(AO66<>0,SUMIFS($AP$6:$AP$1001,$AR$6:$AR$1001,AR66,$F$6:$F$1001,F66,$AX$6:$AX$1001,AX66),0)","v":0},0,0,0,{"$f":"IF(AU66<>0,SUMIFS($AV$6:$AV$1001,$AT$6:$AT$1001,AT66,$F$6:$F$1001,F66,$AY$6:$AY$1001,AY66),0)","v":0},1900,1900,0,0,0,0,0,0,0,0,0,"","",0,0,0,"FORMATO INCORRECTO","FORMATO INCORRECTO","FORMATO INCORRECTO",{"$f":"IF(L66=\"\",\"\",IF(ISERROR(edata(L66)),\"FORMATO INCORRECTO\",\"FORMATO CORRECTO\"))","v":""},{"$f":"IF(U66=\"\",\"\",IF(ISERROR(edata(U66)),\"FORMATO INCORRECTO\",\"FORMATO CORRECTO\"))","v":""},{"$f":"IF(N66=\"\",\"\",IF(ISERROR(edata(N66)),\"FORMATO INCORRECTO\",\"FORMATO CORRECTO\"))","v":""}]
["1900-03-01","",null,null,null,null,null,null,"",null,null,null,null,null,null,null,null,"",null,null,null,null,null,null,null,null,"",null,"",null,null,"",null,null,null,null,null,0,0,0,0,0,{"$f":"IF(AO67<>0,SUMIFS($AP$6:$AP$1001,$AN$6:$AN$1001,AN67,$F$6:$F$1001,F67,$AX$6:$AX$1001,AX67),0)","v":0},0,{"$f":"IF(AO67<>0,SUMIFS($AP$6:$AP$1001,$AR$6:$AR$1001,AR67,$F$6:$F$1001,F67,$AX$6:$AX$1001,AX67),0)","v":0},0,0,0,{"$f":"IF(AU67<>0,SUMIFS($AV$6:$AV$1001,$AT$6:$AT$1001,AT67,$F$6:$F$1001,F67,$AY$6:$AY$1001,AY67),0)","v":0},1900,1900,0,0,0,0,0,0,0,0,0,"","",0,0,0,"FORMATO INCORRECTO","FORMATO INCORRECTO","FORMATO INCORRECTO",{"$f":"IF(L67=\"\",\"\",IF(ISERROR(edata(L67)),\"FORMATO INCORRECTO\",\"FORMATO CORRECTO\"))","v":""},{"$f":"IF(U67=\"\",\"\",IF(ISERROR(edata(U67)),\"FORMATO INCORRECTO\",\"FORMATO CORRECTO\"))","v":""},{"$f":"IF(N67=\"\",\"\",IF(ISERROR(edata(N67)),\"FORMATO INCORRECTO\",\"FORMATO CORRECTO\"))","v":""}]
["1900-03-02","",null,null,null,null,null,null,"",null,null,null,null,null,null,null,null,"",null,null,null,null,null,null,null,null,"",null,"",null,null,"",null,null,null,null,null,0,0,0,0,0,{"$f":"IF(AO68<>0,SUMIFS($AP$6:$AP$1001,$AN$6:$AN$1001,AN68,$F$6:$F$1001,F68,$AX$6:$AX$1001,AX68),0)","v":0},0,{"$f":"IF(AO68<>0,SUMIFS($AP$6:$AP$1001,$AR$6:$AR$1001,AR68,$F$6:$F$1001,F68,$AX$6:$AX$1001,AX68),0)","v":0},0,0,0,{"$f":"IF(AU68<>0,SUMIFS($AV$6:$AV$1001,$AT$6:$AT$1001,AT68,$F$6:$F$1001,F68,$AY$6:$AY$1001,AY68),0)","v":0},1900,1900,0,0,0,0,0,0,0,0,0,"","",0,0,0,"FORMATO INCORRECTO","FORMATO INCORRECTO","FORMATO INCORRECTO",{"$f":"IF(L68=\"\",\"\",IF(ISERROR(edata(L68)),\"FORMATO INCORRECTO\",\"FORMATO CORRECTO\"))","v":""},{"$f":"IF(U68=\"\",\"\",IF(ISERROR(edata(U68)),\"FORMATO INCORRECTO\",\"FORMATO CORRECTO\"))","v":""},{"$f":"IF(N68=\"\",\"\",IF(ISERROR(edata(N68)),\"FORMATO INCORRECTO\",\"FORMATO CORRECTO\"))","v":""}]
["1900-03-03","",null,null,null,null,null,null,"",null,null,null,null,null,null,null,null,"",null,null,null,null,null,null,null,null,"",null,"",null,null,"",null,null,null,null,null,0,0,0,0,0,{"$f":"IF(AO69<>0,SUMIFS($AP$6:$AP$1001,$AN$6:$AN$1001,AN69,$F$6:$F$1001,F69,$AX$6:$AX$1001,AX69),0)","v":0},0,{"$f":"IF(AO69<>0,SUMIFS($AP$6:$AP$1001,$AR$6:$AR$1001,AR69,$F$6:$F$1001,F69,$AX$6:$AX$1001,AX69),0)","v":0},0,0,0,{"$f":"IF(AU69<>0,SUMIFS($AV$6:$AV$1001,$AT$6:$AT$1001,AT69,$F$6:$F$1001,F69,$AY$6:$AY$1001,AY69),0)","v":0},1900,1900,0,0,0,0,0,0,0,0,0,"","",0,0,0,"FORMATO INCORRECTO","FORMATO INCORRECTO","FORMATO INCORRECTO",{"$f":"IF(L69=\"\",\"\",IF(ISERROR(edata(L69)),\"FORMATO INCORRECTO\",\"FORMATO CORRECTO\"))","v":""},{"$f":"IF(U69=\"\",\"\",IF(ISERROR(edata(U69)),\"FORMATO INCORRECTO\",\"FORMATO CORRECTO\"))","v":""},{"$f":"IF(N69=\"\",\"\",IF(ISERROR(edata(N69)),\"FORMATO INCORRECTO\",\"FORMATO CORRECTO\"))","v":""}]
["1900-03-04","",null,null,null,null,null,null,{"$f":"IF(ISERROR(VLOOKUP(J70,tipoDocDesp,2,FALSE)),\"\",VLOOKUP(J70,tipoDocDesp,2,FALSE))","v":""},null,null,null,null,null,null,null,null,{"$f":"IF(ISERROR(VLOOKUP(S70,tipoDocQuit,2,FALSE)),\"\",VLOOKUP(S70,tipoDocQuit,2,FALSE))","v":""},null,null,null,null,null,null,null,null,{"$f":"IF(ISERROR(VLOOKUP(AB70,DESPESASGERAL,3,FALSE)),\"\",VLOOKUP(AB70,DESPESASGERAL,3,FALSE))","v":""},null,{"$f":"IF(ISERROR(VLOOKUP(AD70,RUBRICASGERAL,2,FALSE)),\"\",VLOOKUP(AD70,RUBRICASGERAL,2,FALSE))","v":""},null,null,{"$f":"IF(ISERROR(VLOOKUP(AG70,CONCELHOGERAL,2,FALSE)),\"\",VLOOKUP(AG70,CONCELHOGERAL,2,FALSE))","v":""},null,null,null,null,null,0,0,0,{"$f":"+M70","v":0},{"$f":"+N70","v":0},{"$f":"IF(AO70<>0,SUMIFS($AP$6:$AP$1001,$AN$6:$AN$1001,AN70,$F$6:$F$1001,F70,$AX$6:$AX$1001,AX70),0)","v":0},{"$f":"+K70","v":0},{"$f":"IF(AO70<>0,SUMIFS($AP$6:$AP$1001,$AR$6:$AR$1001,AR70,$F$6:$F$1001,F70,$AX$6:$AX$1001,AX70),0)","v":0},{"$f":"+T70","v":0},{"$f":"+V70","v":0},{"$f":"+W70","v":0},{"$f":"IF(AU70<>0,SUMIFS($AV$6:$AV$1001,$AT$6:$AT$1001,AT70,$F$6:$F$1001,F70,$AY$6:$AY$1001,AY70),0)","v":0},{"$f":"YEAR(L70)","v":1900},{"$f":"YEAR(U70)","v":1900},0,0,{"$f":"+M70-BA70","v":0},0,0,{"$f":"+M70-BD70","v":0},0,0,{"$f":"+V70-BG70","v":0},"","",0,0,0,"FORMATO INCORRECTO","FORMATO INCORRECTO","FORMATO INCORRECTO",{"$f":"IF(L70=\"\",\"\",IF(ISERROR(edata(L70)),\"FORMATO INCORRECTO\",\"FORMATO CORRECTO\"))","v":""},{"$f":"IF(U70=\"\",\"\",IF(ISERROR(edata(U70)),\"FORMATO INCORRECTO\",\"FORMATO CORRECTO\"))","v":""},{"$f":"IF(N70=\"\",\"\",IF(ISERROR(edata(N70)),\"FORMATO INCORRECTO\",\"FORMATO CORRECTO\"))","v":""}]
["1900-03-05","",null,null,null,null,null,null,"",null,null,null,null,null,null,null,null,"",null,null,null,null,null,null,null,null,"",null,"",null,null,"",null,null,null,null,null,{"$f":"+O71+P71+Q71-N71","v":0},{"$f":"+O71+P71+Q71-W71","v":0},{"$f":"+D71","v":0},0,0,{"$f":"IF(AO71<>0,SUMIFS($AP$6:$AP$1001,$AN$6:$AN$1001,AN71,$F$6:$F$1001,F71,$AX$6:$AX$1001,AX71),0)","v":0},0,{"$f":"IF(AO71<>0,SUMIFS($AP$6:$AP$1001,$AR$6:$AR$1001,AR71,$F$6:$F$1001,F71,$AX$6:$AX$1001,AX71),0)","v":0},0,0,0,{"$f":"IF(AU71<>0,SUMIFS($AV$6:$AV$1001,$AT$6:$AT$1001,AT71,$F$6:$F$1001,F71,$AY$6:$AY$1001,AY71),0)","v":0},1900,1900,{"$f":"+AN71","v":0},{"$f":"+AQ71","v":0},0,{"$f":"+AR71","v":0},{"$f":"ROUND(AS71,2)","v":0},0,{"$f":"+AT71","v":0},{"$f":"ROUND(AW71,2)","v":0},0,{"$f":"IF(ISERROR(L71<=U71),\"FORMATO INCORRECTO\",IF(AND(L71=0,U71=0),\"\",IF(L71<=U71,\"VALIDADO\",\"NÃO VALIDADO\")))","v":""},{"$f":"IF(AND(L71=\"\",U71=\"\",Y71=\"\"),\"\",IF(OR(ISERROR(BK71),ISERROR(BL71),ISERROR(BM71)),\"ERRO NO FORMATO\",\"FORMATO CORRECTO\"))","v":""},{"$f":"convdata(L71)","v":0},{"$f":"convdata(U71)","v":0},{"$f":"convdata(Y71)","v":0},{"$f":"ENULO(L71)","v":"FORMATO INCORRECTO"},{"$f":"ENULO(U71)","v":"FORMATO INCORRECTO"},{"$f":"ENULO(Y71)","v":"FORMATO INCORRECTO"},{"$f":"IF(L71=\"\",\"\",IF(ISERROR(edata(L71)),\"FORMATO INCORRECTO\",\"FORMATO CORRECTO\"))","v":""},{"$f":"IF(U71=\"\",\"\",IF(ISERROR(edata(U71)),\"FORMATO INCORRECTO\",\"FORMATO CORRECTO\"))","v":""},{"$f":"IF(N71=\"\",\"\",IF(ISERROR(edata(N71)),\"FORMATO INCORRECTO\",\"FORMATO CORRECTO\"))","v":""}]
["1900-03-06",{"$f":"IF(G72<>\"\",+B71+1,\"\")","v":""},null,null,null,null,null,null,"",null,null,null,null,null,null,null,null,"",null,null,null,null,null,null,null,null,"",null,"",null,null,"",null,null,null,null,null,0,0,0,0,0,{"$f":"IF(AO72<>0,SUMIFS($AP$6:$AP$1001,$AN$6:$AN$1001,AN72,$F$6:$F$1001,F72,$AX$6:$AX$1001,AX72),0)","v":0},0,{"$f":"IF(AO72<>0,SUMIFS($AP$6:$AP$1001,$AR$6:$AR$1001,AR72,$F$6:$F$1001,F72,$AX$6:$AX$1001,AX72),0)","v":0},0,0,0,{"$f":"IF(AU72<>0,SUMIFS($AV$6:$AV$1001,$AT$6:$AT$1001,AT72,$F$6:$F$1001,F72,$AY$6:$AY$1001,AY72),0)","v":0},1900,1900,0,0,0,0,0,0,0,0,0,"","",0,0,0,"FORMATO INCORRECTO","FORMATO INCORRECTO","FORMATO INCORRECTO",{"$f":"IF(L72=\"\",\"\",IF(ISERROR(edata(L72)),\"FORMATO INCORRECTO\",\"FORMATO CORRECTO\"))","v":""},{"$f":"IF(U72=\"\",\"\",IF(ISERROR(edata(U72)),\"FORMATO INCORRECTO\",\"FORMATO CORRECTO\"))","v":""},{"$f":"IF(N72=\"\",\"\",IF(ISERROR(edata(N72)),\"FORMATO INCORRECTO\",\"FORMATO CORRECTO\"))","v":""}]
["1900-03-07","",null,null,null,null,null,null,"",null,null,null,null,null,null,null,null,"",null,null,null,null,null,null,null,null,"",null,"",null,null,"",null,null,null,null,null,0,0,0,0,0,{"$f":"IF(AO73<>0,SUMIFS($AP$6:$AP$1001,$AN$6:$AN$1001,AN73,$F$6:$F$1001,F73,$AX$6:$AX$1001,AX73),0)","v":0},0,{"$f":"IF(AO73<>0,SUMIFS($AP$6:$AP$1001,$AR$6:$AR$1001,AR73,$F$6:$F$1001,F73,$AX$6:$AX$1001,AX73),0)","v":0},0,0,0,{"$f":"IF(AU73<>0,SUMIFS($AV$6:$AV$1001,$AT$6:$AT$1001,AT73,$F$6:$F$1001,F73,$AY$6:$AY$1001,AY73),0)","v":0},1900,1900,0,0,0,0,0,0,0,0,0,"","",0,0,0,"FORMATO INCORRECTO","FORMATO INCORRECTO","FORMATO INCORRECTO",{"$f":"IF(L73=\"\",\"\",IF(ISERROR(edata(L73)),\"FORMATO INCORRECTO\",\"FORMATO CORRECTO\"))","v":""},{"$f":"IF(U73=\"\",\"\",IF(ISERROR(edata(U73)),\"FORMATO INCORRECTO\",\"FORMATO CORRECTO\"))","v":""},{"$f":"IF(N73=\"\",\"\",IF(ISERROR(edata(N73)),\"FORMATO INCORRECTO\",\"FORMATO CORRECTO\"))","v":""}]
["1900-03-08","",null,null,null,null,null,null,"",null,null,null,null,null,null,null,null,"",null,null,null,null,null,null,null,null,"",null,"",null,null,"",null,null,null,null,null,0,0,0,0,0,{"$f":"IF(AO74<>0,SUMIFS($AP$6:$AP$1001,$AN$6:$AN$1001,AN74,$F$6:$F$1001,F74,$AX$6:$AX$1001,AX74),0)","v":0},0,{"$f":"IF(AO74<>0,SUMIFS($AP$6:$AP$1001,$AR$6:$AR$1001,AR74,$F$6:$F$1001,F74,$AX$6:$AX$1001,AX74),0)","v":0},0,0,0,{"$f":"IF(AU74<>0,SUMIFS($AV$6:$AV$1001,$AT$6:$AT$1001,AT74,$F$6:$F$1001,F74,$AY$6:$AY$1001,AY74),0)","v":0},1900,1900,0,0,0,0,0,0,0,0,0,"","",0,0,0,"FORMATO INCORRECTO","FORMATO INCORRECTO","FORMATO INCORRECTO",{"$f":"IF(L74=\"\",\"\",IF(ISERROR(edata(L74)),\"FORMATO INCORRECTO\",\"FORMATO CORRECTO\"))","v":""},{"$f":"IF(U74=\"\",\"\",IF(ISERROR(edata(U74)),\"FORMATO INCORRECTO\",\"FORMATO CORRECTO\"))","v":""},{"$f":"IF(N74=\"\",\"\",IF(ISERROR(edata(N74)),\"FORMATO INCORRECTO\",\"FORMATO CORRECTO\"))","v":""}]
["1900-03-09","",null,null,null,null,null,null,"",null,null,null,null,null,null,null,null,"",null,null,null,null,null,null,null,null,"",null,"",null,null,"",null,null,null,null,null,0,0,0,0,0,{"$f":"IF(AO75<>0,SUMIFS($AP$6:$AP$1001,$AN$6:$AN$1001,AN75,$F$6:$F$1001,F75,$AX$6:$AX$1001,AX75),0)","v":0},0,{"$f":"IF(AO75<>0,SUMIFS($AP$6:$AP$1001,$AR$6:$AR$1001,AR75,$F$6:$F$1001,F75,$AX$6:$AX$1001,AX75),0)","v":0},0,0,0,{"$f":"IF(AU75<>0,SUMIFS($AV$6:$AV$1001,$AT$6:$AT$1001,AT75,$F$6:$F$1001,F75,$AY$6:$AY$1001,AY75),0)","v":0},1900,1900,0,0,0,0,0,0,0,0,0,"","",0,0,0,"FORMATO INCORRECTO","FORMATO INCORRECTO","FORMATO INCORRECTO",{"$f":"IF(L75=\"\",\"\",IF(ISERROR(edata(L75)),\"FORMATO INCORRECTO\",\"FORMATO CORRECTO\"))","v":""},{"$f":"IF(U75=\"\",\"\",IF(ISERROR(edata(U75)),\"FORMATO INCORRECTO\",\"FORMATO CORRECTO\"))","v":""},{"$f":"IF(N75=\"\",\"\",IF(ISERROR(edata(N75)),\"FORMATO INCORRECTO\",\"FORMATO CORRECTO\"))","v":""}]
["1900-03-10","",null,null,null,null,null,null,"",null,null,null,null,null,null,null,null,"",null,null,null,null,null,null,null,null,"",null,"",null,null,"",null,null,null,null,null,0,0,0,0,0,{"$f":"IF(AO76<>0,SUMIFS($AP$6:$AP$1001,$AN$6:$AN$1001,AN76,$F$6:$F$1001,F76,$AX$6:$AX$1001,AX76),0)","v":0},0,{"$f":"IF(AO76<>0,SUMIFS($AP$6:$AP$1001,$AR$6:$AR$1001,AR76,$F$6:$F$1001,F76,$AX$6:$AX$1001,AX76),0)","v":0},0,0,0,{"$f":"IF(AU76<>0,SUMIFS($AV$6:$AV$1001,$AT$6:$AT$1001,AT76,$F$6:$F$1001,F76,$AY$6:$AY$1001,AY76),0)","v":0},1900,1900,0,0,0,0,0,0,0,0,0,"","",0,0,0,"FORMATO INCORRECTO","FORMATO INCORRECTO","FORMATO INCORRECTO",{"$f":"IF(L76=\"\",\"\",IF(ISERROR(edata(L76)),\"FORMATO INCORRECTO\",\"FORMATO CORRECTO\"))","v":""},{"$f":"IF(U76=\"\",\"\",IF(ISERROR(edata(U76)),\"FORMATO INCORRECTO\",\"FORMATO CORRECTO\"))","v":""},{"$f":"IF(N76=\"\",\"\",IF(ISERROR(edata(N76)),\"FORMATO INCORRECTO\",\"FORMATO CORRECTO\"))","v":""}]
["1900-03-11","",null,null,null,null,null,null,"",null,null,null,null,null,null,null,null,"",null,null,null,null,null,null,null,null,"",null,"",null,null,"",null,null,null,null,null,0,0,0,0,0,{"$f":"IF(AO77<>0,SUMIFS($AP$6:$AP$1001,$AN$6:$AN$1001,AN77,$F$6:$F$1001,F77,$AX$6:$AX$1001,AX77),0)","v":0},0,{"$f":"IF(AO77<>0,SUMIFS($AP$6:$AP$1001,$AR$6:$AR$1001,AR77,$F$6:$F$1001,F77,$AX$6:$AX$1001,AX77),0)","v":0},0,0,0,{"$f":"IF(AU77<>0,SUMIFS($AV$6:$AV$1001,$AT$6:$AT$1001,AT77,$F$6:$F$1001,F77,$AY$6:$AY$1001,AY77),0)","v":0},1900,1900,0,0,0,0,0,0,0,0,0,"","",0,0,0,"FORMATO INCORRECTO","FORMATO INCORRECTO","FORMATO INCORRECTO",{"$f":"IF(L77=\"\",\"\",IF(ISERROR(edata(L77)),\"FORMATO INCORRECTO\",\"FORMATO CORRECTO\"))","v":""},{"$f":"IF(U77=\"\",\"\",IF(ISERROR(edata(U77)),\"FORMATO INCORRECTO\",\"FORMATO CORRECTO\"))","v":""},{"$f":"IF(N77=\"\",\"\",IF(ISERROR(edata(N77)),\"FORMATO INCORRECTO\",\"FORMATO CORRECTO\"))","v":""}]
["1900-03-12","",null,null,null,null,null,null,"",null,null,null,null,null,null,null,null,"",null,null,null,null,null,null,null,null,"",null,"",null,null,"",null,null,null,null,null,0,0,0,0,0,{"$f":"IF(AO78<>0,SUMIFS($AP$6:$AP$1001,$AN$6:$AN$1001,AN78,$F$6:$F$1001,F78,$AX$6:$AX$1001,AX78),0)","v":0},0,{"$f":"IF(AO78<>0,SUMIFS($AP$6:$AP$1001,$AR$6:$AR$1001,AR78,$F$6:$F$1001,F78,$AX$6:$AX$1001,AX78),0)","v":0},0,0,0,{"$f":"IF(AU78<>0,SUMIFS($AV$6:$AV$1001,$AT$6:$AT$1001,AT78,$F$6:$F$1001,F78,$AY$6:$AY$1001,AY78),0)","v":0},1900,1900,0,0,0,0,0,0,0,0,0,"","",0,0,0,"FORMATO INCORRECTO","FORMATO INCORRECTO","FORMATO INCORRECTO",{"$f":"IF(L78=\"\",\"\",IF(ISERROR(edata(L78)),\"FORMATO INCORRECTO\",\"FORMATO CORRECTO\"))","v":""},{"$f":"IF(U78=\"\",\"\",IF(ISERROR(edata(U78)),\"FORMATO INCORRECTO\",\"FORMATO CORRECTO\"))","v":""},{"$f":"IF(N78=\"\",\"\",IF(ISERROR(edata(N78)),\"FORMATO INCORRECTO\",\"FORMATO CORRECTO\"))","v":""}]
["1900-03-13","",null,null,null,null,null,null,"",null,null,null,null,null,null,null,null,"",null,null,null,null,null,null,null,null,"",null,"",null,null,"",null,null,null,null,null,0,0,0,0,0,{"$f":"IF(AO79<>0,SUMIFS($AP$6:$AP$1001,$AN$6:$AN$1001,AN79,$F$6:$F$1001,F79,$AX$6:$AX$1001,AX79),0)","v":0},0,{"$f":"IF(AO79<>0,SUMIFS($AP$6:$AP$1001,$AR$6:$AR$1001,AR79,$F$6:$F$1001,F79,$AX$6:$AX$1001,AX79),0)","v":0},0,0,0,{"$f":"IF(AU79<>0,SUMIFS($AV$6:$AV$1001,$AT$6:$AT$1001,AT79,$F$6:$F$1001,F79,$AY$6:$AY$1001,AY79),0)","v":0},1900,1900,0,0,0,0,0,0,0,0,0,"","",0,0,0,"FORMATO INCORRECTO","FORMATO INCORRECTO","FORMATO INCORRECTO",{"$f":"IF(L79=\"\",\"\",IF(ISERROR(edata(L79)),\"FORMATO INCORRECTO\",\"FORMATO CORRECTO\"))","v":""},{"$f":"IF(U79=\"\",\"\",IF(ISERROR(edata(U79)),\"FORMATO INCORRECTO\",\"FORMATO CORRECTO\"))","v":""},{"$f":"IF(N79=\"\",\"\",IF(ISERROR(edata(N79)),\"FORMATO INCORRECTO\",\"FORMATO CORRECTO\"))","v":""}]
["1900-03-14","",null,null,null,null,null,null,"",null,null,null,null,null,null,null,null,"",null,null,null,null,null,null,null,null,"",null,"",null,null,"",null,null,null,null,null,0,0,0,0,0,{"$f":"IF(AO80<>0,SUMIFS($AP$6:$AP$1001,$AN$6:$AN$1001,AN80,$F$6:$F$1001,F80,$AX$6:$AX$1001,AX80),0)","v":0},0,{"$f":"IF(AO80<>0,SUMIFS($AP$6:$AP$1001,$AR$6:$AR$1001,AR80,$F$6:$F$1001,F80,$AX$6:$AX$1001,AX80),0)","v":0},0,0,0,{"$f":"IF(AU80<>0,SUMIFS($AV$6:$AV$1001,$AT$6:$AT$1001,AT80,$F$6:$F$1001,F80,$AY$6:$AY$1001,AY80),0)","v":0},1900,1900,0,0,0,0,0,0,0,0,0,"","",0,0,0,"FORMATO INCORRECTO","FORMATO INCORRECTO","FORMATO INCORRECTO",{"$f":"IF(L80=\"\",\"\",IF(ISERROR(edata(L80)),\"FORMATO INCORRECTO\",\"FORMATO CORRECTO\"))","v":""},{"$f":"IF(U80=\"\",\"\",IF(ISERROR(edata(U80)),\"FORMATO INCORRECTO\",\"FORMATO CORRECTO\"))","v":""},{"$f":"IF(N80=\"\",\"\",IF(ISERROR(edata(N80)),\"FORMATO INCORRECTO\",\"FORMATO CORRECTO\"))","v":""}]
["1900-03-15","",null,null,null,null,null,null,"",null,null,null,null,null,null,null,null,"",null,null,null,null,null,null,null,null,"",null,"",null,null,"",null,null,null,null,null,0,0,0,0,0,{"$f":"IF(AO81<>0,SUMIFS($AP$6:$AP$1001,$AN$6:$AN$1001,AN81,$F$6:$F$1001,F81,$AX$6:$AX$1001,AX81),0)","v":0},0,{"$f":"IF(AO81<>0,SUMIFS($AP$6:$AP$1001,$AR$6:$AR$1001,AR81,$F$6:$F$1001,F81,$AX$6:$AX$1001,AX81),0)","v":0},0,0,0,{"$f":"IF(AU81<>0,SUMIFS($AV$6:$AV$1001,$AT$6:$AT$1001,AT81,$F$6:$F$1001,F81,$AY$6:$AY$1001,AY81),0)","v":0},1900,1900,0,0,0,0,0,0,0,0,0,"","",0,0,0,"FORMATO INCORRECTO","FORMATO INCORRECTO","FORMATO INCORRECTO",{"$f":"IF(L81=\"\",\"\",IF(ISERROR(edata(L81)),\"FORMATO INCORRECTO\",\"FORMATO CORRECTO\"))","v":""},{"$f":"IF(U81=\"\",\"\",IF(ISERROR(edata(U81)),\"FORMATO INCORRECTO\",\"FORMATO CORRECTO\"))","v":""},{"$f":"IF(N81=\"\",\"\",IF(ISERROR(edata(N81)),\"FORMATO INCORRECTO\",\"FORMATO CORRECTO\"))","v":""}]
["1900-03-16","",null,null,null,null,null,null,"",null,null,null,null,null,null,null,null,"",null,null,null,null,null,null,null,null,"",null,"",null,null,"",null,null,null,null,null,0,0,0,0,0,{"$f":"IF(AO82<>0,SUMIFS($AP$6:$AP$1001,$AN$6:$AN$1001,AN82,$F$6:$F$1001,F82,$AX$6:$AX$1001,AX82),0)","v":0},0,{"$f":"IF(AO82<>0,SUMIFS($AP$6:$AP$1001,$AR$6:$AR$1001,AR82,$F$6:$F$1001,F82,$AX$6:$AX$1001,AX82),0)","v":0},0,0,0,{"$f":"IF(AU82<>0,SUMIFS($AV$6:$AV$1001,$AT$6:$AT$1001,AT82,$F$6:$F$1001,F82,$AY$6:$AY$1001,AY82),0)","v":0},1900,1900,0,0,0,0,0,0,0,0,0,"","",0,0,0,"FORMATO INCORRECTO","FORMATO INCORRECTO","FORMATO INCORRECTO",{"$f":"IF(L82=\"\",\"\",IF(ISERROR(edata(L82)),\"FORMATO INCORRECTO\",\"FORMATO CORRECTO\"))","v":""},{"$f":"IF(U82=\"\",\"\",IF(ISERROR(edata(U82)),\"FORMATO INCORRECTO\",\"FORMATO CORRECTO\"))","v":""},{"$f":"IF(N82=\"\",\"\",IF(ISERROR(edata(N82)),\"FORMATO INCORRECTO\",\"FORMATO CORRECTO\"))","v":""}]
["1900-03-17","",null,null,null,null,null,null,"",null,null,null,null,null,null,null,null,"",null,null,null,null,null,null,null,null,"",null,"",null,null,"",null,null,null,null,null,0,0,0,0,0,{"$f":"IF(AO83<>0,SUMIFS($AP$6:$AP$1001,$AN$6:$AN$1001,AN83,$F$6:$F$1001,F83,$AX$6:$AX$1001,AX83),0)","v":0},0,{"$f":"IF(AO83<>0,SUMIFS($AP$6:$AP$1001,$AR$6:$AR$1001,AR83,$F$6:$F$1001,F83,$AX$6:$AX$1001,AX83),0)","v":0},0,0,0,{"$f":"IF(AU83<>0,SUMIFS($AV$6:$AV$1001,$AT$6:$AT$1001,AT83,$F$6:$F$1001,F83,$AY$6:$AY$1001,AY83),0)","v":0},1900,1900,0,0,0,0,0,0,0,0,0,"","",0,0,0,"FORMATO INCORRECTO","FORMATO INCORRECTO","FORMATO INCORRECTO",{"$f":"IF(L83=\"\",\"\",IF(ISERROR(edata(L83)),\"FORMATO INCORRECTO\",\"FORMATO CORRECTO\"))","v":""},{"$f":"IF(U83=\"\",\"\",IF(ISERROR(edata(U83)),\"FORMATO INCORRECTO\",\"FORMATO CORRECTO\"))","v":""},{"$f":"IF(N83=\"\",\"\",IF(ISERROR(edata(N83)),\"FORMATO INCORRECTO\",\"FORMATO CORRECTO\"))","v":""}]
["1900-03-18","",null,null,null,null,null,null,"",null,null,null,null,null,null,null,null,"",null,null,null,null,null,null,null,null,"",null,"",null,null,"",null,null,null,null,null,0,0,0,0,0,{"$f":"IF(AO84<>0,SUMIFS($AP$6:$AP$1001,$AN$6:$AN$1001,AN84,$F$6:$F$1001,F84,$AX$6:$AX$1001,AX84),0)","v":0},0,{"$f":"IF(AO84<>0,SUMIFS($AP$6:$AP$1001,$AR$6:$AR$1001,AR84,$F$6:$F$1001,F84,$AX$6:$AX$1001,AX84),0)","v":0},0,0,0,{"$f":"IF(AU84<>0,SUMIFS($AV$6:$AV$1001,$AT$6:$AT$1001,AT84,$F$6:$F$1001,F84,$AY$6:$AY$1001,AY84),0)","v":0},1900,1900,0,0,0,0,0,0,0,0,0,"","",0,0,0,"FORMATO INCORRECTO","FORMATO INCORRECTO","FORMATO INCORRECTO",{"$f":"IF(L84=\"\",\"\",IF(ISERROR(edata(L84)),\"FORMATO INCORRECTO\",\"FORMATO CORRECTO\"))","v":""},{"$f":"IF(U84=\"\",\"\",IF(ISERROR(edata(U84)),\"FORMATO INCORRECTO\",\"FORMATO CORRECTO\"))","v":""},{"$f":"IF(N84=\"\",\"\",IF(ISERROR(edata(N84)),\"FORMATO INCORRECTO\",\"FORMATO CORRECTO\"))","v":""}]
["1900-03-19","",null,null,null,null,null,null,"",null,null,null,null,null,null,null,null,"",null,null,null,null,null,null,null,null,"",null,"",null,null,"",null,null,null,null,null,0,0,0,0,0,{"$f":"IF(AO85<>0,SUMIFS($AP$6:$AP$1001,$AN$6:$AN$1001,AN85,$F$6:$F$1001,F85,$AX$6:$AX$1001,AX85),0)","v":0},0,{"$f":"IF(AO85<>0,SUMIFS($AP$6:$AP$1001,$AR$6:$AR$1001,AR85,$F$6:$F$1001,F85,$AX$6:$AX$1001,AX85),0)","v":0},0,0,0,{"$f":"IF(AU85<>0,SUMIFS($AV$6:$AV$1001,$AT$6:$AT$1001,AT85,$F$6:$F$1001,F85,$AY$6:$AY$1001,AY85),0)","v":0},1900,1900,0,0,0,0,0,0,0,0,0,"","",0,0,0,"FORMATO INCORRECTO","FORMATO INCORRECTO","FORMATO INCORRECTO",{"$f":"IF(L85=\"\",\"\",IF(ISERROR(edata(L85)),\"FORMATO INCORRECTO\",\"FORMATO CORRECTO\"))","v":""},{"$f":"IF(U85=\"\",\"\",IF(ISERROR(edata(U85)),\"FORMATO INCORRECTO\",\"FORMATO CORRECTO\"))","v":""},{"$f":"IF(N85=\"\",\"\",IF(ISERROR(edata(N85)),\"FORMATO INCORRECTO\",\"FORMATO CORRECTO\"))","v":""}]
["1900-03-20","",null,null,null,null,null,null,"",null,null,null,null,null,null,null,null,"",null,null,null,null,null,null,null,null,"",null,"",null,null,"",null,null,null,null,null,0,0,0,0,0,{"$f":"IF(AO86<>0,SUMIFS($AP$6:$AP$1001,$AN$6:$AN$1001,AN86,$F$6:$F$1001,F86,$AX$6:$AX$1001,AX86),0)","v":0},0,{"$f":"IF(AO86<>0,SUMIFS($AP$6:$AP$1001,$AR$6:$AR$1001,AR86,$F$6:$F$1001,F86,$AX$6:$AX$1001,AX86),0)","v":0},0,0,0,{"$f":"IF(AU86<>0,SUMIFS($AV$6:$AV$1001,$AT$6:$AT$1001,AT86,$F$6:$F$1001,F86,$AY$6:$AY$1001,AY86),0)","v":0},1900,1900,0,0,0,0,0,0,0,0,0,"","",0,0,0,"FORMATO INCORRECTO","FORMATO INCORRECTO","FORMATO INCORRECTO",{"$f":"IF(L86=\"\",\"\",IF(ISERROR(edata(L86)),\"FORMATO INCORRECTO\",\"FORMATO CORRECTO\"))","v":""},{"$f":"IF(U86=\"\",\"\",IF(ISERROR(edata(U86)),\"FORMATO INCORRECTO\",\"FORMATO CORRECTO\"))","v":""},{"$f":"IF(N86=\"\",\"\",IF(ISERROR(edata(N86)),\"FORMATO INCORRECTO\",\"FORMATO CORRECTO\"))","v":""}]
["1900-03-21","",null,null,null,null,null,null,"",null,null,null,null,null,null,null,null,"",null,null,null,null,null,null,null,null,"",null,"",null,null,"",null,null,null,null,null,0,0,0,0,0,{"$f":"IF(AO87<>0,SUMIFS($AP$6:$AP$1001,$AN$6:$AN$1001,AN87,$F$6:$F$1001,F87,$AX$6:$AX$1001,AX87),0)","v":0},0,{"$f":"IF(AO87<>0,SUMIFS($AP$6:$AP$1001,$AR$6:$AR$1001,AR87,$F$6:$F$1001,F87,$AX$6:$AX$1001,AX87),0)","v":0},0,0,0,{"$f":"IF(AU87<>0,SUMIFS($AV$6:$AV$1001,$AT$6:$AT$1001,AT87,$F$6:$F$1001,F87,$AY$6:$AY$1001,AY87),0)","v":0},1900,1900,0,0,0,0,0,0,0,0,0,"","",0,0,0,"FORMATO INCORRECTO","FORMATO INCORRECTO","FORMATO INCORRECTO",{"$f":"IF(L87=\"\",\"\",IF(ISERROR(edata(L87)),\"FORMATO INCORRECTO\",\"FORMATO CORRECTO\"))","v":""},{"$f":"IF(U87=\"\",\"\",IF(ISERROR(edata(U87)),\"FORMATO INCORRECTO\",\"FORMATO CORRECTO\"))","v":""},{"$f":"IF(N87=\"\",\"\",IF(ISERROR(edata(N87)),\"FORMATO INCORRECTO\",\"FORMATO CORRECTO\"))","v":""}]
["1900-03-22","",null,null,null,null,null,null,"",null,null,null,null,null,null,null,null,"",null,null,null,null,null,null,null,null,"",null,"",null,null,"",null,null,null,null,null,0,0,0,0,0,{"$f":"IF(AO88<>0,SUMIFS($AP$6:$AP$1001,$AN$6:$AN$1001,AN88,$F$6:$F$1001,F88,$AX$6:$AX$1001,AX88),0)","v":0},0,{"$f":"IF(AO88<>0,SUMIFS($AP$6:$AP$1001,$AR$6:$AR$1001,AR88,$F$6:$F$1001,F88,$AX$6:$AX$1001,AX88),0)","v":0},0,0,0,{"$f":"IF(AU88<>0,SUMIFS($AV$6:$AV$1001,$AT$6:$AT$1001,AT88,$F$6:$F$1001,F88,$AY$6:$AY$1001,AY88),0)","v":0},1900,1900,0,0,0,0,0,0,0,0,0,"","",0,0,0,"FORMATO INCORRECTO","FORMATO INCORRECTO","FORMATO INCORRECTO",{"$f":"IF(L88=\"\",\"\",IF(ISERROR(edata(L88)),\"FORMATO INCORRECTO\",\"FORMATO CORRECTO\"))","v":""},{"$f":"IF(U88=\"\",\"\",IF(ISERROR(edata(U88)),\"FORMATO INCORRECTO\",\"FORMATO CORRECTO\"))","v":""},{"$f":"IF(N88=\"\",\"\",IF(ISERROR(edata(N88)),\"FORMATO INCORRECTO\",\"FORMATO CORRECTO\"))","v":""}]
["1900-03-23","",null,null,null,null,null,null,"",null,null,null,null,null,null,null,null,"",null,null,null,null,null,null,null,null,"",null,"",null,null,"",null,null,null,null,null,0,0,0,0,0,{"$f":"IF(AO89<>0,SUMIFS($AP$6:$AP$1001,$AN$6:$AN$1001,AN89,$F$6:$F$1001,F89,$AX$6:$AX$1001,AX89),0)","v":0},0,{"$f":"IF(AO89<>0,SUMIFS($AP$6:$AP$1001,$AR$6:$AR$1001,AR89,$F$6:$F$1001,F89,$AX$6:$AX$1001,AX89),0)","v":0},0,0,0,{"$f":"IF(AU89<>0,SUMIFS($AV$6:$AV$1001,$AT$6:$AT$1001,AT89,$F$6:$F$1001,F89,$AY$6:$AY$1001,AY89),0)","v":0},1900,1900,0,0,0,0,0,0,0,0,0,"","",0,0,0,"FORMATO INCORRECTO","FORMATO INCORRECTO","FORMATO INCORRECTO",{"$f":"IF(L89=\"\",\"\",IF(ISERROR(edata(L89)),\"FORMATO INCORRECTO\",\"FORMATO CORRECTO\"))","v":""},{"$f":"IF(U89=\"\",\"\",IF(ISERROR(edata(U89)),\"FORMATO INCORRECTO\",\"FORMATO CORRECTO\"))","v":""},{"$f":"IF(N89=\"\",\"\",IF(ISERROR(edata(N89)),\"FORMATO INCORRECTO\",\"FORMATO CORRECTO\"))","v":""}]
["1900-03-24","",null,null,null,null,null,null,"",null,null,null,null,null,null,null,null,"",null,null,null,null,null,null,null,null,"",null,"",null,null,"",null,null,null,null,null,0,0,0,0,0,{"$f":"IF(AO90<>0,SUMIFS($AP$6:$AP$1001,$AN$6:$AN$1001,AN90,$F$6:$F$1001,F90,$AX$6:$AX$1001,AX90),0)","v":0},0,{"$f":"IF(AO90<>0,SUMIFS($AP$6:$AP$1001,$AR$6:$AR$1001,AR90,$F$6:$F$1001,F90,$AX$6:$AX$1001,AX90),0)","v":0},0,0,0,{"$f":"IF(AU90<>0,SUMIFS($AV$6:$AV$1001,$AT$6:$AT$1001,AT90,$F$6:$F$1001,F90,$AY$6:$AY$1001,AY90),0)","v":0},1900,1900,0,0,0,0,0,0,0,0,0,"","",0,0,0,"FORMATO INCORRECTO","FORMATO INCORRECTO","FORMATO INCORRECTO",{"$f":"IF(L90=\"\",\"\",IF(ISERROR(edata(L90)),\"FORMATO INCORRECTO\",\"FORMATO CORRECTO\"))","v":""},{"$f":"IF(U90=\"\",\"\",IF(ISERROR(edata(U90)),\"FORMATO INCORRECTO\",\"FORMATO CORRECTO\"))","v":""},{"$f":"IF(N90=\"\",\"\",IF(ISERROR(edata(N90)),\"FORMATO INCORRECTO\",\"FORMATO CORRECTO\"))","v":""}]
["1900-03-25","",null,null,null,null,null,null,"",null,null,null,null,null,null,null,null,"",null,null,null,null,null,null,null,null,"",null,"",null,null,"",null,null,null,null,null,0,0,0,0,0,{"$f":"IF(AO91<>0,SUMIFS($AP$6:$AP$1001,$AN$6:$AN$1001,AN91,$F$6:$F$1001,F91,$AX$6:$AX$1001,AX91),0)","v":0},0,{"$f":"IF(AO91<>0,SUMIFS($AP$6:$AP$1001,$AR$6:$AR$1001,AR91,$F$6:$F$1001,F91,$AX$6:$AX$1001,AX91),0)","v":0},0,0,0,{"$f":"IF(AU91<>0,SUMIFS($AV$6:$AV$1001,$AT$6:$AT$1001,AT91,$F$6:$F$1001,F91,$AY$6:$AY$1001,AY91),0)","v":0},1900,1900,0,0,0,0,0,0,0,0,0,"","",0,0,0,"FORMATO INCORRECTO","FORMATO INCORRECTO","FORMATO INCORRECTO",{"$f":"IF(L91=\"\",\"\",IF(ISERROR(edata(L91)),\"FORMATO INCORRECTO\",\"FORMATO CORRECTO\"))","v":""},{"$f":"IF(U91=\"\",\"\",IF(ISERROR(edata(U91)),\"FORMATO INCORRECTO\",\"FORMATO CORRECTO\"))","v":""},{"$f":"IF(N91=\"\",\"\",IF(ISERROR(edata(N91)),\"FORMATO INCORRECTO\",\"FORMATO CORRECTO\"))","v":""}]
["1900-03-26","",null,null,null,null,null,null,"",null,null,null,null,null,null,null,null,"",null,null,null,null,null,null,null,null,"",null,"",null,null,"",null,null,null,null,null,0,0,0,0,0,{"$f":"IF(AO92<>0,SUMIFS($AP$6:$AP$1001,$AN$6:$AN$1001,AN92,$F$6:$F$1001,F92,$AX$6:$AX$1001,AX92),0)","v":0},0,{"$f":"IF(AO92<>0,SUMIFS($AP$6:$AP$1001,$AR$6:$AR$1001,AR92,$F$6:$F$1001,F92,$AX$6:$AX$1001,AX92),0)","v":0},0,0,0,{"$f":"IF(AU92<>0,SUMIFS($AV$6:$AV$1001,$AT$6:$AT$1001,AT92,$F$6:$F$1001,F92,$AY$6:$AY$1001,AY92),0)","v":0},1900,1900,0,0,0,0,0,0,0,0,0,"","",0,0,0,"FORMATO INCORRECTO","FORMATO INCORRECTO","FORMATO INCORRECTO",{"$f":"IF(L92=\"\",\"\",IF(ISERROR(edata(L92)),\"FORMATO INCORRECTO\",\"FORMATO CORRECTO\"))","v":""},{"$f":"IF(U92=\"\",\"\",IF(ISERROR(edata(U92)),\"FORMATO INCORRECTO\",\"FORMATO CORRECTO\"))","v":""},{"$f":"IF(N92=\"\",\"\",IF(ISERROR(edata(N92)),\"FORMATO INCORRECTO\",\"FORMATO CORRECTO\"))","v":""}]
["1900-03-27","",null,null,null,null,null,null,"",null,null,null,null,null,null,null,null,"",null,null,null,null,null,null,null,null,"",null,"",null,null,"",null,null,null,null,null,0,0,0,0,0,{"$f":"IF(AO93<>0,SUMIFS($AP$6:$AP$1001,$AN$6:$AN$1001,AN93,$F$6:$F$1001,F93,$AX$6:$AX$1001,AX93),0)","v":0},0,{"$f":"IF(AO93<>0,SUMIFS($AP$6:$AP$1001,$AR$6:$AR$1001,AR93,$F$6:$F$1001,F93,$AX$6:$AX$1001,AX93),0)","v":0},0,0,0,{"$f":"IF(AU93<>0,SUMIFS($AV$6:$AV$1001,$AT$6:$AT$1001,AT93,$F$6:$F$1001,F93,$AY$6:$AY$1001,AY93),0)","v":0},1900,1900,0,0,0,0,0,0,0,0,0,"","",0,0,0,"FORMATO INCORRECTO","FORMATO INCORRECTO","FORMATO INCORRECTO",{"$f":"IF(L93=\"\",\"\",IF(ISERROR(edata(L93)),\"FORMATO INCORRECTO\",\"FORMATO CORRECTO\"))","v":""},{"$f":"IF(U93=\"\",\"\",IF(ISERROR(edata(U93)),\"FORMATO INCORRECTO\",\"FORMATO CORRECTO\"))","v":""},{"$f":"IF(N93=\"\",\"\",IF(ISERROR(edata(N93)),\"FORMATO INCORRECTO\",\"FORMATO CORRECTO\"))","v":""}]
["1900-03-28","",null,null,null,null,null,null,"",null,null,null,null,null,null,null,null,"",null,null,null,null,null,null,null,null,"",null,"",null,null,"",null,null,null,null,null,0,0,0,0,0,{"$f":"IF(AO94<>0,SUMIFS($AP$6:$AP$1001,$AN$6:$AN$1001,AN94,$F$6:$F$1001,F94,$AX$6:$AX$1001,AX94),0)","v":0},0,{"$f":"IF(AO94<>0,SUMIFS($AP$6:$AP$1001,$AR$6:$AR$1001,AR94,$F$6:$F$1001,F94,$AX$6:$AX$1001,AX94),0)","v":0},0,0,0,{"$f":"IF(AU94<>0,SUMIFS($AV$6:$AV$1001,$AT$6:$AT$1001,AT94,$F$6:$F$1001,F94,$AY$6:$AY$1001,AY94),0)","v":0},1900,1900,0,0,0,0,0,0,0,0,0,"","",0,0,0,"FORMATO INCORRECTO","FORMATO INCORRECTO","FORMATO INCORRECTO",{"$f":"IF(L94=\"\",\"\",IF(ISERROR(edata(L94)),\"FORMATO INCORRECTO\",\"FORMATO CORRECTO\"))","v":""},{"$f":"IF(U94=\"\",\"\",IF(ISERROR(edata(U94)),\"FORMATO INCORRECTO\",\"FORMATO CORRECTO\"))","v":""},{"$f":"IF(N94=\"\",\"\",IF(ISERROR(edata(N94)),\"FORMATO INCORRECTO\",\"FORMATO CORRECTO\"))","v":""}]
["1900-03-29","",null,null,null,null,null,null,"",null,null,null,null,null,null,null,null,"",null,null,null,null,null,null,null,null,"",null,"",null,null,"",null,null,null,null,null,0,0,0,0,0,{"$f":"IF(AO95<>0,SUMIFS($AP$6:$AP$1001,$AN$6:$AN$1001,AN95,$F$6:$F$1001,F95,$AX$6:$AX$1001,AX95),0)","v":0},0,{"$f":"IF(AO95<>0,SUMIFS($AP$6:$AP$1001,$AR$6:$AR$1001,AR95,$F$6:$F$1001,F95,$AX$6:$AX$1001,AX95),0)","v":0},0,0,0,{"$f":"IF(AU95<>0,SUMIFS($AV$6:$AV$1001,$AT$6:$AT$1001,AT95,$F$6:$F$1001,F95,$AY$6:$AY$1001,AY95),0)","v":0},1900,1900,0,0,0,0,0,0,0,0,0,"","",0,0,0,"FORMATO INCORRECTO","FORMATO INCORRECTO","FORMATO INCORRECTO",{"$f":"IF(L95=\"\",\"\",IF(ISERROR(edata(L95)),\"FORMATO INCORRECTO\",\"FORMATO CORRECTO\"))","v":""},{"$f":"IF(U95=\"\",\"\",IF(ISERROR(edata(U95)),\"FORMATO INCORRECTO\",\"FORMATO CORRECTO\"))","v":""},{"$f":"IF(N95=\"\",\"\",IF(ISERROR(edata(N95)),\"FORMATO INCORRECTO\",\"FORMATO CORRECTO\"))","v":""}]
["1900-03-30","",null,null,null,null,null,null,"",null,null,null,null,null,null,null,null,"",null,null,null,null,null,null,null,null,"",null,"",null,null,"",null,null,null,null,null,0,0,0,0,0,{"$f":"IF(AO96<>0,SUMIFS($AP$6:$AP$1001,$AN$6:$AN$1001,AN96,$F$6:$F$1001,F96,$AX$6:$AX$1001,AX96),0)","v":0},0,{"$f":"IF(AO96<>0,SUMIFS($AP$6:$AP$1001,$AR$6:$AR$1001,AR96,$F$6:$F$1001,F96,$AX$6:$AX$1001,AX96),0)","v":0},0,0,0,{"$f":"IF(AU96<>0,SUMIFS($AV$6:$AV$1001,$AT$6:$AT$1001,AT96,$F$6:$F$1001,F96,$AY$6:$AY$1001,AY96),0)","v":0},1900,1900,0,0,0,0,0,0,0,0,0,"","",0,0,0,"FORMATO INCORRECTO","FORMATO INCORRECTO","FORMATO INCORRECTO",{"$f":"IF(L96=\"\",\"\",IF(ISERROR(edata(L96)),\"FORMATO INCORRECTO\",\"FORMATO CORRECTO\"))","v":""},{"$f":"IF(U96=\"\",\"\",IF(ISERROR(edata(U96)),\"FORMATO INCORRECTO\",\"FORMATO CORRECTO\"))","v":""},{"$f":"IF(N96=\"\",\"\",IF(ISERROR(edata(N96)),\"FORMATO INCORRECTO\",\"FORMATO CORRECTO\"))","v":""}]
["1900-03-31","",null,null,null,null,null,null,"",null,null,null,null,null,null,null,null,"",null,null,null,null,null,null,null,null,"",null,"",null,null,"",null,null,null,null,null,0,0,0,0,0,{"$f":"IF(AO97<>0,SUMIFS($AP$6:$AP$1001,$AN$6:$AN$1001,AN97,$F$6:$F$1001,F97,$AX$6:$AX$1001,AX97),0)","v":0},0,{"$f":"IF(AO97<>0,SUMIFS($AP$6:$AP$1001,$AR$6:$AR$1001,AR97,$F$6:$F$1001,F97,$AX$6:$AX$1001,AX97),0)","v":0},0,0,0,{"$f":"IF(AU97<>0,SUMIFS($AV$6:$AV$1001,$AT$6:$AT$1001,AT97,$F$6:$F$1001,F97,$AY$6:$AY$1001,AY97),0)","v":0},1900,1900,0,0,0,0,0,0,0,0,0,"","",0,0,0,"FORMATO INCORRECTO","FORMATO INCORRECTO","FORMATO INCORRECTO",{"$f":"IF(L97=\"\",\"\",IF(ISERROR(edata(L97)),\"FORMATO INCORRECTO\",\"FORMATO CORRECTO\"))","v":""},{"$f":"IF(U97=\"\",\"\",IF(ISERROR(edata(U97)),\"FORMATO INCORRECTO\",\"FORMATO CORRECTO\"))","v":""},{"$f":"IF(N97=\"\",\"\",IF(ISERROR(edata(N97)),\"FORMATO INCORRECTO\",\"FORMATO CORRECTO\"))","v":""}]
["1900-04-01","",null,null,null,null,null,null,"",null,null,null,null,null,null,null,null,"",null,null,null,null,null,null,null,null,"",null,"",null,null,"",null,null,null,null,null,0,0,0,0,0,{"$f":"IF(AO98<>0,SUMIFS($AP$6:$AP$1001,$AN$6:$AN$1001,AN98,$F$6:$F$1001,F98,$AX$6:$AX$1001,AX98),0)","v":0},0,{"$f":"IF(AO98<>0,SUMIFS($AP$6:$AP$1001,$AR$6:$AR$1001,AR98,$F$6:$F$1001,F98,$AX$6:$AX$1001,AX98),0)","v":0},0,0,0,{"$f":"IF(AU98<>0,SUMIFS($AV$6:$AV$1001,$AT$6:$AT$1001,AT98,$F$6:$F$1001,F98,$AY$6:$AY$1001,AY98),0)","v":0},1900,1900,0,0,0,0,0,0,0,0,0,"","",0,0,0,"FORMATO INCORRECTO","FORMATO INCORRECTO","FORMATO INCORRECTO",{"$f":"IF(L98=\"\",\"\",IF(ISERROR(edata(L98)),\"FORMATO INCORRECTO\",\"FORMATO CORRECTO\"))","v":""},{"$f":"IF(U98=\"\",\"\",IF(ISERROR(edata(U98)),\"FORMATO INCORRECTO\",\"FORMATO CORRECTO\"))","v":""},{"$f":"IF(N98=\"\",\"\",IF(ISERROR(edata(N98)),\"FORMATO INCORRECTO\",\"FORMATO CORRECTO\"))","v":""}]
["1900-04-02","",null,null,null,null,null,null,"",null,null,null,null,null,null,null,null,"",null,null,null,null,null,null,null,null,"",null,"",null,null,"",null,null,null,null,null,0,0,0,0,0,{"$f":"IF(AO99<>0,SUMIFS($AP$6:$AP$1001,$AN$6:$AN$1001,AN99,$F$6:$F$1001,F99,$AX$6:$AX$1001,AX99),0)","v":0},0,{"$f":"IF(AO99<>0,SUMIFS($AP$6:$AP$1001,$AR$6:$AR$1001,AR99,$F$6:$F$1001,F99,$AX$6:$AX$1001,AX99),0)","v":0},0,0,0,{"$f":"IF(AU99<>0,SUMIFS($AV$6:$AV$1001,$AT$6:$AT$1001,AT99,$F$6:$F$1001,F99,$AY$6:$AY$1001,AY99),0)","v":0},1900,1900,0,0,0,0,0,0,0,0,0,"","",0,0,0,"FORMATO INCORRECTO","FORMATO INCORRECTO","FORMATO INCORRECTO",{"$f":"IF(L99=\"\",\"\",IF(ISERROR(edata(L99)),\"FORMATO INCORRECTO\",\"FORMATO CORRECTO\"))","v":""},{"$f":"IF(U99=\"\",\"\",IF(ISERROR(edata(U99)),\"FORMATO INCORRECTO\",\"FORMATO CORRECTO\"))","v":""},{"$f":"IF(N99=\"\",\"\",IF(ISERROR(edata(N99)),\"FORMATO INCORRECTO\",\"FORMATO CORRECTO\"))","v":""}]
["1900-04-03","",null,null,null,null,null,null,"",null,null,null,null,null,null,null,null,"",null,null,null,null,null,null,null,null,"",null,"",null,null,"",null,null,null,null,null,0,0,0,0,0,{"$f":"IF(AO100<>0,SUMIFS($AP$6:$AP$1001,$AN$6:$AN$1001,AN100,$F$6:$F$1001,F100,$AX$6:$AX$1001,AX100),0)","v":0},0,{"$f":"IF(AO100<>0,SUMIFS($AP$6:$AP$1001,$AR$6:$AR$1001,AR100,$F$6:$F$1001,F100,$AX$6:$AX$1001,AX100),0)","v":0},0,0,0,{"$f":"IF(AU100<>0,SUMIFS($AV$6:$AV$1001,$AT$6:$AT$1001,AT100,$F$6:$F$1001,F100,$AY$6:$AY$1001,AY100),0)","v":0},1900,1900,0,0,0,0,0,0,0,0,0,"","",0,0,0,"FORMATO INCORRECTO","FORMATO INCORRECTO","FORMATO INCORRECTO",{"$f":"IF(L100=\"\",\"\",IF(ISERROR(edata(L100)),\"FORMATO INCORRECTO\",\"FORMATO CORRECTO\"))","v":""},{"$f":"IF(U100=\"\",\"\",IF(ISERROR(edata(U100)),\"FORMATO INCORRECTO\",\"FORMATO CORRECTO\"))","v":""},{"$f":"IF(N100=\"\",\"\",IF(ISERROR(edata(N100)),\"FORMATO INCORRECTO\",\"FORMATO CORRECTO\"))","v":""}]
["1900-04-04","",null,null,null,null,null,null,"",null,null,null,null,null,null,null,null,"",null,null,null,null,null,null,null,null,"",null,"",null,null,"",null,null,null,null,null,0,0,0,0,0,{"$f":"IF(AO101<>0,SUMIFS($AP$6:$AP$1001,$AN$6:$AN$1001,AN101,$F$6:$F$1001,F101,$AX$6:$AX$1001,AX101),0)","v":0},0,{"$f":"IF(AO101<>0,SUMIFS($AP$6:$AP$1001,$AR$6:$AR$1001,AR101,$F$6:$F$1001,F101,$AX$6:$AX$1001,AX101),0)","v":0},0,0,0,{"$f":"IF(AU101<>0,SUMIFS($AV$6:$AV$1001,$AT$6:$AT$1001,AT101,$F$6:$F$1001,F101,$AY$6:$AY$1001,AY101),0)","v":0},1900,1900,0,0,0,0,0,0,0,0,0,"","",0,0,0,"FORMATO INCORRECTO","FORMATO INCORRECTO","FORMATO INCORRECTO",{"$f":"IF(L101=\"\",\"\",IF(ISERROR(edata(L101)),\"FORMATO INCORRECTO\",\"FORMATO CORRECTO\"))","v":""},{"$f":"IF(U101=\"\",\"\",IF(ISERROR(edata(U101)),\"FORMATO INCORRECTO\",\"FORMATO CORRECTO\"))","v":""},{"$f":"IF(N101=\"\",\"\",IF(ISERROR(edata(N101)),\"FORMATO INCORRECTO\",\"FORMATO CORRECTO\"))","v":""}]
["1900-04-05","",null,null,null,null,null,null,"",null,null,null,null,null,null,null,null,"",null,null,null,null,null,null,null,null,"",null,"",null,null,"",null,null,null,null,null,0,0,0,0,0,{"$f":"IF(AO102<>0,SUMIFS($AP$6:$AP$1001,$AN$6:$AN$1001,AN102,$F$6:$F$1001,F102,$AX$6:$AX$1001,AX102),0)","v":0},0,{"$f":"IF(AO102<>0,SUMIFS($AP$6:$AP$1001,$AR$6:$AR$1001,AR102,$F$6:$F$1001,F102,$AX$6:$AX$1001,AX102),0)","v":0},0,0,0,{"$f":"IF(AU102<>0,SUMIFS($AV$6:$AV$1001,$AT$6:$AT$1001,AT102,$F$6:$F$1001,F102,$AY$6:$AY$1001,AY102),0)","v":0},1900,1900,0,0,0,0,0,0,0,0,0,"","",0,0,0,"FORMATO INCORRECTO","FORMATO INCORRECTO","FORMATO INCORRECTO",{"$f":"IF(L102=\"\",\"\",IF(ISERROR(edata(L102)),\"FORMATO INCORRECTO\",\"FORMATO CORRECTO\"))","v":""},{"$f":"IF(U102=\"\",\"\",IF(ISERROR(edata(U102)),\"FORMATO INCORRECTO\",\"FORMATO CORRECTO\"))","v":""},{"$f":"IF(N102=\"\",\"\",IF(ISERROR(edata(N102)),\"FORMATO INCORRECTO\",\"FORMATO CORRECTO\"))","v":""}]
["1900-04-06","",null,null,null,null,null,null,"",null,null,null,null,null,null,null,null,"",null,null,null,null,null,null,null,null,"",null,"",null,null,"",null,null,null,null,null,0,0,0,0,0,{"$f":"IF(AO103<>0,SUMIFS($AP$6:$AP$1001,$AN$6:$AN$1001,AN103,$F$6:$F$1001,F103,$AX$6:$AX$1001,AX103),0)","v":0},0,{"$f":"IF(AO103<>0,SUMIFS($AP$6:$AP$1001,$AR$6:$AR$1001,AR103,$F$6:$F$1001,F103,$AX$6:$AX$1001,AX103),0)","v":0},0,0,0,{"$f":"IF(AU103<>0,SUMIFS($AV$6:$AV$1001,$AT$6:$AT$1001,AT103,$F$6:$F$1001,F103,$AY$6:$AY$1001,AY103),0)","v":0},1900,1900,0,0,0,0,0,0,0,0,0,"","",0,0,0,"FORMATO INCORRECTO","FORMATO INCORRECTO","FORMATO INCORRECTO",{"$f":"IF(L103=\"\",\"\",IF(ISERROR(edata(L103)),\"FORMATO INCORRECTO\",\"FORMATO CORRECTO\"))","v":""},{"$f":"IF(U103=\"\",\"\",IF(ISERROR(edata(U103)),\"FORMATO INCORRECTO\",\"FORMATO CORRECTO\"))","v":""},{"$f":"IF(N103=\"\",\"\",IF(ISERROR(edata(N103)),\"FORMATO INCORRECTO\",\"FORMATO CORRECTO\"))","v":""}]
["1900-04-07","",null,null,null,null,null,null,"",null,null,null,null,null,null,null,null,"",null,null,null,null,null,null,null,null,"",null,"",null,null,"",null,null,null,null,null,0,0,0,0,0,{"$f":"IF(AO104<>0,SUMIFS($AP$6:$AP$1001,$AN$6:$AN$1001,AN104,$F$6:$F$1001,F104,$AX$6:$AX$1001,AX104),0)","v":0},0,{"$f":"IF(AO104<>0,SUMIFS($AP$6:$AP$1001,$AR$6:$AR$1001,AR104,$F$6:$F$1001,F104,$AX$6:$AX$1001,AX104),0)","v":0},0,0,0,{"$f":"IF(AU104<>0,SUMIFS($AV$6:$AV$1001,$AT$6:$AT$1001,AT104,$F$6:$F$1001,F104,$AY$6:$AY$1001,AY104),0)","v":0},1900,1900,0,0,0,0,0,0,0,0,0,"","",0,0,0,"FORMATO INCORRECTO","FORMATO INCORRECTO","FORMATO INCORRECTO",{"$f":"IF(L104=\"\",\"\",IF(ISERROR(edata(L104)),\"FORMATO INCORRECTO\",\"FORMATO CORRECTO\"))","v":""},{"$f":"IF(U104=\"\",\"\",IF(ISERROR(edata(U104)),\"FORMATO INCORRECTO\",\"FORMATO CORRECTO\"))","v":""},{"$f":"IF(N104=\"\",\"\",IF(ISERROR(edata(N104)),\"FORMATO INCORRECTO\",\"FORMATO CORRECTO\"))","v":""}]
["1900-04-08","",null,null,null,null,null,null,"",null,null,null,null,null,null,null,null,"",null,null,null,null,null,null,null,null,"",null,"",null,null,"",null,null,null,null,null,0,0,0,0,0,{"$f":"IF(AO105<>0,SUMIFS($AP$6:$AP$1001,$AN$6:$AN$1001,AN105,$F$6:$F$1001,F105,$AX$6:$AX$1001,AX105),0)","v":0},0,{"$f":"IF(AO105<>0,SUMIFS($AP$6:$AP$1001,$AR$6:$AR$1001,AR105,$F$6:$F$1001,F105,$AX$6:$AX$1001,AX105),0)","v":0},0,0,0,{"$f":"IF(AU105<>0,SUMIFS($AV$6:$AV$1001,$AT$6:$AT$1001,AT105,$F$6:$F$1001,F105,$AY$6:$AY$1001,AY105),0)","v":0},1900,1900,0,0,0,0,0,0,0,0,0,"","",0,0,0,"FORMATO INCORRECTO","FORMATO INCORRECTO","FORMATO INCORRECTO",{"$f":"IF(L105=\"\",\"\",IF(ISERROR(edata(L105)),\"FORMATO INCORRECTO\",\"FORMATO CORRECTO\"))","v":""},{"$f":"IF(U105=\"\",\"\",IF(ISERROR(edata(U105)),\"FORMATO INCORRECTO\",\"FORMATO CORRECTO\"))","v":""},{"$f":"IF(N105=\"\",\"\",IF(ISERROR(edata(N105)),\"FORMATO INCORRECTO\",\"FORMATO CORRECTO\"))","v":""}]
["1900-04-09","",null,null,null,null,null,null,"",null,null,null,null,null,null,null,null,"",null,null,null,null,null,null,null,null,"",null,"",null,null,"",null,null,null,null,null,0,0,0,0,0,{"$f":"IF(AO106<>0,SUMIFS($AP$6:$AP$1001,$AN$6:$AN$1001,AN106,$F$6:$F$1001,F106,$AX$6:$AX$1001,AX106),0)","v":0},0,{"$f":"IF(AO106<>0,SUMIFS($AP$6:$AP$1001,$AR$6:$AR$1001,AR106,$F$6:$F$1001,F106,$AX$6:$AX$1001,AX106),0)","v":0},0,0,0,{"$f":"IF(AU106<>0,SUMIFS($AV$6:$AV$1001,$AT$6:$AT$1001,AT106,$F$6:$F$1001,F106,$AY$6:$AY$1001,AY106),0)","v":0},1900,1900,0,0,0,0,0,0,0,0,0,"","",0,0,0,"FORMATO INCORRECTO","FORMATO INCORRECTO","FORMATO INCORRECTO",{"$f":"IF(L106=\"\",\"\",IF(ISERROR(edata(L106)),\"FORMATO INCORRECTO\",\"FORMATO CORRECTO\"))","v":""},{"$f":"IF(U106=\"\",\"\",IF(ISERROR(edata(U106)),\"FORMATO INCORRECTO\",\"FORMATO CORRECTO\"))","v":""},{"$f":"IF(N106=\"\",\"\",IF(ISERROR(edata(N106)),\"FORMATO INCORRECTO\",\"FORMATO CORRECTO\"))","v":""}]
["1900-04-10","",null,null,null,null,null,null,"",null,null,null,null,null,null,null,null,"",null,null,null,null,null,null,null,null,"",null,"",null,null,"",null,null,null,null,null,0,0,0,0,0,{"$f":"IF(AO107<>0,SUMIFS($AP$6:$AP$1001,$AN$6:$AN$1001,AN107,$F$6:$F$1001,F107,$AX$6:$AX$1001,AX107),0)","v":0},0,{"$f":"IF(AO107<>0,SUMIFS($AP$6:$AP$1001,$AR$6:$AR$1001,AR107,$F$6:$F$1001,F107,$AX$6:$AX$1001,AX107),0)","v":0},0,0,0,{"$f":"IF(AU107<>0,SUMIFS($AV$6:$AV$1001,$AT$6:$AT$1001,AT107,$F$6:$F$1001,F107,$AY$6:$AY$1001,AY107),0)","v":0},1900,1900,0,0,0,0,0,0,0,0,0,"","",0,0,0,"FORMATO INCORRECTO","FORMATO INCORRECTO","FORMATO INCORRECTO",{"$f":"IF(L107=\"\",\"\",IF(ISERROR(edata(L107)),\"FORMATO INCORRECTO\",\"FORMATO CORRECTO\"))","v":""},{"$f":"IF(U107=\"\",\"\",IF(ISERROR(edata(U107)),\"FORMATO INCORRECTO\",\"FORMATO CORRECTO\"))","v":""},{"$f":"IF(N107=\"\",\"\",IF(ISERROR(edata(N107)),\"FORMATO INCORRECTO\",\"FORMATO CORRECTO\"))","v":""}]
["1900-04-11","",null,null,null,null,null,null,"",null,null,null,null,null,null,null,null,"",null,null,null,null,null,null,null,null,"",null,"",null,null,"",null,null,null,null,null,0,0,0,0,0,{"$f":"IF(AO108<>0,SUMIFS($AP$6:$AP$1001,$AN$6:$AN$1001,AN108,$F$6:$F$1001,F108,$AX$6:$AX$1001,AX108),0)","v":0},0,{"$f":"IF(AO108<>0,SUMIFS($AP$6:$AP$1001,$AR$6:$AR$1001,AR108,$F$6:$F$1001,F108,$AX$6:$AX$1001,AX108),0)","v":0},0,0,0,{"$f":"IF(AU108<>0,SUMIFS($AV$6:$AV$1001,$AT$6:$AT$1001,AT108,$F$6:$F$1001,F108,$AY$6:$AY$1001,AY108),0)","v":0},1900,1900,0,0,0,0,0,0,0,0,0,"","",0,0,0,"FORMATO INCORRECTO","FORMATO INCORRECTO","FORMATO INCORRECTO",{"$f":"IF(L108=\"\",\"\",IF(ISERROR(edata(L108)),\"FORMATO INCORRECTO\",\"FORMATO CORRECTO\"))","v":""},{"$f":"IF(U108=\"\",\"\",IF(ISERROR(edata(U108)),\"FORMATO INCORRECTO\",\"FORMATO CORRECTO\"))","v":""},{"$f":"IF(N108=\"\",\"\",IF(ISERROR(edata(N108)),\"FORMATO INCORRECTO\",\"FORMATO CORRECTO\"))","v":""}]
["1900-04-12","",null,null,null,null,null,null,"",null,null,null,null,null,null,null,null,"",null,null,null,null,null,null,null,null,"",null,"",null,null,"",null,null,null,null,null,0,0,0,0,0,{"$f":"IF(AO109<>0,SUMIFS($AP$6:$AP$1001,$AN$6:$AN$1001,AN109,$F$6:$F$1001,F109,$AX$6:$AX$1001,AX109),0)","v":0},0,{"$f":"IF(AO109<>0,SUMIFS($AP$6:$AP$1001,$AR$6:$AR$1001,AR109,$F$6:$F$1001,F109,$AX$6:$AX$1001,AX109),0)","v":0},0,0,0,{"$f":"IF(AU109<>0,SUMIFS($AV$6:$AV$1001,$AT$6:$AT$1001,AT109,$F$6:$F$1001,F109,$AY$6:$AY$1001,AY109),0)","v":0},1900,1900,0,0,0,0,0,0,0,0,0,"","",0,0,0,"FORMATO INCORRECTO","FORMATO INCORRECTO","FORMATO INCORRECTO",{"$f":"IF(L109=\"\",\"\",IF(ISERROR(edata(L109)),\"FORMATO INCORRECTO\",\"FORMATO CORRECTO\"))","v":""},{"$f":"IF(U109=\"\",\"\",IF(ISERROR(edata(U109)),\"FORMATO INCORRECTO\",\"FORMATO CORRECTO\"))","v":""},{"$f":"IF(N109=\"\",\"\",IF(ISERROR(edata(N109)),\"FORMATO INCORRECTO\",\"FORMATO CORRECTO\"))","v":""}]
["1900-04-13","",null,null,null,null,null,null,"",null,null,null,null,null,null,null,null,"",null,null,null,null,null,null,null,null,"",null,"",null,null,"",null,null,null,null,null,0,0,0,0,0,{"$f":"IF(AO110<>0,SUMIFS($AP$6:$AP$1001,$AN$6:$AN$1001,AN110,$F$6:$F$1001,F110,$AX$6:$AX$1001,AX110),0)","v":0},0,{"$f":"IF(AO110<>0,SUMIFS($AP$6:$AP$1001,$AR$6:$AR$1001,AR110,$F$6:$F$1001,F110,$AX$6:$AX$1001,AX110),0)","v":0},0,0,0,{"$f":"IF(AU110<>0,SUMIFS($AV$6:$AV$1001,$AT$6:$AT$1001,AT110,$F$6:$F$1001,F110,$AY$6:$AY$1001,AY110),0)","v":0},1900,1900,0,0,0,0,0,0,0,0,0,"","",0,0,0,"FORMATO INCORRECTO","FORMATO INCORRECTO","FORMATO INCORRECTO",{"$f":"IF(L110=\"\",\"\",IF(ISERROR(edata(L110)),\"FORMATO INCORRECTO\",\"FORMATO CORRECTO\"))","v":""},{"$f":"IF(U110=\"\",\"\",IF(ISERROR(edata(U110)),\"FORMATO INCORRECTO\",\"FORMATO CORRECTO\"))","v":""},{"$f":"IF(N110=\"\",\"\",IF(ISERROR(edata(N110)),\"FORMATO INCORRECTO\",\"FORMATO CORRECTO\"))","v":""}]
["1900-04-14","",null,null,null,null,null,null,"",null,null,null,null,null,null,null,null,"",null,null,null,null,null,null,null,null,"",null,"",null,null,"",null,null,null,null,null,0,0,0,0,0,{"$f":"IF(AO111<>0,SUMIFS($AP$6:$AP$1001,$AN$6:$AN$1001,AN111,$F$6:$F$1001,F111,$AX$6:$AX$1001,AX111),0)","v":0},0,{"$f":"IF(AO111<>0,SUMIFS($AP$6:$AP$1001,$AR$6:$AR$1001,AR111,$F$6:$F$1001,F111,$AX$6:$AX$1001,AX111),0)","v":0},0,0,0,{"$f":"IF(AU111<>0,SUMIFS($AV$6:$AV$1001,$AT$6:$AT$1001,AT111,$F$6:$F$1001,F111,$AY$6:$AY$1001,AY111),0)","v":0},1900,1900,0,0,0,0,0,0,0,0,0,"","",0,0,0,"FORMATO INCORRECTO","FORMATO INCORRECTO","FORMATO INCORRECTO",{"$f":"IF(L111=\"\",\"\",IF(ISERROR(edata(L111)),\"FORMATO INCORRECTO\",\"FORMATO CORRECTO\"))","v":""},{"$f":"IF(U111=\"\",\"\",IF(ISERROR(edata(U111)),\"FORMATO INCORRECTO\",\"FORMATO CORRECTO\"))","v":""},{"$f":"IF(N111=\"\",\"\",IF(ISERROR(edata(N111)),\"FORMATO INCORRECTO\",\"FORMATO CORRECTO\"))","v":""}]
["1900-04-15","",null,null,null,null,null,null,"",null,null,null,null,null,null,null,null,"",null,null,null,null,null,null,null,null,"",null,"",null,null,"",null,null,null,null,null,0,0,0,0,0,{"$f":"IF(AO112<>0,SUMIFS($AP$6:$AP$1001,$AN$6:$AN$1001,AN112,$F$6:$F$1001,F112,$AX$6:$AX$1001,AX112),0)","v":0},0,{"$f":"IF(AO112<>0,SUMIFS($AP$6:$AP$1001,$AR$6:$AR$1001,AR112,$F$6:$F$1001,F112,$AX$6:$AX$1001,AX112),0)","v":0},0,0,0,{"$f":"IF(AU112<>0,SUMIFS($AV$6:$AV$1001,$AT$6:$AT$1001,AT112,$F$6:$F$1001,F112,$AY$6:$AY$1001,AY112),0)","v":0},1900,1900,0,0,0,0,0,0,0,0,0,"","",0,0,0,"FORMATO INCORRECTO","FORMATO INCORRECTO","FORMATO INCORRECTO",{"$f":"IF(L112=\"\",\"\",IF(ISERROR(edata(L112)),\"FORMATO INCORRECTO\",\"FORMATO CORRECTO\"))","v":""},{"$f":"IF(U112=\"\",\"\",IF(ISERROR(edata(U112)),\"FORMATO INCORRECTO\",\"FORMATO CORRECTO\"))","v":""},{"$f":"IF(N112=\"\",\"\",IF(ISERROR(edata(N112)),\"FORMATO INCORRECTO\",\"FORMATO CORRECTO\"))","v":""}]
["1900-04-16","",null,null,null,null,null,null,"",null,null,null,null,null,null,null,null,"",null,null,null,null,null,null,null,null,"",null,"",null,null,"",null,null,null,null,null,0,0,0,0,0,{"$f":"IF(AO113<>0,SUMIFS($AP$6:$AP$1001,$AN$6:$AN$1001,AN113,$F$6:$F$1001,F113,$AX$6:$AX$1001,AX113),0)","v":0},0,{"$f":"IF(AO113<>0,SUMIFS($AP$6:$AP$1001,$AR$6:$AR$1001,AR113,$F$6:$F$1001,F113,$AX$6:$AX$1001,AX113),0)","v":0},0,0,0,{"$f":"IF(AU113<>0,SUMIFS($AV$6:$AV$1001,$AT$6:$AT$1001,AT113,$F$6:$F$1001,F113,$AY$6:$AY$1001,AY113),0)","v":0},1900,1900,0,0,0,0,0,0,0,0,0,"","",0,0,0,"FORMATO INCORRECTO","FORMATO INCORRECTO","FORMATO INCORRECTO",{"$f":"IF(L113=\"\",\"\",IF(ISERROR(edata(L113)),\"FORMATO INCORRECTO\",\"FORMATO CORRECTO\"))","v":""},{"$f":"IF(U113=\"\",\"\",IF(ISERROR(edata(U113)),\"FORMATO INCORRECTO\",\"FORMATO CORRECTO\"))","v":""},{"$f":"IF(N113=\"\",\"\",IF(ISERROR(edata(N113)),\"FORMATO INCORRECTO\",\"FORMATO CORRECTO\"))","v":""}]
["1900-04-17","",null,null,null,null,null,null,"",null,null,null,null,null,null,null,null,"",null,null,null,null,null,null,null,null,"",null,"",null,null,"",null,null,null,null,null,0,0,0,0,0,{"$f":"IF(AO114<>0,SUMIFS($AP$6:$AP$1001,$AN$6:$AN$1001,AN114,$F$6:$F$1001,F114,$AX$6:$AX$1001,AX114),0)","v":0},0,{"$f":"IF(AO114<>0,SUMIFS($AP$6:$AP$1001,$AR$6:$AR$1001,AR114,$F$6:$F$1001,F114,$AX$6:$AX$1001,AX114),0)","v":0},0,0,0,{"$f":"IF(AU114<>0,SUMIFS($AV$6:$AV$1001,$AT$6:$AT$1001,AT114,$F$6:$F$1001,F114,$AY$6:$AY$1001,AY114),0)","v":0},1900,1900,0,0,0,0,0,0,0,0,0,"","",0,0,0,"FORMATO INCORRECTO","FORMATO INCORRECTO","FORMATO INCORRECTO",{"$f":"IF(L114=\"\",\"\",IF(ISERROR(edata(L114)),\"FORMATO INCORRECTO\",\"FORMATO CORRECTO\"))","v":""},{"$f":"IF(U114=\"\",\"\",IF(ISERROR(edata(U114)),\"FORMATO INCORRECTO\",\"FORMATO CORRECTO\"))","v":""},{"$f":"IF(N114=\"\",\"\",IF(ISERROR(edata(N114)),\"FORMATO INCORRECTO\",\"FORMATO CORRECTO\"))","v":""}]
["1900-04-18","",null,null,null,null,null,null,"",null,null,null,null,null,null,null,null,"",null,null,null,null,null,null,null,null,"",null,"",null,null,"",null,null,null,null,null,0,0,0,0,0,{"$f":"IF(AO115<>0,SUMIFS($AP$6:$AP$1001,$AN$6:$AN$1001,AN115,$F$6:$F$1001,F115,$AX$6:$AX$1001,AX115),0)","v":0},0,{"$f":"IF(AO115<>0,SUMIFS($AP$6:$AP$1001,$AR$6:$AR$1001,AR115,$F$6:$F$1001,F115,$AX$6:$AX$1001,AX115),0)","v":0},0,0,0,{"$f":"IF(AU115<>0,SUMIFS($AV$6:$AV$1001,$AT$6:$AT$1001,AT115,$F$6:$F$1001,F115,$AY$6:$AY$1001,AY115),0)","v":0},1900,1900,0,0,0,0,0,0,0,0,0,"","",0,0,0,"FORMATO INCORRECTO","FORMATO INCORRECTO","FORMATO INCORRECTO",{"$f":"IF(L115=\"\",\"\",IF(ISERROR(edata(L115)),\"FORMATO INCORRECTO\",\"FORMATO CORRECTO\"))","v":""},{"$f":"IF(U115=\"\",\"\",IF(ISERROR(edata(U115)),\"FORMATO INCORRECTO\",\"FORMATO CORRECTO\"))","v":""},{"$f":"IF(N115=\"\",\"\",IF(ISERROR(edata(N115)),\"FORMATO INCORRECTO\",\"FORMATO CORRECTO\"))","v":""}]
["1900-04-19","",null,null,null,null,null,null,"",null,null,null,null,null,null,null,null,"",null,null,null,null,null,null,null,null,"",null,"",null,null,"",null,null,null,null,null,0,0,0,0,0,{"$f":"IF(AO116<>0,SUMIFS($AP$6:$AP$1001,$AN$6:$AN$1001,AN116,$F$6:$F$1001,F116,$AX$6:$AX$1001,AX116),0)","v":0},0,{"$f":"IF(AO116<>0,SUMIFS($AP$6:$AP$1001,$AR$6:$AR$1001,AR116,$F$6:$F$1001,F116,$AX$6:$AX$1001,AX116),0)","v":0},0,0,0,{"$f":"IF(AU116<>0,SUMIFS($AV$6:$AV$1001,$AT$6:$AT$1001,AT116,$F$6:$F$1001,F116,$AY$6:$AY$1001,AY116),0)","v":0},1900,1900,0,0,0,0,0,0,0,0,0,"","",0,0,0,"FORMATO INCORRECTO","FORMATO INCORRECTO","FORMATO INCORRECTO",{"$f":"IF(L116=\"\",\"\",IF(ISERROR(edata(L116)),\"FORMATO INCORRECTO\",\"FORMATO CORRECTO\"))","v":""},{"$f":"IF(U116=\"\",\"\",IF(ISERROR(edata(U116)),\"FORMATO INCORRECTO\",\"FORMATO CORRECTO\"))","v":""},{"$f":"IF(N116=\"\",\"\",IF(ISERROR(edata(N116)),\"FORMATO INCORRECTO\",\"FORMATO CORRECTO\"))","v":""}]
["1900-04-20","",null,null,null,null,null,null,"",null,null,null,null,null,null,null,null,"",null,null,null,null,null,null,null,null,"",null,"",null,null,"",null,null,null,null,null,0,0,0,0,0,{"$f":"IF(AO117<>0,SUMIFS($AP$6:$AP$1001,$AN$6:$AN$1001,AN117,$F$6:$F$1001,F117,$AX$6:$AX$1001,AX117),0)","v":0},0,{"$f":"IF(AO117<>0,SUMIFS($AP$6:$AP$1001,$AR$6:$AR$1001,AR117,$F$6:$F$1001,F117,$AX$6:$AX$1001,AX117),0)","v":0},0,0,0,{"$f":"IF(AU117<>0,SUMIFS($AV$6:$AV$1001,$AT$6:$AT$1001,AT117,$F$6:$F$1001,F117,$AY$6:$AY$1001,AY117),0)","v":0},1900,1900,0,0,0,0,0,0,0,0,0,"","",0,0,0,"FORMATO INCORRECTO","FORMATO INCORRECTO","FORMATO INCORRECTO",{"$f":"IF(L117=\"\",\"\",IF(ISERROR(edata(L117)),\"FORMATO INCORRECTO\",\"FORMATO CORRECTO\"))","v":""},{"$f":"IF(U117=\"\",\"\",IF(ISERROR(edata(U117)),\"FORMATO INCORRECTO\",\"FORMATO CORRECTO\"))","v":""},{"$f":"IF(N117=\"\",\"\",IF(ISERROR(edata(N117)),\"FORMATO INCORRECTO\",\"FORMATO CORRECTO\"))","v":""}]
["1900-04-21","",null,null,null,null,null,null,"",null,null,null,null,null,null,null,null,"",null,null,null,null,null,null,null,null,"",null,"",null,null,"",null,null,null,null,null,0,0,0,0,0,{"$f":"IF(AO118<>0,SUMIFS($AP$6:$AP$1001,$AN$6:$AN$1001,AN118,$F$6:$F$1001,F118,$AX$6:$AX$1001,AX118),0)","v":0},0,{"$f":"IF(AO118<>0,SUMIFS($AP$6:$AP$1001,$AR$6:$AR$1001,AR118,$F$6:$F$1001,F118,$AX$6:$AX$1001,AX118),0)","v":0},0,0,0,{"$f":"IF(AU118<>0,SUMIFS($AV$6:$AV$1001,$AT$6:$AT$1001,AT118,$F$6:$F$1001,F118,$AY$6:$AY$1001,AY118),0)","v":0},1900,1900,0,0,0,0,0,0,0,0,0,"","",0,0,0,"FORMATO INCORRECTO","FORMATO INCORRECTO","FORMATO INCORRECTO",{"$f":"IF(L118=\"\",\"\",IF(ISERROR(edata(L118)),\"FORMATO INCORRECTO\",\"FORMATO CORRECTO\"))","v":""},{"$f":"IF(U118=\"\",\"\",IF(ISERROR(edata(U118)),\"FORMATO INCORRECTO\",\"FORMATO CORRECTO\"))","v":""},{"$f":"IF(N118=\"\",\"\",IF(ISERROR(edata(N118)),\"FORMATO INCORRECTO\",\"FORMATO CORRECTO\"))","v":""}]
["1900-04-22","",null,null,null,null,null,null,"",null,null,null,null,null,null,null,null,"",null,null,null,null,null,null,null,null,"",null,"",null,null,"",null,null,null,null,null,0,0,0,0,0,{"$f":"IF(AO119<>0,SUMIFS($AP$6:$AP$1001,$AN$6:$AN$1001,AN119,$F$6:$F$1001,F119,$AX$6:$AX$1001,AX119),0)","v":0},0,{"$f":"IF(AO119<>0,SUMIFS($AP$6:$AP$1001,$AR$6:$AR$1001,AR119,$F$6:$F$1001,F119,$AX$6:$AX$1001,AX119),0)","v":0},0,0,0,{"$f":"IF(AU119<>0,SUMIFS($AV$6:$AV$1001,$AT$6:$AT$1001,AT119,$F$6:$F$1001,F119,$AY$6:$AY$1001,AY119),0)","v":0},1900,1900,0,0,0,0,0,0,0,0,0,"","",0,0,0,"FORMATO INCORRECTO","FORMATO INCORRECTO","FORMATO INCORRECTO",{"$f":"IF(L119=\"\",\"\",IF(ISERROR(edata(L119)),\"FORMATO INCORRECTO\",\"FORMATO CORRECTO\"))","v":""},{"$f":"IF(U119=\"\",\"\",IF(ISERROR(edata(U119)),\"FORMATO INCORRECTO\",\"FORMATO CORRECTO\"))","v":""},{"$f":"IF(N119=\"\",\"\",IF(ISERROR(edata(N119)),\"FORMATO INCORRECTO\",\"FORMATO CORRECTO\"))","v":""}]
["1900-04-23","",null,null,null,null,null,null,"",null,null,null,null,null,null,null,null,"",null,null,null,null,null,null,null,null,"",null,"",null,null,"",null,null,null,null,null,0,0,0,0,0,{"$f":"IF(AO120<>0,SUMIFS($AP$6:$AP$1001,$AN$6:$AN$1001,AN120,$F$6:$F$1001,F120,$AX$6:$AX$1001,AX120),0)","v":0},0,{"$f":"IF(AO120<>0,SUMIFS($AP$6:$AP$1001,$AR$6:$AR$1001,AR120,$F$6:$F$1001,F120,$AX$6:$AX$1001,AX120),0)","v":0},0,0,0,{"$f":"IF(AU120<>0,SUMIFS($AV$6:$AV$1001,$AT$6:$AT$1001,AT120,$F$6:$F$1001,F120,$AY$6:$AY$1001,AY120),0)","v":0},1900,1900,0,0,0,0,0,0,0,0,0,"","",0,0,0,"FORMATO INCORRECTO","FORMATO INCORRECTO","FORMATO INCORRECTO",{"$f":"IF(L120=\"\",\"\",IF(ISERROR(edata(L120)),\"FORMATO INCORRECTO\",\"FORMATO CORRECTO\"))","v":""},{"$f":"IF(U120=\"\",\"\",IF(ISERROR(edata(U120)),\"FORMATO INCORRECTO\",\"FORMATO CORRECTO\"))","v":""},{"$f":"IF(N120=\"\",\"\",IF(ISERROR(edata(N120)),\"FORMATO INCORRECTO\",\"FORMATO CORRECTO\"))","v":""}]
["1900-04-24","",null,null,null,null,null,null,"",null,null,null,null,null,null,null,null,"",null,null,null,null,null,null,null,null,"",null,"",null,null,"",null,null,null,null,null,0,0,0,0,0,{"$f":"IF(AO121<>0,SUMIFS($AP$6:$AP$1001,$AN$6:$AN$1001,AN121,$F$6:$F$1001,F121,$AX$6:$AX$1001,AX121),0)","v":0},0,{"$f":"IF(AO121<>0,SUMIFS($AP$6:$AP$1001,$AR$6:$AR$1001,AR121,$F$6:$F$1001,F121,$AX$6:$AX$1001,AX121),0)","v":0},0,0,0,{"$f":"IF(AU121<>0,SUMIFS($AV$6:$AV$1001,$AT$6:$AT$1001,AT121,$F$6:$F$1001,F121,$AY$6:$AY$1001,AY121),0)","v":0},1900,1900,0,0,0,0,0,0,0,0,0,"","",0,0,0,"FORMATO INCORRECTO","FORMATO INCORRECTO","FORMATO INCORRECTO",{"$f":"IF(L121=\"\",\"\",IF(ISERROR(edata(L121)),\"FORMATO INCORRECTO\",\"FORMATO CORRECTO\"))","v":""},{"$f":"IF(U121=\"\",\"\",IF(ISERROR(edata(U121)),\"FORMATO INCORRECTO\",\"FORMATO CORRECTO\"))","v":""},{"$f":"IF(N121=\"\",\"\",IF(ISERROR(edata(N121)),\"FORMATO INCORRECTO\",\"FORMATO CORRECTO\"))","v":""}]
["1900-04-25","",null,null,null,null,null,null,"",null,null,null,null,null,null,null,null,"",null,null,null,null,null,null,null,null,"",null,"",null,null,"",null,null,null,null,null,0,0,0,0,0,{"$f":"IF(AO122<>0,SUMIFS($AP$6:$AP$1001,$AN$6:$AN$1001,AN122,$F$6:$F$1001,F122,$AX$6:$AX$1001,AX122),0)","v":0},0,{"$f":"IF(AO122<>0,SUMIFS($AP$6:$AP$1001,$AR$6:$AR$1001,AR122,$F$6:$F$1001,F122,$AX$6:$AX$1001,AX122),0)","v":0},0,0,0,{"$f":"IF(AU122<>0,SUMIFS($AV$6:$AV$1001,$AT$6:$AT$1001,AT122,$F$6:$F$1001,F122,$AY$6:$AY$1001,AY122),0)","v":0},1900,1900,0,0,0,0,0,0,0,0,0,"","",0,0,0,"FORMATO INCORRECTO","FORMATO INCORRECTO","FORMATO INCORRECTO",{"$f":"IF(L122=\"\",\"\",IF(ISERROR(edata(L122)),\"FORMATO INCORRECTO\",\"FORMATO CORRECTO\"))","v":""},{"$f":"IF(U122=\"\",\"\",IF(ISERROR(edata(U122)),\"FORMATO INCORRECTO\",\"FORMATO CORRECTO\"))","v":""},{"$f":"IF(N122=\"\",\"\",IF(ISERROR(edata(N122)),\"FORMATO INCORRECTO\",\"FORMATO CORRECTO\"))","v":""}]
["1900-04-26","",null,null,null,null,null,null,"",null,null,null,null,null,null,null,null,"",null,null,null,null,null,null,null,null,"",null,"",null,null,"",null,null,null,null,null,0,0,0,0,0,{"$f":"IF(AO123<>0,SUMIFS($AP$6:$AP$1001,$AN$6:$AN$1001,AN123,$F$6:$F$1001,F123,$AX$6:$AX$1001,AX123),0)","v":0},0,{"$f":"IF(AO123<>0,SUMIFS($AP$6:$AP$1001,$AR$6:$AR$1001,AR123,$F$6:$F$1001,F123,$AX$6:$AX$1001,AX123),0)","v":0},0,0,0,{"$f":"IF(AU123<>0,SUMIFS($AV$6:$AV$1001,$AT$6:$AT$1001,AT123,$F$6:$F$1001,F123,$AY$6:$AY$1001,AY123),0)","v":0},1900,1900,0,0,0,0,0,0,0,0,0,"","",0,0,0,"FORMATO INCORRECTO","FORMATO INCORRECTO","FORMATO INCORRECTO",{"$f":"IF(L123=\"\",\"\",IF(ISERROR(edata(L123)),\"FORMATO INCORRECTO\",\"FORMATO CORRECTO\"))","v":""},{"$f":"IF(U123=\"\",\"\",IF(ISERROR(edata(U123)),\"FORMATO INCORRECTO\",\"FORMATO CORRECTO\"))","v":""},{"$f":"IF(N123=\"\",\"\",IF(ISERROR(edata(N123)),\"FORMATO INCORRECTO\",\"FORMATO CORRECTO\"))","v":""}]
["1900-04-27","",null,null,null,null,null,null,"",null,null,null,null,null,null,null,null,"",null,null,null,null,null,null,null,null,"",null,"",null,null,"",null,null,null,null,null,0,0,0,0,0,{"$f":"IF(AO124<>0,SUMIFS($AP$6:$AP$1001,$AN$6:$AN$1001,AN124,$F$6:$F$1001,F124,$AX$6:$AX$1001,AX124),0)","v":0},0,{"$f":"IF(AO124<>0,SUMIFS($AP$6:$AP$1001,$AR$6:$AR$1001,AR124,$F$6:$F$1001,F124,$AX$6:$AX$1001,AX124),0)","v":0},0,0,0,{"$f":"IF(AU124<>0,SUMIFS($AV$6:$AV$1001,$AT$6:$AT$1001,AT124,$F$6:$F$1001,F124,$AY$6:$AY$1001,AY124),0)","v":0},1900,1900,0,0,0,0,0,0,0,0,0,"","",0,0,0,"FORMATO INCORRECTO","FORMATO INCORRECTO","FORMATO INCORRECTO",{"$f":"IF(L124=\"\",\"\",IF(ISERROR(edata(L124)),\"FORMATO INCORRECTO\",\"FORMATO CORRECTO\"))","v":""},{"$f":"IF(U124=\"\",\"\",IF(ISERROR(edata(U124)),\"FORMATO INCORRECTO\",\"FORMATO CORRECTO\"))","v":""},{"$f":"IF(N124=\"\",\"\",IF(ISERROR(edata(N124)),\"FORMATO INCORRECTO\",\"FORMATO CORRECTO\"))","v":""}]
["1900-04-28","",null,null,null,null,null,null,"",null,null,null,null,null,null,null,null,"",null,null,null,null,null,null,null,null,"",null,"",null,null,"",null,null,null,null,null,0,0,0,0,0,{"$f":"IF(AO125<>0,SUMIFS($AP$6:$AP$1001,$AN$6:$AN$1001,AN125,$F$6:$F$1001,F125,$AX$6:$AX$1001,AX125),0)","v":0},0,{"$f":"IF(AO125<>0,SUMIFS($AP$6:$AP$1001,$AR$6:$AR$1001,AR125,$F$6:$F$1001,F125,$AX$6:$AX$1001,AX125),0)","v":0},0,0,0,{"$f":"IF(AU125<>0,SUMIFS($AV$6:$AV$1001,$AT$6:$AT$1001,AT125,$F$6:$F$1001,F125,$AY$6:$AY$1001,AY125),0)","v":0},1900,1900,0,0,0,0,0,0,0,0,0,"","",0,0,0,"FORMATO INCORRECTO","FORMATO INCORRECTO","FORMATO INCORRECTO",{"$f":"IF(L125=\"\",\"\",IF(ISERROR(edata(L125)),\"FORMATO INCORRECTO\",\"FORMATO CORRECTO\"))","v":""},{"$f":"IF(U125=\"\",\"\",IF(ISERROR(edata(U125)),\"FORMATO INCORRECTO\",\"FORMATO CORRECTO\"))","v":""},{"$f":"IF(N125=\"\",\"\",IF(ISERROR(edata(N125)),\"FORMATO INCORRECTO\",\"FORMATO CORRECTO\"))","v":""}]
["1900-04-29","",null,null,null,null,null,null,"",null,null,null,null,null,null,null,null,"",null,null,null,null,null,null,null,null,"",null,"",null,null,"",null,null,null,null,null,0,0,0,0,0,{"$f":"IF(AO126<>0,SUMIFS($AP$6:$AP$1001,$AN$6:$AN$1001,AN126,$F$6:$F$1001,F126,$AX$6:$AX$1001,AX126),0)","v":0},0,{"$f":"IF(AO126<>0,SUMIFS($AP$6:$AP$1001,$AR$6:$AR$1001,AR126,$F$6:$F$1001,F126,$AX$6:$AX$1001,AX126),0)","v":0},0,0,0,{"$f":"IF(AU126<>0,SUMIFS($AV$6:$AV$1001,$AT$6:$AT$1001,AT126,$F$6:$F$1001,F126,$AY$6:$AY$1001,AY126),0)","v":0},1900,1900,0,0,0,0,0,0,0,0,0,"","",0,0,0,"FORMATO INCORRECTO","FORMATO INCORRECTO","FORMATO INCORRECTO",{"$f":"IF(L126=\"\",\"\",IF(ISERROR(edata(L126)),\"FORMATO INCORRECTO\",\"FORMATO CORRECTO\"))","v":""},{"$f":"IF(U126=\"\",\"\",IF(ISERROR(edata(U126)),\"FORMATO INCORRECTO\",\"FORMATO CORRECTO\"))","v":""},{"$f":"IF(N126=\"\",\"\",IF(ISERROR(edata(N126)),\"FORMATO INCORRECTO\",\"FORMATO CORRECTO\"))","v":""}]
["1900-04-30","",null,null,null,null,null,null,"",null,null,null,null,null,null,null,null,"",null,null,null,null,null,null,null,null,"",null,"",null,null,"",null,null,null,null,null,0,0,0,0,0,{"$f":"IF(AO127<>0,SUMIFS($AP$6:$AP$1001,$AN$6:$AN$1001,AN127,$F$6:$F$1001,F127,$AX$6:$AX$1001,AX127),0)","v":0},0,{"$f":"IF(AO127<>0,SUMIFS($AP$6:$AP$1001,$AR$6:$AR$1001,AR127,$F$6:$F$1001,F127,$AX$6:$AX$1001,AX127),0)","v":0},0,0,0,{"$f":"IF(AU127<>0,SUMIFS($AV$6:$AV$1001,$AT$6:$AT$1001,AT127,$F$6:$F$1001,F127,$AY$6:$AY$1001,AY127),0)","v":0},1900,1900,0,0,0,0,0,0,0,0,0,"","",0,0,0,"FORMATO INCORRECTO","FORMATO INCORRECTO","FORMATO INCORRECTO",{"$f":"IF(L127=\"\",\"\",IF(ISERROR(edata(L127)),\"FORMATO INCORRECTO\",\"FORMATO CORRECTO\"))","v":""},{"$f":"IF(U127=\"\",\"\",IF(ISERROR(edata(U127)),\"FORMATO INCORRECTO\",\"FORMATO CORRECTO\"))","v":""},{"$f":"IF(N127=\"\",\"\",IF(ISERROR(edata(N127)),\"FORMATO INCORRECTO\",\"FORMATO CORRECTO\"))","v":""}]
["1900-05-01","",null,null,null,null,null,null,"",null,null,null,null,null,null,null,null,"",null,null,null,null,null,null,null,null,"",null,"",null,null,"",null,null,null,null,null,0,0,0,0,0,{"$f":"IF(AO128<>0,SUMIFS($AP$6:$AP$1001,$AN$6:$AN$1001,AN128,$F$6:$F$1001,F128,$AX$6:$AX$1001,AX128),0)","v":0},0,{"$f":"IF(AO128<>0,SUMIFS($AP$6:$AP$1001,$AR$6:$AR$1001,AR128,$F$6:$F$1001,F128,$AX$6:$AX$1001,AX128),0)","v":0},0,0,0,{"$f":"IF(AU128<>0,SUMIFS($AV$6:$AV$1001,$AT$6:$AT$1001,AT128,$F$6:$F$1001,F128,$AY$6:$AY$1001,AY128),0)","v":0},1900,1900,0,0,0,0,0,0,0,0,0,"","",0,0,0,"FORMATO INCORRECTO","FORMATO INCORRECTO","FORMATO INCORRECTO",{"$f":"IF(L128=\"\",\"\",IF(ISERROR(edata(L128)),\"FORMATO INCORRECTO\",\"FORMATO CORRECTO\"))","v":""},{"$f":"IF(U128=\"\",\"\",IF(ISERROR(edata(U128)),\"FORMATO INCORRECTO\",\"FORMATO CORRECTO\"))","v":""},{"$f":"IF(N128=\"\",\"\",IF(ISERROR(edata(N128)),\"FORMATO INCORRECTO\",\"FORMATO CORRECTO\"))","v":""}]
["1900-05-02","",null,null,null,null,null,null,"",null,null,null,null,null,null,null,null,"",null,null,null,null,null,null,null,null,"",null,"",null,null,"",null,null,null,null,null,0,0,0,0,0,{"$f":"IF(AO129<>0,SUMIFS($AP$6:$AP$1001,$AN$6:$AN$1001,AN129,$F$6:$F$1001,F129,$AX$6:$AX$1001,AX129),0)","v":0},0,{"$f":"IF(AO129<>0,SUMIFS($AP$6:$AP$1001,$AR$6:$AR$1001,AR129,$F$6:$F$1001,F129,$AX$6:$AX$1001,AX129),0)","v":0},0,0,0,{"$f":"IF(AU129<>0,SUMIFS($AV$6:$AV$1001,$AT$6:$AT$1001,AT129,$F$6:$F$1001,F129,$AY$6:$AY$1001,AY129),0)","v":0},1900,1900,0,0,0,0,0,0,0,0,0,"","",0,0,0,"FORMATO INCORRECTO","FORMATO INCORRECTO","FORMATO INCORRECTO",{"$f":"IF(L129=\"\",\"\",IF(ISERROR(edata(L129)),\"FORMATO INCORRECTO\",\"FORMATO CORRECTO\"))","v":""},{"$f":"IF(U129=\"\",\"\",IF(ISERROR(edata(U129)),\"FORMATO INCORRECTO\",\"FORMATO CORRECTO\"))","v":""},{"$f":"IF(N129=\"\",\"\",IF(ISERROR(edata(N129)),\"FORMATO INCORRECTO\",\"FORMATO CORRECTO\"))","v":""}]
["1900-05-03","",null,null,null,null,null,null,"",null,null,null,null,null,null,null,null,"",null,null,null,null,null,null,null,null,"",null,"",null,null,"",null,null,null,null,null,0,0,0,0,0,{"$f":"IF(AO130<>0,SUMIFS($AP$6:$AP$1001,$AN$6:$AN$1001,AN130,$F$6:$F$1001,F130,$AX$6:$AX$1001,AX130),0)","v":0},0,{"$f":"IF(AO130<>0,SUMIFS($AP$6:$AP$1001,$AR$6:$AR$1001,AR130,$F$6:$F$1001,F130,$AX$6:$AX$1001,AX130),0)","v":0},0,0,0,{"$f":"IF(AU130<>0,SUMIFS($AV$6:$AV$1001,$AT$6:$AT$1001,AT130,$F$6:$F$1001,F130,$AY$6:$AY$1001,AY130),0)","v":0},1900,1900,0,0,0,0,0,0,0,0,0,"","",0,0,0,"FORMATO INCORRECTO","FORMATO INCORRECTO","FORMATO INCORRECTO",{"$f":"IF(L130=\"\",\"\",IF(ISERROR(edata(L130)),\"FORMATO INCORRECTO\",\"FORMATO CORRECTO\"))","v":""},{"$f":"IF(U130=\"\",\"\",IF(ISERROR(edata(U130)),\"FORMATO INCORRECTO\",\"FORMATO CORRECTO\"))","v":""},{"$f":"IF(N130=\"\",\"\",IF(ISERROR(edata(N130)),\"FORMATO INCORRECTO\",\"FORMATO CORRECTO\"))","v":""}]
["1900-05-04","",null,null,null,null,null,null,"",null,null,null,null,null,null,null,null,"",null,null,null,null,null,null,null,null,"",null,"",null,null,"",null,null,null,null,null,0,0,0,0,0,{"$f":"IF(AO131<>0,SUMIFS($AP$6:$AP$1001,$AN$6:$AN$1001,AN131,$F$6:$F$1001,F131,$AX$6:$AX$1001,AX131),0)","v":0},0,{"$f":"IF(AO131<>0,SUMIFS($AP$6:$AP$1001,$AR$6:$AR$1001,AR131,$F$6:$F$1001,F131,$AX$6:$AX$1001,AX131),0)","v":0},0,0,0,{"$f":"IF(AU131<>0,SUMIFS($AV$6:$AV$1001,$AT$6:$AT$1001,AT131,$F$6:$F$1001,F131,$AY$6:$AY$1001,AY131),0)","v":0},1900,1900,0,0,0,0,0,0,0,0,0,"","",0,0,0,"FORMATO INCORRECTO","FORMATO INCORRECTO","FORMATO INCORRECTO",{"$f":"IF(L131=\"\",\"\",IF(ISERROR(edata(L131)),\"FORMATO INCORRECTO\",\"FORMATO CORRECTO\"))","v":""},{"$f":"IF(U131=\"\",\"\",IF(ISERROR(edata(U131)),\"FORMATO INCORRECTO\",\"FORMATO CORRECTO\"))","v":""},{"$f":"IF(N131=\"\",\"\",IF(ISERROR(edata(N131)),\"FORMATO INCORRECTO\",\"FORMATO CORRECTO\"))","v":""}]
["1900-05-05","",null,null,null,null,null,null,"",null,null,null,null,null,null,null,null,"",null,null,null,null,null,null,null,null,"",null,"",null,null,"",null,null,null,null,null,0,0,0,0,0,{"$f":"IF(AO132<>0,SUMIFS($AP$6:$AP$1001,$AN$6:$AN$1001,AN132,$F$6:$F$1001,F132,$AX$6:$AX$1001,AX132),0)","v":0},0,{"$f":"IF(AO132<>0,SUMIFS($AP$6:$AP$1001,$AR$6:$AR$1001,AR132,$F$6:$F$1001,F132,$AX$6:$AX$1001,AX132),0)","v":0},0,0,0,{"$f":"IF(AU132<>0,SUMIFS($AV$6:$AV$1001,$AT$6:$AT$1001,AT132,$F$6:$F$1001,F132,$AY$6:$AY$1001,AY132),0)","v":0},1900,1900,0,0,0,0,0,0,0,0,0,"","",0,0,0,"FORMATO INCORRECTO","FORMATO INCORRECTO","FORMATO INCORRECTO",{"$f":"IF(L132=\"\",\"\",IF(ISERROR(edata(L132)),\"FORMATO INCORRECTO\",\"FORMATO CORRECTO\"))","v":""},{"$f":"IF(U132=\"\",\"\",IF(ISERROR(edata(U132)),\"FORMATO INCORRECTO\",\"FORMATO CORRECTO\"))","v":""},{"$f":"IF(N132=\"\",\"\",IF(ISERROR(edata(N132)),\"FORMATO INCORRECTO\",\"FORMATO CORRECTO\"))","v":""}]
["1900-05-06","",null,null,null,null,null,null,"",null,null,null,null,null,null,null,null,"",null,null,null,null,null,null,null,null,"",null,"",null,null,"",null,null,null,null,null,0,0,0,0,0,{"$f":"IF(AO133<>0,SUMIFS($AP$6:$AP$1001,$AN$6:$AN$1001,AN133,$F$6:$F$1001,F133,$AX$6:$AX$1001,AX133),0)","v":0},0,{"$f":"IF(AO133<>0,SUMIFS($AP$6:$AP$1001,$AR$6:$AR$1001,AR133,$F$6:$F$1001,F133,$AX$6:$AX$1001,AX133),0)","v":0},0,0,0,{"$f":"IF(AU133<>0,SUMIFS($AV$6:$AV$1001,$AT$6:$AT$1001,AT133,$F$6:$F$1001,F133,$AY$6:$AY$1001,AY133),0)","v":0},1900,1900,0,0,0,0,0,0,0,0,0,"","",0,0,0,"FORMATO INCORRECTO","FORMATO INCORRECTO","FORMATO INCORRECTO",{"$f":"IF(L133=\"\",\"\",IF(ISERROR(edata(L133)),\"FORMATO INCORRECTO\",\"FORMATO CORRECTO\"))","v":""},{"$f":"IF(U133=\"\",\"\",IF(ISERROR(edata(U133)),\"FORMATO INCORRECTO\",\"FORMATO CORRECTO\"))","v":""},{"$f":"IF(N133=\"\",\"\",IF(ISERROR(edata(N133)),\"FORMATO INCORRECTO\",\"FORMATO CORRECTO\"))","v":""}]
["1900-05-07","",null,null,null,null,null,null,{"$f":"IF(ISERROR(VLOOKUP(J134,tipoDocDesp,2,FALSE)),\"\",VLOOKUP(J134,tipoDocDesp,2,FALSE))","v":""},null,null,null,null,null,null,null,null,{"$f":"IF(ISERROR(VLOOKUP(S134,tipoDocQuit,2,FALSE)),\"\",VLOOKUP(S134,tipoDocQuit,2,FALSE))","v":""},null,null,null,null,null,null,null,null,{"$f":"IF(ISERROR(VLOOKUP(AB134,DESPESASGERAL,3,FALSE)),\"\",VLOOKUP(AB134,DESPESASGERAL,3,FALSE))","v":""},null,{"$f":"IF(ISERROR(VLOOKUP(AD134,RUBRICASGERAL,2,FALSE)),\"\",VLOOKUP(AD134,RUBRICASGERAL,2,FALSE))","v":""},null,null,{"$f":"IF(ISERROR(VLOOKUP(AG134,CONCELHOGERAL,2,FALSE)),\"\",VLOOKUP(AG134,CONCELHOGERAL,2,FALSE))","v":""},null,null,null,null,null,0,0,0,{"$f":"+M134","v":0},{"$f":"+N134","v":0},{"$f":"IF(AO134<>0,SUMIFS($AP$6:$AP$1001,$AN$6:$AN$1001,AN134,$F$6:$F$1001,F134,$AX$6:$AX$1001,AX134),0)","v":0},{"$f":"+K134","v":0},{"$f":"IF(AO134<>0,SUMIFS($AP$6:$AP$1001,$AR$6:$AR$1001,AR134,$F$6:$F$1001,F134,$AX$6:$AX$1001,AX134),0)","v":0},{"$f":"+T134","v":0},{"$f":"+V134","v":0},{"$f":"+W134","v":0},{"$f":"IF(AU134<>0,SUMIFS($AV$6:$AV$1001,$AT$6:$AT$1001,AT134,$F$6:$F$1001,F134,$AY$6:$AY$1001,AY134),0)","v":0},{"$f":"YEAR(L134)","v":1900},{"$f":"YEAR(U134)","v":1900},0,0,{"$f":"+M134-BA134","v":0},0,0,{"$f":"+M134-BD134","v":0},0,0,{"$f":"+V134-BG134","v":0},"","",0,0,0,"FORMATO INCORRECTO","FORMATO INCORRECTO","FORMATO INCORRECTO",{"$f":"IF(L134=\"\",\"\",IF(ISERROR(edata(L134)),\"FORMATO INCORRECTO\",\"FORMATO CORRECTO\"))","v":""},{"$f":"IF(U134=\"\",\"\",IF(ISERROR(edata(U134)),\"FORMATO INCORRECTO\",\"FORMATO CORRECTO\"))","v":""},{"$f":"IF(N134=\"\",\"\",IF(ISERROR(edata(N134)),\"FORMATO INCORRECTO\",\"FORMATO CORRECTO\"))","v":""}]
["1900-05-08","",null,null,null,null,null,null,"",null,null,null,null,null,null,null,null,"",null,null,null,null,null,null,null,null,"",null,"",null,null,"",null,null,null,null,null,{"$f":"+O135+P135+Q135-N135","v":0},{"$f":"+O135+P135+Q135-W135","v":0},{"$f":"+D135","v":0},0,0,{"$f":"IF(AO135<>0,SUMIFS($AP$6:$AP$1001,$AN$6:$AN$1001,AN135,$F$6:$F$1001,F135,$AX$6:$AX$1001,AX135),0)","v":0},0,{"$f":"IF(AO135<>0,SUMIFS($AP$6:$AP$1001,$AR$6:$AR$1001,AR135,$F$6:$F$1001,F135,$AX$6:$AX$1001,AX135),0)","v":0},0,0,0,{"$f":"IF(AU135<>0,SUMIFS($AV$6:$AV$1001,$AT$6:$AT$1001,AT135,$F$6:$F$1001,F135,$AY$6:$AY$1001,AY135),0)","v":0},1900,1900,{"$f":"+AN135","v":0},{"$f":"+AQ135","v":0},0,{"$f":"+AR135","v":0},{"$f":"ROUND(AS135,2)","v":0},0,{"$f":"+AT135","v":0},{"$f":"ROUND(AW135,2)","v":0},0,{"$f":"IF(ISERROR(L135<=U135),\"FORMATO INCORRECTO\",IF(AND(L135=0,U135=0),\"\",IF(L135<=U135,\"VALIDADO\",\"NÃO VALIDADO\")))","v":""},{"$f":"IF(AND(L135=\"\",U135=\"\",Y135=\"\"),\"\",IF(OR(ISERROR(BK135),ISERROR(BL135),ISERROR(BM135)),\"ERRO NO FORMATO\",\"FORMATO CORRECTO\"))","v":""},{"$f":"convdata(L135)","v":0},{"$f":"convdata(U135)","v":0},{"$f":"convdata(Y135)","v":0},{"$f":"ENULO(L135)","v":"FORMATO INCORRECTO"},{"$f":"ENULO(U135)","v":"FORMATO INCORRECTO"},{"$f":"ENULO(Y135)","v":"FORMATO INCORRECTO"},{"$f":"IF(L135=\"\",\"\",IF(ISERROR(edata(L135)),\"FORMATO INCORRECTO\",\"FORMATO CORRECTO\"))","v":""},{"$f":"IF(U135=\"\",\"\",IF(ISERROR(edata(U135)),\"FORMATO INCORRECTO\",\"FORMATO CORRECTO\"))","v":""},{"$f":"IF(N135=\"\",\"\",IF(ISERROR(edata(N135)),\"FORMATO INCORRECTO\",\"FORMATO CORRECTO\"))","v":""}]
["1900-05-09",{"$f":"IF(G136<>\"\",+B135+1,\"\")","v":""},null,null,null,null,null,null,"",null,null,null,null,null,null,null,null,"",null,null,null,null,null,null,null,null,"",null,"",null,null,"",null,null,null,null,null,0,0,0,0,0,{"$f":"IF(AO136<>0,SUMIFS($AP$6:$AP$1001,$AN$6:$AN$1001,AN136,$F$6:$F$1001,F136,$AX$6:$AX$1001,AX136),0)","v":0},0,{"$f":"IF(AO136<>0,SUMIFS($AP$6:$AP$1001,$AR$6:$AR$1001,AR136,$F$6:$F$1001,F136,$AX$6:$AX$1001,AX136),0)","v":0},0,0,0,{"$f":"IF(AU136<>0,SUMIFS($AV$6:$AV$1001,$AT$6:$AT$1001,AT136,$F$6:$F$1001,F136,$AY$6:$AY$1001,AY136),0)","v":0},1900,1900,0,0,0,0,0,0,0,0,0,"","",0,0,0,"FORMATO INCORRECTO","FORMATO INCORRECTO","FORMATO INCORRECTO",{"$f":"IF(L136=\"\",\"\",IF(ISERROR(edata(L136)),\"FORMATO INCORRECTO\",\"FORMATO CORRECTO\"))","v":""},{"$f":"IF(U136=\"\",\"\",IF(ISERROR(edata(U136)),\"FORMATO INCORRECTO\",\"FORMATO CORRECTO\"))","v":""},{"$f":"IF(N136=\"\",\"\",IF(ISERROR(edata(N136)),\"FORMATO INCORRECTO\",\"FORMATO CORRECTO\"))","v":""}]
["1900-05-10","",null,null,null,null,null,null,"",null,null,null,null,null,null,null,null,"",null,null,null,null,null,null,null,null,"",null,"",null,null,"",null,null,null,null,null,0,0,0,0,0,{"$f":"IF(AO137<>0,SUMIFS($AP$6:$AP$1001,$AN$6:$AN$1001,AN137,$F$6:$F$1001,F137,$AX$6:$AX$1001,AX137),0)","v":0},0,{"$f":"IF(AO137<>0,SUMIFS($AP$6:$AP$1001,$AR$6:$AR$1001,AR137,$F$6:$F$1001,F137,$AX$6:$AX$1001,AX137),0)","v":0},0,0,0,{"$f":"IF(AU137<>0,SUMIFS($AV$6:$AV$1001,$AT$6:$AT$1001,AT137,$F$6:$F$1001,F137,$AY$6:$AY$1001,AY137),0)","v":0},1900,1900,0,0,0,0,0,0,0,0,0,"","",0,0,0,"FORMATO INCORRECTO","FORMATO INCORRECTO","FORMATO INCORRECTO",{"$f":"IF(L137=\"\",\"\",IF(ISERROR(edata(L137)),\"FORMATO INCORRECTO\",\"FORMATO CORRECTO\"))","v":""},{"$f":"IF(U137=\"\",\"\",IF(ISERROR(edata(U137)),\"FORMATO INCORRECTO\",\"FORMATO CORRECTO\"))","v":""},{"$f":"IF(N137=\"\",\"\",IF(ISERROR(edata(N137)),\"FORMATO INCORRECTO\",\"FORMATO CORRECTO\"))","v":""}]
["1900-05-11","",null,null,null,null,null,null,"",null,null,null,null,null,null,null,null,"",null,null,null,null,null,null,null,null,"",null,"",null,null,"",null,null,null,null,null,0,0,0,0,0,{"$f":"IF(AO138<>0,SUMIFS($AP$6:$AP$1001,$AN$6:$AN$1001,AN138,$F$6:$F$1001,F138,$AX$6:$AX$1001,AX138),0)","v":0},0,{"$f":"IF(AO138<>0,SUMIFS($AP$6:$AP$1001,$AR$6:$AR$1001,AR138,$F$6:$F$1001,F138,$AX$6:$AX$1001,AX138),0)","v":0},0,0,0,{"$f":"IF(AU138<>0,SUMIFS($AV$6:$AV$1001,$AT$6:$AT$1001,AT138,$F$6:$F$1001,F138,$AY$6:$AY$1001,AY138),0)","v":0},1900,1900,0,0,0,0,0,0,0,0,0,"","",0,0,0,"FORMATO INCORRECTO","FORMATO INCORRECTO","FORMATO INCORRECTO",{"$f":"IF(L138=\"\",\"\",IF(ISERROR(edata(L138)),\"FORMATO INCORRECTO\",\"FORMATO CORRECTO\"))","v":""},{"$f":"IF(U138=\"\",\"\",IF(ISERROR(edata(U138)),\"FORMATO INCORRECTO\",\"FORMATO CORRECTO\"))","v":""},{"$f":"IF(N138=\"\",\"\",IF(ISERROR(edata(N138)),\"FORMATO INCORRECTO\",\"FORMATO CORRECTO\"))","v":""}]
["1900-05-12","",null,null,null,null,null,null,"",null,null,null,null,null,null,null,null,"",null,null,null,null,null,null,null,null,"",null,"",null,null,"",null,null,null,null,null,0,0,0,0,0,{"$f":"IF(AO139<>0,SUMIFS($AP$6:$AP$1001,$AN$6:$AN$1001,AN139,$F$6:$F$1001,F139,$AX$6:$AX$1001,AX139),0)","v":0},0,{"$f":"IF(AO139<>0,SUMIFS($AP$6:$AP$1001,$AR$6:$AR$1001,AR139,$F$6:$F$1001,F139,$AX$6:$AX$1001,AX139),0)","v":0},0,0,0,{"$f":"IF(AU139<>0,SUMIFS($AV$6:$AV$1001,$AT$6:$AT$1001,AT139,$F$6:$F$1001,F139,$AY$6:$AY$1001,AY139),0)","v":0},1900,1900,0,0,0,0,0,0,0,0,0,"","",0,0,0,"FORMATO INCORRECTO","FORMATO INCORRECTO","FORMATO INCORRECTO",{"$f":"IF(L139=\"\",\"\",IF(ISERROR(edata(L139)),\"FORMATO INCORRECTO\",\"FORMATO CORRECTO\"))","v":""},{"$f":"IF(U139=\"\",\"\",IF(ISERROR(edata(U139)),\"FORMATO INCORRECTO\",\"FORMATO CORRECTO\"))","v":""},{"$f":"IF(N139=\"\",\"\",IF(ISERROR(edata(N139)),\"FORMATO INCORRECTO\",\"FORMATO CORRECTO\"))","v":""}]
["1900-05-13","",null,null,null,null,null,null,"",null,null,null,null,null,null,null,null,"",null,null,null,null,null,null,null,null,"",null,"",null,null,"",null,null,null,null,null,0,0,0,0,0,{"$f":"IF(AO140<>0,SUMIFS($AP$6:$AP$1001,$AN$6:$AN$1001,AN140,$F$6:$F$1001,F140,$AX$6:$AX$1001,AX140),0)","v":0},0,{"$f":"IF(AO140<>0,SUMIFS($AP$6:$AP$1001,$AR$6:$AR$1001,AR140,$F$6:$F$1001,F140,$AX$6:$AX$1001,AX140),0)","v":0},0,0,0,{"$f":"IF(AU140<>0,SUMIFS($AV$6:$AV$1001,$AT$6:$AT$1001,AT140,$F$6:$F$1001,F140,$AY$6:$AY$1001,AY140),0)","v":0},1900,1900,0,0,0,0,0,0,0,0,0,"","",0,0,0,"FORMATO INCORRECTO","FORMATO INCORRECTO","FORMATO INCORRECTO",{"$f":"IF(L140=\"\",\"\",IF(ISERROR(edata(L140)),\"FORMATO INCORRECTO\",\"FORMATO CORRECTO\"))","v":""},{"$f":"IF(U140=\"\",\"\",IF(ISERROR(edata(U140)),\"FORMATO INCORRECTO\",\"FORMATO CORRECTO\"))","v":""},{"$f":"IF(N140=\"\",\"\",IF(ISERROR(edata(N140)),\"FORMATO INCORRECTO\",\"FORMATO CORRECTO\"))","v":""}]
["1900-05-14","",null,null,null,null,null,null,"",null,null,null,null,null,null,null,null,"",null,null,null,null,null,null,null,null,"",null,"",null,null,"",null,null,null,null,null,0,0,0,0,0,{"$f":"IF(AO141<>0,SUMIFS($AP$6:$AP$1001,$AN$6:$AN$1001,AN141,$F$6:$F$1001,F141,$AX$6:$AX$1001,AX141),0)","v":0},0,{"$f":"IF(AO141<>0,SUMIFS($AP$6:$AP$1001,$AR$6:$AR$1001,AR141,$F$6:$F$1001,F141,$AX$6:$AX$1001,AX141),0)","v":0},0,0,0,{"$f":"IF(AU141<>0,SUMIFS($AV$6:$AV$1001,$AT$6:$AT$1001,AT141,$F$6:$F$1001,F141,$AY$6:$AY$1001,AY141),0)","v":0},1900,1900,0,0,0,0,0,0,0,0,0,"","",0,0,0,"FORMATO INCORRECTO","FORMATO INCORRECTO","FORMATO INCORRECTO",{"$f":"IF(L141=\"\",\"\",IF(ISERROR(edata(L141)),\"FORMATO INCORRECTO\",\"FORMATO CORRECTO\"))","v":""},{"$f":"IF(U141=\"\",\"\",IF(ISERROR(edata(U141)),\"FORMATO INCORRECTO\",\"FORMATO CORRECTO\"))","v":""},{"$f":"IF(N141=\"\",\"\",IF(ISERROR(edata(N141)),\"FORMATO INCORRECTO\",\"FORMATO CORRECTO\"))","v":""}]
["1900-05-15","",null,null,null,null,null,null,"",null,null,null,null,null,null,null,null,"",null,null,null,null,null,null,null,null,"",null,"",null,null,"",null,null,null,null,null,0,0,0,0,0,{"$f":"IF(AO142<>0,SUMIFS($AP$6:$AP$1001,$AN$6:$AN$1001,AN142,$F$6:$F$1001,F142,$AX$6:$AX$1001,AX142),0)","v":0},0,{"$f":"IF(AO142<>0,SUMIFS($AP$6:$AP$1001,$AR$6:$AR$1001,AR142,$F$6:$F$1001,F142,$AX$6:$AX$1001,AX142),0)","v":0},0,0,0,{"$f":"IF(AU142<>0,SUMIFS($AV$6:$AV$1001,$AT$6:$AT$1001,AT142,$F$6:$F$1001,F142,$AY$6:$AY$1001,AY142),0)","v":0},1900,1900,0,0,0,0,0,0,0,0,0,"","",0,0,0,"FORMATO INCORRECTO","FORMATO INCORRECTO","FORMATO INCORRECTO",{"$f":"IF(L142=\"\",\"\",IF(ISERROR(edata(L142)),\"FORMATO INCORRECTO\",\"FORMATO CORRECTO\"))","v":""},{"$f":"IF(U142=\"\",\"\",IF(ISERROR(edata(U142)),\"FORMATO INCORRECTO\",\"FORMATO CORRECTO\"))","v":""},{"$f":"IF(N142=\"\",\"\",IF(ISERROR(edata(N142)),\"FORMATO INCORRECTO\",\"FORMATO CORRECTO\"))","v":""}]
["1900-05-16","",null,null,null,null,null,null,"",null,null,null,null,null,null,null,null,"",null,null,null,null,null,null,null,null,"",null,"",null,null,"",null,null,null,null,null,0,0,0,0,0,{"$f":"IF(AO143<>0,SUMIFS($AP$6:$AP$1001,$AN$6:$AN$1001,AN143,$F$6:$F$1001,F143,$AX$6:$AX$1001,AX143),0)","v":0},0,{"$f":"IF(AO143<>0,SUMIFS($AP$6:$AP$1001,$AR$6:$AR$1001,AR143,$F$6:$F$1001,F143,$AX$6:$AX$1001,AX143),0)","v":0},0,0,0,{"$f":"IF(AU143<>0,SUMIFS($AV$6:$AV$1001,$AT$6:$AT$1001,AT143,$F$6:$F$1001,F143,$AY$6:$AY$1001,AY143),0)","v":0},1900,1900,0,0,0,0,0,0,0,0,0,"","",0,0,0,"FORMATO INCORRECTO","FORMATO INCORRECTO","FORMATO INCORRECTO",{"$f":"IF(L143=\"\",\"\",IF(ISERROR(edata(L143)),\"FORMATO INCORRECTO\",\"FORMATO CORRECTO\"))","v":""},{"$f":"IF(U143=\"\",\"\",IF(ISERROR(edata(U143)),\"FORMATO INCORRECTO\",\"FORMATO CORRECTO\"))","v":""},{"$f":"IF(N143=\"\",\"\",IF(ISERROR(edata(N143)),\"FORMATO INCORRECTO\",\"FORMATO CORRECTO\"))","v":""}]
["1900-05-17","",null,null,null,null,null,null,"",null,null,null,null,null,null,null,null,"",null,null,null,null,null,null,null,null,"",null,"",null,null,"",null,null,null,null,null,0,0,0,0,0,{"$f":"IF(AO144<>0,SUMIFS($AP$6:$AP$1001,$AN$6:$AN$1001,AN144,$F$6:$F$1001,F144,$AX$6:$AX$1001,AX144),0)","v":0},0,{"$f":"IF(AO144<>0,SUMIFS($AP$6:$AP$1001,$AR$6:$AR$1001,AR144,$F$6:$F$1001,F144,$AX$6:$AX$1001,AX144),0)","v":0},0,0,0,{"$f":"IF(AU144<>0,SUMIFS($AV$6:$AV$1001,$AT$6:$AT$1001,AT144,$F$6:$F$1001,F144,$AY$6:$AY$1001,AY144),0)","v":0},1900,1900,0,0,0,0,0,0,0,0,0,"","",0,0,0,"FORMATO INCORRECTO","FORMATO INCORRECTO","FORMATO INCORRECTO",{"$f":"IF(L144=\"\",\"\",IF(ISERROR(edata(L144)),\"FORMATO INCORRECTO\",\"FORMATO CORRECTO\"))","v":""},{"$f":"IF(U144=\"\",\"\",IF(ISERROR(edata(U144)),\"FORMATO INCORRECTO\",\"FORMATO CORRECTO\"))","v":""},{"$f":"IF(N144=\"\",\"\",IF(ISERROR(edata(N144)),\"FORMATO INCORRECTO\",\"FORMATO CORRECTO\"))","v":""}]
["1900-05-18","",null,null,null,null,null,null,"",null,null,null,null,null,null,null,null,"",null,null,null,null,null,null,null,null,"",null,"",null,null,"",null,null,null,null,null,0,0,0,0,0,{"$f":"IF(AO145<>0,SUMIFS($AP$6:$AP$1001,$AN$6:$AN$1001,AN145,$F$6:$F$1001,F145,$AX$6:$AX$1001,AX145),0)","v":0},0,{"$f":"IF(AO145<>0,SUMIFS($AP$6:$AP$1001,$AR$6:$AR$1001,AR145,$F$6:$F$1001,F145,$AX$6:$AX$1001,AX145),0)","v":0},0,0,0,{"$f":"IF(AU145<>0,SUMIFS($AV$6:$AV$1001,$AT$6:$AT$1001,AT145,$F$6:$F$1001,F145,$AY$6:$AY$1001,AY145),0)","v":0},1900,1900,0,0,0,0,0,0,0,0,0,"","",0,0,0,"FORMATO INCORRECTO","FORMATO INCORRECTO","FORMATO INCORRECTO",{"$f":"IF(L145=\"\",\"\",IF(ISERROR(edata(L145)),\"FORMATO INCORRECTO\",\"FORMATO CORRECTO\"))","v":""},{"$f":"IF(U145=\"\",\"\",IF(ISERROR(edata(U145)),\"FORMATO INCORRECTO\",\"FORMATO CORRECTO\"))","v":""},{"$f":"IF(N145=\"\",\"\",IF(ISERROR(edata(N145)),\"FORMATO INCORRECTO\",\"FORMATO CORRECTO\"))","v":""}]
["1900-05-19","",null,null,null,null,null,null,"",null,null,null,null,null,null,null,null,"",null,null,null,null,null,null,null,null,"",null,"",null,null,"",null,null,null,null,null,0,0,0,0,0,{"$f":"IF(AO146<>0,SUMIFS($AP$6:$AP$1001,$AN$6:$AN$1001,AN146,$F$6:$F$1001,F146,$AX$6:$AX$1001,AX146),0)","v":0},0,{"$f":"IF(AO146<>0,SUMIFS($AP$6:$AP$1001,$AR$6:$AR$1001,AR146,$F$6:$F$1001,F146,$AX$6:$AX$1001,AX146),0)","v":0},0,0,0,{"$f":"IF(AU146<>0,SUMIFS($AV$6:$AV$1001,$AT$6:$AT$1001,AT146,$F$6:$F$1001,F146,$AY$6:$AY$1001,AY146),0)","v":0},1900,1900,0,0,0,0,0,0,0,0,0,"","",0,0,0,"FORMATO INCORRECTO","FORMATO INCORRECTO","FORMATO INCORRECTO",{"$f":"IF(L146=\"\",\"\",IF(ISERROR(edata(L146)),\"FORMATO INCORRECTO\",\"FORMATO CORRECTO\"))","v":""},{"$f":"IF(U146=\"\",\"\",IF(ISERROR(edata(U146)),\"FORMATO INCORRECTO\",\"FORMATO CORRECTO\"))","v":""},{"$f":"IF(N146=\"\",\"\",IF(ISERROR(edata(N146)),\"FORMATO INCORRECTO\",\"FORMATO CORRECTO\"))","v":""}]
["1900-05-20","",null,null,null,null,null,null,"",null,null,null,null,null,null,null,null,"",null,null,null,null,null,null,null,null,"",null,"",null,null,"",null,null,null,null,null,0,0,0,0,0,{"$f":"IF(AO147<>0,SUMIFS($AP$6:$AP$1001,$AN$6:$AN$1001,AN147,$F$6:$F$1001,F147,$AX$6:$AX$1001,AX147),0)","v":0},0,{"$f":"IF(AO147<>0,SUMIFS($AP$6:$AP$1001,$AR$6:$AR$1001,AR147,$F$6:$F$1001,F147,$AX$6:$AX$1001,AX147),0)","v":0},0,0,0,{"$f":"IF(AU147<>0,SUMIFS($AV$6:$AV$1001,$AT$6:$AT$1001,AT147,$F$6:$F$1001,F147,$AY$6:$AY$1001,AY147),0)","v":0},1900,1900,0,0,0,0,0,0,0,0,0,"","",0,0,0,"FORMATO INCORRECTO","FORMATO INCORRECTO","FORMATO INCORRECTO",{"$f":"IF(L147=\"\",\"\",IF(ISERROR(edata(L147)),\"FORMATO INCORRECTO\",\"FORMATO CORRECTO\"))","v":""},{"$f":"IF(U147=\"\",\"\",IF(ISERROR(edata(U147)),\"FORMATO INCORRECTO\",\"FORMATO CORRECTO\"))","v":""},{"$f":"IF(N147=\"\",\"\",IF(ISERROR(edata(N147)),\"FORMATO INCORRECTO\",\"FORMATO CORRECTO\"))","v":""}]
["1900-05-21","",null,null,null,null,null,null,"",null,null,null,null,null,null,null,null,"",null,null,null,null,null,null,null,null,"",null,"",null,null,"",null,null,null,null,null,0,0,0,0,0,{"$f":"IF(AO148<>0,SUMIFS($AP$6:$AP$1001,$AN$6:$AN$1001,AN148,$F$6:$F$1001,F148,$AX$6:$AX$1001,AX148),0)","v":0},0,{"$f":"IF(AO148<>0,SUMIFS($AP$6:$AP$1001,$AR$6:$AR$1001,AR148,$F$6:$F$1001,F148,$AX$6:$AX$1001,AX148),0)","v":0},0,0,0,{"$f":"IF(AU148<>0,SUMIFS($AV$6:$AV$1001,$AT$6:$AT$1001,AT148,$F$6:$F$1001,F148,$AY$6:$AY$1001,AY148),0)","v":0},1900,1900,0,0,0,0,0,0,0,0,0,"","",0,0,0,"FORMATO INCORRECTO","FORMATO INCORRECTO","FORMATO INCORRECTO",{"$f":"IF(L148=\"\",\"\",IF(ISERROR(edata(L148)),\"FORMATO INCORRECTO\",\"FORMATO CORRECTO\"))","v":""},{"$f":"IF(U148=\"\",\"\",IF(ISERROR(edata(U148)),\"FORMATO INCORRECTO\",\"FORMATO CORRECTO\"))","v":""},{"$f":"IF(N148=\"\",\"\",IF(ISERROR(edata(N148)),\"FORMATO INCORRECTO\",\"FORMATO CORRECTO\"))","v":""}]
["1900-05-22","",null,null,null,null,null,null,"",null,null,null,null,null,null,null,null,"",null,null,null,null,null,null,null,null,"",null,"",null,null,"",null,null,null,null,null,0,0,0,0,0,{"$f":"IF(AO149<>0,SUMIFS($AP$6:$AP$1001,$AN$6:$AN$1001,AN149,$F$6:$F$1001,F149,$AX$6:$AX$1001,AX149),0)","v":0},0,{"$f":"IF(AO149<>0,SUMIFS($AP$6:$AP$1001,$AR$6:$AR$1001,AR149,$F$6:$F$1001,F149,$AX$6:$AX$1001,AX149),0)","v":0},0,0,0,{"$f":"IF(AU149<>0,SUMIFS($AV$6:$AV$1001,$AT$6:$AT$1001,AT149,$F$6:$F$1001,F149,$AY$6:$AY$1001,AY149),0)","v":0},1900,1900,0,0,0,0,0,0,0,0,0,"","",0,0,0,"FORMATO INCORRECTO","FORMATO INCORRECTO","FORMATO INCORRECTO",{"$f":"IF(L149=\"\",\"\",IF(ISERROR(edata(L149)),\"FORMATO INCORRECTO\",\"FORMATO CORRECTO\"))","v":""},{"$f":"IF(U149=\"\",\"\",IF(ISERROR(edata(U149)),\"FORMATO INCORRECTO\",\"FORMATO CORRECTO\"))","v":""},{"$f":"IF(N149=\"\",\"\",IF(ISERROR(edata(N149)),\"FORMATO INCORRECTO\",\"FORMATO CORRECTO\"))","v":""}]
["1900-05-23","",null,null,null,null,null,null,"",null,null,null,null,null,null,null,null,"",null,null,null,null,null,null,null,null,"",null,"",null,null,"",null,null,null,null,null,0,0,0,0,0,{"$f":"IF(AO150<>0,SUMIFS($AP$6:$AP$1001,$AN$6:$AN$1001,AN150,$F$6:$F$1001,F150,$AX$6:$AX$1001,AX150),0)","v":0},0,{"$f":"IF(AO150<>0,SUMIFS($AP$6:$AP$1001,$AR$6:$AR$1001,AR150,$F$6:$F$1001,F150,$AX$6:$AX$1001,AX150),0)","v":0},0,0,0,{"$f":"IF(AU150<>0,SUMIFS($AV$6:$AV$1001,$AT$6:$AT$1001,AT150,$F$6:$F$1001,F150,$AY$6:$AY$1001,AY150),0)","v":0},1900,1900,0,0,0,0,0,0,0,0,0,"","",0,0,0,"FORMATO INCORRECTO","FORMATO INCORRECTO","FORMATO INCORRECTO",{"$f":"IF(L150=\"\",\"\",IF(ISERROR(edata(L150)),\"FORMATO INCORRECTO\",\"FORMATO CORRECTO\"))","v":""},{"$f":"IF(U150=\"\",\"\",IF(ISERROR(edata(U150)),\"FORMATO INCORRECTO\",\"FORMATO CORRECTO\"))","v":""},{"$f":"IF(N150=\"\",\"\",IF(ISERROR(edata(N150)),\"FORMATO INCORRECTO\",\"FORMATO CORRECTO\"))","v":""}]
["1900-05-24","",null,null,null,null,null,null,"",null,null,null,null,null,null,null,null,"",null,null,null,null,null,null,null,null,"",null,"",null,null,"",null,null,null,null,null,0,0,0,0,0,{"$f":"IF(AO151<>0,SUMIFS($AP$6:$AP$1001,$AN$6:$AN$1001,AN151,$F$6:$F$1001,F151,$AX$6:$AX$1001,AX151),0)","v":0},0,{"$f":"IF(AO151<>0,SUMIFS($AP$6:$AP$1001,$AR$6:$AR$1001,AR151,$F$6:$F$1001,F151,$AX$6:$AX$1001,AX151),0)","v":0},0,0,0,{"$f":"IF(AU151<>0,SUMIFS($AV$6:$AV$1001,$AT$6:$AT$1001,AT151,$F$6:$F$1001,F151,$AY$6:$AY$1001,AY151),0)","v":0},1900,1900,0,0,0,0,0,0,0,0,0,"","",0,0,0,"FORMATO INCORRECTO","FORMATO INCORRECTO","FORMATO INCORRECTO",{"$f":"IF(L151=\"\",\"\",IF(ISERROR(edata(L151)),\"FORMATO INCORRECTO\",\"FORMATO CORRECTO\"))","v":""},{"$f":"IF(U151=\"\",\"\",IF(ISERROR(edata(U151)),\"FORMATO INCORRECTO\",\"FORMATO CORRECTO\"))","v":""},{"$f":"IF(N151=\"\",\"\",IF(ISERROR(edata(N151)),\"FORMATO INCORRECTO\",\"FORMATO CORRECTO\"))","v":""}]
["1900-05-25","",null,null,null,null,null,null,"",null,null,null,null,null,null,null,null,"",null,null,null,null,null,null,null,null,"",null,"",null,null,"",null,null,null,null,null,0,0,0,0,0,{"$f":"IF(AO152<>0,SUMIFS($AP$6:$AP$1001,$AN$6:$AN$1001,AN152,$F$6:$F$1001,F152,$AX$6:$AX$1001,AX152),0)","v":0},0,{"$f":"IF(AO152<>0,SUMIFS($AP$6:$AP$1001,$AR$6:$AR$1001,AR152,$F$6:$F$1001,F152,$AX$6:$AX$1001,AX152),0)","v":0},0,0,0,{"$f":"IF(AU152<>0,SUMIFS($AV$6:$AV$1001,$AT$6:$AT$1001,AT152,$F$6:$F$1001,F152,$AY$6:$AY$1001,AY152),0)","v":0},1900,1900,0,0,0,0,0,0,0,0,0,"","",0,0,0,"FORMATO INCORRECTO","FORMATO INCORRECTO","FORMATO INCORRECTO",{"$f":"IF(L152=\"\",\"\",IF(ISERROR(edata(L152)),\"FORMATO INCORRECTO\",\"FORMATO CORRECTO\"))","v":""},{"$f":"IF(U152=\"\",\"\",IF(ISERROR(edata(U152)),\"FORMATO INCORRECTO\",\"FORMATO CORRECTO\"))","v":""},{"$f":"IF(N152=\"\",\"\",IF(ISERROR(edata(N152)),\"FORMATO INCORRECTO\",\"FORMATO CORRECTO\"))","v":""}]
["1900-05-26","",null,null,null,null,null,null,"",null,null,null,null,null,null,null,null,"",null,null,null,null,null,null,null,null,"",null,"",null,null,"",null,null,null,null,null,0,0,0,0,0,{"$f":"IF(AO153<>0,SUMIFS($AP$6:$AP$1001,$AN$6:$AN$1001,AN153,$F$6:$F$1001,F153,$AX$6:$AX$1001,AX153),0)","v":0},0,{"$f":"IF(AO153<>0,SUMIFS($AP$6:$AP$1001,$AR$6:$AR$1001,AR153,$F$6:$F$1001,F153,$AX$6:$AX$1001,AX153),0)","v":0},0,0,0,{"$f":"IF(AU153<>0,SUMIFS($AV$6:$AV$1001,$AT$6:$AT$1001,AT153,$F$6:$F$1001,F153,$AY$6:$AY$1001,AY153),0)","v":0},1900,1900,0,0,0,0,0,0,0,0,0,"","",0,0,0,"FORMATO INCORRECTO","FORMATO INCORRECTO","FORMATO INCORRECTO",{"$f":"IF(L153=\"\",\"\",IF(ISERROR(edata(L153)),\"FORMATO INCORRECTO\",\"FORMATO CORRECTO\"))","v":""},{"$f":"IF(U153=\"\",\"\",IF(ISERROR(edata(U153)),\"FORMATO INCORRECTO\",\"FORMATO CORRECTO\"))","v":""},{"$f":"IF(N153=\"\",\"\",IF(ISERROR(edata(N153)),\"FORMATO INCORRECTO\",\"FORMATO CORRECTO\"))","v":""}]
["1900-05-27","",null,null,null,null,null,null,"",null,null,null,null,null,null,null,null,"",null,null,null,null,null,null,null,null,"",null,"",null,null,"",null,null,null,null,null,0,0,0,0,0,{"$f":"IF(AO154<>0,SUMIFS($AP$6:$AP$1001,$AN$6:$AN$1001,AN154,$F$6:$F$1001,F154,$AX$6:$AX$1001,AX154),0)","v":0},0,{"$f":"IF(AO154<>0,SUMIFS($AP$6:$AP$1001,$AR$6:$AR$1001,AR154,$F$6:$F$1001,F154,$AX$6:$AX$1001,AX154),0)","v":0},0,0,0,{"$f":"IF(AU154<>0,SUMIFS($AV$6:$AV$1001,$AT$6:$AT$1001,AT154,$F$6:$F$1001,F154,$AY$6:$AY$1001,AY154),0)","v":0},1900,1900,0,0,0,0,0,0,0,0,0,"","",0,0,0,"FORMATO INCORRECTO","FORMATO INCORRECTO","FORMATO INCORRECTO",{"$f":"IF(L154=\"\",\"\",IF(ISERROR(edata(L154)),\"FORMATO INCORRECTO\",\"FORMATO CORRECTO\"))","v":""},{"$f":"IF(U154=\"\",\"\",IF(ISERROR(edata(U154)),\"FORMATO INCORRECTO\",\"FORMATO CORRECTO\"))","v":""},{"$f":"IF(N154=\"\",\"\",IF(ISERROR(edata(N154)),\"FORMATO INCORRECTO\",\"FORMATO CORRECTO\"))","v":""}]
["1900-05-28","",null,null,null,null,null,null,"",null,null,null,null,null,null,null,null,"",null,null,null,null,null,null,null,null,"",null,"",null,null,"",null,null,null,null,null,0,0,0,0,0,{"$f":"IF(AO155<>0,SUMIFS($AP$6:$AP$1001,$AN$6:$AN$1001,AN155,$F$6:$F$1001,F155,$AX$6:$AX$1001,AX155),0)","v":0},0,{"$f":"IF(AO155<>0,SUMIFS($AP$6:$AP$1001,$AR$6:$AR$1001,AR155,$F$6:$F$1001,F155,$AX$6:$AX$1001,AX155),0)","v":0},0,0,0,{"$f":"IF(AU155<>0,SUMIFS($AV$6:$AV$1001,$AT$6:$AT$1001,AT155,$F$6:$F$1001,F155,$AY$6:$AY$1001,AY155),0)","v":0},1900,1900,0,0,0,0,0,0,0,0,0,"","",0,0,0,"FORMATO INCORRECTO","FORMATO INCORRECTO","FORMATO INCORRECTO",{"$f":"IF(L155=\"\",\"\",IF(ISERROR(edata(L155)),\"FORMATO INCORRECTO\",\"FORMATO CORRECTO\"))","v":""},{"$f":"IF(U155=\"\",\"\",IF(ISERROR(edata(U155)),\"FORMATO INCORRECTO\",\"FORMATO CORRECTO\"))","v":""},{"$f":"IF(N155=\"\",\"\",IF(ISERROR(edata(N155)),\"FORMATO INCORRECTO\",\"FORMATO CORRECTO\"))","v":""}]
["1900-05-29","",null,null,null,null,null,null,"",null,null,null,null,null,null,null,null,"",null,null,null,null,null,null,null,null,"",null,"",null,null,"",null,null,null,null,null,0,0,0,0,0,{"$f":"IF(AO156<>0,SUMIFS($AP$6:$AP$1001,$AN$6:$AN$1001,AN156,$F$6:$F$1001,F156,$AX$6:$AX$1001,AX156),0)","v":0},0,{"$f":"IF(AO156<>0,SUMIFS($AP$6:$AP$1001,$AR$6:$AR$1001,AR156,$F$6:$F$1001,F156,$AX$6:$AX$1001,AX156),0)","v":0},0,0,0,{"$f":"IF(AU156<>0,SUMIFS($AV$6:$AV$1001,$AT$6:$AT$1001,AT156,$F$6:$F$1001,F156,$AY$6:$AY$1001,AY156),0)","v":0},1900,1900,0,0,0,0,0,0,0,0,0,"","",0,0,0,"FORMATO INCORRECTO","FORMATO INCORRECTO","FORMATO INCORRECTO",{"$f":"IF(L156=\"\",\"\",IF(ISERROR(edata(L156)),\"FORMATO INCORRECTO\",\"FORMATO CORRECTO\"))","v":""},{"$f":"IF(U156=\"\",\"\",IF(ISERROR(edata(U156)),\"FORMATO INCORRECTO\",\"FORMATO CORRECTO\"))","v":""},{"$f":"IF(N156=\"\",\"\",IF(ISERROR(edata(N156)),\"FORMATO INCORRECTO\",\"FORMATO CORRECTO\"))","v":""}]
["1900-05-30","",null,null,null,null,null,null,"",null,null,null,null,null,null,null,null,"",null,null,null,null,null,null,null,null,"",null,"",null,null,"",null,null,null,null,null,0,0,0,0,0,{"$f":"IF(AO157<>0,SUMIFS($AP$6:$AP$1001,$AN$6:$AN$1001,AN157,$F$6:$F$1001,F157,$AX$6:$AX$1001,AX157),0)","v":0},0,{"$f":"IF(AO157<>0,SUMIFS($AP$6:$AP$1001,$AR$6:$AR$1001,AR157,$F$6:$F$1001,F157,$AX$6:$AX$1001,AX157),0)","v":0},0,0,0,{"$f":"IF(AU157<>0,SUMIFS($AV$6:$AV$1001,$AT$6:$AT$1001,AT157,$F$6:$F$1001,F157,$AY$6:$AY$1001,AY157),0)","v":0},1900,1900,0,0,0,0,0,0,0,0,0,"","",0,0,0,"FORMATO INCORRECTO","FORMATO INCORRECTO","FORMATO INCORRECTO",{"$f":"IF(L157=\"\",\"\",IF(ISERROR(edata(L157)),\"FORMATO INCORRECTO\",\"FORMATO CORRECTO\"))","v":""},{"$f":"IF(U157=\"\",\"\",IF(ISERROR(edata(U157)),\"FORMATO INCORRECTO\",\"FORMATO CORRECTO\"))","v":""},{"$f":"IF(N157=\"\",\"\",IF(ISERROR(edata(N157)),\"FORMATO INCORRECTO\",\"FORMATO CORRECTO\"))","v":""}]
["1900-05-31","",null,null,null,null,null,null,"",null,null,null,null,null,null,null,null,"",null,null,null,null,null,null,null,null,"",null,"",null,null,"",null,null,null,null,null,0,0,0,0,0,{"$f":"IF(AO158<>0,SUMIFS($AP$6:$AP$1001,$AN$6:$AN$1001,AN158,$F$6:$F$1001,F158,$AX$6:$AX$1001,AX158),0)","v":0},0,{"$f":"IF(AO158<>0,SUMIFS($AP$6:$AP$1001,$AR$6:$AR$1001,AR158,$F$6:$F$1001,F158,$AX$6:$AX$1001,AX158),0)","v":0},0,0,0,{"$f":"IF(AU158<>0,SUMIFS($AV$6:$AV$1001,$AT$6:$AT$1001,AT158,$F$6:$F$1001,F158,$AY$6:$AY$1001,AY158),0)","v":0},1900,1900,0,0,0,0,0,0,0,0,0,"","",0,0,0,"FORMATO INCORRECTO","FORMATO INCORRECTO","FORMATO INCORRECTO",{"$f":"IF(L158=\"\",\"\",IF(ISERROR(edata(L158)),\"FORMATO INCORRECTO\",\"FORMATO CORRECTO\"))","v":""},{"$f":"IF(U158=\"\",\"\",IF(ISERROR(edata(U158)),\"FORMATO INCORRECTO\",\"FORMATO CORRECTO\"))","v":""},{"$f":"IF(N158=\"\",\"\",IF(ISERROR(edata(N158)),\"FORMATO INCORRECTO\",\"FORMATO CORRECTO\"))","v":""}]
["1900-06-01","",null,null,null,null,null,null,"",null,null,null,null,null,null,null,null,"",null,null,null,null,null,null,null,null,"",null,"",null,null,"",null,null,null,null,null,0,0,0,0,0,{"$f":"IF(AO159<>0,SUMIFS($AP$6:$AP$1001,$AN$6:$AN$1001,AN159,$F$6:$F$1001,F159,$AX$6:$AX$1001,AX159),0)","v":0},0,{"$f":"IF(AO159<>0,SUMIFS($AP$6:$AP$1001,$AR$6:$AR$1001,AR159,$F$6:$F$1001,F159,$AX$6:$AX$1001,AX159),0)","v":0},0,0,0,{"$f":"IF(AU159<>0,SUMIFS($AV$6:$AV$1001,$AT$6:$AT$1001,AT159,$F$6:$F$1001,F159,$AY$6:$AY$1001,AY159),0)","v":0},1900,1900,0,0,0,0,0,0,0,0,0,"","",0,0,0,"FORMATO INCORRECTO","FORMATO INCORRECTO","FORMATO INCORRECTO",{"$f":"IF(L159=\"\",\"\",IF(ISERROR(edata(L159)),\"FORMATO INCORRECTO\",\"FORMATO CORRECTO\"))","v":""},{"$f":"IF(U159=\"\",\"\",IF(ISERROR(edata(U159)),\"FORMATO INCORRECTO\",\"FORMATO CORRECTO\"))","v":""},{"$f":"IF(N159=\"\",\"\",IF(ISERROR(edata(N159)),\"FORMATO INCORRECTO\",\"FORMATO CORRECTO\"))","v":""}]
["1900-06-02","",null,null,null,null,null,null,"",null,null,null,null,null,null,null,null,"",null,null,null,null,null,null,null,null,"",null,"",null,null,"",null,null,null,null,null,0,0,0,0,0,{"$f":"IF(AO160<>0,SUMIFS($AP$6:$AP$1001,$AN$6:$AN$1001,AN160,$F$6:$F$1001,F160,$AX$6:$AX$1001,AX160),0)","v":0},0,{"$f":"IF(AO160<>0,SUMIFS($AP$6:$AP$1001,$AR$6:$AR$1001,AR160,$F$6:$F$1001,F160,$AX$6:$AX$1001,AX160),0)","v":0},0,0,0,{"$f":"IF(AU160<>0,SUMIFS($AV$6:$AV$1001,$AT$6:$AT$1001,AT160,$F$6:$F$1001,F160,$AY$6:$AY$1001,AY160),0)","v":0},1900,1900,0,0,0,0,0,0,0,0,0,"","",0,0,0,"FORMATO INCORRECTO","FORMATO INCORRECTO","FORMATO INCORRECTO",{"$f":"IF(L160=\"\",\"\",IF(ISERROR(edata(L160)),\"FORMATO INCORRECTO\",\"FORMATO CORRECTO\"))","v":""},{"$f":"IF(U160=\"\",\"\",IF(ISERROR(edata(U160)),\"FORMATO INCORRECTO\",\"FORMATO CORRECTO\"))","v":""},{"$f":"IF(N160=\"\",\"\",IF(ISERROR(edata(N160)),\"FORMATO INCORRECTO\",\"FORMATO CORRECTO\"))","v":""}]
["1900-06-03","",null,null,null,null,null,null,"",null,null,null,null,null,null,null,null,"",null,null,null,null,null,null,null,null,"",null,"",null,null,"",null,null,null,null,null,0,0,0,0,0,{"$f":"IF(AO161<>0,SUMIFS($AP$6:$AP$1001,$AN$6:$AN$1001,AN161,$F$6:$F$1001,F161,$AX$6:$AX$1001,AX161),0)","v":0},0,{"$f":"IF(AO161<>0,SUMIFS($AP$6:$AP$1001,$AR$6:$AR$1001,AR161,$F$6:$F$1001,F161,$AX$6:$AX$1001,AX161),0)","v":0},0,0,0,{"$f":"IF(AU161<>0,SUMIFS($AV$6:$AV$1001,$AT$6:$AT$1001,AT161,$F$6:$F$1001,F161,$AY$6:$AY$1001,AY161),0)","v":0},1900,1900,0,0,0,0,0,0,0,0,0,"","",0,0,0,"FORMATO INCORRECTO","FORMATO INCORRECTO","FORMATO INCORRECTO",{"$f":"IF(L161=\"\",\"\",IF(ISERROR(edata(L161)),\"FORMATO INCORRECTO\",\"FORMATO CORRECTO\"))","v":""},{"$f":"IF(U161=\"\",\"\",IF(ISERROR(edata(U161)),\"FORMATO INCORRECTO\",\"FORMATO CORRECTO\"))","v":""},{"$f":"IF(N161=\"\",\"\",IF(ISERROR(edata(N161)),\"FORMATO INCORRECTO\",\"FORMATO CORRECTO\"))","v":""}]
["1900-06-04","",null,null,null,null,null,null,"",null,null,null,null,null,null,null,null,"",null,null,null,null,null,null,null,null,"",null,"",null,null,"",null,null,null,null,null,0,0,0,0,0,{"$f":"IF(AO162<>0,SUMIFS($AP$6:$AP$1001,$AN$6:$AN$1001,AN162,$F$6:$F$1001,F162,$AX$6:$AX$1001,AX162),0)","v":0},0,{"$f":"IF(AO162<>0,SUMIFS($AP$6:$AP$1001,$AR$6:$AR$1001,AR162,$F$6:$F$1001,F162,$AX$6:$AX$1001,AX162),0)","v":0},0,0,0,{"$f":"IF(AU162<>0,SUMIFS($AV$6:$AV$1001,$AT$6:$AT$1001,AT162,$F$6:$F$1001,F162,$AY$6:$AY$1001,AY162),0)","v":0},1900,1900,0,0,0,0,0,0,0,0,0,"","",0,0,0,"FORMATO INCORRECTO","FORMATO INCORRECTO","FORMATO INCORRECTO",{"$f":"IF(L162=\"\",\"\",IF(ISERROR(edata(L162)),\"FORMATO INCORRECTO\",\"FORMATO CORRECTO\"))","v":""},{"$f":"IF(U162=\"\",\"\",IF(ISERROR(edata(U162)),\"FORMATO INCORRECTO\",\"FORMATO CORRECTO\"))","v":""},{"$f":"IF(N162=\"\",\"\",IF(ISERROR(edata(N162)),\"FORMATO INCORRECTO\",\"FORMATO CORRECTO\"))","v":""}]
["1900-06-05","",null,null,null,null,null,null,"",null,null,null,null,null,null,null,null,"",null,null,null,null,null,null,null,null,"",null,"",null,null,"",null,null,null,null,null,0,0,0,0,0,{"$f":"IF(AO163<>0,SUMIFS($AP$6:$AP$1001,$AN$6:$AN$1001,AN163,$F$6:$F$1001,F163,$AX$6:$AX$1001,AX163),0)","v":0},0,{"$f":"IF(AO163<>0,SUMIFS($AP$6:$AP$1001,$AR$6:$AR$1001,AR163,$F$6:$F$1001,F163,$AX$6:$AX$1001,AX163),0)","v":0},0,0,0,{"$f":"IF(AU163<>0,SUMIFS($AV$6:$AV$1001,$AT$6:$AT$1001,AT163,$F$6:$F$1001,F163,$AY$6:$AY$1001,AY163),0)","v":0},1900,1900,0,0,0,0,0,0,0,0,0,"","",0,0,0,"FORMATO INCORRECTO","FORMATO INCORRECTO","FORMATO INCORRECTO",{"$f":"IF(L163=\"\",\"\",IF(ISERROR(edata(L163)),\"FORMATO INCORRECTO\",\"FORMATO CORRECTO\"))","v":""},{"$f":"IF(U163=\"\",\"\",IF(ISERROR(edata(U163)),\"FORMATO INCORRECTO\",\"FORMATO CORRECTO\"))","v":""},{"$f":"IF(N163=\"\",\"\",IF(ISERROR(edata(N163)),\"FORMATO INCORRECTO\",\"FORMATO CORRECTO\"))","v":""}]
["1900-06-06","",null,null,null,null,null,null,"",null,null,null,null,null,null,null,null,"",null,null,null,null,null,null,null,null,"",null,"",null,null,"",null,null,null,null,null,0,0,0,0,0,{"$f":"IF(AO164<>0,SUMIFS($AP$6:$AP$1001,$AN$6:$AN$1001,AN164,$F$6:$F$1001,F164,$AX$6:$AX$1001,AX164),0)","v":0},0,{"$f":"IF(AO164<>0,SUMIFS($AP$6:$AP$1001,$AR$6:$AR$1001,AR164,$F$6:$F$1001,F164,$AX$6:$AX$1001,AX164),0)","v":0},0,0,0,{"$f":"IF(AU164<>0,SUMIFS($AV$6:$AV$1001,$AT$6:$AT$1001,AT164,$F$6:$F$1001,F164,$AY$6:$AY$1001,AY164),0)","v":0},1900,1900,0,0,0,0,0,0,0,0,0,"","",0,0,0,"FORMATO INCORRECTO","FORMATO INCORRECTO","FORMATO INCORRECTO",{"$f":"IF(L164=\"\",\"\",IF(ISERROR(edata(L164)),\"FORMATO INCORRECTO\",\"FORMATO CORRECTO\"))","v":""},{"$f":"IF(U164=\"\",\"\",IF(ISERROR(edata(U164)),\"FORMATO INCORRECTO\",\"FORMATO CORRECTO\"))","v":""},{"$f":"IF(N164=\"\",\"\",IF(ISERROR(edata(N164)),\"FORMATO INCORRECTO\",\"FORMATO CORRECTO\"))","v":""}]
["1900-06-07","",null,null,null,null,null,null,"",null,null,null,null,null,null,null,null,"",null,null,null,null,null,null,null,null,"",null,"",null,null,"",null,null,null,null,null,0,0,0,0,0,{"$f":"IF(AO165<>0,SUMIFS($AP$6:$AP$1001,$AN$6:$AN$1001,AN165,$F$6:$F$1001,F165,$AX$6:$AX$1001,AX165),0)","v":0},0,{"$f":"IF(AO165<>0,SUMIFS($AP$6:$AP$1001,$AR$6:$AR$1001,AR165,$F$6:$F$1001,F165,$AX$6:$AX$1001,AX165),0)","v":0},0,0,0,{"$f":"IF(AU165<>0,SUMIFS($AV$6:$AV$1001,$AT$6:$AT$1001,AT165,$F$6:$F$1001,F165,$AY$6:$AY$1001,AY165),0)","v":0},1900,1900,0,0,0,0,0,0,0,0,0,"","",0,0,0,"FORMATO INCORRECTO","FORMATO INCORRECTO","FORMATO INCORRECTO",{"$f":"IF(L165=\"\",\"\",IF(ISERROR(edata(L165)),\"FORMATO INCORRECTO\",\"FORMATO CORRECTO\"))","v":""},{"$f":"IF(U165=\"\",\"\",IF(ISERROR(edata(U165)),\"FORMATO INCORRECTO\",\"FORMATO CORRECTO\"))","v":""},{"$f":"IF(N165=\"\",\"\",IF(ISERROR(edata(N165)),\"FORMATO INCORRECTO\",\"FORMATO CORRECTO\"))","v":""}]
["1900-06-08","",null,null,null,null,null,null,"",null,null,null,null,null,null,null,null,"",null,null,null,null,null,null,null,null,"",null,"",null,null,"",null,null,null,null,null,0,0,0,0,0,{"$f":"IF(AO166<>0,SUMIFS($AP$6:$AP$1001,$AN$6:$AN$1001,AN166,$F$6:$F$1001,F166,$AX$6:$AX$1001,AX166),0)","v":0},0,{"$f":"IF(AO166<>0,SUMIFS($AP$6:$AP$1001,$AR$6:$AR$1001,AR166,$F$6:$F$1001,F166,$AX$6:$AX$1001,AX166),0)","v":0},0,0,0,{"$f":"IF(AU166<>0,SUMIFS($AV$6:$AV$1001,$AT$6:$AT$1001,AT166,$F$6:$F$1001,F166,$AY$6:$AY$1001,AY166),0)","v":0},1900,1900,0,0,0,0,0,0,0,0,0,"","",0,0,0,"FORMATO INCORRECTO","FORMATO INCORRECTO","FORMATO INCORRECTO",{"$f":"IF(L166=\"\",\"\",IF(ISERROR(edata(L166)),\"FORMATO INCORRECTO\",\"FORMATO CORRECTO\"))","v":""},{"$f":"IF(U166=\"\",\"\",IF(ISERROR(edata(U166)),\"FORMATO INCORRECTO\",\"FORMATO CORRECTO\"))","v":""},{"$f":"IF(N166=\"\",\"\",IF(ISERROR(edata(N166)),\"FORMATO INCORRECTO\",\"FORMATO CORRECTO\"))","v":""}]
["1900-06-09","",null,null,null,null,null,null,"",null,null,null,null,null,null,null,null,"",null,null,null,null,null,null,null,null,"",null,"",null,null,"",null,null,null,null,null,0,0,0,0,0,{"$f":"IF(AO167<>0,SUMIFS($AP$6:$AP$1001,$AN$6:$AN$1001,AN167,$F$6:$F$1001,F167,$AX$6:$AX$1001,AX167),0)","v":0},0,{"$f":"IF(AO167<>0,SUMIFS($AP$6:$AP$1001,$AR$6:$AR$1001,AR167,$F$6:$F$1001,F167,$AX$6:$AX$1001,AX167),0)","v":0},0,0,0,{"$f":"IF(AU167<>0,SUMIFS($AV$6:$AV$1001,$AT$6:$AT$1001,AT167,$F$6:$F$1001,F167,$AY$6:$AY$1001,AY167),0)","v":0},1900,1900,0,0,0,0,0,0,0,0,0,"","",0,0,0,"FORMATO INCORRECTO","FORMATO INCORRECTO","FORMATO INCORRECTO",{"$f":"IF(L167=\"\",\"\",IF(ISERROR(edata(L167)),\"FORMATO INCORRECTO\",\"FORMATO CORRECTO\"))","v":""},{"$f":"IF(U167=\"\",\"\",IF(ISERROR(edata(U167)),\"FORMATO INCORRECTO\",\"FORMATO CORRECTO\"))","v":""},{"$f":"IF(N167=\"\",\"\",IF(ISERROR(edata(N167)),\"FORMATO INCORRECTO\",\"FORMATO CORRECTO\"))","v":""}]
["1900-06-10","",null,null,null,null,null,null,"",null,null,null,null,null,null,null,null,"",null,null,null,null,null,null,null,null,"",null,"",null,null,"",null,null,null,null,null,0,0,0,0,0,{"$f":"IF(AO168<>0,SUMIFS($AP$6:$AP$1001,$AN$6:$AN$1001,AN168,$F$6:$F$1001,F168,$AX$6:$AX$1001,AX168),0)","v":0},0,{"$f":"IF(AO168<>0,SUMIFS($AP$6:$AP$1001,$AR$6:$AR$1001,AR168,$F$6:$F$1001,F168,$AX$6:$AX$1001,AX168),0)","v":0},0,0,0,{"$f":"IF(AU168<>0,SUMIFS($AV$6:$AV$1001,$AT$6:$AT$1001,AT168,$F$6:$F$1001,F168,$AY$6:$AY$1001,AY168),0)","v":0},1900,1900,0,0,0,0,0,0,0,0,0,"","",0,0,0,"FORMATO INCORRECTO","FORMATO INCORRECTO","FORMATO INCORRECTO",{"$f":"IF(L168=\"\",\"\",IF(ISERROR(edata(L168)),\"FORMATO INCORRECTO\",\"FORMATO CORRECTO\"))","v":""},{"$f":"IF(U168=\"\",\"\",IF(ISERROR(edata(U168)),\"FORMATO INCORRECTO\",\"FORMATO CORRECTO\"))","v":""},{"$f":"IF(N168=\"\",\"\",IF(ISERROR(edata(N168)),\"FORMATO INCORRECTO\",\"FORMATO CORRECTO\"))","v":""}]
["1900-06-11","",null,null,null,null,null,null,"",null,null,null,null,null,null,null,null,"",null,null,null,null,null,null,null,null,"",null,"",null,null,"",null,null,null,null,null,0,0,0,0,0,{"$f":"IF(AO169<>0,SUMIFS($AP$6:$AP$1001,$AN$6:$AN$1001,AN169,$F$6:$F$1001,F169,$AX$6:$AX$1001,AX169),0)","v":0},0,{"$f":"IF(AO169<>0,SUMIFS($AP$6:$AP$1001,$AR$6:$AR$1001,AR169,$F$6:$F$1001,F169,$AX$6:$AX$1001,AX169),0)","v":0},0,0,0,{"$f":"IF(AU169<>0,SUMIFS($AV$6:$AV$1001,$AT$6:$AT$1001,AT169,$F$6:$F$1001,F169,$AY$6:$AY$1001,AY169),0)","v":0},1900,1900,0,0,0,0,0,0,0,0,0,"","",0,0,0,"FORMATO INCORRECTO","FORMATO INCORRECTO","FORMATO INCORRECTO",{"$f":"IF(L169=\"\",\"\",IF(ISERROR(edata(L169)),\"FORMATO INCORRECTO\",\"FORMATO CORRECTO\"))","v":""},{"$f":"IF(U169=\"\",\"\",IF(ISERROR(edata(U169)),\"FORMATO INCORRECTO\",\"FORMATO CORRECTO\"))","v":""},{"$f":"IF(N169=\"\",\"\",IF(ISERROR(edata(N169)),\"FORMATO INCORRECTO\",\"FORMATO CORRECTO\"))","v":""}]
["1900-06-12","",null,null,null,null,null,null,"",null,null,null,null,null,null,null,null,"",null,null,null,null,null,null,null,null,"",null,"",null,null,"",null,null,null,null,null,0,0,0,0,0,{"$f":"IF(AO170<>0,SUMIFS($AP$6:$AP$1001,$AN$6:$AN$1001,AN170,$F$6:$F$1001,F170,$AX$6:$AX$1001,AX170),0)","v":0},0,{"$f":"IF(AO170<>0,SUMIFS($AP$6:$AP$1001,$AR$6:$AR$1001,AR170,$F$6:$F$1001,F170,$AX$6:$AX$1001,AX170),0)","v":0},0,0,0,{"$f":"IF(AU170<>0,SUMIFS($AV$6:$AV$1001,$AT$6:$AT$1001,AT170,$F$6:$F$1001,F170,$AY$6:$AY$1001,AY170),0)","v":0},1900,1900,0,0,0,0,0,0,0,0,0,"","",0,0,0,"FORMATO INCORRECTO","FORMATO INCORRECTO","FORMATO INCORRECTO",{"$f":"IF(L170=\"\",\"\",IF(ISERROR(edata(L170)),\"FORMATO INCORRECTO\",\"FORMATO CORRECTO\"))","v":""},{"$f":"IF(U170=\"\",\"\",IF(ISERROR(edata(U170)),\"FORMATO INCORRECTO\",\"FORMATO CORRECTO\"))","v":""},{"$f":"IF(N170=\"\",\"\",IF(ISERROR(edata(N170)),\"FORMATO INCORRECTO\",\"FORMATO CORRECTO\"))","v":""}]
["1900-06-13","",null,null,null,null,null,null,"",null,null,null,null,null,null,null,null,"",null,null,null,null,null,null,null,null,"",null,"",null,null,"",null,null,null,null,null,0,0,0,0,0,{"$f":"IF(AO171<>0,SUMIFS($AP$6:$AP$1001,$AN$6:$AN$1001,AN171,$F$6:$F$1001,F171,$AX$6:$AX$1001,AX171),0)","v":0},0,{"$f":"IF(AO171<>0,SUMIFS($AP$6:$AP$1001,$AR$6:$AR$1001,AR171,$F$6:$F$1001,F171,$AX$6:$AX$1001,AX171),0)","v":0},0,0,0,{"$f":"IF(AU171<>0,SUMIFS($AV$6:$AV$1001,$AT$6:$AT$1001,AT171,$F$6:$F$1001,F171,$AY$6:$AY$1001,AY171),0)","v":0},1900,1900,0,0,0,0,0,0,0,0,0,"","",0,0,0,"FORMATO INCORRECTO","FORMATO INCORRECTO","FORMATO INCORRECTO",{"$f":"IF(L171=\"\",\"\",IF(ISERROR(edata(L171)),\"FORMATO INCORRECTO\",\"FORMATO CORRECTO\"))","v":""},{"$f":"IF(U171=\"\",\"\",IF(ISERROR(edata(U171)),\"FORMATO INCORRECTO\",\"FORMATO CORRECTO\"))","v":""},{"$f":"IF(N171=\"\",\"\",IF(ISERROR(edata(N171)),\"FORMATO INCORRECTO\",\"FORMATO CORRECTO\"))","v":""}]
["1900-06-14","",null,null,null,null,null,null,"",null,null,null,null,null,null,null,null,"",null,null,null,null,null,null,null,null,"",null,"",null,null,"",null,null,null,null,null,0,0,0,0,0,{"$f":"IF(AO172<>0,SUMIFS($AP$6:$AP$1001,$AN$6:$AN$1001,AN172,$F$6:$F$1001,F172,$AX$6:$AX$1001,AX172),0)","v":0},0,{"$f":"IF(AO172<>0,SUMIFS($AP$6:$AP$1001,$AR$6:$AR$1001,AR172,$F$6:$F$1001,F172,$AX$6:$AX$1001,AX172),0)","v":0},0,0,0,{"$f":"IF(AU172<>0,SUMIFS($AV$6:$AV$1001,$AT$6:$AT$1001,AT172,$F$6:$F$1001,F172,$AY$6:$AY$1001,AY172),0)","v":0},1900,1900,0,0,0,0,0,0,0,0,0,"","",0,0,0,"FORMATO INCORRECTO","FORMATO INCORRECTO","FORMATO INCORRECTO",{"$f":"IF(L172=\"\",\"\",IF(ISERROR(edata(L172)),\"FORMATO INCORRECTO\",\"FORMATO CORRECTO\"))","v":""},{"$f":"IF(U172=\"\",\"\",IF(ISERROR(edata(U172)),\"FORMATO INCORRECTO\",\"FORMATO CORRECTO\"))","v":""},{"$f":"IF(N172=\"\",\"\",IF(ISERROR(edata(N172)),\"FORMATO INCORRECTO\",\"FORMATO CORRECTO\"))","v":""}]
["1900-06-15","",null,null,null,null,null,null,"",null,null,null,null,null,null,null,null,"",null,null,null,null,null,null,null,null,"",null,"",null,null,"",null,null,null,null,null,0,0,0,0,0,{"$f":"IF(AO173<>0,SUMIFS($AP$6:$AP$1001,$AN$6:$AN$1001,AN173,$F$6:$F$1001,F173,$AX$6:$AX$1001,AX173),0)","v":0},0,{"$f":"IF(AO173<>0,SUMIFS($AP$6:$AP$1001,$AR$6:$AR$1001,AR173,$F$6:$F$1001,F173,$AX$6:$AX$1001,AX173),0)","v":0},0,0,0,{"$f":"IF(AU173<>0,SUMIFS($AV$6:$AV$1001,$AT$6:$AT$1001,AT173,$F$6:$F$1001,F173,$AY$6:$AY$1001,AY173),0)","v":0},1900,1900,0,0,0,0,0,0,0,0,0,"","",0,0,0,"FORMATO INCORRECTO","FORMATO INCORRECTO","FORMATO INCORRECTO",{"$f":"IF(L173=\"\",\"\",IF(ISERROR(edata(L173)),\"FORMATO INCORRECTO\",\"FORMATO CORRECTO\"))","v":""},{"$f":"IF(U173=\"\",\"\",IF(ISERROR(edata(U173)),\"FORMATO INCORRECTO\",\"FORMATO CORRECTO\"))","v":""},{"$f":"IF(N173=\"\",\"\",IF(ISERROR(edata(N173)),\"FORMATO INCORRECTO\",\"FORMATO CORRECTO\"))","v":""}]
["1900-06-16","",null,null,null,null,null,null,"",null,null,null,null,null,null,null,null,"",null,null,null,null,null,null,null,null,"",null,"",null,null,"",null,null,null,null,null,0,0,0,0,0,{"$f":"IF(AO174<>0,SUMIFS($AP$6:$AP$1001,$AN$6:$AN$1001,AN174,$F$6:$F$1001,F174,$AX$6:$AX$1001,AX174),0)","v":0},0,{"$f":"IF(AO174<>0,SUMIFS($AP$6:$AP$1001,$AR$6:$AR$1001,AR174,$F$6:$F$1001,F174,$AX$6:$AX$1001,AX174),0)","v":0},0,0,0,{"$f":"IF(AU174<>0,SUMIFS($AV$6:$AV$1001,$AT$6:$AT$1001,AT174,$F$6:$F$1001,F174,$AY$6:$AY$1001,AY174),0)","v":0},1900,1900,0,0,0,0,0,0,0,0,0,"","",0,0,0,"FORMATO INCORRECTO","FORMATO INCORRECTO","FORMATO INCORRECTO",{"$f":"IF(L174=\"\",\"\",IF(ISERROR(edata(L174)),\"FORMATO INCORRECTO\",\"FORMATO CORRECTO\"))","v":""},{"$f":"IF(U174=\"\",\"\",IF(ISERROR(edata(U174)),\"FORMATO INCORRECTO\",\"FORMATO CORRECTO\"))","v":""},{"$f":"IF(N174=\"\",\"\",IF(ISERROR(edata(N174)),\"FORMATO INCORRECTO\",\"FORMATO CORRECTO\"))","v":""}]
["1900-06-17","",null,null,null,null,null,null,"",null,null,null,null,null,null,null,null,"",null,null,null,null,null,null,null,null,"",null,"",null,null,"",null,null,null,null,null,0,0,0,0,0,{"$f":"IF(AO175<>0,SUMIFS($AP$6:$AP$1001,$AN$6:$AN$1001,AN175,$F$6:$F$1001,F175,$AX$6:$AX$1001,AX175),0)","v":0},0,{"$f":"IF(AO175<>0,SUMIFS($AP$6:$AP$1001,$AR$6:$AR$1001,AR175,$F$6:$F$1001,F175,$AX$6:$AX$1001,AX175),0)","v":0},0,0,0,{"$f":"IF(AU175<>0,SUMIFS($AV$6:$AV$1001,$AT$6:$AT$1001,AT175,$F$6:$F$1001,F175,$AY$6:$AY$1001,AY175),0)","v":0},1900,1900,0,0,0,0,0,0,0,0,0,"","",0,0,0,"FORMATO INCORRECTO","FORMATO INCORRECTO","FORMATO INCORRECTO",{"$f":"IF(L175=\"\",\"\",IF(ISERROR(edata(L175)),\"FORMATO INCORRECTO\",\"FORMATO CORRECTO\"))","v":""},{"$f":"IF(U175=\"\",\"\",IF(ISERROR(edata(U175)),\"FORMATO INCORRECTO\",\"FORMATO CORRECTO\"))","v":""},{"$f":"IF(N175=\"\",\"\",IF(ISERROR(edata(N175)),\"FORMATO INCORRECTO\",\"FORMATO CORRECTO\"))","v":""}]
["1900-06-18","",null,null,null,null,null,null,"",null,null,null,null,null,null,null,null,"",null,null,null,null,null,null,null,null,"",null,"",null,null,"",null,null,null,null,null,0,0,0,0,0,{"$f":"IF(AO176<>0,SUMIFS($AP$6:$AP$1001,$AN$6:$AN$1001,AN176,$F$6:$F$1001,F176,$AX$6:$AX$1001,AX176),0)","v":0},0,{"$f":"IF(AO176<>0,SUMIFS($AP$6:$AP$1001,$AR$6:$AR$1001,AR176,$F$6:$F$1001,F176,$AX$6:$AX$1001,AX176),0)","v":0},0,0,0,{"$f":"IF(AU176<>0,SUMIFS($AV$6:$AV$1001,$AT$6:$AT$1001,AT176,$F$6:$F$1001,F176,$AY$6:$AY$1001,AY176),0)","v":0},1900,1900,0,0,0,0,0,0,0,0,0,"","",0,0,0,"FORMATO INCORRECTO","FORMATO INCORRECTO","FORMATO INCORRECTO",{"$f":"IF(L176=\"\",\"\",IF(ISERROR(edata(L176)),\"FORMATO INCORRECTO\",\"FORMATO CORRECTO\"))","v":""},{"$f":"IF(U176=\"\",\"\",IF(ISERROR(edata(U176)),\"FORMATO INCORRECTO\",\"FORMATO CORRECTO\"))","v":""},{"$f":"IF(N176=\"\",\"\",IF(ISERROR(edata(N176)),\"FORMATO INCORRECTO\",\"FORMATO CORRECTO\"))","v":""}]
["1900-06-19","",null,null,null,null,null,null,"",null,null,null,null,null,null,null,null,"",null,null,null,null,null,null,null,null,"",null,"",null,null,"",null,null,null,null,null,0,0,0,0,0,{"$f":"IF(AO177<>0,SUMIFS($AP$6:$AP$1001,$AN$6:$AN$1001,AN177,$F$6:$F$1001,F177,$AX$6:$AX$1001,AX177),0)","v":0},0,{"$f":"IF(AO177<>0,SUMIFS($AP$6:$AP$1001,$AR$6:$AR$1001,AR177,$F$6:$F$1001,F177,$AX$6:$AX$1001,AX177),0)","v":0},0,0,0,{"$f":"IF(AU177<>0,SUMIFS($AV$6:$AV$1001,$AT$6:$AT$1001,AT177,$F$6:$F$1001,F177,$AY$6:$AY$1001,AY177),0)","v":0},1900,1900,0,0,0,0,0,0,0,0,0,"","",0,0,0,"FORMATO INCORRECTO","FORMATO INCORRECTO","FORMATO INCORRECTO",{"$f":"IF(L177=\"\",\"\",IF(ISERROR(edata(L177)),\"FORMATO INCORRECTO\",\"FORMATO CORRECTO\"))","v":""},{"$f":"IF(U177=\"\",\"\",IF(ISERROR(edata(U177)),\"FORMATO INCORRECTO\",\"FORMATO CORRECTO\"))","v":""},{"$f":"IF(N177=\"\",\"\",IF(ISERROR(edata(N177)),\"FORMATO INCORRECTO\",\"FORMATO CORRECTO\"))","v":""}]
["1900-06-20","",null,null,null,null,null,null,"",null,null,null,null,null,null,null,null,"",null,null,null,null,null,null,null,null,"",null,"",null,null,"",null,null,null,null,null,0,0,0,0,0,{"$f":"IF(AO178<>0,SUMIFS($AP$6:$AP$1001,$AN$6:$AN$1001,AN178,$F$6:$F$1001,F178,$AX$6:$AX$1001,AX178),0)","v":0},0,{"$f":"IF(AO178<>0,SUMIFS($AP$6:$AP$1001,$AR$6:$AR$1001,AR178,$F$6:$F$1001,F178,$AX$6:$AX$1001,AX178),0)","v":0},0,0,0,{"$f":"IF(AU178<>0,SUMIFS($AV$6:$AV$1001,$AT$6:$AT$1001,AT178,$F$6:$F$1001,F178,$AY$6:$AY$1001,AY178),0)","v":0},1900,1900,0,0,0,0,0,0,0,0,0,"","",0,0,0,"FORMATO INCORRECTO","FORMATO INCORRECTO","FORMATO INCORRECTO",{"$f":"IF(L178=\"\",\"\",IF(ISERROR(edata(L178)),\"FORMATO INCORRECTO\",\"FORMATO CORRECTO\"))","v":""},{"$f":"IF(U178=\"\",\"\",IF(ISERROR(edata(U178)),\"FORMATO INCORRECTO\",\"FORMATO CORRECTO\"))","v":""},{"$f":"IF(N178=\"\",\"\",IF(ISERROR(edata(N178)),\"FORMATO INCORRECTO\",\"FORMATO CORRECTO\"))","v":""}]
["1900-06-21","",null,null,null,null,null,null,"",null,null,null,null,null,null,null,null,"",null,null,null,null,null,null,null,null,"",null,"",null,null,"",null,null,null,null,null,0,0,0,0,0,{"$f":"IF(AO179<>0,SUMIFS($AP$6:$AP$1001,$AN$6:$AN$1001,AN179,$F$6:$F$1001,F179,$AX$6:$AX$1001,AX179),0)","v":0},0,{"$f":"IF(AO179<>0,SUMIFS($AP$6:$AP$1001,$AR$6:$AR$1001,AR179,$F$6:$F$1001,F179,$AX$6:$AX$1001,AX179),0)","v":0},0,0,0,{"$f":"IF(AU179<>0,SUMIFS($AV$6:$AV$1001,$AT$6:$AT$1001,AT179,$F$6:$F$1001,F179,$AY$6:$AY$1001,AY179),0)","v":0},1900,1900,0,0,0,0,0,0,0,0,0,"","",0,0,0,"FORMATO INCORRECTO","FORMATO INCORRECTO","FORMATO INCORRECTO",{"$f":"IF(L179=\"\",\"\",IF(ISERROR(edata(L179)),\"FORMATO INCORRECTO\",\"FORMATO CORRECTO\"))","v":""},{"$f":"IF(U179=\"\",\"\",IF(ISERROR(edata(U179)),\"FORMATO INCORRECTO\",\"FORMATO CORRECTO\"))","v":""},{"$f":"IF(N179=\"\",\"\",IF(ISERROR(edata(N179)),\"FORMATO INCORRECTO\",\"FORMATO CORRECTO\"))","v":""}]
["1900-06-22","",null,null,null,null,null,null,"",null,null,null,null,null,null,null,null,"",null,null,null,null,null,null,null,null,"",null,"",null,null,"",null,null,null,null,null,0,0,0,0,0,{"$f":"IF(AO180<>0,SUMIFS($AP$6:$AP$1001,$AN$6:$AN$1001,AN180,$F$6:$F$1001,F180,$AX$6:$AX$1001,AX180),0)","v":0},0,{"$f":"IF(AO180<>0,SUMIFS($AP$6:$AP$1001,$AR$6:$AR$1001,AR180,$F$6:$F$1001,F180,$AX$6:$AX$1001,AX180),0)","v":0},0,0,0,{"$f":"IF(AU180<>0,SUMIFS($AV$6:$AV$1001,$AT$6:$AT$1001,AT180,$F$6:$F$1001,F180,$AY$6:$AY$1001,AY180),0)","v":0},1900,1900,0,0,0,0,0,0,0,0,0,"","",0,0,0,"FORMATO INCORRECTO","FORMATO INCORRECTO","FORMATO INCORRECTO",{"$f":"IF(L180=\"\",\"\",IF(ISERROR(edata(L180)),\"FORMATO INCORRECTO\",\"FORMATO CORRECTO\"))","v":""},{"$f":"IF(U180=\"\",\"\",IF(ISERROR(edata(U180)),\"FORMATO INCORRECTO\",\"FORMATO CORRECTO\"))","v":""},{"$f":"IF(N180=\"\",\"\",IF(ISERROR(edata(N180)),\"FORMATO INCORRECTO\",\"FORMATO CORRECTO\"))","v":""}]
["1900-06-23","",null,null,null,null,null,null,"",null,null,null,null,null,null,null,null,"",null,null,null,null,null,null,null,null,"",null,"",null,null,"",null,null,null,null,null,0,0,0,0,0,{"$f":"IF(AO181<>0,SUMIFS($AP$6:$AP$1001,$AN$6:$AN$1001,AN181,$F$6:$F$1001,F181,$AX$6:$AX$1001,AX181),0)","v":0},0,{"$f":"IF(AO181<>0,SUMIFS($AP$6:$AP$1001,$AR$6:$AR$1001,AR181,$F$6:$F$1001,F181,$AX$6:$AX$1001,AX181),0)","v":0},0,0,0,{"$f":"IF(AU181<>0,SUMIFS($AV$6:$AV$1001,$AT$6:$AT$1001,AT181,$F$6:$F$1001,F181,$AY$6:$AY$1001,AY181),0)","v":0},1900,1900,0,0,0,0,0,0,0,0,0,"","",0,0,0,"FORMATO INCORRECTO","FORMATO INCORRECTO","FORMATO INCORRECTO",{"$f":"IF(L181=\"\",\"\",IF(ISERROR(edata(L181)),\"FORMATO INCORRECTO\",\"FORMATO CORRECTO\"))","v":""},{"$f":"IF(U181=\"\",\"\",IF(ISERROR(edata(U181)),\"FORMATO INCORRECTO\",\"FORMATO CORRECTO\"))","v":""},{"$f":"IF(N181=\"\",\"\",IF(ISERROR(edata(N181)),\"FORMATO INCORRECTO\",\"FORMATO CORRECTO\"))","v":""}]
["1900-06-24","",null,null,null,null,null,null,"",null,null,null,null,null,null,null,null,"",null,null,null,null,null,null,null,null,"",null,"",null,null,"",null,null,null,null,null,0,0,0,0,0,{"$f":"IF(AO182<>0,SUMIFS($AP$6:$AP$1001,$AN$6:$AN$1001,AN182,$F$6:$F$1001,F182,$AX$6:$AX$1001,AX182),0)","v":0},0,{"$f":"IF(AO182<>0,SUMIFS($AP$6:$AP$1001,$AR$6:$AR$1001,AR182,$F$6:$F$1001,F182,$AX$6:$AX$1001,AX182),0)","v":0},0,0,0,{"$f":"IF(AU182<>0,SUMIFS($AV$6:$AV$1001,$AT$6:$AT$1001,AT182,$F$6:$F$1001,F182,$AY$6:$AY$1001,AY182),0)","v":0},1900,1900,0,0,0,0,0,0,0,0,0,"","",0,0,0,"FORMATO INCORRECTO","FORMATO INCORRECTO","FORMATO INCORRECTO",{"$f":"IF(L182=\"\",\"\",IF(ISERROR(edata(L182)),\"FORMATO INCORRECTO\",\"FORMATO CORRECTO\"))","v":""},{"$f":"IF(U182=\"\",\"\",IF(ISERROR(edata(U182)),\"FORMATO INCORRECTO\",\"FORMATO CORRECTO\"))","v":""},{"$f":"IF(N182=\"\",\"\",IF(ISERROR(edata(N182)),\"FORMATO INCORRECTO\",\"FORMATO CORRECTO\"))","v":""}]
["1900-06-25","",null,null,null,null,null,null,"",null,null,null,null,null,null,null,null,"",null,null,null,null,null,null,null,null,"",null,"",null,null,"",null,null,null,null,null,0,0,0,0,0,{"$f":"IF(AO183<>0,SUMIFS($AP$6:$AP$1001,$AN$6:$AN$1001,AN183,$F$6:$F$1001,F183,$AX$6:$AX$1001,AX183),0)","v":0},0,{"$f":"IF(AO183<>0,SUMIFS($AP$6:$AP$1001,$AR$6:$AR$1001,AR183,$F$6:$F$1001,F183,$AX$6:$AX$1001,AX183),0)","v":0},0,0,0,{"$f":"IF(AU183<>0,SUMIFS($AV$6:$AV$1001,$AT$6:$AT$1001,AT183,$F$6:$F$1001,F183,$AY$6:$AY$1001,AY183),0)","v":0},1900,1900,0,0,0,0,0,0,0,0,0,"","",0,0,0,"FORMATO INCORRECTO","FORMATO INCORRECTO","FORMATO INCORRECTO",{"$f":"IF(L183=\"\",\"\",IF(ISERROR(edata(L183)),\"FORMATO INCORRECTO\",\"FORMATO CORRECTO\"))","v":""},{"$f":"IF(U183=\"\",\"\",IF(ISERROR(edata(U183)),\"FORMATO INCORRECTO\",\"FORMATO CORRECTO\"))","v":""},{"$f":"IF(N183=\"\",\"\",IF(ISERROR(edata(N183)),\"FORMATO INCORRECTO\",\"FORMATO CORRECTO\"))","v":""}]
["1900-06-26","",null,null,null,null,null,null,"",null,null,null,null,null,null,null,null,"",null,null,null,null,null,null,null,null,"",null,"",null,null,"",null,null,null,null,null,0,0,0,0,0,{"$f":"IF(AO184<>0,SUMIFS($AP$6:$AP$1001,$AN$6:$AN$1001,AN184,$F$6:$F$1001,F184,$AX$6:$AX$1001,AX184),0)","v":0},0,{"$f":"IF(AO184<>0,SUMIFS($AP$6:$AP$1001,$AR$6:$AR$1001,AR184,$F$6:$F$1001,F184,$AX$6:$AX$1001,AX184),0)","v":0},0,0,0,{"$f":"IF(AU184<>0,SUMIFS($AV$6:$AV$1001,$AT$6:$AT$1001,AT184,$F$6:$F$1001,F184,$AY$6:$AY$1001,AY184),0)","v":0},1900,1900,0,0,0,0,0,0,0,0,0,"","",0,0,0,"FORMATO INCORRECTO","FORMATO INCORRECTO","FORMATO INCORRECTO",{"$f":"IF(L184=\"\",\"\",IF(ISERROR(edata(L184)),\"FORMATO INCORRECTO\",\"FORMATO CORRECTO\"))","v":""},{"$f":"IF(U184=\"\",\"\",IF(ISERROR(edata(U184)),\"FORMATO INCORRECTO\",\"FORMATO CORRECTO\"))","v":""},{"$f":"IF(N184=\"\",\"\",IF(ISERROR(edata(N184)),\"FORMATO INCORRECTO\",\"FORMATO CORRECTO\"))","v":""}]
["1900-06-27","",null,null,null,null,null,null,"",null,null,null,null,null,null,null,null,"",null,null,null,null,null,null,null,null,"",null,"",null,null,"",null,null,null,null,null,0,0,0,0,0,{"$f":"IF(AO185<>0,SUMIFS($AP$6:$AP$1001,$AN$6:$AN$1001,AN185,$F$6:$F$1001,F185,$AX$6:$AX$1001,AX185),0)","v":0},0,{"$f":"IF(AO185<>0,SUMIFS($AP$6:$AP$1001,$AR$6:$AR$1001,AR185,$F$6:$F$1001,F185,$AX$6:$AX$1001,AX185),0)","v":0},0,0,0,{"$f":"IF(AU185<>0,SUMIFS($AV$6:$AV$1001,$AT$6:$AT$1001,AT185,$F$6:$F$1001,F185,$AY$6:$AY$1001,AY185),0)","v":0},1900,1900,0,0,0,0,0,0,0,0,0,"","",0,0,0,"FORMATO INCORRECTO","FORMATO INCORRECTO","FORMATO INCORRECTO",{"$f":"IF(L185=\"\",\"\",IF(ISERROR(edata(L185)),\"FORMATO INCORRECTO\",\"FORMATO CORRECTO\"))","v":""},{"$f":"IF(U185=\"\",\"\",IF(ISERROR(edata(U185)),\"FORMATO INCORRECTO\",\"FORMATO CORRECTO\"))","v":""},{"$f":"IF(N185=\"\",\"\",IF(ISERROR(edata(N185)),\"FORMATO INCORRECTO\",\"FORMATO CORRECTO\"))","v":""}]
["1900-06-28","",null,null,null,null,null,null,"",null,null,null,null,null,null,null,null,"",null,null,null,null,null,null,null,null,"",null,"",null,null,"",null,null,null,null,null,0,0,0,0,0,{"$f":"IF(AO186<>0,SUMIFS($AP$6:$AP$1001,$AN$6:$AN$1001,AN186,$F$6:$F$1001,F186,$AX$6:$AX$1001,AX186),0)","v":0},0,{"$f":"IF(AO186<>0,SUMIFS($AP$6:$AP$1001,$AR$6:$AR$1001,AR186,$F$6:$F$1001,F186,$AX$6:$AX$1001,AX186),0)","v":0},0,0,0,{"$f":"IF(AU186<>0,SUMIFS($AV$6:$AV$1001,$AT$6:$AT$1001,AT186,$F$6:$F$1001,F186,$AY$6:$AY$1001,AY186),0)","v":0},1900,1900,0,0,0,0,0,0,0,0,0,"","",0,0,0,"FORMATO INCORRECTO","FORMATO INCORRECTO","FORMATO INCORRECTO",{"$f":"IF(L186=\"\",\"\",IF(ISERROR(edata(L186)),\"FORMATO INCORRECTO\",\"FORMATO CORRECTO\"))","v":""},{"$f":"IF(U186=\"\",\"\",IF(ISERROR(edata(U186)),\"FORMATO INCORRECTO\",\"FORMATO CORRECTO\"))","v":""},{"$f":"IF(N186=\"\",\"\",IF(ISERROR(edata(N186)),\"FORMATO INCORRECTO\",\"FORMATO CORRECTO\"))","v":""}]
["1900-06-29","",null,null,null,null,null,null,"",null,null,null,null,null,null,null,null,"",null,null,null,null,null,null,null,null,"",null,"",null,null,"",null,null,null,null,null,0,0,0,0,0,{"$f":"IF(AO187<>0,SUMIFS($AP$6:$AP$1001,$AN$6:$AN$1001,AN187,$F$6:$F$1001,F187,$AX$6:$AX$1001,AX187),0)","v":0},0,{"$f":"IF(AO187<>0,SUMIFS($AP$6:$AP$1001,$AR$6:$AR$1001,AR187,$F$6:$F$1001,F187,$AX$6:$AX$1001,AX187),0)","v":0},0,0,0,{"$f":"IF(AU187<>0,SUMIFS($AV$6:$AV$1001,$AT$6:$AT$1001,AT187,$F$6:$F$1001,F187,$AY$6:$AY$1001,AY187),0)","v":0},1900,1900,0,0,0,0,0,0,0,0,0,"","",0,0,0,"FORMATO INCORRECTO","FORMATO INCORRECTO","FORMATO INCORRECTO",{"$f":"IF(L187=\"\",\"\",IF(ISERROR(edata(L187)),\"FORMATO INCORRECTO\",\"FORMATO CORRECTO\"))","v":""},{"$f":"IF(U187=\"\",\"\",IF(ISERROR(edata(U187)),\"FORMATO INCORRECTO\",\"FORMATO CORRECTO\"))","v":""},{"$f":"IF(N187=\"\",\"\",IF(ISERROR(edata(N187)),\"FORMATO INCORRECTO\",\"FORMATO CORRECTO\"))","v":""}]
["1900-06-30","",null,null,null,null,null,null,"",null,null,null,null,null,null,null,null,"",null,null,null,null,null,null,null,null,"",null,"",null,null,"",null,null,null,null,null,0,0,0,0,0,{"$f":"IF(AO188<>0,SUMIFS($AP$6:$AP$1001,$AN$6:$AN$1001,AN188,$F$6:$F$1001,F188,$AX$6:$AX$1001,AX188),0)","v":0},0,{"$f":"IF(AO188<>0,SUMIFS($AP$6:$AP$1001,$AR$6:$AR$1001,AR188,$F$6:$F$1001,F188,$AX$6:$AX$1001,AX188),0)","v":0},0,0,0,{"$f":"IF(AU188<>0,SUMIFS($AV$6:$AV$1001,$AT$6:$AT$1001,AT188,$F$6:$F$1001,F188,$AY$6:$AY$1001,AY188),0)","v":0},1900,1900,0,0,0,0,0,0,0,0,0,"","",0,0,0,"FORMATO INCORRECTO","FORMATO INCORRECTO","FORMATO INCORRECTO",{"$f":"IF(L188=\"\",\"\",IF(ISERROR(edata(L188)),\"FORMATO INCORRECTO\",\"FORMATO CORRECTO\"))","v":""},{"$f":"IF(U188=\"\",\"\",IF(ISERROR(edata(U188)),\"FORMATO INCORRECTO\",\"FORMATO CORRECTO\"))","v":""},{"$f":"IF(N188=\"\",\"\",IF(ISERROR(edata(N188)),\"FORMATO INCORRECTO\",\"FORMATO CORRECTO\"))","v":""}]
["1900-07-01","",null,null,null,null,null,null,"",null,null,null,null,null,null,null,null,"",null,null,null,null,null,null,null,null,"",null,"",null,null,"",null,null,null,null,null,0,0,0,0,0,{"$f":"IF(AO189<>0,SUMIFS($AP$6:$AP$1001,$AN$6:$AN$1001,AN189,$F$6:$F$1001,F189,$AX$6:$AX$1001,AX189),0)","v":0},0,{"$f":"IF(AO189<>0,SUMIFS($AP$6:$AP$1001,$AR$6:$AR$1001,AR189,$F$6:$F$1001,F189,$AX$6:$AX$1001,AX189),0)","v":0},0,0,0,{"$f":"IF(AU189<>0,SUMIFS($AV$6:$AV$1001,$AT$6:$AT$1001,AT189,$F$6:$F$1001,F189,$AY$6:$AY$1001,AY189),0)","v":0},1900,1900,0,0,0,0,0,0,0,0,0,"","",0,0,0,"FORMATO INCORRECTO","FORMATO INCORRECTO","FORMATO INCORRECTO",{"$f":"IF(L189=\"\",\"\",IF(ISERROR(edata(L189)),\"FORMATO INCORRECTO\",\"FORMATO CORRECTO\"))","v":""},{"$f":"IF(U189=\"\",\"\",IF(ISERROR(edata(U189)),\"FORMATO INCORRECTO\",\"FORMATO CORRECTO\"))","v":""},{"$f":"IF(N189=\"\",\"\",IF(ISERROR(edata(N189)),\"FORMATO INCORRECTO\",\"FORMATO CORRECTO\"))","v":""}]
["1900-07-02","",null,null,null,null,null,null,"",null,null,null,null,null,null,null,null,"",null,null,null,null,null,null,null,null,"",null,"",null,null,"",null,null,null,null,null,0,0,0,0,0,{"$f":"IF(AO190<>0,SUMIFS($AP$6:$AP$1001,$AN$6:$AN$1001,AN190,$F$6:$F$1001,F190,$AX$6:$AX$1001,AX190),0)","v":0},0,{"$f":"IF(AO190<>0,SUMIFS($AP$6:$AP$1001,$AR$6:$AR$1001,AR190,$F$6:$F$1001,F190,$AX$6:$AX$1001,AX190),0)","v":0},0,0,0,{"$f":"IF(AU190<>0,SUMIFS($AV$6:$AV$1001,$AT$6:$AT$1001,AT190,$F$6:$F$1001,F190,$AY$6:$AY$1001,AY190),0)","v":0},1900,1900,0,0,0,0,0,0,0,0,0,"","",0,0,0,"FORMATO INCORRECTO","FORMATO INCORRECTO","FORMATO INCORRECTO",{"$f":"IF(L190=\"\",\"\",IF(ISERROR(edata(L190)),\"FORMATO INCORRECTO\",\"FORMATO CORRECTO\"))","v":""},{"$f":"IF(U190=\"\",\"\",IF(ISERROR(edata(U190)),\"FORMATO INCORRECTO\",\"FORMATO CORRECTO\"))","v":""},{"$f":"IF(N190=\"\",\"\",IF(ISERROR(edata(N190)),\"FORMATO INCORRECTO\",\"FORMATO CORRECTO\"))","v":""}]
["1900-07-03","",null,null,null,null,null,null,"",null,null,null,null,null,null,null,null,"",null,null,null,null,null,null,null,null,"",null,"",null,null,"",null,null,null,null,null,0,0,0,0,0,{"$f":"IF(AO191<>0,SUMIFS($AP$6:$AP$1001,$AN$6:$AN$1001,AN191,$F$6:$F$1001,F191,$AX$6:$AX$1001,AX191),0)","v":0},0,{"$f":"IF(AO191<>0,SUMIFS($AP$6:$AP$1001,$AR$6:$AR$1001,AR191,$F$6:$F$1001,F191,$AX$6:$AX$1001,AX191),0)","v":0},0,0,0,{"$f":"IF(AU191<>0,SUMIFS($AV$6:$AV$1001,$AT$6:$AT$1001,AT191,$F$6:$F$1001,F191,$AY$6:$AY$1001,AY191),0)","v":0},1900,1900,0,0,0,0,0,0,0,0,0,"","",0,0,0,"FORMATO INCORRECTO","FORMATO INCORRECTO","FORMATO INCORRECTO",{"$f":"IF(L191=\"\",\"\",IF(ISERROR(edata(L191)),\"FORMATO INCORRECTO\",\"FORMATO CORRECTO\"))","v":""},{"$f":"IF(U191=\"\",\"\",IF(ISERROR(edata(U191)),\"FORMATO INCORRECTO\",\"FORMATO CORRECTO\"))","v":""},{"$f":"IF(N191=\"\",\"\",IF(ISERROR(edata(N191)),\"FORMATO INCORRECTO\",\"FORMATO CORRECTO\"))","v":""}]
["1900-07-04","",null,null,null,null,null,null,"",null,null,null,null,null,null,null,null,"",null,null,null,null,null,null,null,null,"",null,"",null,null,"",null,null,null,null,null,0,0,0,0,0,{"$f":"IF(AO192<>0,SUMIFS($AP$6:$AP$1001,$AN$6:$AN$1001,AN192,$F$6:$F$1001,F192,$AX$6:$AX$1001,AX192),0)","v":0},0,{"$f":"IF(AO192<>0,SUMIFS($AP$6:$AP$1001,$AR$6:$AR$1001,AR192,$F$6:$F$1001,F192,$AX$6:$AX$1001,AX192),0)","v":0},0,0,0,{"$f":"IF(AU192<>0,SUMIFS($AV$6:$AV$1001,$AT$6:$AT$1001,AT192,$F$6:$F$1001,F192,$AY$6:$AY$1001,AY192),0)","v":0},1900,1900,0,0,0,0,0,0,0,0,0,"","",0,0,0,"FORMATO INCORRECTO","FORMATO INCORRECTO","FORMATO INCORRECTO",{"$f":"IF(L192=\"\",\"\",IF(ISERROR(edata(L192)),\"FORMATO INCORRECTO\",\"FORMATO CORRECTO\"))","v":""},{"$f":"IF(U192=\"\",\"\",IF(ISERROR(edata(U192)),\"FORMATO INCORRECTO\",\"FORMATO CORRECTO\"))","v":""},{"$f":"IF(N192=\"\",\"\",IF(ISERROR(edata(N192)),\"FORMATO INCORRECTO\",\"FORMATO CORRECTO\"))","v":""}]
["1900-07-05","",null,null,null,null,null,null,"",null,null,null,null,null,null,null,null,"",null,null,null,null,null,null,null,null,"",null,"",null,null,"",null,null,null,null,null,0,0,0,0,0,{"$f":"IF(AO193<>0,SUMIFS($AP$6:$AP$1001,$AN$6:$AN$1001,AN193,$F$6:$F$1001,F193,$AX$6:$AX$1001,AX193),0)","v":0},0,{"$f":"IF(AO193<>0,SUMIFS($AP$6:$AP$1001,$AR$6:$AR$1001,AR193,$F$6:$F$1001,F193,$AX$6:$AX$1001,AX193),0)","v":0},0,0,0,{"$f":"IF(AU193<>0,SUMIFS($AV$6:$AV$1001,$AT$6:$AT$1001,AT193,$F$6:$F$1001,F193,$AY$6:$AY$1001,AY193),0)","v":0},1900,1900,0,0,0,0,0,0,0,0,0,"","",0,0,0,"FORMATO INCORRECTO","FORMATO INCORRECTO","FORMATO INCORRECTO",{"$f":"IF(L193=\"\",\"\",IF(ISERROR(edata(L193)),\"FORMATO INCORRECTO\",\"FORMATO CORRECTO\"))","v":""},{"$f":"IF(U193=\"\",\"\",IF(ISERROR(edata(U193)),\"FORMATO INCORRECTO\",\"FORMATO CORRECTO\"))","v":""},{"$f":"IF(N193=\"\",\"\",IF(ISERROR(edata(N193)),\"FORMATO INCORRECTO\",\"FORMATO CORRECTO\"))","v":""}]
["1900-07-06","",null,null,null,null,null,null,"",null,null,null,null,null,null,null,null,"",null,null,null,null,null,null,null,null,"",null,"",null,null,"",null,null,null,null,null,0,0,0,0,0,{"$f":"IF(AO194<>0,SUMIFS($AP$6:$AP$1001,$AN$6:$AN$1001,AN194,$F$6:$F$1001,F194,$AX$6:$AX$1001,AX194),0)","v":0},0,{"$f":"IF(AO194<>0,SUMIFS($AP$6:$AP$1001,$AR$6:$AR$1001,AR194,$F$6:$F$1001,F194,$AX$6:$AX$1001,AX194),0)","v":0},0,0,0,{"$f":"IF(AU194<>0,SUMIFS($AV$6:$AV$1001,$AT$6:$AT$1001,AT194,$F$6:$F$1001,F194,$AY$6:$AY$1001,AY194),0)","v":0},1900,1900,0,0,0,0,0,0,0,0,0,"","",0,0,0,"FORMATO INCORRECTO","FORMATO INCORRECTO","FORMATO INCORRECTO",{"$f":"IF(L194=\"\",\"\",IF(ISERROR(edata(L194)),\"FORMATO INCORRECTO\",\"FORMATO CORRECTO\"))","v":""},{"$f":"IF(U194=\"\",\"\",IF(ISERROR(edata(U194)),\"FORMATO INCORRECTO\",\"FORMATO CORRECTO\"))","v":""},{"$f":"IF(N194=\"\",\"\",IF(ISERROR(edata(N194)),\"FORMATO INCORRECTO\",\"FORMATO CORRECTO\"))","v":""}]
["1900-07-07","",null,null,null,null,null,null,"",null,null,null,null,null,null,null,null,"",null,null,null,null,null,null,null,null,"",null,"",null,null,"",null,null,null,null,null,0,0,0,0,0,{"$f":"IF(AO195<>0,SUMIFS($AP$6:$AP$1001,$AN$6:$AN$1001,AN195,$F$6:$F$1001,F195,$AX$6:$AX$1001,AX195),0)","v":0},0,{"$f":"IF(AO195<>0,SUMIFS($AP$6:$AP$1001,$AR$6:$AR$1001,AR195,$F$6:$F$1001,F195,$AX$6:$AX$1001,AX195),0)","v":0},0,0,0,{"$f":"IF(AU195<>0,SUMIFS($AV$6:$AV$1001,$AT$6:$AT$1001,AT195,$F$6:$F$1001,F195,$AY$6:$AY$1001,AY195),0)","v":0},1900,1900,0,0,0,0,0,0,0,0,0,"","",0,0,0,"FORMATO INCORRECTO","FORMATO INCORRECTO","FORMATO INCORRECTO",{"$f":"IF(L195=\"\",\"\",IF(ISERROR(edata(L195)),\"FORMATO INCORRECTO\",\"FORMATO CORRECTO\"))","v":""},{"$f":"IF(U195=\"\",\"\",IF(ISERROR(edata(U195)),\"FORMATO INCORRECTO\",\"FORMATO CORRECTO\"))","v":""},{"$f":"IF(N195=\"\",\"\",IF(ISERROR(edata(N195)),\"FORMATO INCORRECTO\",\"FORMATO CORRECTO\"))","v":""}]
["1900-07-08","",null,null,null,null,null,null,"",null,null,null,null,null,null,null,null,"",null,null,null,null,null,null,null,null,"",null,"",null,null,"",null,null,null,null,null,0,0,0,0,0,{"$f":"IF(AO196<>0,SUMIFS($AP$6:$AP$1001,$AN$6:$AN$1001,AN196,$F$6:$F$1001,F196,$AX$6:$AX$1001,AX196),0)","v":0},0,{"$f":"IF(AO196<>0,SUMIFS($AP$6:$AP$1001,$AR$6:$AR$1001,AR196,$F$6:$F$1001,F196,$AX$6:$AX$1001,AX196),0)","v":0},0,0,0,{"$f":"IF(AU196<>0,SUMIFS($AV$6:$AV$1001,$AT$6:$AT$1001,AT196,$F$6:$F$1001,F196,$AY$6:$AY$1001,AY196),0)","v":0},1900,1900,0,0,0,0,0,0,0,0,0,"","",0,0,0,"FORMATO INCORRECTO","FORMATO INCORRECTO","FORMATO INCORRECTO",{"$f":"IF(L196=\"\",\"\",IF(ISERROR(edata(L196)),\"FORMATO INCORRECTO\",\"FORMATO CORRECTO\"))","v":""},{"$f":"IF(U196=\"\",\"\",IF(ISERROR(edata(U196)),\"FORMATO INCORRECTO\",\"FORMATO CORRECTO\"))","v":""},{"$f":"IF(N196=\"\",\"\",IF(ISERROR(edata(N196)),\"FORMATO INCORRECTO\",\"FORMATO CORRECTO\"))","v":""}]
["1900-07-09","",null,null,null,null,null,null,"",null,null,null,null,null,null,null,null,"",null,null,null,null,null,null,null,null,"",null,"",null,null,"",null,null,null,null,null,0,0,0,0,0,{"$f":"IF(AO197<>0,SUMIFS($AP$6:$AP$1001,$AN$6:$AN$1001,AN197,$F$6:$F$1001,F197,$AX$6:$AX$1001,AX197),0)","v":0},0,{"$f":"IF(AO197<>0,SUMIFS($AP$6:$AP$1001,$AR$6:$AR$1001,AR197,$F$6:$F$1001,F197,$AX$6:$AX$1001,AX197),0)","v":0},0,0,0,{"$f":"IF(AU197<>0,SUMIFS($AV$6:$AV$1001,$AT$6:$AT$1001,AT197,$F$6:$F$1001,F197,$AY$6:$AY$1001,AY197),0)","v":0},1900,1900,0,0,0,0,0,0,0,0,0,"","",0,0,0,"FORMATO INCORRECTO","FORMATO INCORRECTO","FORMATO INCORRECTO",{"$f":"IF(L197=\"\",\"\",IF(ISERROR(edata(L197)),\"FORMATO INCORRECTO\",\"FORMATO CORRECTO\"))","v":""},{"$f":"IF(U197=\"\",\"\",IF(ISERROR(edata(U197)),\"FORMATO INCORRECTO\",\"FORMATO CORRECTO\"))","v":""},{"$f":"IF(N197=\"\",\"\",IF(ISERROR(edata(N197)),\"FORMATO INCORRECTO\",\"FORMATO CORRECTO\"))","v":""}]
["1900-07-10","",null,null,null,null,null,null,{"$f":"IF(ISERROR(VLOOKUP(J198,tipoDocDesp,2,FALSE)),\"\",VLOOKUP(J198,tipoDocDesp,2,FALSE))","v":""},null,null,null,null,null,null,null,null,{"$f":"IF(ISERROR(VLOOKUP(S198,tipoDocQuit,2,FALSE)),\"\",VLOOKUP(S198,tipoDocQuit,2,FALSE))","v":""},null,null,null,null,null,null,null,null,{"$f":"IF(ISERROR(VLOOKUP(AB198,DESPESASGERAL,3,FALSE)),\"\",VLOOKUP(AB198,DESPESASGERAL,3,FALSE))","v":""},null,{"$f":"IF(ISERROR(VLOOKUP(AD198,RUBRICASGERAL,2,FALSE)),\"\",VLOOKUP(AD198,RUBRICASGERAL,2,FALSE))","v":""},null,null,{"$f":"IF(ISERROR(VLOOKUP(AG198,CONCELHOGERAL,2,FALSE)),\"\",VLOOKUP(AG198,CONCELHOGERAL,2,FALSE))","v":""},null,null,null,null,null,0,0,0,{"$f":"+M198","v":0},{"$f":"+N198","v":0},{"$f":"IF(AO198<>0,SUMIFS($AP$6:$AP$1001,$AN$6:$AN$1001,AN198,$F$6:$F$1001,F198,$AX$6:$AX$1001,AX198),0)","v":0},{"$f":"+K198","v":0},{"$f":"IF(AO198<>0,SUMIFS($AP$6:$AP$1001,$AR$6:$AR$1001,AR198,$F$6:$F$1001,F198,$AX$6:$AX$1001,AX198),0)","v":0},{"$f":"+T198","v":0},{"$f":"+V198","v":0},{"$f":"+W198","v":0},{"$f":"IF(AU198<>0,SUMIFS($AV$6:$AV$1001,$AT$6:$AT$1001,AT198,$F$6:$F$1001,F198,$AY$6:$AY$1001,AY198),0)","v":0},{"$f":"YEAR(L198)","v":1900},{"$f":"YEAR(U198)","v":1900},0,0,{"$f":"+M198-BA198","v":0},0,0,{"$f":"+M198-BD198","v":0},0,0,{"$f":"+V198-BG198","v":0},"","",0,0,0,"FORMATO INCORRECTO","FORMATO INCORRECTO","FORMATO INCORRECTO",{"$f":"IF(L198=\"\",\"\",IF(ISERROR(edata(L198)),\"FORMATO INCORRECTO\",\"FORMATO CORRECTO\"))","v":""},{"$f":"IF(U198=\"\",\"\",IF(ISERROR(edata(U198)),\"FORMATO INCORRECTO\",\"FORMATO CORRECTO\"))","v":""},{"$f":"IF(N198=\"\",\"\",IF(ISERROR(edata(N198)),\"FORMATO INCORRECTO\",\"FORMATO CORRECTO\"))","v":""}]
["1900-07-11","",null,null,null,null,null,null,"",null,null,null,null,null,null,null,null,"",null,null,null,null,null,null,null,null,"",null,"",null,null,"",null,null,null,null,null,{"$f":"+O199+P199+Q199-N199","v":0},{"$f":"+O199+P199+Q199-W199","v":0},{"$f":"+D199","v":0},0,0,{"$f":"IF(AO199<>0,SUMIFS($AP$6:$AP$1001,$AN$6:$AN$1001,AN199,$F$6:$F$1001,F199,$AX$6:$AX$1001,AX199),0)","v":0},0,{"$f":"IF(AO199<>0,SUMIFS($AP$6:$AP$1001,$AR$6:$AR$1001,AR199,$F$6:$F$1001,F199,$AX$6:$AX$1001,AX199),0)","v":0},0,0,0,{"$f":"IF(AU199<>0,SUMIFS($AV$6:$AV$1001,$AT$6:$AT$1001,AT199,$F$6:$F$1001,F199,$AY$6:$AY$1001,AY199),0)","v":0},1900,1900,{"$f":"+AN199","v":0},{"$f":"+AQ199","v":0},0,{"$f":"+AR199","v":0},{"$f":"ROUND(AS199,2)","v":0},0,{"$f":"+AT199","v":0},{"$f":"ROUND(AW199,2)","v":0},0,{"$f":"IF(ISERROR(L199<=U199),\"FORMATO INCORRECTO\",IF(AND(L199=0,U199=0),\"\",IF(L199<=U199,\"VALIDADO\",\"NÃO VALIDADO\")))","v":""},{"$f":"IF(AND(L199=\"\",U199=\"\",Y199=\"\"),\"\",IF(OR(ISERROR(BK199),ISERROR(BL199),ISERROR(BM199)),\"ERRO NO FORMATO\",\"FORMATO CORRECTO\"))","v":""},{"$f":"convdata(L199)","v":0},{"$f":"convdata(U199)","v":0},{"$f":"convdata(Y199)","v":0},{"$f":"ENULO(L199)","v":"FORMATO INCORRECTO"},{"$f":"ENULO(U199)","v":"FORMATO INCORRECTO"},{"$f":"ENULO(Y199)","v":"FORMATO INCORRECTO"},{"$f":"IF(L199=\"\",\"\",IF(ISERROR(edata(L199)),\"FORMATO INCORRECTO\",\"FORMATO CORRECTO\"))","v":""},{"$f":"IF(U199=\"\",\"\",IF(ISERROR(edata(U199)),\"FORMATO INCORRECTO\",\"FORMATO CORRECTO\"))","v":""},{"$f":"IF(N199=\"\",\"\",IF(ISERROR(edata(N199)),\"FORMATO INCORRECTO\",\"FORMATO CORRECTO\"))","v":""}]
["1900-07-12",{"$f":"IF(G200<>\"\",+B199+1,\"\")","v":""},null,null,null,null,null,null,"",null,null,null,null,null,null,null,null,"",null,null,null,null,null,null,null,null,"",null,"",null,null,"",null,null,null,null,null,0,0,0,0,0,{"$f":"IF(AO200<>0,SUMIFS($AP$6:$AP$1001,$AN$6:$AN$1001,AN200,$F$6:$F$1001,F200,$AX$6:$AX$1001,AX200),0)","v":0},0,{"$f":"IF(AO200<>0,SUMIFS($AP$6:$AP$1001,$AR$6:$AR$1001,AR200,$F$6:$F$1001,F200,$AX$6:$AX$1001,AX200),0)","v":0},0,0,0,{"$f":"IF(AU200<>0,SUMIFS($AV$6:$AV$1001,$AT$6:$AT$1001,AT200,$F$6:$F$1001,F200,$AY$6:$AY$1001,AY200),0)","v":0},1900,1900,0,0,0,0,0,0,0,0,0,"","",0,0,0,"FORMATO INCORRECTO","FORMATO INCORRECTO","FORMATO INCORRECTO",{"$f":"IF(L200=\"\",\"\",IF(ISERROR(edata(L200)),\"FORMATO INCORRECTO\",\"FORMATO CORRECTO\"))","v":""},{"$f":"IF(U200=\"\",\"\",IF(ISERROR(edata(U200)),\"FORMATO INCORRECTO\",\"FORMATO CORRECTO\"))","v":""},{"$f":"IF(N200=\"\",\"\",IF(ISERROR(edata(N200)),\"FORMATO INCORRECTO\",\"FORMATO CORRECTO\"))","v":""}]
["1900-07-13","",null,null,null,null,null,null,"",null,null,null,null,null,null,null,null,"",null,null,null,null,null,null,null,null,"",null,"",null,null,"",null,null,null,null,null,0,0,0,0,0,{"$f":"IF(AO201<>0,SUMIFS($AP$6:$AP$1001,$AN$6:$AN$1001,AN201,$F$6:$F$1001,F201,$AX$6:$AX$1001,AX201),0)","v":0},0,{"$f":"IF(AO201<>0,SUMIFS($AP$6:$AP$1001,$AR$6:$AR$1001,AR201,$F$6:$F$1001,F201,$AX$6:$AX$1001,AX201),0)","v":0},0,0,0,{"$f":"IF(AU201<>0,SUMIFS($AV$6:$AV$1001,$AT$6:$AT$1001,AT201,$F$6:$F$1001,F201,$AY$6:$AY$1001,AY201),0)","v":0},1900,1900,0,0,0,0,0,0,0,0,0,"","",0,0,0,"FORMATO INCORRECTO","FORMATO INCORRECTO","FORMATO INCORRECTO",{"$f":"IF(L201=\"\",\"\",IF(ISERROR(edata(L201)),\"FORMATO INCORRECTO\",\"FORMATO CORRECTO\"))","v":""},{"$f":"IF(U201=\"\",\"\",IF(ISERROR(edata(U201)),\"FORMATO INCORRECTO\",\"FORMATO CORRECTO\"))","v":""},{"$f":"IF(N201=\"\",\"\",IF(ISERROR(edata(N201)),\"FORMATO INCORRECTO\",\"FORMATO CORRECTO\"))","v":""}]
["1900-07-14","",null,null,null,null,null,null,"",null,null,null,null,null,null,null,null,"",null,null,null,null,null,null,null,null,"",null,"",null,null,"",null,null,null,null,null,0,0,0,0,0,{"$f":"IF(AO202<>0,SUMIFS($AP$6:$AP$1001,$AN$6:$AN$1001,AN202,$F$6:$F$1001,F202,$AX$6:$AX$1001,AX202),0)","v":0},0,{"$f":"IF(AO202<>0,SUMIFS($AP$6:$AP$1001,$AR$6:$AR$1001,AR202,$F$6:$F$1001,F202,$AX$6:$AX$1001,AX202),0)","v":0},0,0,0,{"$f":"IF(AU202<>0,SUMIFS($AV$6:$AV$1001,$AT$6:$AT$1001,AT202,$F$6:$F$1001,F202,$AY$6:$AY$1001,AY202),0)","v":0},1900,1900,0,0,0,0,0,0,0,0,0,"","",0,0,0,"FORMATO INCORRECTO","FORMATO INCORRECTO","FORMATO INCORRECTO",{"$f":"IF(L202=\"\",\"\",IF(ISERROR(edata(L202)),\"FORMATO INCORRECTO\",\"FORMATO CORRECTO\"))","v":""},{"$f":"IF(U202=\"\",\"\",IF(ISERROR(edata(U202)),\"FORMATO INCORRECTO\",\"FORMATO CORRECTO\"))","v":""},{"$f":"IF(N202=\"\",\"\",IF(ISERROR(edata(N202)),\"FORMATO INCORRECTO\",\"FORMATO CORRECTO\"))","v":""}]
["1900-07-15","",null,null,null,null,null,null,"",null,null,null,null,null,null,null,null,"",null,null,null,null,null,null,null,null,"",null,"",null,null,"",null,null,null,null,null,0,0,0,0,0,{"$f":"IF(AO203<>0,SUMIFS($AP$6:$AP$1001,$AN$6:$AN$1001,AN203,$F$6:$F$1001,F203,$AX$6:$AX$1001,AX203),0)","v":0},0,{"$f":"IF(AO203<>0,SUMIFS($AP$6:$AP$1001,$AR$6:$AR$1001,AR203,$F$6:$F$1001,F203,$AX$6:$AX$1001,AX203),0)","v":0},0,0,0,{"$f":"IF(AU203<>0,SUMIFS($AV$6:$AV$1001,$AT$6:$AT$1001,AT203,$F$6:$F$1001,F203,$AY$6:$AY$1001,AY203),0)","v":0},1900,1900,0,0,0,0,0,0,0,0,0,"","",0,0,0,"FORMATO INCORRECTO","FORMATO INCORRECTO","FORMATO INCORRECTO",{"$f":"IF(L203=\"\",\"\",IF(ISERROR(edata(L203)),\"FORMATO INCORRECTO\",\"FORMATO CORRECTO\"))","v":""},{"$f":"IF(U203=\"\",\"\",IF(ISERROR(edata(U203)),\"FORMATO INCORRECTO\",\"FORMATO CORRECTO\"))","v":""},{"$f":"IF(N203=\"\",\"\",IF(ISERROR(edata(N203)),\"FORMATO INCORRECTO\",\"FORMATO CORRECTO\"))","v":""}]
["1900-07-16","",null,null,null,null,null,null,"",null,null,null,null,null,null,null,null,"",null,null,null,null,null,null,null,null,"",null,"",null,null,"",null,null,null,null,null,0,0,0,0,0,{"$f":"IF(AO204<>0,SUMIFS($AP$6:$AP$1001,$AN$6:$AN$1001,AN204,$F$6:$F$1001,F204,$AX$6:$AX$1001,AX204),0)","v":0},0,{"$f":"IF(AO204<>0,SUMIFS($AP$6:$AP$1001,$AR$6:$AR$1001,AR204,$F$6:$F$1001,F204,$AX$6:$AX$1001,AX204),0)","v":0},0,0,0,{"$f":"IF(AU204<>0,SUMIFS($AV$6:$AV$1001,$AT$6:$AT$1001,AT204,$F$6:$F$1001,F204,$AY$6:$AY$1001,AY204),0)","v":0},1900,1900,0,0,0,0,0,0,0,0,0,"","",0,0,0,"FORMATO INCORRECTO","FORMATO INCORRECTO","FORMATO INCORRECTO",{"$f":"IF(L204=\"\",\"\",IF(ISERROR(edata(L204)),\"FORMATO INCORRECTO\",\"FORMATO CORRECTO\"))","v":""},{"$f":"IF(U204=\"\",\"\",IF(ISERROR(edata(U204)),\"FORMATO INCORRECTO\",\"FORMATO CORRECTO\"))","v":""},{"$f":"IF(N204=\"\",\"\",IF(ISERROR(edata(N204)),\"FORMATO INCORRECTO\",\"FORMATO CORRECTO\"))","v":""}]
["1900-07-17","",null,null,null,null,null,null,"",null,null,null,null,null,null,null,null,"",null,null,null,null,null,null,null,null,"",null,"",null,null,"",null,null,null,null,null,0,0,0,0,0,{"$f":"IF(AO205<>0,SUMIFS($AP$6:$AP$1001,$AN$6:$AN$1001,AN205,$F$6:$F$1001,F205,$AX$6:$AX$1001,AX205),0)","v":0},0,{"$f":"IF(AO205<>0,SUMIFS($AP$6:$AP$1001,$AR$6:$AR$1001,AR205,$F$6:$F$1001,F205,$AX$6:$AX$1001,AX205),0)","v":0},0,0,0,{"$f":"IF(AU205<>0,SUMIFS($AV$6:$AV$1001,$AT$6:$AT$1001,AT205,$F$6:$F$1001,F205,$AY$6:$AY$1001,AY205),0)","v":0},1900,1900,0,0,0,0,0,0,0,0,0,"","",0,0,0,"FORMATO INCORRECTO","FORMATO INCORRECTO","FORMATO INCORRECTO",{"$f":"IF(L205=\"\",\"\",IF(ISERROR(edata(L205)),\"FORMATO INCORRECTO\",\"FORMATO CORRECTO\"))","v":""},{"$f":"IF(U205=\"\",\"\",IF(ISERROR(edata(U205)),\"FORMATO INCORRECTO\",\"FORMATO CORRECTO\"))","v":""},{"$f":"IF(N205=\"\",\"\",IF(ISERROR(edata(N205)),\"FORMATO INCORRECTO\",\"FORMATO CORRECTO\"))","v":""}]
["1900-07-18","",null,null,null,null,null,null,"",null,null,null,null,null,null,null,null,"",null,null,null,null,null,null,null,null,"",null,"",null,null,"",null,null,null,null,null,0,0,0,0,0,{"$f":"IF(AO206<>0,SUMIFS($AP$6:$AP$1001,$AN$6:$AN$1001,AN206,$F$6:$F$1001,F206,$AX$6:$AX$1001,AX206),0)","v":0},0,{"$f":"IF(AO206<>0,SUMIFS($AP$6:$AP$1001,$AR$6:$AR$1001,AR206,$F$6:$F$1001,F206,$AX$6:$AX$1001,AX206),0)","v":0},0,0,0,{"$f":"IF(AU206<>0,SUMIFS($AV$6:$AV$1001,$AT$6:$AT$1001,AT206,$F$6:$F$1001,F206,$AY$6:$AY$1001,AY206),0)","v":0},1900,1900,0,0,0,0,0,0,0,0,0,"","",0,0,0,"FORMATO INCORRECTO","FORMATO INCORRECTO","FORMATO INCORRECTO",{"$f":"IF(L206=\"\",\"\",IF(ISERROR(edata(L206)),\"FORMATO INCORRECTO\",\"FORMATO CORRECTO\"))","v":""},{"$f":"IF(U206=\"\",\"\",IF(ISERROR(edata(U206)),\"FORMATO INCORRECTO\",\"FORMATO CORRECTO\"))","v":""},{"$f":"IF(N206=\"\",\"\",IF(ISERROR(edata(N206)),\"FORMATO INCORRECTO\",\"FORMATO CORRECTO\"))","v":""}]
["1900-07-19","",null,null,null,null,null,null,"",null,null,null,null,null,null,null,null,"",null,null,null,null,null,null,null,null,"",null,"",null,null,"",null,null,null,null,null,0,0,0,0,0,{"$f":"IF(AO207<>0,SUMIFS($AP$6:$AP$1001,$AN$6:$AN$1001,AN207,$F$6:$F$1001,F207,$AX$6:$AX$1001,AX207),0)","v":0},0,{"$f":"IF(AO207<>0,SUMIFS($AP$6:$AP$1001,$AR$6:$AR$1001,AR207,$F$6:$F$1001,F207,$AX$6:$AX$1001,AX207),0)","v":0},0,0,0,{"$f":"IF(AU207<>0,SUMIFS($AV$6:$AV$1001,$AT$6:$AT$1001,AT207,$F$6:$F$1001,F207,$AY$6:$AY$1001,AY207),0)","v":0},1900,1900,0,0,0,0,0,0,0,0,0,"","",0,0,0,"FORMATO INCORRECTO","FORMATO INCORRECTO","FORMATO INCORRECTO",{"$f":"IF(L207=\"\",\"\",IF(ISERROR(edata(L207)),\"FORMATO INCORRECTO\",\"FORMATO CORRECTO\"))","v":""},{"$f":"IF(U207=\"\",\"\",IF(ISERROR(edata(U207)),\"FORMATO INCORRECTO\",\"FORMATO CORRECTO\"))","v":""},{"$f":"IF(N207=\"\",\"\",IF(ISERROR(edata(N207)),\"FORMATO INCORRECTO\",\"FORMATO CORRECTO\"))","v":""}]
["1900-07-20","",null,null,null,null,null,null,"",null,null,null,null,null,null,null,null,"",null,null,null,null,null,null,null,null,"",null,"",null,null,"",null,null,null,null,null,0,0,0,0,0,{"$f":"IF(AO208<>0,SUMIFS($AP$6:$AP$1001,$AN$6:$AN$1001,AN208,$F$6:$F$1001,F208,$AX$6:$AX$1001,AX208),0)","v":0},0,{"$f":"IF(AO208<>0,SUMIFS($AP$6:$AP$1001,$AR$6:$AR$1001,AR208,$F$6:$F$1001,F208,$AX$6:$AX$1001,AX208),0)","v":0},0,0,0,{"$f":"IF(AU208<>0,SUMIFS($AV$6:$AV$1001,$AT$6:$AT$1001,AT208,$F$6:$F$1001,F208,$AY$6:$AY$1001,AY208),0)","v":0},1900,1900,0,0,0,0,0,0,0,0,0,"","",0,0,0,"FORMATO INCORRECTO","FORMATO INCORRECTO","FORMATO INCORRECTO",{"$f":"IF(L208=\"\",\"\",IF(ISERROR(edata(L208)),\"FORMATO INCORRECTO\",\"FORMATO CORRECTO\"))","v":""},{"$f":"IF(U208=\"\",\"\",IF(ISERROR(edata(U208)),\"FORMATO INCORRECTO\",\"FORMATO CORRECTO\"))","v":""},{"$f":"IF(N208=\"\",\"\",IF(ISERROR(edata(N208)),\"FORMATO INCORRECTO\",\"FORMATO CORRECTO\"))","v":""}]
["1900-07-21","",null,null,null,null,null,null,"",null,null,null,null,null,null,null,null,"",null,null,null,null,null,null,null,null,"",null,"",null,null,"",null,null,null,null,null,0,0,0,0,0,{"$f":"IF(AO209<>0,SUMIFS($AP$6:$AP$1001,$AN$6:$AN$1001,AN209,$F$6:$F$1001,F209,$AX$6:$AX$1001,AX209),0)","v":0},0,{"$f":"IF(AO209<>0,SUMIFS($AP$6:$AP$1001,$AR$6:$AR$1001,AR209,$F$6:$F$1001,F209,$AX$6:$AX$1001,AX209),0)","v":0},0,0,0,{"$f":"IF(AU209<>0,SUMIFS($AV$6:$AV$1001,$AT$6:$AT$1001,AT209,$F$6:$F$1001,F209,$AY$6:$AY$1001,AY209),0)","v":0},1900,1900,0,0,0,0,0,0,0,0,0,"","",0,0,0,"FORMATO INCORRECTO","FORMATO INCORRECTO","FORMATO INCORRECTO",{"$f":"IF(L209=\"\",\"\",IF(ISERROR(edata(L209)),\"FORMATO INCORRECTO\",\"FORMATO CORRECTO\"))","v":""},{"$f":"IF(U209=\"\",\"\",IF(ISERROR(edata(U209)),\"FORMATO INCORRECTO\",\"FORMATO CORRECTO\"))","v":""},{"$f":"IF(N209=\"\",\"\",IF(ISERROR(edata(N209)),\"FORMATO INCORRECTO\",\"FORMATO CORRECTO\"))","v":""}]
["1900-07-22","",null,null,null,null,null,null,"",null,null,null,null,null,null,null,null,"",null,null,null,null,null,null,null,null,"",null,"",null,null,"",null,null,null,null,null,0,0,0,0,0,{"$f":"IF(AO210<>0,SUMIFS($AP$6:$AP$1001,$AN$6:$AN$1001,AN210,$F$6:$F$1001,F210,$AX$6:$AX$1001,AX210),0)","v":0},0,{"$f":"IF(AO210<>0,SUMIFS($AP$6:$AP$1001,$AR$6:$AR$1001,AR210,$F$6:$F$1001,F210,$AX$6:$AX$1001,AX210),0)","v":0},0,0,0,{"$f":"IF(AU210<>0,SUMIFS($AV$6:$AV$1001,$AT$6:$AT$1001,AT210,$F$6:$F$1001,F210,$AY$6:$AY$1001,AY210),0)","v":0},1900,1900,0,0,0,0,0,0,0,0,0,"","",0,0,0,"FORMATO INCORRECTO","FORMATO INCORRECTO","FORMATO INCORRECTO",{"$f":"IF(L210=\"\",\"\",IF(ISERROR(edata(L210)),\"FORMATO INCORRECTO\",\"FORMATO CORRECTO\"))","v":""},{"$f":"IF(U210=\"\",\"\",IF(ISERROR(edata(U210)),\"FORMATO INCORRECTO\",\"FORMATO CORRECTO\"))","v":""},{"$f":"IF(N210=\"\",\"\",IF(ISERROR(edata(N210)),\"FORMATO INCORRECTO\",\"FORMATO CORRECTO\"))","v":""}]
["1900-07-23","",null,null,null,null,null,null,"",null,null,null,null,null,null,null,null,"",null,null,null,null,null,null,null,null,"",null,"",null,null,"",null,null,null,null,null,0,0,0,0,0,{"$f":"IF(AO211<>0,SUMIFS($AP$6:$AP$1001,$AN$6:$AN$1001,AN211,$F$6:$F$1001,F211,$AX$6:$AX$1001,AX211),0)","v":0},0,{"$f":"IF(AO211<>0,SUMIFS($AP$6:$AP$1001,$AR$6:$AR$1001,AR211,$F$6:$F$1001,F211,$AX$6:$AX$1001,AX211),0)","v":0},0,0,0,{"$f":"IF(AU211<>0,SUMIFS($AV$6:$AV$1001,$AT$6:$AT$1001,AT211,$F$6:$F$1001,F211,$AY$6:$AY$1001,AY211),0)","v":0},1900,1900,0,0,0,0,0,0,0,0,0,"","",0,0,0,"FORMATO INCORRECTO","FORMATO INCORRECTO","FORMATO INCORRECTO",{"$f":"IF(L211=\"\",\"\",IF(ISERROR(edata(L211)),\"FORMATO INCORRECTO\",\"FORMATO CORRECTO\"))","v":""},{"$f":"IF(U211=\"\",\"\",IF(ISERROR(edata(U211)),\"FORMATO INCORRECTO\",\"FORMATO CORRECTO\"))","v":""},{"$f":"IF(N211=\"\",\"\",IF(ISERROR(edata(N211)),\"FORMATO INCORRECTO\",\"FORMATO CORRECTO\"))","v":""}]
["1900-07-24","",null,null,null,null,null,null,"",null,null,null,null,null,null,null,null,"",null,null,null,null,null,null,null,null,"",null,"",null,null,"",null,null,null,null,null,0,0,0,0,0,{"$f":"IF(AO212<>0,SUMIFS($AP$6:$AP$1001,$AN$6:$AN$1001,AN212,$F$6:$F$1001,F212,$AX$6:$AX$1001,AX212),0)","v":0},0,{"$f":"IF(AO212<>0,SUMIFS($AP$6:$AP$1001,$AR$6:$AR$1001,AR212,$F$6:$F$1001,F212,$AX$6:$AX$1001,AX212),0)","v":0},0,0,0,{"$f":"IF(AU212<>0,SUMIFS($AV$6:$AV$1001,$AT$6:$AT$1001,AT212,$F$6:$F$1001,F212,$AY$6:$AY$1001,AY212),0)","v":0},1900,1900,0,0,0,0,0,0,0,0,0,"","",0,0,0,"FORMATO INCORRECTO","FORMATO INCORRECTO","FORMATO INCORRECTO",{"$f":"IF(L212=\"\",\"\",IF(ISERROR(edata(L212)),\"FORMATO INCORRECTO\",\"FORMATO CORRECTO\"))","v":""},{"$f":"IF(U212=\"\",\"\",IF(ISERROR(edata(U212)),\"FORMATO INCORRECTO\",\"FORMATO CORRECTO\"))","v":""},{"$f":"IF(N212=\"\",\"\",IF(ISERROR(edata(N212)),\"FORMATO INCORRECTO\",\"FORMATO CORRECTO\"))","v":""}]
["1900-07-25","",null,null,null,null,null,null,"",null,null,null,null,null,null,null,null,"",null,null,null,null,null,null,null,null,"",null,"",null,null,"",null,null,null,null,null,0,0,0,0,0,{"$f":"IF(AO213<>0,SUMIFS($AP$6:$AP$1001,$AN$6:$AN$1001,AN213,$F$6:$F$1001,F213,$AX$6:$AX$1001,AX213),0)","v":0},0,{"$f":"IF(AO213<>0,SUMIFS($AP$6:$AP$1001,$AR$6:$AR$1001,AR213,$F$6:$F$1001,F213,$AX$6:$AX$1001,AX213),0)","v":0},0,0,0,{"$f":"IF(AU213<>0,SUMIFS($AV$6:$AV$1001,$AT$6:$AT$1001,AT213,$F$6:$F$1001,F213,$AY$6:$AY$1001,AY213),0)","v":0},1900,1900,0,0,0,0,0,0,0,0,0,"","",0,0,0,"FORMATO INCORRECTO","FORMATO INCORRECTO","FORMATO INCORRECTO",{"$f":"IF(L213=\"\",\"\",IF(ISERROR(edata(L213)),\"FORMATO INCORRECTO\",\"FORMATO CORRECTO\"))","v":""},{"$f":"IF(U213=\"\",\"\",IF(ISERROR(edata(U213)),\"FORMATO INCORRECTO\",\"FORMATO CORRECTO\"))","v":""},{"$f":"IF(N213=\"\",\"\",IF(ISERROR(edata(N213)),\"FORMATO INCORRECTO\",\"FORMATO CORRECTO\"))","v":""}]
["1900-07-26","",null,null,null,null,null,null,"",null,null,null,null,null,null,null,null,"",null,null,null,null,null,null,null,null,"",null,"",null,null,"",null,null,null,null,null,0,0,0,0,0,{"$f":"IF(AO214<>0,SUMIFS($AP$6:$AP$1001,$AN$6:$AN$1001,AN214,$F$6:$F$1001,F214,$AX$6:$AX$1001,AX214),0)","v":0},0,{"$f":"IF(AO214<>0,SUMIFS($AP$6:$AP$1001,$AR$6:$AR$1001,AR214,$F$6:$F$1001,F214,$AX$6:$AX$1001,AX214),0)","v":0},0,0,0,{"$f":"IF(AU214<>0,SUMIFS($AV$6:$AV$1001,$AT$6:$AT$1001,AT214,$F$6:$F$1001,F214,$AY$6:$AY$1001,AY214),0)","v":0},1900,1900,0,0,0,0,0,0,0,0,0,"","",0,0,0,"FORMATO INCORRECTO","FORMATO INCORRECTO","FORMATO INCORRECTO",{"$f":"IF(L214=\"\",\"\",IF(ISERROR(edata(L214)),\"FORMATO INCORRECTO\",\"FORMATO CORRECTO\"))","v":""},{"$f":"IF(U214=\"\",\"\",IF(ISERROR(edata(U214)),\"FORMATO INCORRECTO\",\"FORMATO CORRECTO\"))","v":""},{"$f":"IF(N214=\"\",\"\",IF(ISERROR(edata(N214)),\"FORMATO INCORRECTO\",\"FORMATO CORRECTO\"))","v":""}]
["1900-07-27","",null,null,null,null,null,null,"",null,null,null,null,null,null,null,null,"",null,null,null,null,null,null,null,null,"",null,"",null,null,"",null,null,null,null,null,0,0,0,0,0,{"$f":"IF(AO215<>0,SUMIFS($AP$6:$AP$1001,$AN$6:$AN$1001,AN215,$F$6:$F$1001,F215,$AX$6:$AX$1001,AX215),0)","v":0},0,{"$f":"IF(AO215<>0,SUMIFS($AP$6:$AP$1001,$AR$6:$AR$1001,AR215,$F$6:$F$1001,F215,$AX$6:$AX$1001,AX215),0)","v":0},0,0,0,{"$f":"IF(AU215<>0,SUMIFS($AV$6:$AV$1001,$AT$6:$AT$1001,AT215,$F$6:$F$1001,F215,$AY$6:$AY$1001,AY215),0)","v":0},1900,1900,0,0,0,0,0,0,0,0,0,"","",0,0,0,"FORMATO INCORRECTO","FORMATO INCORRECTO","FORMATO INCORRECTO",{"$f":"IF(L215=\"\",\"\",IF(ISERROR(edata(L215)),\"FORMATO INCORRECTO\",\"FORMATO CORRECTO\"))","v":""},{"$f":"IF(U215=\"\",\"\",IF(ISERROR(edata(U215)),\"FORMATO INCORRECTO\",\"FORMATO CORRECTO\"))","v":""},{"$f":"IF(N215=\"\",\"\",IF(ISERROR(edata(N215)),\"FORMATO INCORRECTO\",\"FORMATO CORRECTO\"))","v":""}]
["1900-07-28","",null,null,null,null,null,null,"",null,null,null,null,null,null,null,null,"",null,null,null,null,null,null,null,null,"",null,"",null,null,"",null,null,null,null,null,0,0,0,0,0,{"$f":"IF(AO216<>0,SUMIFS($AP$6:$AP$1001,$AN$6:$AN$1001,AN216,$F$6:$F$1001,F216,$AX$6:$AX$1001,AX216),0)","v":0},0,{"$f":"IF(AO216<>0,SUMIFS($AP$6:$AP$1001,$AR$6:$AR$1001,AR216,$F$6:$F$1001,F216,$AX$6:$AX$1001,AX216),0)","v":0},0,0,0,{"$f":"IF(AU216<>0,SUMIFS($AV$6:$AV$1001,$AT$6:$AT$1001,AT216,$F$6:$F$1001,F216,$AY$6:$AY$1001,AY216),0)","v":0},1900,1900,0,0,0,0,0,0,0,0,0,"","",0,0,0,"FORMATO INCORRECTO","FORMATO INCORRECTO","FORMATO INCORRECTO",{"$f":"IF(L216=\"\",\"\",IF(ISERROR(edata(L216)),\"FORMATO INCORRECTO\",\"FORMATO CORRECTO\"))","v":""},{"$f":"IF(U216=\"\",\"\",IF(ISERROR(edata(U216)),\"FORMATO INCORRECTO\",\"FORMATO CORRECTO\"))","v":""},{"$f":"IF(N216=\"\",\"\",IF(ISERROR(edata(N216)),\"FORMATO INCORRECTO\",\"FORMATO CORRECTO\"))","v":""}]
["1900-07-29","",null,null,null,null,null,null,"",null,null,null,null,null,null,null,null,"",null,null,null,null,null,null,null,null,"",null,"",null,null,"",null,null,null,null,null,0,0,0,0,0,{"$f":"IF(AO217<>0,SUMIFS($AP$6:$AP$1001,$AN$6:$AN$1001,AN217,$F$6:$F$1001,F217,$AX$6:$AX$1001,AX217),0)","v":0},0,{"$f":"IF(AO217<>0,SUMIFS($AP$6:$AP$1001,$AR$6:$AR$1001,AR217,$F$6:$F$1001,F217,$AX$6:$AX$1001,AX217),0)","v":0},0,0,0,{"$f":"IF(AU217<>0,SUMIFS($AV$6:$AV$1001,$AT$6:$AT$1001,AT217,$F$6:$F$1001,F217,$AY$6:$AY$1001,AY217),0)","v":0},1900,1900,0,0,0,0,0,0,0,0,0,"","",0,0,0,"FORMATO INCORRECTO","FORMATO INCORRECTO","FORMATO INCORRECTO",{"$f":"IF(L217=\"\",\"\",IF(ISERROR(edata(L217)),\"FORMATO INCORRECTO\",\"FORMATO CORRECTO\"))","v":""},{"$f":"IF(U217=\"\",\"\",IF(ISERROR(edata(U217)),\"FORMATO INCORRECTO\",\"FORMATO CORRECTO\"))","v":""},{"$f":"IF(N217=\"\",\"\",IF(ISERROR(edata(N217)),\"FORMATO INCORRECTO\",\"FORMATO CORRECTO\"))","v":""}]
["1900-07-30","",null,null,null,null,null,null,"",null,null,null,null,null,null,null,null,"",null,null,null,null,null,null,null,null,"",null,"",null,null,"",null,null,null,null,null,0,0,0,0,0,{"$f":"IF(AO218<>0,SUMIFS($AP$6:$AP$1001,$AN$6:$AN$1001,AN218,$F$6:$F$1001,F218,$AX$6:$AX$1001,AX218),0)","v":0},0,{"$f":"IF(AO218<>0,SUMIFS($AP$6:$AP$1001,$AR$6:$AR$1001,AR218,$F$6:$F$1001,F218,$AX$6:$AX$1001,AX218),0)","v":0},0,0,0,{"$f":"IF(AU218<>0,SUMIFS($AV$6:$AV$1001,$AT$6:$AT$1001,AT218,$F$6:$F$1001,F218,$AY$6:$AY$1001,AY218),0)","v":0},1900,1900,0,0,0,0,0,0,0,0,0,"","",0,0,0,"FORMATO INCORRECTO","FORMATO INCORRECTO","FORMATO INCORRECTO",{"$f":"IF(L218=\"\",\"\",IF(ISERROR(edata(L218)),\"FORMATO INCORRECTO\",\"FORMATO CORRECTO\"))","v":""},{"$f":"IF(U218=\"\",\"\",IF(ISERROR(edata(U218)),\"FORMATO INCORRECTO\",\"FORMATO CORRECTO\"))","v":""},{"$f":"IF(N218=\"\",\"\",IF(ISERROR(edata(N218)),\"FORMATO INCORRECTO\",\"FORMATO CORRECTO\"))","v":""}]
["1900-07-31","",null,null,null,null,null,null,"",null,null,null,null,null,null,null,null,"",null,null,null,null,null,null,null,null,"",null,"",null,null,"",null,null,null,null,null,0,0,0,0,0,{"$f":"IF(AO219<>0,SUMIFS($AP$6:$AP$1001,$AN$6:$AN$1001,AN219,$F$6:$F$1001,F219,$AX$6:$AX$1001,AX219),0)","v":0},0,{"$f":"IF(AO219<>0,SUMIFS($AP$6:$AP$1001,$AR$6:$AR$1001,AR219,$F$6:$F$1001,F219,$AX$6:$AX$1001,AX219),0)","v":0},0,0,0,{"$f":"IF(AU219<>0,SUMIFS($AV$6:$AV$1001,$AT$6:$AT$1001,AT219,$F$6:$F$1001,F219,$AY$6:$AY$1001,AY219),0)","v":0},1900,1900,0,0,0,0,0,0,0,0,0,"","",0,0,0,"FORMATO INCORRECTO","FORMATO INCORRECTO","FORMATO INCORRECTO",{"$f":"IF(L219=\"\",\"\",IF(ISERROR(edata(L219)),\"FORMATO INCORRECTO\",\"FORMATO CORRECTO\"))","v":""},{"$f":"IF(U219=\"\",\"\",IF(ISERROR(edata(U219)),\"FORMATO INCORRECTO\",\"FORMATO CORRECTO\"))","v":""},{"$f":"IF(N219=\"\",\"\",IF(ISERROR(edata(N219)),\"FORMATO INCORRECTO\",\"FORMATO CORRECTO\"))","v":""}]
["1900-08-01","",null,null,null,null,null,null,"",null,null,null,null,null,null,null,null,"",null,null,null,null,null,null,null,null,"",null,"",null,null,"",null,null,null,null,null,0,0,0,0,0,{"$f":"IF(AO220<>0,SUMIFS($AP$6:$AP$1001,$AN$6:$AN$1001,AN220,$F$6:$F$1001,F220,$AX$6:$AX$1001,AX220),0)","v":0},0,{"$f":"IF(AO220<>0,SUMIFS($AP$6:$AP$1001,$AR$6:$AR$1001,AR220,$F$6:$F$1001,F220,$AX$6:$AX$1001,AX220),0)","v":0},0,0,0,{"$f":"IF(AU220<>0,SUMIFS($AV$6:$AV$1001,$AT$6:$AT$1001,AT220,$F$6:$F$1001,F220,$AY$6:$AY$1001,AY220),0)","v":0},1900,1900,0,0,0,0,0,0,0,0,0,"","",0,0,0,"FORMATO INCORRECTO","FORMATO INCORRECTO","FORMATO INCORRECTO",{"$f":"IF(L220=\"\",\"\",IF(ISERROR(edata(L220)),\"FORMATO INCORRECTO\",\"FORMATO CORRECTO\"))","v":""},{"$f":"IF(U220=\"\",\"\",IF(ISERROR(edata(U220)),\"FORMATO INCORRECTO\",\"FORMATO CORRECTO\"))","v":""},{"$f":"IF(N220=\"\",\"\",IF(ISERROR(edata(N220)),\"FORMATO INCORRECTO\",\"FORMATO CORRECTO\"))","v":""}]
["1900-08-02","",null,null,null,null,null,null,"",null,null,null,null,null,null,null,null,"",null,null,null,null,null,null,null,null,"",null,"",null,null,"",null,null,null,null,null,0,0,0,0,0,{"$f":"IF(AO221<>0,SUMIFS($AP$6:$AP$1001,$AN$6:$AN$1001,AN221,$F$6:$F$1001,F221,$AX$6:$AX$1001,AX221),0)","v":0},0,{"$f":"IF(AO221<>0,SUMIFS($AP$6:$AP$1001,$AR$6:$AR$1001,AR221,$F$6:$F$1001,F221,$AX$6:$AX$1001,AX221),0)","v":0},0,0,0,{"$f":"IF(AU221<>0,SUMIFS($AV$6:$AV$1001,$AT$6:$AT$1001,AT221,$F$6:$F$1001,F221,$AY$6:$AY$1001,AY221),0)","v":0},1900,1900,0,0,0,0,0,0,0,0,0,"","",0,0,0,"FORMATO INCORRECTO","FORMATO INCORRECTO","FORMATO INCORRECTO",{"$f":"IF(L221=\"\",\"\",IF(ISERROR(edata(L221)),\"FORMATO INCORRECTO\",\"FORMATO CORRECTO\"))","v":""},{"$f":"IF(U221=\"\",\"\",IF(ISERROR(edata(U221)),\"FORMATO INCORRECTO\",\"FORMATO CORRECTO\"))","v":""},{"$f":"IF(N221=\"\",\"\",IF(ISERROR(edata(N221)),\"FORMATO INCORRECTO\",\"FORMATO CORRECTO\"))","v":""}]
["1900-08-03","",null,null,null,null,null,null,"",null,null,null,null,null,null,null,null,"",null,null,null,null,null,null,null,null,"",null,"",null,null,"",null,null,null,null,null,0,0,0,0,0,{"$f":"IF(AO222<>0,SUMIFS($AP$6:$AP$1001,$AN$6:$AN$1001,AN222,$F$6:$F$1001,F222,$AX$6:$AX$1001,AX222),0)","v":0},0,{"$f":"IF(AO222<>0,SUMIFS($AP$6:$AP$1001,$AR$6:$AR$1001,AR222,$F$6:$F$1001,F222,$AX$6:$AX$1001,AX222),0)","v":0},0,0,0,{"$f":"IF(AU222<>0,SUMIFS($AV$6:$AV$1001,$AT$6:$AT$1001,AT222,$F$6:$F$1001,F222,$AY$6:$AY$1001,AY222),0)","v":0},1900,1900,0,0,0,0,0,0,0,0,0,"","",0,0,0,"FORMATO INCORRECTO","FORMATO INCORRECTO","FORMATO INCORRECTO",{"$f":"IF(L222=\"\",\"\",IF(ISERROR(edata(L222)),\"FORMATO INCORRECTO\",\"FORMATO CORRECTO\"))","v":""},{"$f":"IF(U222=\"\",\"\",IF(ISERROR(edata(U222)),\"FORMATO INCORRECTO\",\"FORMATO CORRECTO\"))","v":""},{"$f":"IF(N222=\"\",\"\",IF(ISERROR(edata(N222)),\"FORMATO INCORRECTO\",\"FORMATO CORRECTO\"))","v":""}]
["1900-08-04","",null,null,null,null,null,null,"",null,null,null,null,null,null,null,null,"",null,null,null,null,null,null,null,null,"",null,"",null,null,"",null,null,null,null,null,0,0,0,0,0,{"$f":"IF(AO223<>0,SUMIFS($AP$6:$AP$1001,$AN$6:$AN$1001,AN223,$F$6:$F$1001,F223,$AX$6:$AX$1001,AX223),0)","v":0},0,{"$f":"IF(AO223<>0,SUMIFS($AP$6:$AP$1001,$AR$6:$AR$1001,AR223,$F$6:$F$1001,F223,$AX$6:$AX$1001,AX223),0)","v":0},0,0,0,{"$f":"IF(AU223<>0,SUMIFS($AV$6:$AV$1001,$AT$6:$AT$1001,AT223,$F$6:$F$1001,F223,$AY$6:$AY$1001,AY223),0)","v":0},1900,1900,0,0,0,0,0,0,0,0,0,"","",0,0,0,"FORMATO INCORRECTO","FORMATO INCORRECTO","FORMATO INCORRECTO",{"$f":"IF(L223=\"\",\"\",IF(ISERROR(edata(L223)),\"FORMATO INCORRECTO\",\"FORMATO CORRECTO\"))","v":""},{"$f":"IF(U223=\"\",\"\",IF(ISERROR(edata(U223)),\"FORMATO INCORRECTO\",\"FORMATO CORRECTO\"))","v":""},{"$f":"IF(N223=\"\",\"\",IF(ISERROR(edata(N223)),\"FORMATO INCORRECTO\",\"FORMATO CORRECTO\"))","v":""}]
["1900-08-05","",null,null,null,null,null,null,"",null,null,null,null,null,null,null,null,"",null,null,null,null,null,null,null,null,"",null,"",null,null,"",null,null,null,null,null,0,0,0,0,0,{"$f":"IF(AO224<>0,SUMIFS($AP$6:$AP$1001,$AN$6:$AN$1001,AN224,$F$6:$F$1001,F224,$AX$6:$AX$1001,AX224),0)","v":0},0,{"$f":"IF(AO224<>0,SUMIFS($AP$6:$AP$1001,$AR$6:$AR$1001,AR224,$F$6:$F$1001,F224,$AX$6:$AX$1001,AX224),0)","v":0},0,0,0,{"$f":"IF(AU224<>0,SUMIFS($AV$6:$AV$1001,$AT$6:$AT$1001,AT224,$F$6:$F$1001,F224,$AY$6:$AY$1001,AY224),0)","v":0},1900,1900,0,0,0,0,0,0,0,0,0,"","",0,0,0,"FORMATO INCORRECTO","FORMATO INCORRECTO","FORMATO INCORRECTO",{"$f":"IF(L224=\"\",\"\",IF(ISERROR(edata(L224)),\"FORMATO INCORRECTO\",\"FORMATO CORRECTO\"))","v":""},{"$f":"IF(U224=\"\",\"\",IF(ISERROR(edata(U224)),\"FORMATO INCORRECTO\",\"FORMATO CORRECTO\"))","v":""},{"$f":"IF(N224=\"\",\"\",IF(ISERROR(edata(N224)),\"FORMATO INCORRECTO\",\"FORMATO CORRECTO\"))","v":""}]
["1900-08-06","",null,null,null,null,null,null,"",null,null,null,null,null,null,null,null,"",null,null,null,null,null,null,null,null,"",null,"",null,null,"",null,null,null,null,null,0,0,0,0,0,{"$f":"IF(AO225<>0,SUMIFS($AP$6:$AP$1001,$AN$6:$AN$1001,AN225,$F$6:$F$1001,F225,$AX$6:$AX$1001,AX225),0)","v":0},0,{"$f":"IF(AO225<>0,SUMIFS($AP$6:$AP$1001,$AR$6:$AR$1001,AR225,$F$6:$F$1001,F225,$AX$6:$AX$1001,AX225),0)","v":0},0,0,0,{"$f":"IF(AU225<>0,SUMIFS($AV$6:$AV$1001,$AT$6:$AT$1001,AT225,$F$6:$F$1001,F225,$AY$6:$AY$1001,AY225),0)","v":0},1900,1900,0,0,0,0,0,0,0,0,0,"","",0,0,0,"FORMATO INCORRECTO","FORMATO INCORRECTO","FORMATO INCORRECTO",{"$f":"IF(L225=\"\",\"\",IF(ISERROR(edata(L225)),\"FORMATO INCORRECTO\",\"FORMATO CORRECTO\"))","v":""},{"$f":"IF(U225=\"\",\"\",IF(ISERROR(edata(U225)),\"FORMATO INCORRECTO\",\"FORMATO CORRECTO\"))","v":""},{"$f":"IF(N225=\"\",\"\",IF(ISERROR(edata(N225)),\"FORMATO INCORRECTO\",\"FORMATO CORRECTO\"))","v":""}]
["1900-08-07","",null,null,null,null,null,null,"",null,null,null,null,null,null,null,null,"",null,null,null,null,null,null,null,null,"",null,"",null,null,"",null,null,null,null,null,0,0,0,0,0,{"$f":"IF(AO226<>0,SUMIFS($AP$6:$AP$1001,$AN$6:$AN$1001,AN226,$F$6:$F$1001,F226,$AX$6:$AX$1001,AX226),0)","v":0},0,{"$f":"IF(AO226<>0,SUMIFS($AP$6:$AP$1001,$AR$6:$AR$1001,AR226,$F$6:$F$1001,F226,$AX$6:$AX$1001,AX226),0)","v":0},0,0,0,{"$f":"IF(AU226<>0,SUMIFS($AV$6:$AV$1001,$AT$6:$AT$1001,AT226,$F$6:$F$1001,F226,$AY$6:$AY$1001,AY226),0)","v":0},1900,1900,0,0,0,0,0,0,0,0,0,"","",0,0,0,"FORMATO INCORRECTO","FORMATO INCORRECTO","FORMATO INCORRECTO",{"$f":"IF(L226=\"\",\"\",IF(ISERROR(edata(L226)),\"FORMATO INCORRECTO\",\"FORMATO CORRECTO\"))","v":""},{"$f":"IF(U226=\"\",\"\",IF(ISERROR(edata(U226)),\"FORMATO INCORRECTO\",\"FORMATO CORRECTO\"))","v":""},{"$f":"IF(N226=\"\",\"\",IF(ISERROR(edata(N226)),\"FORMATO INCORRECTO\",\"FORMATO CORRECTO\"))","v":""}]
["1900-08-08","",null,null,null,null,null,null,"",null,null,null,null,null,null,null,null,"",null,null,null,null,null,null,null,null,"",null,"",null,null,"",null,null,null,null,null,0,0,0,0,0,{"$f":"IF(AO227<>0,SUMIFS($AP$6:$AP$1001,$AN$6:$AN$1001,AN227,$F$6:$F$1001,F227,$AX$6:$AX$1001,AX227),0)","v":0},0,{"$f":"IF(AO227<>0,SUMIFS($AP$6:$AP$1001,$AR$6:$AR$1001,AR227,$F$6:$F$1001,F227,$AX$6:$AX$1001,AX227),0)","v":0},0,0,0,{"$f":"IF(AU227<>0,SUMIFS($AV$6:$AV$1001,$AT$6:$AT$1001,AT227,$F$6:$F$1001,F227,$AY$6:$AY$1001,AY227),0)","v":0},1900,1900,0,0,0,0,0,0,0,0,0,"","",0,0,0,"FORMATO INCORRECTO","FORMATO INCORRECTO","FORMATO INCORRECTO",{"$f":"IF(L227=\"\",\"\",IF(ISERROR(edata(L227)),\"FORMATO INCORRECTO\",\"FORMATO CORRECTO\"))","v":""},{"$f":"IF(U227=\"\",\"\",IF(ISERROR(edata(U227)),\"FORMATO INCORRECTO\",\"FORMATO CORRECTO\"))","v":""},{"$f":"IF(N227=\"\",\"\",IF(ISERROR(edata(N227)),\"FORMATO INCORRECTO\",\"FORMATO CORRECTO\"))","v":""}]
["1900-08-09","",null,null,null,null,null,null,"",null,null,null,null,null,null,null,null,"",null,null,null,null,null,null,null,null,"",null,"",null,null,"",null,null,null,null,null,0,0,0,0,0,{"$f":"IF(AO228<>0,SUMIFS($AP$6:$AP$1001,$AN$6:$AN$1001,AN228,$F$6:$F$1001,F228,$AX$6:$AX$1001,AX228),0)","v":0},0,{"$f":"IF(AO228<>0,SUMIFS($AP$6:$AP$1001,$AR$6:$AR$1001,AR228,$F$6:$F$1001,F228,$AX$6:$AX$1001,AX228),0)","v":0},0,0,0,{"$f":"IF(AU228<>0,SUMIFS($AV$6:$AV$1001,$AT$6:$AT$1001,AT228,$F$6:$F$1001,F228,$AY$6:$AY$1001,AY228),0)","v":0},1900,1900,0,0,0,0,0,0,0,0,0,"","",0,0,0,"FORMATO INCORRECTO","FORMATO INCORRECTO","FORMATO INCORRECTO",{"$f":"IF(L228=\"\",\"\",IF(ISERROR(edata(L228)),\"FORMATO INCORRECTO\",\"FORMATO CORRECTO\"))","v":""},{"$f":"IF(U228=\"\",\"\",IF(ISERROR(edata(U228)),\"FORMATO INCORRECTO\",\"FORMATO CORRECTO\"))","v":""},{"$f":"IF(N228=\"\",\"\",IF(ISERROR(edata(N228)),\"FORMATO INCORRECTO\",\"FORMATO CORRECTO\"))","v":""}]
["1900-08-10","",null,null,null,null,null,null,"",null,null,null,null,null,null,null,null,"",null,null,null,null,null,null,null,null,"",null,"",null,null,"",null,null,null,null,null,0,0,0,0,0,{"$f":"IF(AO229<>0,SUMIFS($AP$6:$AP$1001,$AN$6:$AN$1001,AN229,$F$6:$F$1001,F229,$AX$6:$AX$1001,AX229),0)","v":0},0,{"$f":"IF(AO229<>0,SUMIFS($AP$6:$AP$1001,$AR$6:$AR$1001,AR229,$F$6:$F$1001,F229,$AX$6:$AX$1001,AX229),0)","v":0},0,0,0,{"$f":"IF(AU229<>0,SUMIFS($AV$6:$AV$1001,$AT$6:$AT$1001,AT229,$F$6:$F$1001,F229,$AY$6:$AY$1001,AY229),0)","v":0},1900,1900,0,0,0,0,0,0,0,0,0,"","",0,0,0,"FORMATO INCORRECTO","FORMATO INCORRECTO","FORMATO INCORRECTO",{"$f":"IF(L229=\"\",\"\",IF(ISERROR(edata(L229)),\"FORMATO INCORRECTO\",\"FORMATO CORRECTO\"))","v":""},{"$f":"IF(U229=\"\",\"\",IF(ISERROR(edata(U229)),\"FORMATO INCORRECTO\",\"FORMATO CORRECTO\"))","v":""},{"$f":"IF(N229=\"\",\"\",IF(ISERROR(edata(N229)),\"FORMATO INCORRECTO\",\"FORMATO CORRECTO\"))","v":""}]
["1900-08-11","",null,null,null,null,null,null,"",null,null,null,null,null,null,null,null,"",null,null,null,null,null,null,null,null,"",null,"",null,null,"",null,null,null,null,null,0,0,0,0,0,{"$f":"IF(AO230<>0,SUMIFS($AP$6:$AP$1001,$AN$6:$AN$1001,AN230,$F$6:$F$1001,F230,$AX$6:$AX$1001,AX230),0)","v":0},0,{"$f":"IF(AO230<>0,SUMIFS($AP$6:$AP$1001,$AR$6:$AR$1001,AR230,$F$6:$F$1001,F230,$AX$6:$AX$1001,AX230),0)","v":0},0,0,0,{"$f":"IF(AU230<>0,SUMIFS($AV$6:$AV$1001,$AT$6:$AT$1001,AT230,$F$6:$F$1001,F230,$AY$6:$AY$1001,AY230),0)","v":0},1900,1900,0,0,0,0,0,0,0,0,0,"","",0,0,0,"FORMATO INCORRECTO","FORMATO INCORRECTO","FORMATO INCORRECTO",{"$f":"IF(L230=\"\",\"\",IF(ISERROR(edata(L230)),\"FORMATO INCORRECTO\",\"FORMATO CORRECTO\"))","v":""},{"$f":"IF(U230=\"\",\"\",IF(ISERROR(edata(U230)),\"FORMATO INCORRECTO\",\"FORMATO CORRECTO\"))","v":""},{"$f":"IF(N230=\"\",\"\",IF(ISERROR(edata(N230)),\"FORMATO INCORRECTO\",\"FORMATO CORRECTO\"))","v":""}]
["1900-08-12","",null,null,null,null,null,null,"",null,null,null,null,null,null,null,null,"",null,null,null,null,null,null,null,null,"",null,"",null,null,"",null,null,null,null,null,0,0,0,0,0,{"$f":"IF(AO231<>0,SUMIFS($AP$6:$AP$1001,$AN$6:$AN$1001,AN231,$F$6:$F$1001,F231,$AX$6:$AX$1001,AX231),0)","v":0},0,{"$f":"IF(AO231<>0,SUMIFS($AP$6:$AP$1001,$AR$6:$AR$1001,AR231,$F$6:$F$1001,F231,$AX$6:$AX$1001,AX231),0)","v":0},0,0,0,{"$f":"IF(AU231<>0,SUMIFS($AV$6:$AV$1001,$AT$6:$AT$1001,AT231,$F$6:$F$1001,F231,$AY$6:$AY$1001,AY231),0)","v":0},1900,1900,0,0,0,0,0,0,0,0,0,"","",0,0,0,"FORMATO INCORRECTO","FORMATO INCORRECTO","FORMATO INCORRECTO",{"$f":"IF(L231=\"\",\"\",IF(ISERROR(edata(L231)),\"FORMATO INCORRECTO\",\"FORMATO CORRECTO\"))","v":""},{"$f":"IF(U231=\"\",\"\",IF(ISERROR(edata(U231)),\"FORMATO INCORRECTO\",\"FORMATO CORRECTO\"))","v":""},{"$f":"IF(N231=\"\",\"\",IF(ISERROR(edata(N231)),\"FORMATO INCORRECTO\",\"FORMATO CORRECTO\"))","v":""}]
["1900-08-13","",null,null,null,null,null,null,"",null,null,null,null,null,null,null,null,"",null,null,null,null,null,null,null,null,"",null,"",null,null,"",null,null,null,null,null,0,0,0,0,0,{"$f":"IF(AO232<>0,SUMIFS($AP$6:$AP$1001,$AN$6:$AN$1001,AN232,$F$6:$F$1001,F232,$AX$6:$AX$1001,AX232),0)","v":0},0,{"$f":"IF(AO232<>0,SUMIFS($AP$6:$AP$1001,$AR$6:$AR$1001,AR232,$F$6:$F$1001,F232,$AX$6:$AX$1001,AX232),0)","v":0},0,0,0,{"$f":"IF(AU232<>0,SUMIFS($AV$6:$AV$1001,$AT$6:$AT$1001,AT232,$F$6:$F$1001,F232,$AY$6:$AY$1001,AY232),0)","v":0},1900,1900,0,0,0,0,0,0,0,0,0,"","",0,0,0,"FORMATO INCORRECTO","FORMATO INCORRECTO","FORMATO INCORRECTO",{"$f":"IF(L232=\"\",\"\",IF(ISERROR(edata(L232)),\"FORMATO INCORRECTO\",\"FORMATO CORRECTO\"))","v":""},{"$f":"IF(U232=\"\",\"\",IF(ISERROR(edata(U232)),\"FORMATO INCORRECTO\",\"FORMATO CORRECTO\"))","v":""},{"$f":"IF(N232=\"\",\"\",IF(ISERROR(edata(N232)),\"FORMATO INCORRECTO\",\"FORMATO CORRECTO\"))","v":""}]
["1900-08-14","",null,null,null,null,null,null,"",null,null,null,null,null,null,null,null,"",null,null,null,null,null,null,null,null,"",null,"",null,null,"",null,null,null,null,null,0,0,0,0,0,{"$f":"IF(AO233<>0,SUMIFS($AP$6:$AP$1001,$AN$6:$AN$1001,AN233,$F$6:$F$1001,F233,$AX$6:$AX$1001,AX233),0)","v":0},0,{"$f":"IF(AO233<>0,SUMIFS($AP$6:$AP$1001,$AR$6:$AR$1001,AR233,$F$6:$F$1001,F233,$AX$6:$AX$1001,AX233),0)","v":0},0,0,0,{"$f":"IF(AU233<>0,SUMIFS($AV$6:$AV$1001,$AT$6:$AT$1001,AT233,$F$6:$F$1001,F233,$AY$6:$AY$1001,AY233),0)","v":0},1900,1900,0,0,0,0,0,0,0,0,0,"","",0,0,0,"FORMATO INCORRECTO","FORMATO INCORRECTO","FORMATO INCORRECTO",{"$f":"IF(L233=\"\",\"\",IF(ISERROR(edata(L233)),\"FORMATO INCORRECTO\",\"FORMATO CORRECTO\"))","v":""},{"$f":"IF(U233=\"\",\"\",IF(ISERROR(edata(U233)),\"FORMATO INCORRECTO\",\"FORMATO CORRECTO\"))","v":""},{"$f":"IF(N233=\"\",\"\",IF(ISERROR(edata(N233)),\"FORMATO INCORRECTO\",\"FORMATO CORRECTO\"))","v":""}]
["1900-08-15","",null,null,null,null,null,null,"",null,null,null,null,null,null,null,null,"",null,null,null,null,null,null,null,null,"",null,"",null,null,"",null,null,null,null,null,0,0,0,0,0,{"$f":"IF(AO234<>0,SUMIFS($AP$6:$AP$1001,$AN$6:$AN$1001,AN234,$F$6:$F$1001,F234,$AX$6:$AX$1001,AX234),0)","v":0},0,{"$f":"IF(AO234<>0,SUMIFS($AP$6:$AP$1001,$AR$6:$AR$1001,AR234,$F$6:$F$1001,F234,$AX$6:$AX$1001,AX234),0)","v":0},0,0,0,{"$f":"IF(AU234<>0,SUMIFS($AV$6:$AV$1001,$AT$6:$AT$1001,AT234,$F$6:$F$1001,F234,$AY$6:$AY$1001,AY234),0)","v":0},1900,1900,0,0,0,0,0,0,0,0,0,"","",0,0,0,"FORMATO INCORRECTO","FORMATO INCORRECTO","FORMATO INCORRECTO",{"$f":"IF(L234=\"\",\"\",IF(ISERROR(edata(L234)),\"FORMATO INCORRECTO\",\"FORMATO CORRECTO\"))","v":""},{"$f":"IF(U234=\"\",\"\",IF(ISERROR(edata(U234)),\"FORMATO INCORRECTO\",\"FORMATO CORRECTO\"))","v":""},{"$f":"IF(N234=\"\",\"\",IF(ISERROR(edata(N234)),\"FORMATO INCORRECTO\",\"FORMATO CORRECTO\"))","v":""}]
["1900-08-16","",null,null,null,null,null,null,"",null,null,null,null,null,null,null,null,"",null,null,null,null,null,null,null,null,"",null,"",null,null,"",null,null,null,null,null,0,0,0,0,0,{"$f":"IF(AO235<>0,SUMIFS($AP$6:$AP$1001,$AN$6:$AN$1001,AN235,$F$6:$F$1001,F235,$AX$6:$AX$1001,AX235),0)","v":0},0,{"$f":"IF(AO235<>0,SUMIFS($AP$6:$AP$1001,$AR$6:$AR$1001,AR235,$F$6:$F$1001,F235,$AX$6:$AX$1001,AX235),0)","v":0},0,0,0,{"$f":"IF(AU235<>0,SUMIFS($AV$6:$AV$1001,$AT$6:$AT$1001,AT235,$F$6:$F$1001,F235,$AY$6:$AY$1001,AY235),0)","v":0},1900,1900,0,0,0,0,0,0,0,0,0,"","",0,0,0,"FORMATO INCORRECTO","FORMATO INCORRECTO","FORMATO INCORRECTO",{"$f":"IF(L235=\"\",\"\",IF(ISERROR(edata(L235)),\"FORMATO INCORRECTO\",\"FORMATO CORRECTO\"))","v":""},{"$f":"IF(U235=\"\",\"\",IF(ISERROR(edata(U235)),\"FORMATO INCORRECTO\",\"FORMATO CORRECTO\"))","v":""},{"$f":"IF(N235=\"\",\"\",IF(ISERROR(edata(N235)),\"FORMATO INCORRECTO\",\"FORMATO CORRECTO\"))","v":""}]
["1900-08-17","",null,null,null,null,null,null,"",null,null,null,null,null,null,null,null,"",null,null,null,null,null,null,null,null,"",null,"",null,null,"",null,null,null,null,null,0,0,0,0,0,{"$f":"IF(AO236<>0,SUMIFS($AP$6:$AP$1001,$AN$6:$AN$1001,AN236,$F$6:$F$1001,F236,$AX$6:$AX$1001,AX236),0)","v":0},0,{"$f":"IF(AO236<>0,SUMIFS($AP$6:$AP$1001,$AR$6:$AR$1001,AR236,$F$6:$F$1001,F236,$AX$6:$AX$1001,AX236),0)","v":0},0,0,0,{"$f":"IF(AU236<>0,SUMIFS($AV$6:$AV$1001,$AT$6:$AT$1001,AT236,$F$6:$F$1001,F236,$AY$6:$AY$1001,AY236),0)","v":0},1900,1900,0,0,0,0,0,0,0,0,0,"","",0,0,0,"FORMATO INCORRECTO","FORMATO INCORRECTO","FORMATO INCORRECTO",{"$f":"IF(L236=\"\",\"\",IF(ISERROR(edata(L236)),\"FORMATO INCORRECTO\",\"FORMATO CORRECTO\"))","v":""},{"$f":"IF(U236=\"\",\"\",IF(ISERROR(edata(U236)),\"FORMATO INCORRECTO\",\"FORMATO CORRECTO\"))","v":""},{"$f":"IF(N236=\"\",\"\",IF(ISERROR(edata(N236)),\"FORMATO INCORRECTO\",\"FORMATO CORRECTO\"))","v":""}]
["1900-08-18","",null,null,null,null,null,null,"",null,null,null,null,null,null,null,null,"",null,null,null,null,null,null,null,null,"",null,"",null,null,"",null,null,null,null,null,0,0,0,0,0,{"$f":"IF(AO237<>0,SUMIFS($AP$6:$AP$1001,$AN$6:$AN$1001,AN237,$F$6:$F$1001,F237,$AX$6:$AX$1001,AX237),0)","v":0},0,{"$f":"IF(AO237<>0,SUMIFS($AP$6:$AP$1001,$AR$6:$AR$1001,AR237,$F$6:$F$1001,F237,$AX$6:$AX$1001,AX237),0)","v":0},0,0,0,{"$f":"IF(AU237<>0,SUMIFS($AV$6:$AV$1001,$AT$6:$AT$1001,AT237,$F$6:$F$1001,F237,$AY$6:$AY$1001,AY237),0)","v":0},1900,1900,0,0,0,0,0,0,0,0,0,"","",0,0,0,"FORMATO INCORRECTO","FORMATO INCORRECTO","FORMATO INCORRECTO",{"$f":"IF(L237=\"\",\"\",IF(ISERROR(edata(L237)),\"FORMATO INCORRECTO\",\"FORMATO CORRECTO\"))","v":""},{"$f":"IF(U237=\"\",\"\",IF(ISERROR(edata(U237)),\"FORMATO INCORRECTO\",\"FORMATO CORRECTO\"))","v":""},{"$f":"IF(N237=\"\",\"\",IF(ISERROR(edata(N237)),\"FORMATO INCORRECTO\",\"FORMATO CORRECTO\"))","v":""}]
["1900-08-19","",null,null,null,null,null,null,"",null,null,null,null,null,null,null,null,"",null,null,null,null,null,null,null,null,"",null,"",null,null,"",null,null,null,null,null,0,0,0,0,0,{"$f":"IF(AO238<>0,SUMIFS($AP$6:$AP$1001,$AN$6:$AN$1001,AN238,$F$6:$F$1001,F238,$AX$6:$AX$1001,AX238),0)","v":0},0,{"$f":"IF(AO238<>0,SUMIFS($AP$6:$AP$1001,$AR$6:$AR$1001,AR238,$F$6:$F$1001,F238,$AX$6:$AX$1001,AX238),0)","v":0},0,0,0,{"$f":"IF(AU238<>0,SUMIFS($AV$6:$AV$1001,$AT$6:$AT$1001,AT238,$F$6:$F$1001,F238,$AY$6:$AY$1001,AY238),0)","v":0},1900,1900,0,0,0,0,0,0,0,0,0,"","",0,0,0,"FORMATO INCORRECTO","FORMATO INCORRECTO","FORMATO INCORRECTO",{"$f":"IF(L238=\"\",\"\",IF(ISERROR(edata(L238)),\"FORMATO INCORRECTO\",\"FORMATO CORRECTO\"))","v":""},{"$f":"IF(U238=\"\",\"\",IF(ISERROR(edata(U238)),\"FORMATO INCORRECTO\",\"FORMATO CORRECTO\"))","v":""},{"$f":"IF(N238=\"\",\"\",IF(ISERROR(edata(N238)),\"FORMATO INCORRECTO\",\"FORMATO CORRECTO\"))","v":""}]
["1900-08-20","",null,null,null,null,null,null,"",null,null,null,null,null,null,null,null,"",null,null,null,null,null,null,null,null,"",null,"",null,null,"",null,null,null,null,null,0,0,0,0,0,{"$f":"IF(AO239<>0,SUMIFS($AP$6:$AP$1001,$AN$6:$AN$1001,AN239,$F$6:$F$1001,F239,$AX$6:$AX$1001,AX239),0)","v":0},0,{"$f":"IF(AO239<>0,SUMIFS($AP$6:$AP$1001,$AR$6:$AR$1001,AR239,$F$6:$F$1001,F239,$AX$6:$AX$1001,AX239),0)","v":0},0,0,0,{"$f":"IF(AU239<>0,SUMIFS($AV$6:$AV$1001,$AT$6:$AT$1001,AT239,$F$6:$F$1001,F239,$AY$6:$AY$1001,AY239),0)","v":0},1900,1900,0,0,0,0,0,0,0,0,0,"","",0,0,0,"FORMATO INCORRECTO","FORMATO INCORRECTO","FORMATO INCORRECTO",{"$f":"IF(L239=\"\",\"\",IF(ISERROR(edata(L239)),\"FORMATO INCORRECTO\",\"FORMATO CORRECTO\"))","v":""},{"$f":"IF(U239=\"\",\"\",IF(ISERROR(edata(U239)),\"FORMATO INCORRECTO\",\"FORMATO CORRECTO\"))","v":""},{"$f":"IF(N239=\"\",\"\",IF(ISERROR(edata(N239)),\"FORMATO INCORRECTO\",\"FORMATO CORRECTO\"))","v":""}]
["1900-08-21","",null,null,null,null,null,null,"",null,null,null,null,null,null,null,null,"",null,null,null,null,null,null,null,null,"",null,"",null,null,"",null,null,null,null,null,0,0,0,0,0,{"$f":"IF(AO240<>0,SUMIFS($AP$6:$AP$1001,$AN$6:$AN$1001,AN240,$F$6:$F$1001,F240,$AX$6:$AX$1001,AX240),0)","v":0},0,{"$f":"IF(AO240<>0,SUMIFS($AP$6:$AP$1001,$AR$6:$AR$1001,AR240,$F$6:$F$1001,F240,$AX$6:$AX$1001,AX240),0)","v":0},0,0,0,{"$f":"IF(AU240<>0,SUMIFS($AV$6:$AV$1001,$AT$6:$AT$1001,AT240,$F$6:$F$1001,F240,$AY$6:$AY$1001,AY240),0)","v":0},1900,1900,0,0,0,0,0,0,0,0,0,"","",0,0,0,"FORMATO INCORRECTO","FORMATO INCORRECTO","FORMATO INCORRECTO",{"$f":"IF(L240=\"\",\"\",IF(ISERROR(edata(L240)),\"FORMATO INCORRECTO\",\"FORMATO CORRECTO\"))","v":""},{"$f":"IF(U240=\"\",\"\",IF(ISERROR(edata(U240)),\"FORMATO INCORRECTO\",\"FORMATO CORRECTO\"))","v":""},{"$f":"IF(N240=\"\",\"\",IF(ISERROR(edata(N240)),\"FORMATO INCORRECTO\",\"FORMATO CORRECTO\"))","v":""}]
["1900-08-22","",null,null,null,null,null,null,"",null,null,null,null,null,null,null,null,"",null,null,null,null,null,null,null,null,"",null,"",null,null,"",null,null,null,null,null,0,0,0,0,0,{"$f":"IF(AO241<>0,SUMIFS($AP$6:$AP$1001,$AN$6:$AN$1001,AN241,$F$6:$F$1001,F241,$AX$6:$AX$1001,AX241),0)","v":0},0,{"$f":"IF(AO241<>0,SUMIFS($AP$6:$AP$1001,$AR$6:$AR$1001,AR241,$F$6:$F$1001,F241,$AX$6:$AX$1001,AX241),0)","v":0},0,0,0,{"$f":"IF(AU241<>0,SUMIFS($AV$6:$AV$1001,$AT$6:$AT$1001,AT241,$F$6:$F$1001,F241,$AY$6:$AY$1001,AY241),0)","v":0},1900,1900,0,0,0,0,0,0,0,0,0,"","",0,0,0,"FORMATO INCORRECTO","FORMATO INCORRECTO","FORMATO INCORRECTO",{"$f":"IF(L241=\"\",\"\",IF(ISERROR(edata(L241)),\"FORMATO INCORRECTO\",\"FORMATO CORRECTO\"))","v":""},{"$f":"IF(U241=\"\",\"\",IF(ISERROR(edata(U241)),\"FORMATO INCORRECTO\",\"FORMATO CORRECTO\"))","v":""},{"$f":"IF(N241=\"\",\"\",IF(ISERROR(edata(N241)),\"FORMATO INCORRECTO\",\"FORMATO CORRECTO\"))","v":""}]
["1900-08-23","",null,null,null,null,null,null,"",null,null,null,null,null,null,null,null,"",null,null,null,null,null,null,null,null,"",null,"",null,null,"",null,null,null,null,null,0,0,0,0,0,{"$f":"IF(AO242<>0,SUMIFS($AP$6:$AP$1001,$AN$6:$AN$1001,AN242,$F$6:$F$1001,F242,$AX$6:$AX$1001,AX242),0)","v":0},0,{"$f":"IF(AO242<>0,SUMIFS($AP$6:$AP$1001,$AR$6:$AR$1001,AR242,$F$6:$F$1001,F242,$AX$6:$AX$1001,AX242),0)","v":0},0,0,0,{"$f":"IF(AU242<>0,SUMIFS($AV$6:$AV$1001,$AT$6:$AT$1001,AT242,$F$6:$F$1001,F242,$AY$6:$AY$1001,AY242),0)","v":0},1900,1900,0,0,0,0,0,0,0,0,0,"","",0,0,0,"FORMATO INCORRECTO","FORMATO INCORRECTO","FORMATO INCORRECTO",{"$f":"IF(L242=\"\",\"\",IF(ISERROR(edata(L242)),\"FORMATO INCORRECTO\",\"FORMATO CORRECTO\"))","v":""},{"$f":"IF(U242=\"\",\"\",IF(ISERROR(edata(U242)),\"FORMATO INCORRECTO\",\"FORMATO CORRECTO\"))","v":""},{"$f":"IF(N242=\"\",\"\",IF(ISERROR(edata(N242)),\"FORMATO INCORRECTO\",\"FORMATO CORRECTO\"))","v":""}]
["1900-08-24","",null,null,null,null,null,null,"",null,null,null,null,null,null,null,null,"",null,null,null,null,null,null,null,null,"",null,"",null,null,"",null,null,null,null,null,0,0,0,0,0,{"$f":"IF(AO243<>0,SUMIFS($AP$6:$AP$1001,$AN$6:$AN$1001,AN243,$F$6:$F$1001,F243,$AX$6:$AX$1001,AX243),0)","v":0},0,{"$f":"IF(AO243<>0,SUMIFS($AP$6:$AP$1001,$AR$6:$AR$1001,AR243,$F$6:$F$1001,F243,$AX$6:$AX$1001,AX243),0)","v":0},0,0,0,{"$f":"IF(AU243<>0,SUMIFS($AV$6:$AV$1001,$AT$6:$AT$1001,AT243,$F$6:$F$1001,F243,$AY$6:$AY$1001,AY243),0)","v":0},1900,1900,0,0,0,0,0,0,0,0,0,"","",0,0,0,"FORMATO INCORRECTO","FORMATO INCORRECTO","FORMATO INCORRECTO",{"$f":"IF(L243=\"\",\"\",IF(ISERROR(edata(L243)),\"FORMATO INCORRECTO\",\"FORMATO CORRECTO\"))","v":""},{"$f":"IF(U243=\"\",\"\",IF(ISERROR(edata(U243)),\"FORMATO INCORRECTO\",\"FORMATO CORRECTO\"))","v":""},{"$f":"IF(N243=\"\",\"\",IF(ISERROR(edata(N243)),\"FORMATO INCORRECTO\",\"FORMATO CORRECTO\"))","v":""}]
["1900-08-25","",null,null,null,null,null,null,"",null,null,null,null,null,null,null,null,"",null,null,null,null,null,null,null,null,"",null,"",null,null,"",null,null,null,null,null,0,0,0,0,0,{"$f":"IF(AO244<>0,SUMIFS($AP$6:$AP$1001,$AN$6:$AN$1001,AN244,$F$6:$F$1001,F244,$AX$6:$AX$1001,AX244),0)","v":0},0,{"$f":"IF(AO244<>0,SUMIFS($AP$6:$AP$1001,$AR$6:$AR$1001,AR244,$F$6:$F$1001,F244,$AX$6:$AX$1001,AX244),0)","v":0},0,0,0,{"$f":"IF(AU244<>0,SUMIFS($AV$6:$AV$1001,$AT$6:$AT$1001,AT244,$F$6:$F$1001,F244,$AY$6:$AY$1001,AY244),0)","v":0},1900,1900,0,0,0,0,0,0,0,0,0,"","",0,0,0,"FORMATO INCORRECTO","FORMATO INCORRECTO","FORMATO INCORRECTO",{"$f":"IF(L244=\"\",\"\",IF(ISERROR(edata(L244)),\"FORMATO INCORRECTO\",\"FORMATO CORRECTO\"))","v":""},{"$f":"IF(U244=\"\",\"\",IF(ISERROR(edata(U244)),\"FORMATO INCORRECTO\",\"FORMATO CORRECTO\"))","v":""},{"$f":"IF(N244=\"\",\"\",IF(ISERROR(edata(N244)),\"FORMATO INCORRECTO\",\"FORMATO CORRECTO\"))","v":""}]
["1900-08-26","",null,null,null,null,null,null,"",null,null,null,null,null,null,null,null,"",null,null,null,null,null,null,null,null,"",null,"",null,null,"",null,null,null,null,null,0,0,0,0,0,{"$f":"IF(AO245<>0,SUMIFS($AP$6:$AP$1001,$AN$6:$AN$1001,AN245,$F$6:$F$1001,F245,$AX$6:$AX$1001,AX245),0)","v":0},0,{"$f":"IF(AO245<>0,SUMIFS($AP$6:$AP$1001,$AR$6:$AR$1001,AR245,$F$6:$F$1001,F245,$AX$6:$AX$1001,AX245),0)","v":0},0,0,0,{"$f":"IF(AU245<>0,SUMIFS($AV$6:$AV$1001,$AT$6:$AT$1001,AT245,$F$6:$F$1001,F245,$AY$6:$AY$1001,AY245),0)","v":0},1900,1900,0,0,0,0,0,0,0,0,0,"","",0,0,0,"FORMATO INCORRECTO","FORMATO INCORRECTO","FORMATO INCORRECTO",{"$f":"IF(L245=\"\",\"\",IF(ISERROR(edata(L245)),\"FORMATO INCORRECTO\",\"FORMATO CORRECTO\"))","v":""},{"$f":"IF(U245=\"\",\"\",IF(ISERROR(edata(U245)),\"FORMATO INCORRECTO\",\"FORMATO CORRECTO\"))","v":""},{"$f":"IF(N245=\"\",\"\",IF(ISERROR(edata(N245)),\"FORMATO INCORRECTO\",\"FORMATO CORRECTO\"))","v":""}]
["1900-08-27","",null,null,null,null,null,null,"",null,null,null,null,null,null,null,null,"",null,null,null,null,null,null,null,null,"",null,"",null,null,"",null,null,null,null,null,0,0,0,0,0,{"$f":"IF(AO246<>0,SUMIFS($AP$6:$AP$1001,$AN$6:$AN$1001,AN246,$F$6:$F$1001,F246,$AX$6:$AX$1001,AX246),0)","v":0},0,{"$f":"IF(AO246<>0,SUMIFS($AP$6:$AP$1001,$AR$6:$AR$1001,AR246,$F$6:$F$1001,F246,$AX$6:$AX$1001,AX246),0)","v":0},0,0,0,{"$f":"IF(AU246<>0,SUMIFS($AV$6:$AV$1001,$AT$6:$AT$1001,AT246,$F$6:$F$1001,F246,$AY$6:$AY$1001,AY246),0)","v":0},1900,1900,0,0,0,0,0,0,0,0,0,"","",0,0,0,"FORMATO INCORRECTO","FORMATO INCORRECTO","FORMATO INCORRECTO",{"$f":"IF(L246=\"\",\"\",IF(ISERROR(edata(L246)),\"FORMATO INCORRECTO\",\"FORMATO CORRECTO\"))","v":""},{"$f":"IF(U246=\"\",\"\",IF(ISERROR(edata(U246)),\"FORMATO INCORRECTO\",\"FORMATO CORRECTO\"))","v":""},{"$f":"IF(N246=\"\",\"\",IF(ISERROR(edata(N246)),\"FORMATO INCORRECTO\",\"FORMATO CORRECTO\"))","v":""}]
["1900-08-28","",null,null,null,null,null,null,"",null,null,null,null,null,null,null,null,"",null,null,null,null,null,null,null,null,"",null,"",null,null,"",null,null,null,null,null,0,0,0,0,0,{"$f":"IF(AO247<>0,SUMIFS($AP$6:$AP$1001,$AN$6:$AN$1001,AN247,$F$6:$F$1001,F247,$AX$6:$AX$1001,AX247),0)","v":0},0,{"$f":"IF(AO247<>0,SUMIFS($AP$6:$AP$1001,$AR$6:$AR$1001,AR247,$F$6:$F$1001,F247,$AX$6:$AX$1001,AX247),0)","v":0},0,0,0,{"$f":"IF(AU247<>0,SUMIFS($AV$6:$AV$1001,$AT$6:$AT$1001,AT247,$F$6:$F$1001,F247,$AY$6:$AY$1001,AY247),0)","v":0},1900,1900,0,0,0,0,0,0,0,0,0,"","",0,0,0,"FORMATO INCORRECTO","FORMATO INCORRECTO","FORMATO INCORRECTO",{"$f":"IF(L247=\"\",\"\",IF(ISERROR(edata(L247)),\"FORMATO INCORRECTO\",\"FORMATO CORRECTO\"))","v":""},{"$f":"IF(U247=\"\",\"\",IF(ISERROR(edata(U247)),\"FORMATO INCORRECTO\",\"FORMATO CORRECTO\"))","v":""},{"$f":"IF(N247=\"\",\"\",IF(ISERROR(edata(N247)),\"FORMATO INCORRECTO\",\"FORMATO CORRECTO\"))","v":""}]
["1900-08-29","",null,null,null,null,null,null,"",null,null,null,null,null,null,null,null,"",null,null,null,null,null,null,null,null,"",null,"",null,null,"",null,null,null,null,null,0,0,0,0,0,{"$f":"IF(AO248<>0,SUMIFS($AP$6:$AP$1001,$AN$6:$AN$1001,AN248,$F$6:$F$1001,F248,$AX$6:$AX$1001,AX248),0)","v":0},0,{"$f":"IF(AO248<>0,SUMIFS($AP$6:$AP$1001,$AR$6:$AR$1001,AR248,$F$6:$F$1001,F248,$AX$6:$AX$1001,AX248),0)","v":0},0,0,0,{"$f":"IF(AU248<>0,SUMIFS($AV$6:$AV$1001,$AT$6:$AT$1001,AT248,$F$6:$F$1001,F248,$AY$6:$AY$1001,AY248),0)","v":0},1900,1900,0,0,0,0,0,0,0,0,0,"","",0,0,0,"FORMATO INCORRECTO","FORMATO INCORRECTO","FORMATO INCORRECTO",{"$f":"IF(L248=\"\",\"\",IF(ISERROR(edata(L248)),\"FORMATO INCORRECTO\",\"FORMATO CORRECTO\"))","v":""},{"$f":"IF(U248=\"\",\"\",IF(ISERROR(edata(U248)),\"FORMATO INCORRECTO\",\"FORMATO CORRECTO\"))","v":""},{"$f":"IF(N248=\"\",\"\",IF(ISERROR(edata(N248)),\"FORMATO INCORRECTO\",\"FORMATO CORRECTO\"))","v":""}]
["1900-08-30","",null,null,null,null,null,null,"",null,null,null,null,null,null,null,null,"",null,null,null,null,null,null,null,null,"",null,"",null,null,"",null,null,null,null,null,0,0,0,0,0,{"$f":"IF(AO249<>0,SUMIFS($AP$6:$AP$1001,$AN$6:$AN$1001,AN249,$F$6:$F$1001,F249,$AX$6:$AX$1001,AX249),0)","v":0},0,{"$f":"IF(AO249<>0,SUMIFS($AP$6:$AP$1001,$AR$6:$AR$1001,AR249,$F$6:$F$1001,F249,$AX$6:$AX$1001,AX249),0)","v":0},0,0,0,{"$f":"IF(AU249<>0,SUMIFS($AV$6:$AV$1001,$AT$6:$AT$1001,AT249,$F$6:$F$1001,F249,$AY$6:$AY$1001,AY249),0)","v":0},1900,1900,0,0,0,0,0,0,0,0,0,"","",0,0,0,"FORMATO INCORRECTO","FORMATO INCORRECTO","FORMATO INCORRECTO",{"$f":"IF(L249=\"\",\"\",IF(ISERROR(edata(L249)),\"FORMATO INCORRECTO\",\"FORMATO CORRECTO\"))","v":""},{"$f":"IF(U249=\"\",\"\",IF(ISERROR(edata(U249)),\"FORMATO INCORRECTO\",\"FORMATO CORRECTO\"))","v":""},{"$f":"IF(N249=\"\",\"\",IF(ISERROR(edata(N249)),\"FORMATO INCORRECTO\",\"FORMATO CORRECTO\"))","v":""}]
["1900-08-31","",null,null,null,null,null,null,"",null,null,null,null,null,null,null,null,"",null,null,null,null,null,null,null,null,"",null,"",null,null,"",null,null,null,null,null,0,0,0,0,0,{"$f":"IF(AO250<>0,SUMIFS($AP$6:$AP$1001,$AN$6:$AN$1001,AN250,$F$6:$F$1001,F250,$AX$6:$AX$1001,AX250),0)","v":0},0,{"$f":"IF(AO250<>0,SUMIFS($AP$6:$AP$1001,$AR$6:$AR$1001,AR250,$F$6:$F$1001,F250,$AX$6:$AX$1001,AX250),0)","v":0},0,0,0,{"$f":"IF(AU250<>0,SUMIFS($AV$6:$AV$1001,$AT$6:$AT$1001,AT250,$F$6:$F$1001,F250,$AY$6:$AY$1001,AY250),0)","v":0},1900,1900,0,0,0,0,0,0,0,0,0,"","",0,0,0,"FORMATO INCORRECTO","FORMATO INCORRECTO","FORMATO INCORRECTO",{"$f":"IF(L250=\"\",\"\",IF(ISERROR(edata(L250)),\"FORMATO INCORRECTO\",\"FORMATO CORRECTO\"))","v":""},{"$f":"IF(U250=\"\",\"\",IF(ISERROR(edata(U250)),\"FORMATO INCORRECTO\",\"FORMATO CORRECTO\"))","v":""},{"$f":"IF(N250=\"\",\"\",IF(ISERROR(edata(N250)),\"FORMATO INCORRECTO\",\"FORMATO CORRECTO\"))","v":""}]
["1900-09-01","",null,null,null,null,null,null,"",null,null,null,null,null,null,null,null,"",null,null,null,null,null,null,null,null,"",null,"",null,null,"",null,null,null,null,null,0,0,0,0,0,{"$f":"IF(AO251<>0,SUMIFS($AP$6:$AP$1001,$AN$6:$AN$1001,AN251,$F$6:$F$1001,F251,$AX$6:$AX$1001,AX251),0)","v":0},0,{"$f":"IF(AO251<>0,SUMIFS($AP$6:$AP$1001,$AR$6:$AR$1001,AR251,$F$6:$F$1001,F251,$AX$6:$AX$1001,AX251),0)","v":0},0,0,0,{"$f":"IF(AU251<>0,SUMIFS($AV$6:$AV$1001,$AT$6:$AT$1001,AT251,$F$6:$F$1001,F251,$AY$6:$AY$1001,AY251),0)","v":0},1900,1900,0,0,0,0,0,0,0,0,0,"","",0,0,0,"FORMATO INCORRECTO","FORMATO INCORRECTO","FORMATO INCORRECTO",{"$f":"IF(L251=\"\",\"\",IF(ISERROR(edata(L251)),\"FORMATO INCORRECTO\",\"FORMATO CORRECTO\"))","v":""},{"$f":"IF(U251=\"\",\"\",IF(ISERROR(edata(U251)),\"FORMATO INCORRECTO\",\"FORMATO CORRECTO\"))","v":""},{"$f":"IF(N251=\"\",\"\",IF(ISERROR(edata(N251)),\"FORMATO INCORRECTO\",\"FORMATO CORRECTO\"))","v":""}]
["1900-09-02","",null,null,null,null,null,null,"",null,null,null,null,null,null,null,null,"",null,null,null,null,null,null,null,null,"",null,"",null,null,"",null,null,null,null,null,0,0,0,0,0,{"$f":"IF(AO252<>0,SUMIFS($AP$6:$AP$1001,$AN$6:$AN$1001,AN252,$F$6:$F$1001,F252,$AX$6:$AX$1001,AX252),0)","v":0},0,{"$f":"IF(AO252<>0,SUMIFS($AP$6:$AP$1001,$AR$6:$AR$1001,AR252,$F$6:$F$1001,F252,$AX$6:$AX$1001,AX252),0)","v":0},0,0,0,{"$f":"IF(AU252<>0,SUMIFS($AV$6:$AV$1001,$AT$6:$AT$1001,AT252,$F$6:$F$1001,F252,$AY$6:$AY$1001,AY252),0)","v":0},1900,1900,0,0,0,0,0,0,0,0,0,"","",0,0,0,"FORMATO INCORRECTO","FORMATO INCORRECTO","FORMATO INCORRECTO",{"$f":"IF(L252=\"\",\"\",IF(ISERROR(edata(L252)),\"FORMATO INCORRECTO\",\"FORMATO CORRECTO\"))","v":""},{"$f":"IF(U252=\"\",\"\",IF(ISERROR(edata(U252)),\"FORMATO INCORRECTO\",\"FORMATO CORRECTO\"))","v":""},{"$f":"IF(N252=\"\",\"\",IF(ISERROR(edata(N252)),\"FORMATO INCORRECTO\",\"FORMATO CORRECTO\"))","v":""}]
["1900-09-03","",null,null,null,null,null,null,"",null,null,null,null,null,null,null,null,"",null,null,null,null,null,null,null,null,"",null,"",null,null,"",null,null,null,null,null,0,0,0,0,0,{"$f":"IF(AO253<>0,SUMIFS($AP$6:$AP$1001,$AN$6:$AN$1001,AN253,$F$6:$F$1001,F253,$AX$6:$AX$1001,AX253),0)","v":0},0,{"$f":"IF(AO253<>0,SUMIFS($AP$6:$AP$1001,$AR$6:$AR$1001,AR253,$F$6:$F$1001,F253,$AX$6:$AX$1001,AX253),0)","v":0},0,0,0,{"$f":"IF(AU253<>0,SUMIFS($AV$6:$AV$1001,$AT$6:$AT$1001,AT253,$F$6:$F$1001,F253,$AY$6:$AY$1001,AY253),0)","v":0},1900,1900,0,0,0,0,0,0,0,0,0,"","",0,0,0,"FORMATO INCORRECTO","FORMATO INCORRECTO","FORMATO INCORRECTO",{"$f":"IF(L253=\"\",\"\",IF(ISERROR(edata(L253)),\"FORMATO INCORRECTO\",\"FORMATO CORRECTO\"))","v":""},{"$f":"IF(U253=\"\",\"\",IF(ISERROR(edata(U253)),\"FORMATO INCORRECTO\",\"FORMATO CORRECTO\"))","v":""},{"$f":"IF(N253=\"\",\"\",IF(ISERROR(edata(N253)),\"FORMATO INCORRECTO\",\"FORMATO CORRECTO\"))","v":""}]
["1900-09-04","",null,null,null,null,null,null,"",null,null,null,null,null,null,null,null,"",null,null,null,null,null,null,null,null,"",null,"",null,null,"",null,null,null,null,null,0,0,0,0,0,{"$f":"IF(AO254<>0,SUMIFS($AP$6:$AP$1001,$AN$6:$AN$1001,AN254,$F$6:$F$1001,F254,$AX$6:$AX$1001,AX254),0)","v":0},0,{"$f":"IF(AO254<>0,SUMIFS($AP$6:$AP$1001,$AR$6:$AR$1001,AR254,$F$6:$F$1001,F254,$AX$6:$AX$1001,AX254),0)","v":0},0,0,0,{"$f":"IF(AU254<>0,SUMIFS($AV$6:$AV$1001,$AT$6:$AT$1001,AT254,$F$6:$F$1001,F254,$AY$6:$AY$1001,AY254),0)","v":0},1900,1900,0,0,0,0,0,0,0,0,0,"","",0,0,0,"FORMATO INCORRECTO","FORMATO INCORRECTO","FORMATO INCORRECTO",{"$f":"IF(L254=\"\",\"\",IF(ISERROR(edata(L254)),\"FORMATO INCORRECTO\",\"FORMATO CORRECTO\"))","v":""},{"$f":"IF(U254=\"\",\"\",IF(ISERROR(edata(U254)),\"FORMATO INCORRECTO\",\"FORMATO CORRECTO\"))","v":""},{"$f":"IF(N254=\"\",\"\",IF(ISERROR(edata(N254)),\"FORMATO INCORRECTO\",\"FORMATO CORRECTO\"))","v":""}]
["1900-09-05","",null,null,null,null,null,null,"",null,null,null,null,null,null,null,null,"",null,null,null,null,null,null,null,null,"",null,"",null,null,"",null,null,null,null,null,0,0,0,0,0,{"$f":"IF(AO255<>0,SUMIFS($AP$6:$AP$1001,$AN$6:$AN$1001,AN255,$F$6:$F$1001,F255,$AX$6:$AX$1001,AX255),0)","v":0},0,{"$f":"IF(AO255<>0,SUMIFS($AP$6:$AP$1001,$AR$6:$AR$1001,AR255,$F$6:$F$1001,F255,$AX$6:$AX$1001,AX255),0)","v":0},0,0,0,{"$f":"IF(AU255<>0,SUMIFS($AV$6:$AV$1001,$AT$6:$AT$1001,AT255,$F$6:$F$1001,F255,$AY$6:$AY$1001,AY255),0)","v":0},1900,1900,0,0,0,0,0,0,0,0,0,"","",0,0,0,"FORMATO INCORRECTO","FORMATO INCORRECTO","FORMATO INCORRECTO",{"$f":"IF(L255=\"\",\"\",IF(ISERROR(edata(L255)),\"FORMATO INCORRECTO\",\"FORMATO CORRECTO\"))","v":""},{"$f":"IF(U255=\"\",\"\",IF(ISERROR(edata(U255)),\"FORMATO INCORRECTO\",\"FORMATO CORRECTO\"))","v":""},{"$f":"IF(N255=\"\",\"\",IF(ISERROR(edata(N255)),\"FORMATO INCORRECTO\",\"FORMATO CORRECTO\"))","v":""}]
["1900-09-06","",null,null,null,null,null,null,"",null,null,null,null,null,null,null,null,"",null,null,null,null,null,null,null,null,"",null,"",null,null,"",null,null,null,null,null,0,0,0,0,0,{"$f":"IF(AO256<>0,SUMIFS($AP$6:$AP$1001,$AN$6:$AN$1001,AN256,$F$6:$F$1001,F256,$AX$6:$AX$1001,AX256),0)","v":0},0,{"$f":"IF(AO256<>0,SUMIFS($AP$6:$AP$1001,$AR$6:$AR$1001,AR256,$F$6:$F$1001,F256,$AX$6:$AX$1001,AX256),0)","v":0},0,0,0,{"$f":"IF(AU256<>0,SUMIFS($AV$6:$AV$1001,$AT$6:$AT$1001,AT256,$F$6:$F$1001,F256,$AY$6:$AY$1001,AY256),0)","v":0},1900,1900,0,0,0,0,0,0,0,0,0,"","",0,0,0,"FORMATO INCORRECTO","FORMATO INCORRECTO","FORMATO INCORRECTO",{"$f":"IF(L256=\"\",\"\",IF(ISERROR(edata(L256)),\"FORMATO INCORRECTO\",\"FORMATO CORRECTO\"))","v":""},{"$f":"IF(U256=\"\",\"\",IF(ISERROR(edata(U256)),\"FORMATO INCORRECTO\",\"FORMATO CORRECTO\"))","v":""},{"$f":"IF(N256=\"\",\"\",IF(ISERROR(edata(N256)),\"FORMATO INCORRECTO\",\"FORMATO CORRECTO\"))","v":""}]
["1900-09-07","",null,null,null,null,null,null,"",null,null,null,null,null,null,null,null,"",null,null,null,null,null,null,null,null,"",null,"",null,null,"",null,null,null,null,null,0,0,0,0,0,{"$f":"IF(AO257<>0,SUMIFS($AP$6:$AP$1001,$AN$6:$AN$1001,AN257,$F$6:$F$1001,F257,$AX$6:$AX$1001,AX257),0)","v":0},0,{"$f":"IF(AO257<>0,SUMIFS($AP$6:$AP$1001,$AR$6:$AR$1001,AR257,$F$6:$F$1001,F257,$AX$6:$AX$1001,AX257),0)","v":0},0,0,0,{"$f":"IF(AU257<>0,SUMIFS($AV$6:$AV$1001,$AT$6:$AT$1001,AT257,$F$6:$F$1001,F257,$AY$6:$AY$1001,AY257),0)","v":0},1900,1900,0,0,0,0,0,0,0,0,0,"","",0,0,0,"FORMATO INCORRECTO","FORMATO INCORRECTO","FORMATO INCORRECTO",{"$f":"IF(L257=\"\",\"\",IF(ISERROR(edata(L257)),\"FORMATO INCORRECTO\",\"FORMATO CORRECTO\"))","v":""},{"$f":"IF(U257=\"\",\"\",IF(ISERROR(edata(U257)),\"FORMATO INCORRECTO\",\"FORMATO CORRECTO\"))","v":""},{"$f":"IF(N257=\"\",\"\",IF(ISERROR(edata(N257)),\"FORMATO INCORRECTO\",\"FORMATO CORRECTO\"))","v":""}]
["1900-09-08","",null,null,null,null,null,null,"",null,null,null,null,null,null,null,null,"",null,null,null,null,null,null,null,null,"",null,"",null,null,"",null,null,null,null,null,0,0,0,0,0,{"$f":"IF(AO258<>0,SUMIFS($AP$6:$AP$1001,$AN$6:$AN$1001,AN258,$F$6:$F$1001,F258,$AX$6:$AX$1001,AX258),0)","v":0},0,{"$f":"IF(AO258<>0,SUMIFS($AP$6:$AP$1001,$AR$6:$AR$1001,AR258,$F$6:$F$1001,F258,$AX$6:$AX$1001,AX258),0)","v":0},0,0,0,{"$f":"IF(AU258<>0,SUMIFS($AV$6:$AV$1001,$AT$6:$AT$1001,AT258,$F$6:$F$1001,F258,$AY$6:$AY$1001,AY258),0)","v":0},1900,1900,0,0,0,0,0,0,0,0,0,"","",0,0,0,"FORMATO INCORRECTO","FORMATO INCORRECTO","FORMATO INCORRECTO",{"$f":"IF(L258=\"\",\"\",IF(ISERROR(edata(L258)),\"FORMATO INCORRECTO\",\"FORMATO CORRECTO\"))","v":""},{"$f":"IF(U258=\"\",\"\",IF(ISERROR(edata(U258)),\"FORMATO INCORRECTO\",\"FORMATO CORRECTO\"))","v":""},{"$f":"IF(N258=\"\",\"\",IF(ISERROR(edata(N258)),\"FORMATO INCORRECTO\",\"FORMATO CORRECTO\"))","v":""}]
["1900-09-09","",null,null,null,null,null,null,"",null,null,null,null,null,null,null,null,"",null,null,null,null,null,null,null,null,"",null,"",null,null,"",null,null,null,null,null,0,0,0,0,0,{"$f":"IF(AO259<>0,SUMIFS($AP$6:$AP$1001,$AN$6:$AN$1001,AN259,$F$6:$F$1001,F259,$AX$6:$AX$1001,AX259),0)","v":0},0,{"$f":"IF(AO259<>0,SUMIFS($AP$6:$AP$1001,$AR$6:$AR$1001,AR259,$F$6:$F$1001,F259,$AX$6:$AX$1001,AX259),0)","v":0},0,0,0,{"$f":"IF(AU259<>0,SUMIFS($AV$6:$AV$1001,$AT$6:$AT$1001,AT259,$F$6:$F$1001,F259,$AY$6:$AY$1001,AY259),0)","v":0},1900,1900,0,0,0,0,0,0,0,0,0,"","",0,0,0,"FORMATO INCORRECTO","FORMATO INCORRECTO","FORMATO INCORRECTO",{"$f":"IF(L259=\"\",\"\",IF(ISERROR(edata(L259)),\"FORMATO INCORRECTO\",\"FORMATO CORRECTO\"))","v":""},{"$f":"IF(U259=\"\",\"\",IF(ISERROR(edata(U259)),\"FORMATO INCORRECTO\",\"FORMATO CORRECTO\"))","v":""},{"$f":"IF(N259=\"\",\"\",IF(ISERROR(edata(N259)),\"FORMATO INCORRECTO\",\"FORMATO CORRECTO\"))","v":""}]
["1900-09-10","",null,null,null,null,null,null,"",null,null,null,null,null,null,null,null,"",null,null,null,null,null,null,null,null,"",null,"",null,null,"",null,null,null,null,null,0,0,0,0,0,{"$f":"IF(AO260<>0,SUMIFS($AP$6:$AP$1001,$AN$6:$AN$1001,AN260,$F$6:$F$1001,F260,$AX$6:$AX$1001,AX260),0)","v":0},0,{"$f":"IF(AO260<>0,SUMIFS($AP$6:$AP$1001,$AR$6:$AR$1001,AR260,$F$6:$F$1001,F260,$AX$6:$AX$1001,AX260),0)","v":0},0,0,0,{"$f":"IF(AU260<>0,SUMIFS($AV$6:$AV$1001,$AT$6:$AT$1001,AT260,$F$6:$F$1001,F260,$AY$6:$AY$1001,AY260),0)","v":0},1900,1900,0,0,0,0,0,0,0,0,0,"","",0,0,0,"FORMATO INCORRECTO","FORMATO INCORRECTO","FORMATO INCORRECTO",{"$f":"IF(L260=\"\",\"\",IF(ISERROR(edata(L260)),\"FORMATO INCORRECTO\",\"FORMATO CORRECTO\"))","v":""},{"$f":"IF(U260=\"\",\"\",IF(ISERROR(edata(U260)),\"FORMATO INCORRECTO\",\"FORMATO CORRECTO\"))","v":""},{"$f":"IF(N260=\"\",\"\",IF(ISERROR(edata(N260)),\"FORMATO INCORRECTO\",\"FORMATO CORRECTO\"))","v":""}]
["1900-09-11","",null,null,null,null,null,null,"",null,null,null,null,null,null,null,null,"",null,null,null,null,null,null,null,null,"",null,"",null,null,"",null,null,null,null,null,0,0,0,0,0,{"$f":"IF(AO261<>0,SUMIFS($AP$6:$AP$1001,$AN$6:$AN$1001,AN261,$F$6:$F$1001,F261,$AX$6:$AX$1001,AX261),0)","v":0},0,{"$f":"IF(AO261<>0,SUMIFS($AP$6:$AP$1001,$AR$6:$AR$1001,AR261,$F$6:$F$1001,F261,$AX$6:$AX$1001,AX261),0)","v":0},0,0,0,{"$f":"IF(AU261<>0,SUMIFS($AV$6:$AV$1001,$AT$6:$AT$1001,AT261,$F$6:$F$1001,F261,$AY$6:$AY$1001,AY261),0)","v":0},1900,1900,0,0,0,0,0,0,0,0,0,"","",0,0,0,"FORMATO INCORRECTO","FORMATO INCORRECTO","FORMATO INCORRECTO",{"$f":"IF(L261=\"\",\"\",IF(ISERROR(edata(L261)),\"FORMATO INCORRECTO\",\"FORMATO CORRECTO\"))","v":""},{"$f":"IF(U261=\"\",\"\",IF(ISERROR(edata(U261)),\"FORMATO INCORRECTO\",\"FORMATO CORRECTO\"))","v":""},{"$f":"IF(N261=\"\",\"\",IF(ISERROR(edata(N261)),\"FORMATO INCORRECTO\",\"FORMATO CORRECTO\"))","v":""}]
["1900-09-12","",null,null,null,null,null,null,{"$f":"IF(ISERROR(VLOOKUP(J262,tipoDocDesp,2,FALSE)),\"\",VLOOKUP(J262,tipoDocDesp,2,FALSE))","v":""},null,null,null,null,null,null,null,null,{"$f":"IF(ISERROR(VLOOKUP(S262,tipoDocQuit,2,FALSE)),\"\",VLOOKUP(S262,tipoDocQuit,2,FALSE))","v":""},null,null,null,null,null,null,null,null,{"$f":"IF(ISERROR(VLOOKUP(AB262,DESPESASGERAL,3,FALSE)),\"\",VLOOKUP(AB262,DESPESASGERAL,3,FALSE))","v":""},null,{"$f":"IF(ISERROR(VLOOKUP(AD262,RUBRICASGERAL,2,FALSE)),\"\",VLOOKUP(AD262,RUBRICASGERAL,2,FALSE))","v":""},null,null,{"$f":"IF(ISERROR(VLOOKUP(AG262,CONCELHOGERAL,2,FALSE)),\"\",VLOOKUP(AG262,CONCELHOGERAL,2,FALSE))","v":""},null,null,null,null,null,0,0,0,{"$f":"+M262","v":0},{"$f":"+N262","v":0},{"$f":"IF(AO262<>0,SUMIFS($AP$6:$AP$1001,$AN$6:$AN$1001,AN262,$F$6:$F$1001,F262,$AX$6:$AX$1001,AX262),0)","v":0},{"$f":"+K262","v":0},{"$f":"IF(AO262<>0,SUMIFS($AP$6:$AP$1001,$AR$6:$AR$1001,AR262,$F$6:$F$1001,F262,$AX$6:$AX$1001,AX262),0)","v":0},{"$f":"+T262","v":0},{"$f":"+V262","v":0},{"$f":"+W262","v":0},{"$f":"IF(AU262<>0,SUMIFS($AV$6:$AV$1001,$AT$6:$AT$1001,AT262,$F$6:$F$1001,F262,$AY$6:$AY$1001,AY262),0)","v":0},{"$f":"YEAR(L262)","v":1900},{"$f":"YEAR(U262)","v":1900},0,0,{"$f":"+M262-BA262","v":0},0,0,{"$f":"+M262-BD262","v":0},0,0,{"$f":"+V262-BG262","v":0},"","",0,0,0,"FORMATO INCORRECTO","FORMATO INCORRECTO","FORMATO INCORRECTO",{"$f":"IF(L262=\"\",\"\",IF(ISERROR(edata(L262)),\"FORMATO INCORRECTO\",\"FORMATO CORRECTO\"))","v":""},{"$f":"IF(U262=\"\",\"\",IF(ISERROR(edata(U262)),\"FORMATO INCORRECTO\",\"FORMATO CORRECTO\"))","v":""},{"$f":"IF(N262=\"\",\"\",IF(ISERROR(edata(N262)),\"FORMATO INCORRECTO\",\"FORMATO CORRECTO\"))","v":""}]
["1900-09-13","",null,null,null,null,null,null,"",null,null,null,null,null,null,null,null,"",null,null,null,null,null,null,null,null,"",null,"",null,null,"",null,null,null,null,null,{"$f":"+O263+P263+Q263-N263","v":0},{"$f":"+O263+P263+Q263-W263","v":0},{"$f":"+D263","v":0},0,0,{"$f":"IF(AO263<>0,SUMIFS($AP$6:$AP$1001,$AN$6:$AN$1001,AN263,$F$6:$F$1001,F263,$AX$6:$AX$1001,AX263),0)","v":0},0,{"$f":"IF(AO263<>0,SUMIFS($AP$6:$AP$1001,$AR$6:$AR$1001,AR263,$F$6:$F$1001,F263,$AX$6:$AX$1001,AX263),0)","v":0},0,0,0,{"$f":"IF(AU263<>0,SUMIFS($AV$6:$AV$1001,$AT$6:$AT$1001,AT263,$F$6:$F$1001,F263,$AY$6:$AY$1001,AY263),0)","v":0},1900,1900,{"$f":"+AN263","v":0},{"$f":"+AQ263","v":0},0,{"$f":"+AR263","v":0},{"$f":"ROUND(AS263,2)","v":0},0,{"$f":"+AT263","v":0},{"$f":"ROUND(AW263,2)","v":0},0,{"$f":"IF(ISERROR(L263<=U263),\"FORMATO INCORRECTO\",IF(AND(L263=0,U263=0),\"\",IF(L263<=U263,\"VALIDADO\",\"NÃO VALIDADO\")))","v":""},{"$f":"IF(AND(L263=\"\",U263=\"\",Y263=\"\"),\"\",IF(OR(ISERROR(BK263),ISERROR(BL263),ISERROR(BM263)),\"ERRO NO FORMATO\",\"FORMATO CORRECTO\"))","v":""},{"$f":"convdata(L263)","v":0},{"$f":"convdata(U263)","v":0},{"$f":"convdata(Y263)","v":0},{"$f":"ENULO(L263)","v":"FORMATO INCORRECTO"},{"$f":"ENULO(U263)","v":"FORMATO INCORRECTO"},{"$f":"ENULO(Y263)","v":"FORMATO INCORRECTO"},{"$f":"IF(L263=\"\",\"\",IF(ISERROR(edata(L263)),\"FORMATO INCORRECTO\",\"FORMATO CORRECTO\"))","v":""},{"$f":"IF(U263=\"\",\"\",IF(ISERROR(edata(U263)),\"FORMATO INCORRECTO\",\"FORMATO CORRECTO\"))","v":""},{"$f":"IF(N263=\"\",\"\",IF(ISERROR(edata(N263)),\"FORMATO INCORRECTO\",\"FORMATO CORRECTO\"))","v":""}]
["1900-09-14",{"$f":"IF(G264<>\"\",+B263+1,\"\")","v":""},null,null,null,null,null,null,"",null,null,null,null,null,null,null,null,"",null,null,null,null,null,null,null,null,"",null,"",null,null,"",null,null,null,null,null,0,0,0,0,0,{"$f":"IF(AO264<>0,SUMIFS($AP$6:$AP$1001,$AN$6:$AN$1001,AN264,$F$6:$F$1001,F264,$AX$6:$AX$1001,AX264),0)","v":0},0,{"$f":"IF(AO264<>0,SUMIFS($AP$6:$AP$1001,$AR$6:$AR$1001,AR264,$F$6:$F$1001,F264,$AX$6:$AX$1001,AX264),0)","v":0},0,0,0,{"$f":"IF(AU264<>0,SUMIFS($AV$6:$AV$1001,$AT$6:$AT$1001,AT264,$F$6:$F$1001,F264,$AY$6:$AY$1001,AY264),0)","v":0},1900,1900,0,0,0,0,0,0,0,0,0,"","",0,0,0,"FORMATO INCORRECTO","FORMATO INCORRECTO","FORMATO INCORRECTO",{"$f":"IF(L264=\"\",\"\",IF(ISERROR(edata(L264)),\"FORMATO INCORRECTO\",\"FORMATO CORRECTO\"))","v":""},{"$f":"IF(U264=\"\",\"\",IF(ISERROR(edata(U264)),\"FORMATO INCORRECTO\",\"FORMATO CORRECTO\"))","v":""},{"$f":"IF(N264=\"\",\"\",IF(ISERROR(edata(N264)),\"FORMATO INCORRECTO\",\"FORMATO CORRECTO\"))","v":""}]
["1900-09-15","",null,null,null,null,null,null,"",null,null,null,null,null,null,null,null,"",null,null,null,null,null,null,null,null,"",null,"",null,null,"",null,null,null,null,null,0,0,0,0,0,{"$f":"IF(AO265<>0,SUMIFS($AP$6:$AP$1001,$AN$6:$AN$1001,AN265,$F$6:$F$1001,F265,$AX$6:$AX$1001,AX265),0)","v":0},0,{"$f":"IF(AO265<>0,SUMIFS($AP$6:$AP$1001,$AR$6:$AR$1001,AR265,$F$6:$F$1001,F265,$AX$6:$AX$1001,AX265),0)","v":0},0,0,0,{"$f":"IF(AU265<>0,SUMIFS($AV$6:$AV$1001,$AT$6:$AT$1001,AT265,$F$6:$F$1001,F265,$AY$6:$AY$1001,AY265),0)","v":0},1900,1900,0,0,0,0,0,0,0,0,0,"","",0,0,0,"FORMATO INCORRECTO","FORMATO INCORRECTO","FORMATO INCORRECTO",{"$f":"IF(L265=\"\",\"\",IF(ISERROR(edata(L265)),\"FORMATO INCORRECTO\",\"FORMATO CORRECTO\"))","v":""},{"$f":"IF(U265=\"\",\"\",IF(ISERROR(edata(U265)),\"FORMATO INCORRECTO\",\"FORMATO CORRECTO\"))","v":""},{"$f":"IF(N265=\"\",\"\",IF(ISERROR(edata(N265)),\"FORMATO INCORRECTO\",\"FORMATO CORRECTO\"))","v":""}]
["1900-09-16","",null,null,null,null,null,null,"",null,null,null,null,null,null,null,null,"",null,null,null,null,null,null,null,null,"",null,"",null,null,"",null,null,null,null,null,0,0,0,0,0,{"$f":"IF(AO266<>0,SUMIFS($AP$6:$AP$1001,$AN$6:$AN$1001,AN266,$F$6:$F$1001,F266,$AX$6:$AX$1001,AX266),0)","v":0},0,{"$f":"IF(AO266<>0,SUMIFS($AP$6:$AP$1001,$AR$6:$AR$1001,AR266,$F$6:$F$1001,F266,$AX$6:$AX$1001,AX266),0)","v":0},0,0,0,{"$f":"IF(AU266<>0,SUMIFS($AV$6:$AV$1001,$AT$6:$AT$1001,AT266,$F$6:$F$1001,F266,$AY$6:$AY$1001,AY266),0)","v":0},1900,1900,0,0,0,0,0,0,0,0,0,"","",0,0,0,"FORMATO INCORRECTO","FORMATO INCORRECTO","FORMATO INCORRECTO",{"$f":"IF(L266=\"\",\"\",IF(ISERROR(edata(L266)),\"FORMATO INCORRECTO\",\"FORMATO CORRECTO\"))","v":""},{"$f":"IF(U266=\"\",\"\",IF(ISERROR(edata(U266)),\"FORMATO INCORRECTO\",\"FORMATO CORRECTO\"))","v":""},{"$f":"IF(N266=\"\",\"\",IF(ISERROR(edata(N266)),\"FORMATO INCORRECTO\",\"FORMATO CORRECTO\"))","v":""}]
["1900-09-17","",null,null,null,null,null,null,"",null,null,null,null,null,null,null,null,"",null,null,null,null,null,null,null,null,"",null,"",null,null,"",null,null,null,null,null,0,0,0,0,0,{"$f":"IF(AO267<>0,SUMIFS($AP$6:$AP$1001,$AN$6:$AN$1001,AN267,$F$6:$F$1001,F267,$AX$6:$AX$1001,AX267),0)","v":0},0,{"$f":"IF(AO267<>0,SUMIFS($AP$6:$AP$1001,$AR$6:$AR$1001,AR267,$F$6:$F$1001,F267,$AX$6:$AX$1001,AX267),0)","v":0},0,0,0,{"$f":"IF(AU267<>0,SUMIFS($AV$6:$AV$1001,$AT$6:$AT$1001,AT267,$F$6:$F$1001,F267,$AY$6:$AY$1001,AY267),0)","v":0},1900,1900,0,0,0,0,0,0,0,0,0,"","",0,0,0,"FORMATO INCORRECTO","FORMATO INCORRECTO","FORMATO INCORRECTO",{"$f":"IF(L267=\"\",\"\",IF(ISERROR(edata(L267)),\"FORMATO INCORRECTO\",\"FORMATO CORRECTO\"))","v":""},{"$f":"IF(U267=\"\",\"\",IF(ISERROR(edata(U267)),\"FORMATO INCORRECTO\",\"FORMATO CORRECTO\"))","v":""},{"$f":"IF(N267=\"\",\"\",IF(ISERROR(edata(N267)),\"FORMATO INCORRECTO\",\"FORMATO CORRECTO\"))","v":""}]
["1900-09-18","",null,null,null,null,null,null,"",null,null,null,null,null,null,null,null,"",null,null,null,null,null,null,null,null,"",null,"",null,null,"",null,null,null,null,null,0,0,0,0,0,{"$f":"IF(AO268<>0,SUMIFS($AP$6:$AP$1001,$AN$6:$AN$1001,AN268,$F$6:$F$1001,F268,$AX$6:$AX$1001,AX268),0)","v":0},0,{"$f":"IF(AO268<>0,SUMIFS($AP$6:$AP$1001,$AR$6:$AR$1001,AR268,$F$6:$F$1001,F268,$AX$6:$AX$1001,AX268),0)","v":0},0,0,0,{"$f":"IF(AU268<>0,SUMIFS($AV$6:$AV$1001,$AT$6:$AT$1001,AT268,$F$6:$F$1001,F268,$AY$6:$AY$1001,AY268),0)","v":0},1900,1900,0,0,0,0,0,0,0,0,0,"","",0,0,0,"FORMATO INCORRECTO","FORMATO INCORRECTO","FORMATO INCORRECTO",{"$f":"IF(L268=\"\",\"\",IF(ISERROR(edata(L268)),\"FORMATO INCORRECTO\",\"FORMATO CORRECTO\"))","v":""},{"$f":"IF(U268=\"\",\"\",IF(ISERROR(edata(U268)),\"FORMATO INCORRECTO\",\"FORMATO CORRECTO\"))","v":""},{"$f":"IF(N268=\"\",\"\",IF(ISERROR(edata(N268)),\"FORMATO INCORRECTO\",\"FORMATO CORRECTO\"))","v":""}]
["1900-09-19","",null,null,null,null,null,null,"",null,null,null,null,null,null,null,null,"",null,null,null,null,null,null,null,null,"",null,"",null,null,"",null,null,null,null,null,0,0,0,0,0,{"$f":"IF(AO269<>0,SUMIFS($AP$6:$AP$1001,$AN$6:$AN$1001,AN269,$F$6:$F$1001,F269,$AX$6:$AX$1001,AX269),0)","v":0},0,{"$f":"IF(AO269<>0,SUMIFS($AP$6:$AP$1001,$AR$6:$AR$1001,AR269,$F$6:$F$1001,F269,$AX$6:$AX$1001,AX269),0)","v":0},0,0,0,{"$f":"IF(AU269<>0,SUMIFS($AV$6:$AV$1001,$AT$6:$AT$1001,AT269,$F$6:$F$1001,F269,$AY$6:$AY$1001,AY269),0)","v":0},1900,1900,0,0,0,0,0,0,0,0,0,"","",0,0,0,"FORMATO INCORRECTO","FORMATO INCORRECTO","FORMATO INCORRECTO",{"$f":"IF(L269=\"\",\"\",IF(ISERROR(edata(L269)),\"FORMATO INCORRECTO\",\"FORMATO CORRECTO\"))","v":""},{"$f":"IF(U269=\"\",\"\",IF(ISERROR(edata(U269)),\"FORMATO INCORRECTO\",\"FORMATO CORRECTO\"))","v":""},{"$f":"IF(N269=\"\",\"\",IF(ISERROR(edata(N269)),\"FORMATO INCORRECTO\",\"FORMATO CORRECTO\"))","v":""}]
["1900-09-20","",null,null,null,null,null,null,"",null,null,null,null,null,null,null,null,"",null,null,null,null,null,null,null,null,"",null,"",null,null,"",null,null,null,null,null,0,0,0,0,0,{"$f":"IF(AO270<>0,SUMIFS($AP$6:$AP$1001,$AN$6:$AN$1001,AN270,$F$6:$F$1001,F270,$AX$6:$AX$1001,AX270),0)","v":0},0,{"$f":"IF(AO270<>0,SUMIFS($AP$6:$AP$1001,$AR$6:$AR$1001,AR270,$F$6:$F$1001,F270,$AX$6:$AX$1001,AX270),0)","v":0},0,0,0,{"$f":"IF(AU270<>0,SUMIFS($AV$6:$AV$1001,$AT$6:$AT$1001,AT270,$F$6:$F$1001,F270,$AY$6:$AY$1001,AY270),0)","v":0},1900,1900,0,0,0,0,0,0,0,0,0,"","",0,0,0,"FORMATO INCORRECTO","FORMATO INCORRECTO","FORMATO INCORRECTO",{"$f":"IF(L270=\"\",\"\",IF(ISERROR(edata(L270)),\"FORMATO INCORRECTO\",\"FORMATO CORRECTO\"))","v":""},{"$f":"IF(U270=\"\",\"\",IF(ISERROR(edata(U270)),\"FORMATO INCORRECTO\",\"FORMATO CORRECTO\"))","v":""},{"$f":"IF(N270=\"\",\"\",IF(ISERROR(edata(N270)),\"FORMATO INCORRECTO\",\"FORMATO CORRECTO\"))","v":""}]
["1900-09-21","",null,null,null,null,null,null,"",null,null,null,null,null,null,null,null,"",null,null,null,null,null,null,null,null,"",null,"",null,null,"",null,null,null,null,null,0,0,0,0,0,{"$f":"IF(AO271<>0,SUMIFS($AP$6:$AP$1001,$AN$6:$AN$1001,AN271,$F$6:$F$1001,F271,$AX$6:$AX$1001,AX271),0)","v":0},0,{"$f":"IF(AO271<>0,SUMIFS($AP$6:$AP$1001,$AR$6:$AR$1001,AR271,$F$6:$F$1001,F271,$AX$6:$AX$1001,AX271),0)","v":0},0,0,0,{"$f":"IF(AU271<>0,SUMIFS($AV$6:$AV$1001,$AT$6:$AT$1001,AT271,$F$6:$F$1001,F271,$AY$6:$AY$1001,AY271),0)","v":0},1900,1900,0,0,0,0,0,0,0,0,0,"","",0,0,0,"FORMATO INCORRECTO","FORMATO INCORRECTO","FORMATO INCORRECTO",{"$f":"IF(L271=\"\",\"\",IF(ISERROR(edata(L271)),\"FORMATO INCORRECTO\",\"FORMATO CORRECTO\"))","v":""},{"$f":"IF(U271=\"\",\"\",IF(ISERROR(edata(U271)),\"FORMATO INCORRECTO\",\"FORMATO CORRECTO\"))","v":""},{"$f":"IF(N271=\"\",\"\",IF(ISERROR(edata(N271)),\"FORMATO INCORRECTO\",\"FORMATO CORRECTO\"))","v":""}]
["1900-09-22","",null,null,null,null,null,null,"",null,null,null,null,null,null,null,null,"",null,null,null,null,null,null,null,null,"",null,"",null,null,"",null,null,null,null,null,0,0,0,0,0,{"$f":"IF(AO272<>0,SUMIFS($AP$6:$AP$1001,$AN$6:$AN$1001,AN272,$F$6:$F$1001,F272,$AX$6:$AX$1001,AX272),0)","v":0},0,{"$f":"IF(AO272<>0,SUMIFS($AP$6:$AP$1001,$AR$6:$AR$1001,AR272,$F$6:$F$1001,F272,$AX$6:$AX$1001,AX272),0)","v":0},0,0,0,{"$f":"IF(AU272<>0,SUMIFS($AV$6:$AV$1001,$AT$6:$AT$1001,AT272,$F$6:$F$1001,F272,$AY$6:$AY$1001,AY272),0)","v":0},1900,1900,0,0,0,0,0,0,0,0,0,"","",0,0,0,"FORMATO INCORRECTO","FORMATO INCORRECTO","FORMATO INCORRECTO",{"$f":"IF(L272=\"\",\"\",IF(ISERROR(edata(L272)),\"FORMATO INCORRECTO\",\"FORMATO CORRECTO\"))","v":""},{"$f":"IF(U272=\"\",\"\",IF(ISERROR(edata(U272)),\"FORMATO INCORRECTO\",\"FORMATO CORRECTO\"))","v":""},{"$f":"IF(N272=\"\",\"\",IF(ISERROR(edata(N272)),\"FORMATO INCORRECTO\",\"FORMATO CORRECTO\"))","v":""}]
["1900-09-23","",null,null,null,null,null,null,"",null,null,null,null,null,null,null,null,"",null,null,null,null,null,null,null,null,"",null,"",null,null,"",null,null,null,null,null,0,0,0,0,0,{"$f":"IF(AO273<>0,SUMIFS($AP$6:$AP$1001,$AN$6:$AN$1001,AN273,$F$6:$F$1001,F273,$AX$6:$AX$1001,AX273),0)","v":0},0,{"$f":"IF(AO273<>0,SUMIFS($AP$6:$AP$1001,$AR$6:$AR$1001,AR273,$F$6:$F$1001,F273,$AX$6:$AX$1001,AX273),0)","v":0},0,0,0,{"$f":"IF(AU273<>0,SUMIFS($AV$6:$AV$1001,$AT$6:$AT$1001,AT273,$F$6:$F$1001,F273,$AY$6:$AY$1001,AY273),0)","v":0},1900,1900,0,0,0,0,0,0,0,0,0,"","",0,0,0,"FORMATO INCORRECTO","FORMATO INCORRECTO","FORMATO INCORRECTO",{"$f":"IF(L273=\"\",\"\",IF(ISERROR(edata(L273)),\"FORMATO INCORRECTO\",\"FORMATO CORRECTO\"))","v":""},{"$f":"IF(U273=\"\",\"\",IF(ISERROR(edata(U273)),\"FORMATO INCORRECTO\",\"FORMATO CORRECTO\"))","v":""},{"$f":"IF(N273=\"\",\"\",IF(ISERROR(edata(N273)),\"FORMATO INCORRECTO\",\"FORMATO CORRECTO\"))","v":""}]
["1900-09-24","",null,null,null,null,null,null,"",null,null,null,null,null,null,null,null,"",null,null,null,null,null,null,null,null,"",null,"",null,null,"",null,null,null,null,null,0,0,0,0,0,{"$f":"IF(AO274<>0,SUMIFS($AP$6:$AP$1001,$AN$6:$AN$1001,AN274,$F$6:$F$1001,F274,$AX$6:$AX$1001,AX274),0)","v":0},0,{"$f":"IF(AO274<>0,SUMIFS($AP$6:$AP$1001,$AR$6:$AR$1001,AR274,$F$6:$F$1001,F274,$AX$6:$AX$1001,AX274),0)","v":0},0,0,0,{"$f":"IF(AU274<>0,SUMIFS($AV$6:$AV$1001,$AT$6:$AT$1001,AT274,$F$6:$F$1001,F274,$AY$6:$AY$1001,AY274),0)","v":0},1900,1900,0,0,0,0,0,0,0,0,0,"","",0,0,0,"FORMATO INCORRECTO","FORMATO INCORRECTO","FORMATO INCORRECTO",{"$f":"IF(L274=\"\",\"\",IF(ISERROR(edata(L274)),\"FORMATO INCORRECTO\",\"FORMATO CORRECTO\"))","v":""},{"$f":"IF(U274=\"\",\"\",IF(ISERROR(edata(U274)),\"FORMATO INCORRECTO\",\"FORMATO CORRECTO\"))","v":""},{"$f":"IF(N274=\"\",\"\",IF(ISERROR(edata(N274)),\"FORMATO INCORRECTO\",\"FORMATO CORRECTO\"))","v":""}]
["1900-09-25","",null,null,null,null,null,null,"",null,null,null,null,null,null,null,null,"",null,null,null,null,null,null,null,null,"",null,"",null,null,"",null,null,null,null,null,0,0,0,0,0,{"$f":"IF(AO275<>0,SUMIFS($AP$6:$AP$1001,$AN$6:$AN$1001,AN275,$F$6:$F$1001,F275,$AX$6:$AX$1001,AX275),0)","v":0},0,{"$f":"IF(AO275<>0,SUMIFS($AP$6:$AP$1001,$AR$6:$AR$1001,AR275,$F$6:$F$1001,F275,$AX$6:$AX$1001,AX275),0)","v":0},0,0,0,{"$f":"IF(AU275<>0,SUMIFS($AV$6:$AV$1001,$AT$6:$AT$1001,AT275,$F$6:$F$1001,F275,$AY$6:$AY$1001,AY275),0)","v":0},1900,1900,0,0,0,0,0,0,0,0,0,"","",0,0,0,"FORMATO INCORRECTO","FORMATO INCORRECTO","FORMATO INCORRECTO",{"$f":"IF(L275=\"\",\"\",IF(ISERROR(edata(L275)),\"FORMATO INCORRECTO\",\"FORMATO CORRECTO\"))","v":""},{"$f":"IF(U275=\"\",\"\",IF(ISERROR(edata(U275)),\"FORMATO INCORRECTO\",\"FORMATO CORRECTO\"))","v":""},{"$f":"IF(N275=\"\",\"\",IF(ISERROR(edata(N275)),\"FORMATO INCORRECTO\",\"FORMATO CORRECTO\"))","v":""}]
["1900-09-26","",null,null,null,null,null,null,"",null,null,null,null,null,null,null,null,"",null,null,null,null,null,null,null,null,"",null,"",null,null,"",null,null,null,null,null,0,0,0,0,0,{"$f":"IF(AO276<>0,SUMIFS($AP$6:$AP$1001,$AN$6:$AN$1001,AN276,$F$6:$F$1001,F276,$AX$6:$AX$1001,AX276),0)","v":0},0,{"$f":"IF(AO276<>0,SUMIFS($AP$6:$AP$1001,$AR$6:$AR$1001,AR276,$F$6:$F$1001,F276,$AX$6:$AX$1001,AX276),0)","v":0},0,0,0,{"$f":"IF(AU276<>0,SUMIFS($AV$6:$AV$1001,$AT$6:$AT$1001,AT276,$F$6:$F$1001,F276,$AY$6:$AY$1001,AY276),0)","v":0},1900,1900,0,0,0,0,0,0,0,0,0,"","",0,0,0,"FORMATO INCORRECTO","FORMATO INCORRECTO","FORMATO INCORRECTO",{"$f":"IF(L276=\"\",\"\",IF(ISERROR(edata(L276)),\"FORMATO INCORRECTO\",\"FORMATO CORRECTO\"))","v":""},{"$f":"IF(U276=\"\",\"\",IF(ISERROR(edata(U276)),\"FORMATO INCORRECTO\",\"FORMATO CORRECTO\"))","v":""},{"$f":"IF(N276=\"\",\"\",IF(ISERROR(edata(N276)),\"FORMATO INCORRECTO\",\"FORMATO CORRECTO\"))","v":""}]
["1900-09-27","",null,null,null,null,null,null,"",null,null,null,null,null,null,null,null,"",null,null,null,null,null,null,null,null,"",null,"",null,null,"",null,null,null,null,null,0,0,0,0,0,{"$f":"IF(AO277<>0,SUMIFS($AP$6:$AP$1001,$AN$6:$AN$1001,AN277,$F$6:$F$1001,F277,$AX$6:$AX$1001,AX277),0)","v":0},0,{"$f":"IF(AO277<>0,SUMIFS($AP$6:$AP$1001,$AR$6:$AR$1001,AR277,$F$6:$F$1001,F277,$AX$6:$AX$1001,AX277),0)","v":0},0,0,0,{"$f":"IF(AU277<>0,SUMIFS($AV$6:$AV$1001,$AT$6:$AT$1001,AT277,$F$6:$F$1001,F277,$AY$6:$AY$1001,AY277),0)","v":0},1900,1900,0,0,0,0,0,0,0,0,0,"","",0,0,0,"FORMATO INCORRECTO","FORMATO INCORRECTO","FORMATO INCORRECTO",{"$f":"IF(L277=\"\",\"\",IF(ISERROR(edata(L277)),\"FORMATO INCORRECTO\",\"FORMATO CORRECTO\"))","v":""},{"$f":"IF(U277=\"\",\"\",IF(ISERROR(edata(U277)),\"FORMATO INCORRECTO\",\"FORMATO CORRECTO\"))","v":""},{"$f":"IF(N277=\"\",\"\",IF(ISERROR(edata(N277)),\"FORMATO INCORRECTO\",\"FORMATO CORRECTO\"))","v":""}]
["1900-09-28","",null,null,null,null,null,null,"",null,null,null,null,null,null,null,null,"",null,null,null,null,null,null,null,null,"",null,"",null,null,"",null,null,null,null,null,0,0,0,0,0,{"$f":"IF(AO278<>0,SUMIFS($AP$6:$AP$1001,$AN$6:$AN$1001,AN278,$F$6:$F$1001,F278,$AX$6:$AX$1001,AX278),0)","v":0},0,{"$f":"IF(AO278<>0,SUMIFS($AP$6:$AP$1001,$AR$6:$AR$1001,AR278,$F$6:$F$1001,F278,$AX$6:$AX$1001,AX278),0)","v":0},0,0,0,{"$f":"IF(AU278<>0,SUMIFS($AV$6:$AV$1001,$AT$6:$AT$1001,AT278,$F$6:$F$1001,F278,$AY$6:$AY$1001,AY278),0)","v":0},1900,1900,0,0,0,0,0,0,0,0,0,"","",0,0,0,"FORMATO INCORRECTO","FORMATO INCORRECTO","FORMATO INCORRECTO",{"$f":"IF(L278=\"\",\"\",IF(ISERROR(edata(L278)),\"FORMATO INCORRECTO\",\"FORMATO CORRECTO\"))","v":""},{"$f":"IF(U278=\"\",\"\",IF(ISERROR(edata(U278)),\"FORMATO INCORRECTO\",\"FORMATO CORRECTO\"))","v":""},{"$f":"IF(N278=\"\",\"\",IF(ISERROR(edata(N278)),\"FORMATO INCORRECTO\",\"FORMATO CORRECTO\"))","v":""}]
["1900-09-29","",null,null,null,null,null,null,"",null,null,null,null,null,null,null,null,"",null,null,null,null,null,null,null,null,"",null,"",null,null,"",null,null,null,null,null,0,0,0,0,0,{"$f":"IF(AO279<>0,SUMIFS($AP$6:$AP$1001,$AN$6:$AN$1001,AN279,$F$6:$F$1001,F279,$AX$6:$AX$1001,AX279),0)","v":0},0,{"$f":"IF(AO279<>0,SUMIFS($AP$6:$AP$1001,$AR$6:$AR$1001,AR279,$F$6:$F$1001,F279,$AX$6:$AX$1001,AX279),0)","v":0},0,0,0,{"$f":"IF(AU279<>0,SUMIFS($AV$6:$AV$1001,$AT$6:$AT$1001,AT279,$F$6:$F$1001,F279,$AY$6:$AY$1001,AY279),0)","v":0},1900,1900,0,0,0,0,0,0,0,0,0,"","",0,0,0,"FORMATO INCORRECTO","FORMATO INCORRECTO","FORMATO INCORRECTO",{"$f":"IF(L279=\"\",\"\",IF(ISERROR(edata(L279)),\"FORMATO INCORRECTO\",\"FORMATO CORRECTO\"))","v":""},{"$f":"IF(U279=\"\",\"\",IF(ISERROR(edata(U279)),\"FORMATO INCORRECTO\",\"FORMATO CORRECTO\"))","v":""},{"$f":"IF(N279=\"\",\"\",IF(ISERROR(edata(N279)),\"FORMATO INCORRECTO\",\"FORMATO CORRECTO\"))","v":""}]
["1900-09-30","",null,null,null,null,null,null,"",null,null,null,null,null,null,null,null,"",null,null,null,null,null,null,null,null,"",null,"",null,null,"",null,null,null,null,null,0,0,0,0,0,{"$f":"IF(AO280<>0,SUMIFS($AP$6:$AP$1001,$AN$6:$AN$1001,AN280,$F$6:$F$1001,F280,$AX$6:$AX$1001,AX280),0)","v":0},0,{"$f":"IF(AO280<>0,SUMIFS($AP$6:$AP$1001,$AR$6:$AR$1001,AR280,$F$6:$F$1001,F280,$AX$6:$AX$1001,AX280),0)","v":0},0,0,0,{"$f":"IF(AU280<>0,SUMIFS($AV$6:$AV$1001,$AT$6:$AT$1001,AT280,$F$6:$F$1001,F280,$AY$6:$AY$1001,AY280),0)","v":0},1900,1900,0,0,0,0,0,0,0,0,0,"","",0,0,0,"FORMATO INCORRECTO","FORMATO INCORRECTO","FORMATO INCORRECTO",{"$f":"IF(L280=\"\",\"\",IF(ISERROR(edata(L280)),\"FORMATO INCORRECTO\",\"FORMATO CORRECTO\"))","v":""},{"$f":"IF(U280=\"\",\"\",IF(ISERROR(edata(U280)),\"FORMATO INCORRECTO\",\"FORMATO CORRECTO\"))","v":""},{"$f":"IF(N280=\"\",\"\",IF(ISERROR(edata(N280)),\"FORMATO INCORRECTO\",\"FORMATO CORRECTO\"))","v":""}]
["1900-10-01","",null,null,null,null,null,null,"",null,null,null,null,null,null,null,null,"",null,null,null,null,null,null,null,null,"",null,"",null,null,"",null,null,null,null,null,0,0,0,0,0,{"$f":"IF(AO281<>0,SUMIFS($AP$6:$AP$1001,$AN$6:$AN$1001,AN281,$F$6:$F$1001,F281,$AX$6:$AX$1001,AX281),0)","v":0},0,{"$f":"IF(AO281<>0,SUMIFS($AP$6:$AP$1001,$AR$6:$AR$1001,AR281,$F$6:$F$1001,F281,$AX$6:$AX$1001,AX281),0)","v":0},0,0,0,{"$f":"IF(AU281<>0,SUMIFS($AV$6:$AV$1001,$AT$6:$AT$1001,AT281,$F$6:$F$1001,F281,$AY$6:$AY$1001,AY281),0)","v":0},1900,1900,0,0,0,0,0,0,0,0,0,"","",0,0,0,"FORMATO INCORRECTO","FORMATO INCORRECTO","FORMATO INCORRECTO",{"$f":"IF(L281=\"\",\"\",IF(ISERROR(edata(L281)),\"FORMATO INCORRECTO\",\"FORMATO CORRECTO\"))","v":""},{"$f":"IF(U281=\"\",\"\",IF(ISERROR(edata(U281)),\"FORMATO INCORRECTO\",\"FORMATO CORRECTO\"))","v":""},{"$f":"IF(N281=\"\",\"\",IF(ISERROR(edata(N281)),\"FORMATO INCORRECTO\",\"FORMATO CORRECTO\"))","v":""}]
["1900-10-02","",null,null,null,null,null,null,"",null,null,null,null,null,null,null,null,"",null,null,null,null,null,null,null,null,"",null,"",null,null,"",null,null,null,null,null,0,0,0,0,0,{"$f":"IF(AO282<>0,SUMIFS($AP$6:$AP$1001,$AN$6:$AN$1001,AN282,$F$6:$F$1001,F282,$AX$6:$AX$1001,AX282),0)","v":0},0,{"$f":"IF(AO282<>0,SUMIFS($AP$6:$AP$1001,$AR$6:$AR$1001,AR282,$F$6:$F$1001,F282,$AX$6:$AX$1001,AX282),0)","v":0},0,0,0,{"$f":"IF(AU282<>0,SUMIFS($AV$6:$AV$1001,$AT$6:$AT$1001,AT282,$F$6:$F$1001,F282,$AY$6:$AY$1001,AY282),0)","v":0},1900,1900,0,0,0,0,0,0,0,0,0,"","",0,0,0,"FORMATO INCORRECTO","FORMATO INCORRECTO","FORMATO INCORRECTO",{"$f":"IF(L282=\"\",\"\",IF(ISERROR(edata(L282)),\"FORMATO INCORRECTO\",\"FORMATO CORRECTO\"))","v":""},{"$f":"IF(U282=\"\",\"\",IF(ISERROR(edata(U282)),\"FORMATO INCORRECTO\",\"FORMATO CORRECTO\"))","v":""},{"$f":"IF(N282=\"\",\"\",IF(ISERROR(edata(N282)),\"FORMATO INCORRECTO\",\"FORMATO CORRECTO\"))","v":""}]
["1900-10-03","",null,null,null,null,null,null,"",null,null,null,null,null,null,null,null,"",null,null,null,null,null,null,null,null,"",null,"",null,null,"",null,null,null,null,null,0,0,0,0,0,{"$f":"IF(AO283<>0,SUMIFS($AP$6:$AP$1001,$AN$6:$AN$1001,AN283,$F$6:$F$1001,F283,$AX$6:$AX$1001,AX283),0)","v":0},0,{"$f":"IF(AO283<>0,SUMIFS($AP$6:$AP$1001,$AR$6:$AR$1001,AR283,$F$6:$F$1001,F283,$AX$6:$AX$1001,AX283),0)","v":0},0,0,0,{"$f":"IF(AU283<>0,SUMIFS($AV$6:$AV$1001,$AT$6:$AT$1001,AT283,$F$6:$F$1001,F283,$AY$6:$AY$1001,AY283),0)","v":0},1900,1900,0,0,0,0,0,0,0,0,0,"","",0,0,0,"FORMATO INCORRECTO","FORMATO INCORRECTO","FORMATO INCORRECTO",{"$f":"IF(L283=\"\",\"\",IF(ISERROR(edata(L283)),\"FORMATO INCORRECTO\",\"FORMATO CORRECTO\"))","v":""},{"$f":"IF(U283=\"\",\"\",IF(ISERROR(edata(U283)),\"FORMATO INCORRECTO\",\"FORMATO CORRECTO\"))","v":""},{"$f":"IF(N283=\"\",\"\",IF(ISERROR(edata(N283)),\"FORMATO INCORRECTO\",\"FORMATO CORRECTO\"))","v":""}]
["1900-10-04","",null,null,null,null,null,null,"",null,null,null,null,null,null,null,null,"",null,null,null,null,null,null,null,null,"",null,"",null,null,"",null,null,null,null,null,0,0,0,0,0,{"$f":"IF(AO284<>0,SUMIFS($AP$6:$AP$1001,$AN$6:$AN$1001,AN284,$F$6:$F$1001,F284,$AX$6:$AX$1001,AX284),0)","v":0},0,{"$f":"IF(AO284<>0,SUMIFS($AP$6:$AP$1001,$AR$6:$AR$1001,AR284,$F$6:$F$1001,F284,$AX$6:$AX$1001,AX284),0)","v":0},0,0,0,{"$f":"IF(AU284<>0,SUMIFS($AV$6:$AV$1001,$AT$6:$AT$1001,AT284,$F$6:$F$1001,F284,$AY$6:$AY$1001,AY284),0)","v":0},1900,1900,0,0,0,0,0,0,0,0,0,"","",0,0,0,"FORMATO INCORRECTO","FORMATO INCORRECTO","FORMATO INCORRECTO",{"$f":"IF(L284=\"\",\"\",IF(ISERROR(edata(L284)),\"FORMATO INCORRECTO\",\"FORMATO CORRECTO\"))","v":""},{"$f":"IF(U284=\"\",\"\",IF(ISERROR(edata(U284)),\"FORMATO INCORRECTO\",\"FORMATO CORRECTO\"))","v":""},{"$f":"IF(N284=\"\",\"\",IF(ISERROR(edata(N284)),\"FORMATO INCORRECTO\",\"FORMATO CORRECTO\"))","v":""}]
["1900-10-05","",null,null,null,null,null,null,"",null,null,null,null,null,null,null,null,"",null,null,null,null,null,null,null,null,"",null,"",null,null,"",null,null,null,null,null,0,0,0,0,0,{"$f":"IF(AO285<>0,SUMIFS($AP$6:$AP$1001,$AN$6:$AN$1001,AN285,$F$6:$F$1001,F285,$AX$6:$AX$1001,AX285),0)","v":0},0,{"$f":"IF(AO285<>0,SUMIFS($AP$6:$AP$1001,$AR$6:$AR$1001,AR285,$F$6:$F$1001,F285,$AX$6:$AX$1001,AX285),0)","v":0},0,0,0,{"$f":"IF(AU285<>0,SUMIFS($AV$6:$AV$1001,$AT$6:$AT$1001,AT285,$F$6:$F$1001,F285,$AY$6:$AY$1001,AY285),0)","v":0},1900,1900,0,0,0,0,0,0,0,0,0,"","",0,0,0,"FORMATO INCORRECTO","FORMATO INCORRECTO","FORMATO INCORRECTO",{"$f":"IF(L285=\"\",\"\",IF(ISERROR(edata(L285)),\"FORMATO INCORRECTO\",\"FORMATO CORRECTO\"))","v":""},{"$f":"IF(U285=\"\",\"\",IF(ISERROR(edata(U285)),\"FORMATO INCORRECTO\",\"FORMATO CORRECTO\"))","v":""},{"$f":"IF(N285=\"\",\"\",IF(ISERROR(edata(N285)),\"FORMATO INCORRECTO\",\"FORMATO CORRECTO\"))","v":""}]
["1900-10-06","",null,null,null,null,null,null,"",null,null,null,null,null,null,null,null,"",null,null,null,null,null,null,null,null,"",null,"",null,null,"",null,null,null,null,null,0,0,0,0,0,{"$f":"IF(AO286<>0,SUMIFS($AP$6:$AP$1001,$AN$6:$AN$1001,AN286,$F$6:$F$1001,F286,$AX$6:$AX$1001,AX286),0)","v":0},0,{"$f":"IF(AO286<>0,SUMIFS($AP$6:$AP$1001,$AR$6:$AR$1001,AR286,$F$6:$F$1001,F286,$AX$6:$AX$1001,AX286),0)","v":0},0,0,0,{"$f":"IF(AU286<>0,SUMIFS($AV$6:$AV$1001,$AT$6:$AT$1001,AT286,$F$6:$F$1001,F286,$AY$6:$AY$1001,AY286),0)","v":0},1900,1900,0,0,0,0,0,0,0,0,0,"","",0,0,0,"FORMATO INCORRECTO","FORMATO INCORRECTO","FORMATO INCORRECTO",{"$f":"IF(L286=\"\",\"\",IF(ISERROR(edata(L286)),\"FORMATO INCORRECTO\",\"FORMATO CORRECTO\"))","v":""},{"$f":"IF(U286=\"\",\"\",IF(ISERROR(edata(U286)),\"FORMATO INCORRECTO\",\"FORMATO CORRECTO\"))","v":""},{"$f":"IF(N286=\"\",\"\",IF(ISERROR(edata(N286)),\"FORMATO INCORRECTO\",\"FORMATO CORRECTO\"))","v":""}]
["1900-10-07","",null,null,null,null,null,null,"",null,null,null,null,null,null,null,null,"",null,null,null,null,null,null,null,null,"",null,"",null,null,"",null,null,null,null,null,0,0,0,0,0,{"$f":"IF(AO287<>0,SUMIFS($AP$6:$AP$1001,$AN$6:$AN$1001,AN287,$F$6:$F$1001,F287,$AX$6:$AX$1001,AX287),0)","v":0},0,{"$f":"IF(AO287<>0,SUMIFS($AP$6:$AP$1001,$AR$6:$AR$1001,AR287,$F$6:$F$1001,F287,$AX$6:$AX$1001,AX287),0)","v":0},0,0,0,{"$f":"IF(AU287<>0,SUMIFS($AV$6:$AV$1001,$AT$6:$AT$1001,AT287,$F$6:$F$1001,F287,$AY$6:$AY$1001,AY287),0)","v":0},1900,1900,0,0,0,0,0,0,0,0,0,"","",0,0,0,"FORMATO INCORRECTO","FORMATO INCORRECTO","FORMATO INCORRECTO",{"$f":"IF(L287=\"\",\"\",IF(ISERROR(edata(L287)),\"FORMATO INCORRECTO\",\"FORMATO CORRECTO\"))","v":""},{"$f":"IF(U287=\"\",\"\",IF(ISERROR(edata(U287)),\"FORMATO INCORRECTO\",\"FORMATO CORRECTO\"))","v":""},{"$f":"IF(N287=\"\",\"\",IF(ISERROR(edata(N287)),\"FORMATO INCORRECTO\",\"FORMATO CORRECTO\"))","v":""}]
["1900-10-08","",null,null,null,null,null,null,"",null,null,null,null,null,null,null,null,"",null,null,null,null,null,null,null,null,"",null,"",null,null,"",null,null,null,null,null,0,0,0,0,0,{"$f":"IF(AO288<>0,SUMIFS($AP$6:$AP$1001,$AN$6:$AN$1001,AN288,$F$6:$F$1001,F288,$AX$6:$AX$1001,AX288),0)","v":0},0,{"$f":"IF(AO288<>0,SUMIFS($AP$6:$AP$1001,$AR$6:$AR$1001,AR288,$F$6:$F$1001,F288,$AX$6:$AX$1001,AX288),0)","v":0},0,0,0,{"$f":"IF(AU288<>0,SUMIFS($AV$6:$AV$1001,$AT$6:$AT$1001,AT288,$F$6:$F$1001,F288,$AY$6:$AY$1001,AY288),0)","v":0},1900,1900,0,0,0,0,0,0,0,0,0,"","",0,0,0,"FORMATO INCORRECTO","FORMATO INCORRECTO","FORMATO INCORRECTO",{"$f":"IF(L288=\"\",\"\",IF(ISERROR(edata(L288)),\"FORMATO INCORRECTO\",\"FORMATO CORRECTO\"))","v":""},{"$f":"IF(U288=\"\",\"\",IF(ISERROR(edata(U288)),\"FORMATO INCORRECTO\",\"FORMATO CORRECTO\"))","v":""},{"$f":"IF(N288=\"\",\"\",IF(ISERROR(edata(N288)),\"FORMATO INCORRECTO\",\"FORMATO CORRECTO\"))","v":""}]
["1900-10-09","",null,null,null,null,null,null,"",null,null,null,null,null,null,null,null,"",null,null,null,null,null,null,null,null,"",null,"",null,null,"",null,null,null,null,null,0,0,0,0,0,{"$f":"IF(AO289<>0,SUMIFS($AP$6:$AP$1001,$AN$6:$AN$1001,AN289,$F$6:$F$1001,F289,$AX$6:$AX$1001,AX289),0)","v":0},0,{"$f":"IF(AO289<>0,SUMIFS($AP$6:$AP$1001,$AR$6:$AR$1001,AR289,$F$6:$F$1001,F289,$AX$6:$AX$1001,AX289),0)","v":0},0,0,0,{"$f":"IF(AU289<>0,SUMIFS($AV$6:$AV$1001,$AT$6:$AT$1001,AT289,$F$6:$F$1001,F289,$AY$6:$AY$1001,AY289),0)","v":0},1900,1900,0,0,0,0,0,0,0,0,0,"","",0,0,0,"FORMATO INCORRECTO","FORMATO INCORRECTO","FORMATO INCORRECTO",{"$f":"IF(L289=\"\",\"\",IF(ISERROR(edata(L289)),\"FORMATO INCORRECTO\",\"FORMATO CORRECTO\"))","v":""},{"$f":"IF(U289=\"\",\"\",IF(ISERROR(edata(U289)),\"FORMATO INCORRECTO\",\"FORMATO CORRECTO\"))","v":""},{"$f":"IF(N289=\"\",\"\",IF(ISERROR(edata(N289)),\"FORMATO INCORRECTO\",\"FORMATO CORRECTO\"))","v":""}]
["1900-10-10","",null,null,null,null,null,null,"",null,null,null,null,null,null,null,null,"",null,null,null,null,null,null,null,null,"",null,"",null,null,"",null,null,null,null,null,0,0,0,0,0,{"$f":"IF(AO290<>0,SUMIFS($AP$6:$AP$1001,$AN$6:$AN$1001,AN290,$F$6:$F$1001,F290,$AX$6:$AX$1001,AX290),0)","v":0},0,{"$f":"IF(AO290<>0,SUMIFS($AP$6:$AP$1001,$AR$6:$AR$1001,AR290,$F$6:$F$1001,F290,$AX$6:$AX$1001,AX290),0)","v":0},0,0,0,{"$f":"IF(AU290<>0,SUMIFS($AV$6:$AV$1001,$AT$6:$AT$1001,AT290,$F$6:$F$1001,F290,$AY$6:$AY$1001,AY290),0)","v":0},1900,1900,0,0,0,0,0,0,0,0,0,"","",0,0,0,"FORMATO INCORRECTO","FORMATO INCORRECTO","FORMATO INCORRECTO",{"$f":"IF(L290=\"\",\"\",IF(ISERROR(edata(L290)),\"FORMATO INCORRECTO\",\"FORMATO CORRECTO\"))","v":""},{"$f":"IF(U290=\"\",\"\",IF(ISERROR(edata(U290)),\"FORMATO INCORRECTO\",\"FORMATO CORRECTO\"))","v":""},{"$f":"IF(N290=\"\",\"\",IF(ISERROR(edata(N290)),\"FORMATO INCORRECTO\",\"FORMATO CORRECTO\"))","v":""}]
["1900-10-11","",null,null,null,null,null,null,"",null,null,null,null,null,null,null,null,"",null,null,null,null,null,null,null,null,"",null,"",null,null,"",null,null,null,null,null,0,0,0,0,0,{"$f":"IF(AO291<>0,SUMIFS($AP$6:$AP$1001,$AN$6:$AN$1001,AN291,$F$6:$F$1001,F291,$AX$6:$AX$1001,AX291),0)","v":0},0,{"$f":"IF(AO291<>0,SUMIFS($AP$6:$AP$1001,$AR$6:$AR$1001,AR291,$F$6:$F$1001,F291,$AX$6:$AX$1001,AX291),0)","v":0},0,0,0,{"$f":"IF(AU291<>0,SUMIFS($AV$6:$AV$1001,$AT$6:$AT$1001,AT291,$F$6:$F$1001,F291,$AY$6:$AY$1001,AY291),0)","v":0},1900,1900,0,0,0,0,0,0,0,0,0,"","",0,0,0,"FORMATO INCORRECTO","FORMATO INCORRECTO","FORMATO INCORRECTO",{"$f":"IF(L291=\"\",\"\",IF(ISERROR(edata(L291)),\"FORMATO INCORRECTO\",\"FORMATO CORRECTO\"))","v":""},{"$f":"IF(U291=\"\",\"\",IF(ISERROR(edata(U291)),\"FORMATO INCORRECTO\",\"FORMATO CORRECTO\"))","v":""},{"$f":"IF(N291=\"\",\"\",IF(ISERROR(edata(N291)),\"FORMATO INCORRECTO\",\"FORMATO CORRECTO\"))","v":""}]
["1900-10-12","",null,null,null,null,null,null,"",null,null,null,null,null,null,null,null,"",null,null,null,null,null,null,null,null,"",null,"",null,null,"",null,null,null,null,null,0,0,0,0,0,{"$f":"IF(AO292<>0,SUMIFS($AP$6:$AP$1001,$AN$6:$AN$1001,AN292,$F$6:$F$1001,F292,$AX$6:$AX$1001,AX292),0)","v":0},0,{"$f":"IF(AO292<>0,SUMIFS($AP$6:$AP$1001,$AR$6:$AR$1001,AR292,$F$6:$F$1001,F292,$AX$6:$AX$1001,AX292),0)","v":0},0,0,0,{"$f":"IF(AU292<>0,SUMIFS($AV$6:$AV$1001,$AT$6:$AT$1001,AT292,$F$6:$F$1001,F292,$AY$6:$AY$1001,AY292),0)","v":0},1900,1900,0,0,0,0,0,0,0,0,0,"","",0,0,0,"FORMATO INCORRECTO","FORMATO INCORRECTO","FORMATO INCORRECTO",{"$f":"IF(L292=\"\",\"\",IF(ISERROR(edata(L292)),\"FORMATO INCORRECTO\",\"FORMATO CORRECTO\"))","v":""},{"$f":"IF(U292=\"\",\"\",IF(ISERROR(edata(U292)),\"FORMATO INCORRECTO\",\"FORMATO CORRECTO\"))","v":""},{"$f":"IF(N292=\"\",\"\",IF(ISERROR(edata(N292)),\"FORMATO INCORRECTO\",\"FORMATO CORRECTO\"))","v":""}]
["1900-10-13","",null,null,null,null,null,null,"",null,null,null,null,null,null,null,null,"",null,null,null,null,null,null,null,null,"",null,"",null,null,"",null,null,null,null,null,0,0,0,0,0,{"$f":"IF(AO293<>0,SUMIFS($AP$6:$AP$1001,$AN$6:$AN$1001,AN293,$F$6:$F$1001,F293,$AX$6:$AX$1001,AX293),0)","v":0},0,{"$f":"IF(AO293<>0,SUMIFS($AP$6:$AP$1001,$AR$6:$AR$1001,AR293,$F$6:$F$1001,F293,$AX$6:$AX$1001,AX293),0)","v":0},0,0,0,{"$f":"IF(AU293<>0,SUMIFS($AV$6:$AV$1001,$AT$6:$AT$1001,AT293,$F$6:$F$1001,F293,$AY$6:$AY$1001,AY293),0)","v":0},1900,1900,0,0,0,0,0,0,0,0,0,"","",0,0,0,"FORMATO INCORRECTO","FORMATO INCORRECTO","FORMATO INCORRECTO",{"$f":"IF(L293=\"\",\"\",IF(ISERROR(edata(L293)),\"FORMATO INCORRECTO\",\"FORMATO CORRECTO\"))","v":""},{"$f":"IF(U293=\"\",\"\",IF(ISERROR(edata(U293)),\"FORMATO INCORRECTO\",\"FORMATO CORRECTO\"))","v":""},{"$f":"IF(N293=\"\",\"\",IF(ISERROR(edata(N293)),\"FORMATO INCORRECTO\",\"FORMATO CORRECTO\"))","v":""}]
["1900-10-14","",null,null,null,null,null,null,"",null,null,null,null,null,null,null,null,"",null,null,null,null,null,null,null,null,"",null,"",null,null,"",null,null,null,null,null,0,0,0,0,0,{"$f":"IF(AO294<>0,SUMIFS($AP$6:$AP$1001,$AN$6:$AN$1001,AN294,$F$6:$F$1001,F294,$AX$6:$AX$1001,AX294),0)","v":0},0,{"$f":"IF(AO294<>0,SUMIFS($AP$6:$AP$1001,$AR$6:$AR$1001,AR294,$F$6:$F$1001,F294,$AX$6:$AX$1001,AX294),0)","v":0},0,0,0,{"$f":"IF(AU294<>0,SUMIFS($AV$6:$AV$1001,$AT$6:$AT$1001,AT294,$F$6:$F$1001,F294,$AY$6:$AY$1001,AY294),0)","v":0},1900,1900,0,0,0,0,0,0,0,0,0,"","",0,0,0,"FORMATO INCORRECTO","FORMATO INCORRECTO","FORMATO INCORRECTO",{"$f":"IF(L294=\"\",\"\",IF(ISERROR(edata(L294)),\"FORMATO INCORRECTO\",\"FORMATO CORRECTO\"))","v":""},{"$f":"IF(U294=\"\",\"\",IF(ISERROR(edata(U294)),\"FORMATO INCORRECTO\",\"FORMATO CORRECTO\"))","v":""},{"$f":"IF(N294=\"\",\"\",IF(ISERROR(edata(N294)),\"FORMATO INCORRECTO\",\"FORMATO CORRECTO\"))","v":""}]
["1900-10-15","",null,null,null,null,null,null,"",null,null,null,null,null,null,null,null,"",null,null,null,null,null,null,null,null,"",null,"",null,null,"",null,null,null,null,null,0,0,0,0,0,{"$f":"IF(AO295<>0,SUMIFS($AP$6:$AP$1001,$AN$6:$AN$1001,AN295,$F$6:$F$1001,F295,$AX$6:$AX$1001,AX295),0)","v":0},0,{"$f":"IF(AO295<>0,SUMIFS($AP$6:$AP$1001,$AR$6:$AR$1001,AR295,$F$6:$F$1001,F295,$AX$6:$AX$1001,AX295),0)","v":0},0,0,0,{"$f":"IF(AU295<>0,SUMIFS($AV$6:$AV$1001,$AT$6:$AT$1001,AT295,$F$6:$F$1001,F295,$AY$6:$AY$1001,AY295),0)","v":0},1900,1900,0,0,0,0,0,0,0,0,0,"","",0,0,0,"FORMATO INCORRECTO","FORMATO INCORRECTO","FORMATO INCORRECTO",{"$f":"IF(L295=\"\",\"\",IF(ISERROR(edata(L295)),\"FORMATO INCORRECTO\",\"FORMATO CORRECTO\"))","v":""},{"$f":"IF(U295=\"\",\"\",IF(ISERROR(edata(U295)),\"FORMATO INCORRECTO\",\"FORMATO CORRECTO\"))","v":""},{"$f":"IF(N295=\"\",\"\",IF(ISERROR(edata(N295)),\"FORMATO INCORRECTO\",\"FORMATO CORRECTO\"))","v":""}]
["1900-10-16","",null,null,null,null,null,null,"",null,null,null,null,null,null,null,null,"",null,null,null,null,null,null,null,null,"",null,"",null,null,"",null,null,null,null,null,0,0,0,0,0,{"$f":"IF(AO296<>0,SUMIFS($AP$6:$AP$1001,$AN$6:$AN$1001,AN296,$F$6:$F$1001,F296,$AX$6:$AX$1001,AX296),0)","v":0},0,{"$f":"IF(AO296<>0,SUMIFS($AP$6:$AP$1001,$AR$6:$AR$1001,AR296,$F$6:$F$1001,F296,$AX$6:$AX$1001,AX296),0)","v":0},0,0,0,{"$f":"IF(AU296<>0,SUMIFS($AV$6:$AV$1001,$AT$6:$AT$1001,AT296,$F$6:$F$1001,F296,$AY$6:$AY$1001,AY296),0)","v":0},1900,1900,0,0,0,0,0,0,0,0,0,"","",0,0,0,"FORMATO INCORRECTO","FORMATO INCORRECTO","FORMATO INCORRECTO",{"$f":"IF(L296=\"\",\"\",IF(ISERROR(edata(L296)),\"FORMATO INCORRECTO\",\"FORMATO CORRECTO\"))","v":""},{"$f":"IF(U296=\"\",\"\",IF(ISERROR(edata(U296)),\"FORMATO INCORRECTO\",\"FORMATO CORRECTO\"))","v":""},{"$f":"IF(N296=\"\",\"\",IF(ISERROR(edata(N296)),\"FORMATO INCORRECTO\",\"FORMATO CORRECTO\"))","v":""}]
["1900-10-17","",null,null,null,null,null,null,"",null,null,null,null,null,null,null,null,"",null,null,null,null,null,null,null,null,"",null,"",null,null,"",null,null,null,null,null,0,0,0,0,0,{"$f":"IF(AO297<>0,SUMIFS($AP$6:$AP$1001,$AN$6:$AN$1001,AN297,$F$6:$F$1001,F297,$AX$6:$AX$1001,AX297),0)","v":0},0,{"$f":"IF(AO297<>0,SUMIFS($AP$6:$AP$1001,$AR$6:$AR$1001,AR297,$F$6:$F$1001,F297,$AX$6:$AX$1001,AX297),0)","v":0},0,0,0,{"$f":"IF(AU297<>0,SUMIFS($AV$6:$AV$1001,$AT$6:$AT$1001,AT297,$F$6:$F$1001,F297,$AY$6:$AY$1001,AY297),0)","v":0},1900,1900,0,0,0,0,0,0,0,0,0,"","",0,0,0,"FORMATO INCORRECTO","FORMATO INCORRECTO","FORMATO INCORRECTO",{"$f":"IF(L297=\"\",\"\",IF(ISERROR(edata(L297)),\"FORMATO INCORRECTO\",\"FORMATO CORRECTO\"))","v":""},{"$f":"IF(U297=\"\",\"\",IF(ISERROR(edata(U297)),\"FORMATO INCORRECTO\",\"FORMATO CORRECTO\"))","v":""},{"$f":"IF(N297=\"\",\"\",IF(ISERROR(edata(N297)),\"FORMATO INCORRECTO\",\"FORMATO CORRECTO\"))","v":""}]
["1900-10-18","",null,null,null,null,null,null,"",null,null,null,null,null,null,null,null,"",null,null,null,null,null,null,null,null,"",null,"",null,null,"",null,null,null,null,null,0,0,0,0,0,{"$f":"IF(AO298<>0,SUMIFS($AP$6:$AP$1001,$AN$6:$AN$1001,AN298,$F$6:$F$1001,F298,$AX$6:$AX$1001,AX298),0)","v":0},0,{"$f":"IF(AO298<>0,SUMIFS($AP$6:$AP$1001,$AR$6:$AR$1001,AR298,$F$6:$F$1001,F298,$AX$6:$AX$1001,AX298),0)","v":0},0,0,0,{"$f":"IF(AU298<>0,SUMIFS($AV$6:$AV$1001,$AT$6:$AT$1001,AT298,$F$6:$F$1001,F298,$AY$6:$AY$1001,AY298),0)","v":0},1900,1900,0,0,0,0,0,0,0,0,0,"","",0,0,0,"FORMATO INCORRECTO","FORMATO INCORRECTO","FORMATO INCORRECTO",{"$f":"IF(L298=\"\",\"\",IF(ISERROR(edata(L298)),\"FORMATO INCORRECTO\",\"FORMATO CORRECTO\"))","v":""},{"$f":"IF(U298=\"\",\"\",IF(ISERROR(edata(U298)),\"FORMATO INCORRECTO\",\"FORMATO CORRECTO\"))","v":""},{"$f":"IF(N298=\"\",\"\",IF(ISERROR(edata(N298)),\"FORMATO INCORRECTO\",\"FORMATO CORRECTO\"))","v":""}]
["1900-10-19","",null,null,null,null,null,null,"",null,null,null,null,null,null,null,null,"",null,null,null,null,null,null,null,null,"",null,"",null,null,"",null,null,null,null,null,0,0,0,0,0,{"$f":"IF(AO299<>0,SUMIFS($AP$6:$AP$1001,$AN$6:$AN$1001,AN299,$F$6:$F$1001,F299,$AX$6:$AX$1001,AX299),0)","v":0},0,{"$f":"IF(AO299<>0,SUMIFS($AP$6:$AP$1001,$AR$6:$AR$1001,AR299,$F$6:$F$1001,F299,$AX$6:$AX$1001,AX299),0)","v":0},0,0,0,{"$f":"IF(AU299<>0,SUMIFS($AV$6:$AV$1001,$AT$6:$AT$1001,AT299,$F$6:$F$1001,F299,$AY$6:$AY$1001,AY299),0)","v":0},1900,1900,0,0,0,0,0,0,0,0,0,"","",0,0,0,"FORMATO INCORRECTO","FORMATO INCORRECTO","FORMATO INCORRECTO",{"$f":"IF(L299=\"\",\"\",IF(ISERROR(edata(L299)),\"FORMATO INCORRECTO\",\"FORMATO CORRECTO\"))","v":""},{"$f":"IF(U299=\"\",\"\",IF(ISERROR(edata(U299)),\"FORMATO INCORRECTO\",\"FORMATO CORRECTO\"))","v":""},{"$f":"IF(N299=\"\",\"\",IF(ISERROR(edata(N299)),\"FORMATO INCORRECTO\",\"FORMATO CORRECTO\"))","v":""}]
["1900-10-20","",null,null,null,null,null,null,"",null,null,null,null,null,null,null,null,"",null,null,null,null,null,null,null,null,"",null,"",null,null,"",null,null,null,null,null,0,0,0,0,0,{"$f":"IF(AO300<>0,SUMIFS($AP$6:$AP$1001,$AN$6:$AN$1001,AN300,$F$6:$F$1001,F300,$AX$6:$AX$1001,AX300),0)","v":0},0,{"$f":"IF(AO300<>0,SUMIFS($AP$6:$AP$1001,$AR$6:$AR$1001,AR300,$F$6:$F$1001,F300,$AX$6:$AX$1001,AX300),0)","v":0},0,0,0,{"$f":"IF(AU300<>0,SUMIFS($AV$6:$AV$1001,$AT$6:$AT$1001,AT300,$F$6:$F$1001,F300,$AY$6:$AY$1001,AY300),0)","v":0},1900,1900,0,0,0,0,0,0,0,0,0,"","",0,0,0,"FORMATO INCORRECTO","FORMATO INCORRECTO","FORMATO INCORRECTO",{"$f":"IF(L300=\"\",\"\",IF(ISERROR(edata(L300)),\"FORMATO INCORRECTO\",\"FORMATO CORRECTO\"))","v":""},{"$f":"IF(U300=\"\",\"\",IF(ISERROR(edata(U300)),\"FORMATO INCORRECTO\",\"FORMATO CORRECTO\"))","v":""},{"$f":"IF(N300=\"\",\"\",IF(ISERROR(edata(N300)),\"FORMATO INCORRECTO\",\"FORMATO CORRECTO\"))","v":""}]
["1900-10-21","",null,null,null,null,null,null,"",null,null,null,null,null,null,null,null,"",null,null,null,null,null,null,null,null,"",null,"",null,null,"",null,null,null,null,null,0,0,0,0,0,{"$f":"IF(AO301<>0,SUMIFS($AP$6:$AP$1001,$AN$6:$AN$1001,AN301,$F$6:$F$1001,F301,$AX$6:$AX$1001,AX301),0)","v":0},0,{"$f":"IF(AO301<>0,SUMIFS($AP$6:$AP$1001,$AR$6:$AR$1001,AR301,$F$6:$F$1001,F301,$AX$6:$AX$1001,AX301),0)","v":0},0,0,0,{"$f":"IF(AU301<>0,SUMIFS($AV$6:$AV$1001,$AT$6:$AT$1001,AT301,$F$6:$F$1001,F301,$AY$6:$AY$1001,AY301),0)","v":0},1900,1900,0,0,0,0,0,0,0,0,0,"","",0,0,0,"FORMATO INCORRECTO","FORMATO INCORRECTO","FORMATO INCORRECTO",{"$f":"IF(L301=\"\",\"\",IF(ISERROR(edata(L301)),\"FORMATO INCORRECTO\",\"FORMATO CORRECTO\"))","v":""},{"$f":"IF(U301=\"\",\"\",IF(ISERROR(edata(U301)),\"FORMATO INCORRECTO\",\"FORMATO CORRECTO\"))","v":""},{"$f":"IF(N301=\"\",\"\",IF(ISERROR(edata(N301)),\"FORMATO INCORRECTO\",\"FORMATO CORRECTO\"))","v":""}]
["1900-10-22","",null,null,null,null,null,null,"",null,null,null,null,null,null,null,null,"",null,null,null,null,null,null,null,null,"",null,"",null,null,"",null,null,null,null,null,0,0,0,0,0,{"$f":"IF(AO302<>0,SUMIFS($AP$6:$AP$1001,$AN$6:$AN$1001,AN302,$F$6:$F$1001,F302,$AX$6:$AX$1001,AX302),0)","v":0},0,{"$f":"IF(AO302<>0,SUMIFS($AP$6:$AP$1001,$AR$6:$AR$1001,AR302,$F$6:$F$1001,F302,$AX$6:$AX$1001,AX302),0)","v":0},0,0,0,{"$f":"IF(AU302<>0,SUMIFS($AV$6:$AV$1001,$AT$6:$AT$1001,AT302,$F$6:$F$1001,F302,$AY$6:$AY$1001,AY302),0)","v":0},1900,1900,0,0,0,0,0,0,0,0,0,"","",0,0,0,"FORMATO INCORRECTO","FORMATO INCORRECTO","FORMATO INCORRECTO",{"$f":"IF(L302=\"\",\"\",IF(ISERROR(edata(L302)),\"FORMATO INCORRECTO\",\"FORMATO CORRECTO\"))","v":""},{"$f":"IF(U302=\"\",\"\",IF(ISERROR(edata(U302)),\"FORMATO INCORRECTO\",\"FORMATO CORRECTO\"))","v":""},{"$f":"IF(N302=\"\",\"\",IF(ISERROR(edata(N302)),\"FORMATO INCORRECTO\",\"FORMATO CORRECTO\"))","v":""}]
["1900-10-23","",null,null,null,null,null,null,"",null,null,null,null,null,null,null,null,"",null,null,null,null,null,null,null,null,"",null,"",null,null,"",null,null,null,null,null,0,0,0,0,0,{"$f":"IF(AO303<>0,SUMIFS($AP$6:$AP$1001,$AN$6:$AN$1001,AN303,$F$6:$F$1001,F303,$AX$6:$AX$1001,AX303),0)","v":0},0,{"$f":"IF(AO303<>0,SUMIFS($AP$6:$AP$1001,$AR$6:$AR$1001,AR303,$F$6:$F$1001,F303,$AX$6:$AX$1001,AX303),0)","v":0},0,0,0,{"$f":"IF(AU303<>0,SUMIFS($AV$6:$AV$1001,$AT$6:$AT$1001,AT303,$F$6:$F$1001,F303,$AY$6:$AY$1001,AY303),0)","v":0},1900,1900,0,0,0,0,0,0,0,0,0,"","",0,0,0,"FORMATO INCORRECTO","FORMATO INCORRECTO","FORMATO INCORRECTO",{"$f":"IF(L303=\"\",\"\",IF(ISERROR(edata(L303)),\"FORMATO INCORRECTO\",\"FORMATO CORRECTO\"))","v":""},{"$f":"IF(U303=\"\",\"\",IF(ISERROR(edata(U303)),\"FORMATO INCORRECTO\",\"FORMATO CORRECTO\"))","v":""},{"$f":"IF(N303=\"\",\"\",IF(ISERROR(edata(N303)),\"FORMATO INCORRECTO\",\"FORMATO CORRECTO\"))","v":""}]
["1900-10-24","",null,null,null,null,null,null,"",null,null,null,null,null,null,null,null,"",null,null,null,null,null,null,null,null,"",null,"",null,null,"",null,null,null,null,null,0,0,0,0,0,{"$f":"IF(AO304<>0,SUMIFS($AP$6:$AP$1001,$AN$6:$AN$1001,AN304,$F$6:$F$1001,F304,$AX$6:$AX$1001,AX304),0)","v":0},0,{"$f":"IF(AO304<>0,SUMIFS($AP$6:$AP$1001,$AR$6:$AR$1001,AR304,$F$6:$F$1001,F304,$AX$6:$AX$1001,AX304),0)","v":0},0,0,0,{"$f":"IF(AU304<>0,SUMIFS($AV$6:$AV$1001,$AT$6:$AT$1001,AT304,$F$6:$F$1001,F304,$AY$6:$AY$1001,AY304),0)","v":0},1900,1900,0,0,0,0,0,0,0,0,0,"","",0,0,0,"FORMATO INCORRECTO","FORMATO INCORRECTO","FORMATO INCORRECTO",{"$f":"IF(L304=\"\",\"\",IF(ISERROR(edata(L304)),\"FORMATO INCORRECTO\",\"FORMATO CORRECTO\"))","v":""},{"$f":"IF(U304=\"\",\"\",IF(ISERROR(edata(U304)),\"FORMATO INCORRECTO\",\"FORMATO CORRECTO\"))","v":""},{"$f":"IF(N304=\"\",\"\",IF(ISERROR(edata(N304)),\"FORMATO INCORRECTO\",\"FORMATO CORRECTO\"))","v":""}]
["1900-10-25","",null,null,null,null,null,null,"",null,null,null,null,null,null,null,null,"",null,null,null,null,null,null,null,null,"",null,"",null,null,"",null,null,null,null,null,0,0,0,0,0,{"$f":"IF(AO305<>0,SUMIFS($AP$6:$AP$1001,$AN$6:$AN$1001,AN305,$F$6:$F$1001,F305,$AX$6:$AX$1001,AX305),0)","v":0},0,{"$f":"IF(AO305<>0,SUMIFS($AP$6:$AP$1001,$AR$6:$AR$1001,AR305,$F$6:$F$1001,F305,$AX$6:$AX$1001,AX305),0)","v":0},0,0,0,{"$f":"IF(AU305<>0,SUMIFS($AV$6:$AV$1001,$AT$6:$AT$1001,AT305,$F$6:$F$1001,F305,$AY$6:$AY$1001,AY305),0)","v":0},1900,1900,0,0,0,0,0,0,0,0,0,"","",0,0,0,"FORMATO INCORRECTO","FORMATO INCORRECTO","FORMATO INCORRECTO",{"$f":"IF(L305=\"\",\"\",IF(ISERROR(edata(L305)),\"FORMATO INCORRECTO\",\"FORMATO CORRECTO\"))","v":""},{"$f":"IF(U305=\"\",\"\",IF(ISERROR(edata(U305)),\"FORMATO INCORRECTO\",\"FORMATO CORRECTO\"))","v":""},{"$f":"IF(N305=\"\",\"\",IF(ISERROR(edata(N305)),\"FORMATO INCORRECTO\",\"FORMATO CORRECTO\"))","v":""}]
["1900-10-26","",null,null,null,null,null,null,"",null,null,null,null,null,null,null,null,"",null,null,null,null,null,null,null,null,"",null,"",null,null,"",null,null,null,null,null,0,0,0,0,0,{"$f":"IF(AO306<>0,SUMIFS($AP$6:$AP$1001,$AN$6:$AN$1001,AN306,$F$6:$F$1001,F306,$AX$6:$AX$1001,AX306),0)","v":0},0,{"$f":"IF(AO306<>0,SUMIFS($AP$6:$AP$1001,$AR$6:$AR$1001,AR306,$F$6:$F$1001,F306,$AX$6:$AX$1001,AX306),0)","v":0},0,0,0,{"$f":"IF(AU306<>0,SUMIFS($AV$6:$AV$1001,$AT$6:$AT$1001,AT306,$F$6:$F$1001,F306,$AY$6:$AY$1001,AY306),0)","v":0},1900,1900,0,0,0,0,0,0,0,0,0,"","",0,0,0,"FORMATO INCORRECTO","FORMATO INCORRECTO","FORMATO INCORRECTO",{"$f":"IF(L306=\"\",\"\",IF(ISERROR(edata(L306)),\"FORMATO INCORRECTO\",\"FORMATO CORRECTO\"))","v":""},{"$f":"IF(U306=\"\",\"\",IF(ISERROR(edata(U306)),\"FORMATO INCORRECTO\",\"FORMATO CORRECTO\"))","v":""},{"$f":"IF(N306=\"\",\"\",IF(ISERROR(edata(N306)),\"FORMATO INCORRECTO\",\"FORMATO CORRECTO\"))","v":""}]
["1900-10-27","",null,null,null,null,null,null,"",null,null,null,null,null,null,null,null,"",null,null,null,null,null,null,null,null,"",null,"",null,null,"",null,null,null,null,null,0,0,0,0,0,{"$f":"IF(AO307<>0,SUMIFS($AP$6:$AP$1001,$AN$6:$AN$1001,AN307,$F$6:$F$1001,F307,$AX$6:$AX$1001,AX307),0)","v":0},0,{"$f":"IF(AO307<>0,SUMIFS($AP$6:$AP$1001,$AR$6:$AR$1001,AR307,$F$6:$F$1001,F307,$AX$6:$AX$1001,AX307),0)","v":0},0,0,0,{"$f":"IF(AU307<>0,SUMIFS($AV$6:$AV$1001,$AT$6:$AT$1001,AT307,$F$6:$F$1001,F307,$AY$6:$AY$1001,AY307),0)","v":0},1900,1900,0,0,0,0,0,0,0,0,0,"","",0,0,0,"FORMATO INCORRECTO","FORMATO INCORRECTO","FORMATO INCORRECTO",{"$f":"IF(L307=\"\",\"\",IF(ISERROR(edata(L307)),\"FORMATO INCORRECTO\",\"FORMATO CORRECTO\"))","v":""},{"$f":"IF(U307=\"\",\"\",IF(ISERROR(edata(U307)),\"FORMATO INCORRECTO\",\"FORMATO CORRECTO\"))","v":""},{"$f":"IF(N307=\"\",\"\",IF(ISERROR(edata(N307)),\"FORMATO INCORRECTO\",\"FORMATO CORRECTO\"))","v":""}]
["1900-10-28","",null,null,null,null,null,null,"",null,null,null,null,null,null,null,null,"",null,null,null,null,null,null,null,null,"",null,"",null,null,"",null,null,null,null,null,0,0,0,0,0,{"$f":"IF(AO308<>0,SUMIFS($AP$6:$AP$1001,$AN$6:$AN$1001,AN308,$F$6:$F$1001,F308,$AX$6:$AX$1001,AX308),0)","v":0},0,{"$f":"IF(AO308<>0,SUMIFS($AP$6:$AP$1001,$AR$6:$AR$1001,AR308,$F$6:$F$1001,F308,$AX$6:$AX$1001,AX308),0)","v":0},0,0,0,{"$f":"IF(AU308<>0,SUMIFS($AV$6:$AV$1001,$AT$6:$AT$1001,AT308,$F$6:$F$1001,F308,$AY$6:$AY$1001,AY308),0)","v":0},1900,1900,0,0,0,0,0,0,0,0,0,"","",0,0,0,"FORMATO INCORRECTO","FORMATO INCORRECTO","FORMATO INCORRECTO",{"$f":"IF(L308=\"\",\"\",IF(ISERROR(edata(L308)),\"FORMATO INCORRECTO\",\"FORMATO CORRECTO\"))","v":""},{"$f":"IF(U308=\"\",\"\",IF(ISERROR(edata(U308)),\"FORMATO INCORRECTO\",\"FORMATO CORRECTO\"))","v":""},{"$f":"IF(N308=\"\",\"\",IF(ISERROR(edata(N308)),\"FORMATO INCORRECTO\",\"FORMATO CORRECTO\"))","v":""}]
["1900-10-29","",null,null,null,null,null,null,"",null,null,null,null,null,null,null,null,"",null,null,null,null,null,null,null,null,"",null,"",null,null,"",null,null,null,null,null,0,0,0,0,0,{"$f":"IF(AO309<>0,SUMIFS($AP$6:$AP$1001,$AN$6:$AN$1001,AN309,$F$6:$F$1001,F309,$AX$6:$AX$1001,AX309),0)","v":0},0,{"$f":"IF(AO309<>0,SUMIFS($AP$6:$AP$1001,$AR$6:$AR$1001,AR309,$F$6:$F$1001,F309,$AX$6:$AX$1001,AX309),0)","v":0},0,0,0,{"$f":"IF(AU309<>0,SUMIFS($AV$6:$AV$1001,$AT$6:$AT$1001,AT309,$F$6:$F$1001,F309,$AY$6:$AY$1001,AY309),0)","v":0},1900,1900,0,0,0,0,0,0,0,0,0,"","",0,0,0,"FORMATO INCORRECTO","FORMATO INCORRECTO","FORMATO INCORRECTO",{"$f":"IF(L309=\"\",\"\",IF(ISERROR(edata(L309)),\"FORMATO INCORRECTO\",\"FORMATO CORRECTO\"))","v":""},{"$f":"IF(U309=\"\",\"\",IF(ISERROR(edata(U309)),\"FORMATO INCORRECTO\",\"FORMATO CORRECTO\"))","v":""},{"$f":"IF(N309=\"\",\"\",IF(ISERROR(edata(N309)),\"FORMATO INCORRECTO\",\"FORMATO CORRECTO\"))","v":""}]
["1900-10-30","",null,null,null,null,null,null,"",null,null,null,null,null,null,null,null,"",null,null,null,null,null,null,null,null,"",null,"",null,null,"",null,null,null,null,null,0,0,0,0,0,{"$f":"IF(AO310<>0,SUMIFS($AP$6:$AP$1001,$AN$6:$AN$1001,AN310,$F$6:$F$1001,F310,$AX$6:$AX$1001,AX310),0)","v":0},0,{"$f":"IF(AO310<>0,SUMIFS($AP$6:$AP$1001,$AR$6:$AR$1001,AR310,$F$6:$F$1001,F310,$AX$6:$AX$1001,AX310),0)","v":0},0,0,0,{"$f":"IF(AU310<>0,SUMIFS($AV$6:$AV$1001,$AT$6:$AT$1001,AT310,$F$6:$F$1001,F310,$AY$6:$AY$1001,AY310),0)","v":0},1900,1900,0,0,0,0,0,0,0,0,0,"","",0,0,0,"FORMATO INCORRECTO","FORMATO INCORRECTO","FORMATO INCORRECTO",{"$f":"IF(L310=\"\",\"\",IF(ISERROR(edata(L310)),\"FORMATO INCORRECTO\",\"FORMATO CORRECTO\"))","v":""},{"$f":"IF(U310=\"\",\"\",IF(ISERROR(edata(U310)),\"FORMATO INCORRECTO\",\"FORMATO CORRECTO\"))","v":""},{"$f":"IF(N310=\"\",\"\",IF(ISERROR(edata(N310)),\"FORMATO INCORRECTO\",\"FORMATO CORRECTO\"))","v":""}]
["1900-10-31","",null,null,null,null,null,null,"",null,null,null,null,null,null,null,null,"",null,null,null,null,null,null,null,null,"",null,"",null,null,"",null,null,null,null,null,0,0,0,0,0,{"$f":"IF(AO311<>0,SUMIFS($AP$6:$AP$1001,$AN$6:$AN$1001,AN311,$F$6:$F$1001,F311,$AX$6:$AX$1001,AX311),0)","v":0},0,{"$f":"IF(AO311<>0,SUMIFS($AP$6:$AP$1001,$AR$6:$AR$1001,AR311,$F$6:$F$1001,F311,$AX$6:$AX$1001,AX311),0)","v":0},0,0,0,{"$f":"IF(AU311<>0,SUMIFS($AV$6:$AV$1001,$AT$6:$AT$1001,AT311,$F$6:$F$1001,F311,$AY$6:$AY$1001,AY311),0)","v":0},1900,1900,0,0,0,0,0,0,0,0,0,"","",0,0,0,"FORMATO INCORRECTO","FORMATO INCORRECTO","FORMATO INCORRECTO",{"$f":"IF(L311=\"\",\"\",IF(ISERROR(edata(L311)),\"FORMATO INCORRECTO\",\"FORMATO CORRECTO\"))","v":""},{"$f":"IF(U311=\"\",\"\",IF(ISERROR(edata(U311)),\"FORMATO INCORRECTO\",\"FORMATO CORRECTO\"))","v":""},{"$f":"IF(N311=\"\",\"\",IF(ISERROR(edata(N311)),\"FORMATO INCORRECTO\",\"FORMATO CORRECTO\"))","v":""}]
["1900-11-01","",null,null,null,null,null,null,"",null,null,null,null,null,null,null,null,"",null,null,null,null,null,null,null,null,"",null,"",null,null,"",null,null,null,null,null,0,0,0,0,0,{"$f":"IF(AO312<>0,SUMIFS($AP$6:$AP$1001,$AN$6:$AN$1001,AN312,$F$6:$F$1001,F312,$AX$6:$AX$1001,AX312),0)","v":0},0,{"$f":"IF(AO312<>0,SUMIFS($AP$6:$AP$1001,$AR$6:$AR$1001,AR312,$F$6:$F$1001,F312,$AX$6:$AX$1001,AX312),0)","v":0},0,0,0,{"$f":"IF(AU312<>0,SUMIFS($AV$6:$AV$1001,$AT$6:$AT$1001,AT312,$F$6:$F$1001,F312,$AY$6:$AY$1001,AY312),0)","v":0},1900,1900,0,0,0,0,0,0,0,0,0,"","",0,0,0,"FORMATO INCORRECTO","FORMATO INCORRECTO","FORMATO INCORRECTO",{"$f":"IF(L312=\"\",\"\",IF(ISERROR(edata(L312)),\"FORMATO INCORRECTO\",\"FORMATO CORRECTO\"))","v":""},{"$f":"IF(U312=\"\",\"\",IF(ISERROR(edata(U312)),\"FORMATO INCORRECTO\",\"FORMATO CORRECTO\"))","v":""},{"$f":"IF(N312=\"\",\"\",IF(ISERROR(edata(N312)),\"FORMATO INCORRECTO\",\"FORMATO CORRECTO\"))","v":""}]
["1900-11-02","",null,null,null,null,null,null,"",null,null,null,null,null,null,null,null,"",null,null,null,null,null,null,null,null,"",null,"",null,null,"",null,null,null,null,null,0,0,0,0,0,{"$f":"IF(AO313<>0,SUMIFS($AP$6:$AP$1001,$AN$6:$AN$1001,AN313,$F$6:$F$1001,F313,$AX$6:$AX$1001,AX313),0)","v":0},0,{"$f":"IF(AO313<>0,SUMIFS($AP$6:$AP$1001,$AR$6:$AR$1001,AR313,$F$6:$F$1001,F313,$AX$6:$AX$1001,AX313),0)","v":0},0,0,0,{"$f":"IF(AU313<>0,SUMIFS($AV$6:$AV$1001,$AT$6:$AT$1001,AT313,$F$6:$F$1001,F313,$AY$6:$AY$1001,AY313),0)","v":0},1900,1900,0,0,0,0,0,0,0,0,0,"","",0,0,0,"FORMATO INCORRECTO","FORMATO INCORRECTO","FORMATO INCORRECTO",{"$f":"IF(L313=\"\",\"\",IF(ISERROR(edata(L313)),\"FORMATO INCORRECTO\",\"FORMATO CORRECTO\"))","v":""},{"$f":"IF(U313=\"\",\"\",IF(ISERROR(edata(U313)),\"FORMATO INCORRECTO\",\"FORMATO CORRECTO\"))","v":""},{"$f":"IF(N313=\"\",\"\",IF(ISERROR(edata(N313)),\"FORMATO INCORRECTO\",\"FORMATO CORRECTO\"))","v":""}]
["1900-11-03","",null,null,null,null,null,null,"",null,null,null,null,null,null,null,null,"",null,null,null,null,null,null,null,null,"",null,"",null,null,"",null,null,null,null,null,0,0,0,0,0,{"$f":"IF(AO314<>0,SUMIFS($AP$6:$AP$1001,$AN$6:$AN$1001,AN314,$F$6:$F$1001,F314,$AX$6:$AX$1001,AX314),0)","v":0},0,{"$f":"IF(AO314<>0,SUMIFS($AP$6:$AP$1001,$AR$6:$AR$1001,AR314,$F$6:$F$1001,F314,$AX$6:$AX$1001,AX314),0)","v":0},0,0,0,{"$f":"IF(AU314<>0,SUMIFS($AV$6:$AV$1001,$AT$6:$AT$1001,AT314,$F$6:$F$1001,F314,$AY$6:$AY$1001,AY314),0)","v":0},1900,1900,0,0,0,0,0,0,0,0,0,"","",0,0,0,"FORMATO INCORRECTO","FORMATO INCORRECTO","FORMATO INCORRECTO",{"$f":"IF(L314=\"\",\"\",IF(ISERROR(edata(L314)),\"FORMATO INCORRECTO\",\"FORMATO CORRECTO\"))","v":""},{"$f":"IF(U314=\"\",\"\",IF(ISERROR(edata(U314)),\"FORMATO INCORRECTO\",\"FORMATO CORRECTO\"))","v":""},{"$f":"IF(N314=\"\",\"\",IF(ISERROR(edata(N314)),\"FORMATO INCORRECTO\",\"FORMATO CORRECTO\"))","v":""}]
["1900-11-04","",null,null,null,null,null,null,"",null,null,null,null,null,null,null,null,"",null,null,null,null,null,null,null,null,"",null,"",null,null,"",null,null,null,null,null,0,0,0,0,0,{"$f":"IF(AO315<>0,SUMIFS($AP$6:$AP$1001,$AN$6:$AN$1001,AN315,$F$6:$F$1001,F315,$AX$6:$AX$1001,AX315),0)","v":0},0,{"$f":"IF(AO315<>0,SUMIFS($AP$6:$AP$1001,$AR$6:$AR$1001,AR315,$F$6:$F$1001,F315,$AX$6:$AX$1001,AX315),0)","v":0},0,0,0,{"$f":"IF(AU315<>0,SUMIFS($AV$6:$AV$1001,$AT$6:$AT$1001,AT315,$F$6:$F$1001,F315,$AY$6:$AY$1001,AY315),0)","v":0},1900,1900,0,0,0,0,0,0,0,0,0,"","",0,0,0,"FORMATO INCORRECTO","FORMATO INCORRECTO","FORMATO INCORRECTO",{"$f":"IF(L315=\"\",\"\",IF(ISERROR(edata(L315)),\"FORMATO INCORRECTO\",\"FORMATO CORRECTO\"))","v":""},{"$f":"IF(U315=\"\",\"\",IF(ISERROR(edata(U315)),\"FORMATO INCORRECTO\",\"FORMATO CORRECTO\"))","v":""},{"$f":"IF(N315=\"\",\"\",IF(ISERROR(edata(N315)),\"FORMATO INCORRECTO\",\"FORMATO CORRECTO\"))","v":""}]
["1900-11-05","",null,null,null,null,null,null,"",null,null,null,null,null,null,null,null,"",null,null,null,null,null,null,null,null,"",null,"",null,null,"",null,null,null,null,null,0,0,0,0,0,{"$f":"IF(AO316<>0,SUMIFS($AP$6:$AP$1001,$AN$6:$AN$1001,AN316,$F$6:$F$1001,F316,$AX$6:$AX$1001,AX316),0)","v":0},0,{"$f":"IF(AO316<>0,SUMIFS($AP$6:$AP$1001,$AR$6:$AR$1001,AR316,$F$6:$F$1001,F316,$AX$6:$AX$1001,AX316),0)","v":0},0,0,0,{"$f":"IF(AU316<>0,SUMIFS($AV$6:$AV$1001,$AT$6:$AT$1001,AT316,$F$6:$F$1001,F316,$AY$6:$AY$1001,AY316),0)","v":0},1900,1900,0,0,0,0,0,0,0,0,0,"","",0,0,0,"FORMATO INCORRECTO","FORMATO INCORRECTO","FORMATO INCORRECTO",{"$f":"IF(L316=\"\",\"\",IF(ISERROR(edata(L316)),\"FORMATO INCORRECTO\",\"FORMATO CORRECTO\"))","v":""},{"$f":"IF(U316=\"\",\"\",IF(ISERROR(edata(U316)),\"FORMATO INCORRECTO\",\"FORMATO CORRECTO\"))","v":""},{"$f":"IF(N316=\"\",\"\",IF(ISERROR(edata(N316)),\"FORMATO INCORRECTO\",\"FORMATO CORRECTO\"))","v":""}]
["1900-11-06","",null,null,null,null,null,null,"",null,null,null,null,null,null,null,null,"",null,null,null,null,null,null,null,null,"",null,"",null,null,"",null,null,null,null,null,0,0,0,0,0,{"$f":"IF(AO317<>0,SUMIFS($AP$6:$AP$1001,$AN$6:$AN$1001,AN317,$F$6:$F$1001,F317,$AX$6:$AX$1001,AX317),0)","v":0},0,{"$f":"IF(AO317<>0,SUMIFS($AP$6:$AP$1001,$AR$6:$AR$1001,AR317,$F$6:$F$1001,F317,$AX$6:$AX$1001,AX317),0)","v":0},0,0,0,{"$f":"IF(AU317<>0,SUMIFS($AV$6:$AV$1001,$AT$6:$AT$1001,AT317,$F$6:$F$1001,F317,$AY$6:$AY$1001,AY317),0)","v":0},1900,1900,0,0,0,0,0,0,0,0,0,"","",0,0,0,"FORMATO INCORRECTO","FORMATO INCORRECTO","FORMATO INCORRECTO",{"$f":"IF(L317=\"\",\"\",IF(ISERROR(edata(L317)),\"FORMATO INCORRECTO\",\"FORMATO CORRECTO\"))","v":""},{"$f":"IF(U317=\"\",\"\",IF(ISERROR(edata(U317)),\"FORMATO INCORRECTO\",\"FORMATO CORRECTO\"))","v":""},{"$f":"IF(N317=\"\",\"\",IF(ISERROR(edata(N317)),\"FORMATO INCORRECTO\",\"FORMATO CORRECTO\"))","v":""}]
["1900-11-07","",null,null,null,null,null,null,"",null,null,null,null,null,null,null,null,"",null,null,null,null,null,null,null,null,"",null,"",null,null,"",null,null,null,null,null,0,0,0,0,0,{"$f":"IF(AO318<>0,SUMIFS($AP$6:$AP$1001,$AN$6:$AN$1001,AN318,$F$6:$F$1001,F318,$AX$6:$AX$1001,AX318),0)","v":0},0,{"$f":"IF(AO318<>0,SUMIFS($AP$6:$AP$1001,$AR$6:$AR$1001,AR318,$F$6:$F$1001,F318,$AX$6:$AX$1001,AX318),0)","v":0},0,0,0,{"$f":"IF(AU318<>0,SUMIFS($AV$6:$AV$1001,$AT$6:$AT$1001,AT318,$F$6:$F$1001,F318,$AY$6:$AY$1001,AY318),0)","v":0},1900,1900,0,0,0,0,0,0,0,0,0,"","",0,0,0,"FORMATO INCORRECTO","FORMATO INCORRECTO","FORMATO INCORRECTO",{"$f":"IF(L318=\"\",\"\",IF(ISERROR(edata(L318)),\"FORMATO INCORRECTO\",\"FORMATO CORRECTO\"))","v":""},{"$f":"IF(U318=\"\",\"\",IF(ISERROR(edata(U318)),\"FORMATO INCORRECTO\",\"FORMATO CORRECTO\"))","v":""},{"$f":"IF(N318=\"\",\"\",IF(ISERROR(edata(N318)),\"FORMATO INCORRECTO\",\"FORMATO CORRECTO\"))","v":""}]
["1900-11-08","",null,null,null,null,null,null,"",null,null,null,null,null,null,null,null,"",null,null,null,null,null,null,null,null,"",null,"",null,null,"",null,null,null,null,null,0,0,0,0,0,{"$f":"IF(AO319<>0,SUMIFS($AP$6:$AP$1001,$AN$6:$AN$1001,AN319,$F$6:$F$1001,F319,$AX$6:$AX$1001,AX319),0)","v":0},0,{"$f":"IF(AO319<>0,SUMIFS($AP$6:$AP$1001,$AR$6:$AR$1001,AR319,$F$6:$F$1001,F319,$AX$6:$AX$1001,AX319),0)","v":0},0,0,0,{"$f":"IF(AU319<>0,SUMIFS($AV$6:$AV$1001,$AT$6:$AT$1001,AT319,$F$6:$F$1001,F319,$AY$6:$AY$1001,AY319),0)","v":0},1900,1900,0,0,0,0,0,0,0,0,0,"","",0,0,0,"FORMATO INCORRECTO","FORMATO INCORRECTO","FORMATO INCORRECTO",{"$f":"IF(L319=\"\",\"\",IF(ISERROR(edata(L319)),\"FORMATO INCORRECTO\",\"FORMATO CORRECTO\"))","v":""},{"$f":"IF(U319=\"\",\"\",IF(ISERROR(edata(U319)),\"FORMATO INCORRECTO\",\"FORMATO CORRECTO\"))","v":""},{"$f":"IF(N319=\"\",\"\",IF(ISERROR(edata(N319)),\"FORMATO INCORRECTO\",\"FORMATO CORRECTO\"))","v":""}]
["1900-11-09","",null,null,null,null,null,null,"",null,null,null,null,null,null,null,null,"",null,null,null,null,null,null,null,null,"",null,"",null,null,"",null,null,null,null,null,0,0,0,0,0,{"$f":"IF(AO320<>0,SUMIFS($AP$6:$AP$1001,$AN$6:$AN$1001,AN320,$F$6:$F$1001,F320,$AX$6:$AX$1001,AX320),0)","v":0},0,{"$f":"IF(AO320<>0,SUMIFS($AP$6:$AP$1001,$AR$6:$AR$1001,AR320,$F$6:$F$1001,F320,$AX$6:$AX$1001,AX320),0)","v":0},0,0,0,{"$f":"IF(AU320<>0,SUMIFS($AV$6:$AV$1001,$AT$6:$AT$1001,AT320,$F$6:$F$1001,F320,$AY$6:$AY$1001,AY320),0)","v":0},1900,1900,0,0,0,0,0,0,0,0,0,"","",0,0,0,"FORMATO INCORRECTO","FORMATO INCORRECTO","FORMATO INCORRECTO",{"$f":"IF(L320=\"\",\"\",IF(ISERROR(edata(L320)),\"FORMATO INCORRECTO\",\"FORMATO CORRECTO\"))","v":""},{"$f":"IF(U320=\"\",\"\",IF(ISERROR(edata(U320)),\"FORMATO INCORRECTO\",\"FORMATO CORRECTO\"))","v":""},{"$f":"IF(N320=\"\",\"\",IF(ISERROR(edata(N320)),\"FORMATO INCORRECTO\",\"FORMATO CORRECTO\"))","v":""}]
["1900-11-10","",null,null,null,null,null,null,"",null,null,null,null,null,null,null,null,"",null,null,null,null,null,null,null,null,"",null,"",null,null,"",null,null,null,null,null,0,0,0,0,0,{"$f":"IF(AO321<>0,SUMIFS($AP$6:$AP$1001,$AN$6:$AN$1001,AN321,$F$6:$F$1001,F321,$AX$6:$AX$1001,AX321),0)","v":0},0,{"$f":"IF(AO321<>0,SUMIFS($AP$6:$AP$1001,$AR$6:$AR$1001,AR321,$F$6:$F$1001,F321,$AX$6:$AX$1001,AX321),0)","v":0},0,0,0,{"$f":"IF(AU321<>0,SUMIFS($AV$6:$AV$1001,$AT$6:$AT$1001,AT321,$F$6:$F$1001,F321,$AY$6:$AY$1001,AY321),0)","v":0},1900,1900,0,0,0,0,0,0,0,0,0,"","",0,0,0,"FORMATO INCORRECTO","FORMATO INCORRECTO","FORMATO INCORRECTO",{"$f":"IF(L321=\"\",\"\",IF(ISERROR(edata(L321)),\"FORMATO INCORRECTO\",\"FORMATO CORRECTO\"))","v":""},{"$f":"IF(U321=\"\",\"\",IF(ISERROR(edata(U321)),\"FORMATO INCORRECTO\",\"FORMATO CORRECTO\"))","v":""},{"$f":"IF(N321=\"\",\"\",IF(ISERROR(edata(N321)),\"FORMATO INCORRECTO\",\"FORMATO CORRECTO\"))","v":""}]
["1900-11-11","",null,null,null,null,null,null,"",null,null,null,null,null,null,null,null,"",null,null,null,null,null,null,null,null,"",null,"",null,null,"",null,null,null,null,null,0,0,0,0,0,{"$f":"IF(AO322<>0,SUMIFS($AP$6:$AP$1001,$AN$6:$AN$1001,AN322,$F$6:$F$1001,F322,$AX$6:$AX$1001,AX322),0)","v":0},0,{"$f":"IF(AO322<>0,SUMIFS($AP$6:$AP$1001,$AR$6:$AR$1001,AR322,$F$6:$F$1001,F322,$AX$6:$AX$1001,AX322),0)","v":0},0,0,0,{"$f":"IF(AU322<>0,SUMIFS($AV$6:$AV$1001,$AT$6:$AT$1001,AT322,$F$6:$F$1001,F322,$AY$6:$AY$1001,AY322),0)","v":0},1900,1900,0,0,0,0,0,0,0,0,0,"","",0,0,0,"FORMATO INCORRECTO","FORMATO INCORRECTO","FORMATO INCORRECTO",{"$f":"IF(L322=\"\",\"\",IF(ISERROR(edata(L322)),\"FORMATO INCORRECTO\",\"FORMATO CORRECTO\"))","v":""},{"$f":"IF(U322=\"\",\"\",IF(ISERROR(edata(U322)),\"FORMATO INCORRECTO\",\"FORMATO CORRECTO\"))","v":""},{"$f":"IF(N322=\"\",\"\",IF(ISERROR(edata(N322)),\"FORMATO INCORRECTO\",\"FORMATO CORRECTO\"))","v":""}]
["1900-11-12","",null,null,null,null,null,null,"",null,null,null,null,null,null,null,null,"",null,null,null,null,null,null,null,null,"",null,"",null,null,"",null,null,null,null,null,0,0,0,0,0,{"$f":"IF(AO323<>0,SUMIFS($AP$6:$AP$1001,$AN$6:$AN$1001,AN323,$F$6:$F$1001,F323,$AX$6:$AX$1001,AX323),0)","v":0},0,{"$f":"IF(AO323<>0,SUMIFS($AP$6:$AP$1001,$AR$6:$AR$1001,AR323,$F$6:$F$1001,F323,$AX$6:$AX$1001,AX323),0)","v":0},0,0,0,{"$f":"IF(AU323<>0,SUMIFS($AV$6:$AV$1001,$AT$6:$AT$1001,AT323,$F$6:$F$1001,F323,$AY$6:$AY$1001,AY323),0)","v":0},1900,1900,0,0,0,0,0,0,0,0,0,"","",0,0,0,"FORMATO INCORRECTO","FORMATO INCORRECTO","FORMATO INCORRECTO",{"$f":"IF(L323=\"\",\"\",IF(ISERROR(edata(L323)),\"FORMATO INCORRECTO\",\"FORMATO CORRECTO\"))","v":""},{"$f":"IF(U323=\"\",\"\",IF(ISERROR(edata(U323)),\"FORMATO INCORRECTO\",\"FORMATO CORRECTO\"))","v":""},{"$f":"IF(N323=\"\",\"\",IF(ISERROR(edata(N323)),\"FORMATO INCORRECTO\",\"FORMATO CORRECTO\"))","v":""}]
["1900-11-13","",null,null,null,null,null,null,"",null,null,null,null,null,null,null,null,"",null,null,null,null,null,null,null,null,"",null,"",null,null,"",null,null,null,null,null,0,0,0,0,0,{"$f":"IF(AO324<>0,SUMIFS($AP$6:$AP$1001,$AN$6:$AN$1001,AN324,$F$6:$F$1001,F324,$AX$6:$AX$1001,AX324),0)","v":0},0,{"$f":"IF(AO324<>0,SUMIFS($AP$6:$AP$1001,$AR$6:$AR$1001,AR324,$F$6:$F$1001,F324,$AX$6:$AX$1001,AX324),0)","v":0},0,0,0,{"$f":"IF(AU324<>0,SUMIFS($AV$6:$AV$1001,$AT$6:$AT$1001,AT324,$F$6:$F$1001,F324,$AY$6:$AY$1001,AY324),0)","v":0},1900,1900,0,0,0,0,0,0,0,0,0,"","",0,0,0,"FORMATO INCORRECTO","FORMATO INCORRECTO","FORMATO INCORRECTO",{"$f":"IF(L324=\"\",\"\",IF(ISERROR(edata(L324)),\"FORMATO INCORRECTO\",\"FORMATO CORRECTO\"))","v":""},{"$f":"IF(U324=\"\",\"\",IF(ISERROR(edata(U324)),\"FORMATO INCORRECTO\",\"FORMATO CORRECTO\"))","v":""},{"$f":"IF(N324=\"\",\"\",IF(ISERROR(edata(N324)),\"FORMATO INCORRECTO\",\"FORMATO CORRECTO\"))","v":""}]
["1900-11-14","",null,null,null,null,null,null,"",null,null,null,null,null,null,null,null,"",null,null,null,null,null,null,null,null,"",null,"",null,null,"",null,null,null,null,null,0,0,0,0,0,{"$f":"IF(AO325<>0,SUMIFS($AP$6:$AP$1001,$AN$6:$AN$1001,AN325,$F$6:$F$1001,F325,$AX$6:$AX$1001,AX325),0)","v":0},0,{"$f":"IF(AO325<>0,SUMIFS($AP$6:$AP$1001,$AR$6:$AR$1001,AR325,$F$6:$F$1001,F325,$AX$6:$AX$1001,AX325),0)","v":0},0,0,0,{"$f":"IF(AU325<>0,SUMIFS($AV$6:$AV$1001,$AT$6:$AT$1001,AT325,$F$6:$F$1001,F325,$AY$6:$AY$1001,AY325),0)","v":0},1900,1900,0,0,0,0,0,0,0,0,0,"","",0,0,0,"FORMATO INCORRECTO","FORMATO INCORRECTO","FORMATO INCORRECTO",{"$f":"IF(L325=\"\",\"\",IF(ISERROR(edata(L325)),\"FORMATO INCORRECTO\",\"FORMATO CORRECTO\"))","v":""},{"$f":"IF(U325=\"\",\"\",IF(ISERROR(edata(U325)),\"FORMATO INCORRECTO\",\"FORMATO CORRECTO\"))","v":""},{"$f":"IF(N325=\"\",\"\",IF(ISERROR(edata(N325)),\"FORMATO INCORRECTO\",\"FORMATO CORRECTO\"))","v":""}]
["1900-11-15","",null,null,null,null,null,null,{"$f":"IF(ISERROR(VLOOKUP(J326,tipoDocDesp,2,FALSE)),\"\",VLOOKUP(J326,tipoDocDesp,2,FALSE))","v":""},null,null,null,null,null,null,null,null,{"$f":"IF(ISERROR(VLOOKUP(S326,tipoDocQuit,2,FALSE)),\"\",VLOOKUP(S326,tipoDocQuit,2,FALSE))","v":""},null,null,null,null,null,null,null,null,{"$f":"IF(ISERROR(VLOOKUP(AB326,DESPESASGERAL,3,FALSE)),\"\",VLOOKUP(AB326,DESPESASGERAL,3,FALSE))","v":""},null,{"$f":"IF(ISERROR(VLOOKUP(AD326,RUBRICASGERAL,2,FALSE)),\"\",VLOOKUP(AD326,RUBRICASGERAL,2,FALSE))","v":""},null,null,{"$f":"IF(ISERROR(VLOOKUP(AG326,CONCELHOGERAL,2,FALSE)),\"\",VLOOKUP(AG326,CONCELHOGERAL,2,FALSE))","v":""},null,null,null,null,null,0,0,0,{"$f":"+M326","v":0},{"$f":"+N326","v":0},{"$f":"IF(AO326<>0,SUMIFS($AP$6:$AP$1001,$AN$6:$AN$1001,AN326,$F$6:$F$1001,F326,$AX$6:$AX$1001,AX326),0)","v":0},{"$f":"+K326","v":0},{"$f":"IF(AO326<>0,SUMIFS($AP$6:$AP$1001,$AR$6:$AR$1001,AR326,$F$6:$F$1001,F326,$AX$6:$AX$1001,AX326),0)","v":0},{"$f":"+T326","v":0},{"$f":"+V326","v":0},{"$f":"+W326","v":0},{"$f":"IF(AU326<>0,SUMIFS($AV$6:$AV$1001,$AT$6:$AT$1001,AT326,$F$6:$F$1001,F326,$AY$6:$AY$1001,AY326),0)","v":0},{"$f":"YEAR(L326)","v":1900},{"$f":"YEAR(U326)","v":1900},0,0,{"$f":"+M326-BA326","v":0},0,0,{"$f":"+M326-BD326","v":0},0,0,{"$f":"+V326-BG326","v":0},"","",0,0,0,"FORMATO INCORRECTO","FORMATO INCORRECTO","FORMATO INCORRECTO",{"$f":"IF(L326=\"\",\"\",IF(ISERROR(edata(L326)),\"FORMATO INCORRECTO\",\"FORMATO CORRECTO\"))","v":""},{"$f":"IF(U326=\"\",\"\",IF(ISERROR(edata(U326)),\"FORMATO INCORRECTO\",\"FORMATO CORRECTO\"))","v":""},{"$f":"IF(N326=\"\",\"\",IF(ISERROR(edata(N326)),\"FORMATO INCORRECTO\",\"FORMATO CORRECTO\"))","v":""}]
["1900-11-16","",null,null,null,null,null,null,"",null,null,null,null,null,null,null,null,"",null,null,null,null,null,null,null,null,"",null,"",null,null,"",null,null,null,null,null,{"$f":"+O327+P327+Q327-N327","v":0},{"$f":"+O327+P327+Q327-W327","v":0},{"$f":"+D327","v":0},0,0,{"$f":"IF(AO327<>0,SUMIFS($AP$6:$AP$1001,$AN$6:$AN$1001,AN327,$F$6:$F$1001,F327,$AX$6:$AX$1001,AX327),0)","v":0},0,{"$f":"IF(AO327<>0,SUMIFS($AP$6:$AP$1001,$AR$6:$AR$1001,AR327,$F$6:$F$1001,F327,$AX$6:$AX$1001,AX327),0)","v":0},0,0,0,{"$f":"IF(AU327<>0,SUMIFS($AV$6:$AV$1001,$AT$6:$AT$1001,AT327,$F$6:$F$1001,F327,$AY$6:$AY$1001,AY327),0)","v":0},1900,1900,{"$f":"+AN327","v":0},{"$f":"+AQ327","v":0},0,{"$f":"+AR327","v":0},{"$f":"ROUND(AS327,2)","v":0},0,{"$f":"+AT327","v":0},{"$f":"ROUND(AW327,2)","v":0},0,{"$f":"IF(ISERROR(L327<=U327),\"FORMATO INCORRECTO\",IF(AND(L327=0,U327=0),\"\",IF(L327<=U327,\"VALIDADO\",\"NÃO VALIDADO\")))","v":""},{"$f":"IF(AND(L327=\"\",U327=\"\",Y327=\"\"),\"\",IF(OR(ISERROR(BK327),ISERROR(BL327),ISERROR(BM327)),\"ERRO NO FORMATO\",\"FORMATO CORRECTO\"))","v":""},{"$f":"convdata(L327)","v":0},{"$f":"convdata(U327)","v":0},{"$f":"convdata(Y327)","v":0},{"$f":"ENULO(L327)","v":"FORMATO INCORRECTO"},{"$f":"ENULO(U327)","v":"FORMATO INCORRECTO"},{"$f":"ENULO(Y327)","v":"FORMATO INCORRECTO"},{"$f":"IF(L327=\"\",\"\",IF(ISERROR(edata(L327)),\"FORMATO INCORRECTO\",\"FORMATO CORRECTO\"))","v":""},{"$f":"IF(U327=\"\",\"\",IF(ISERROR(edata(U327)),\"FORMATO INCORRECTO\",\"FORMATO CORRECTO\"))","v":""},{"$f":"IF(N327=\"\",\"\",IF(ISERROR(edata(N327)),\"FORMATO INCORRECTO\",\"FORMATO CORRECTO\"))","v":""}]
["1900-11-17",{"$f":"IF(G328<>\"\",+B327+1,\"\")","v":""},null,null,null,null,null,null,"",null,null,null,null,null,null,null,null,"",null,null,null,null,null,null,null,null,"",null,"",null,null,"",null,null,null,null,null,0,0,0,0,0,{"$f":"IF(AO328<>0,SUMIFS($AP$6:$AP$1001,$AN$6:$AN$1001,AN328,$F$6:$F$1001,F328,$AX$6:$AX$1001,AX328),0)","v":0},0,{"$f":"IF(AO328<>0,SUMIFS($AP$6:$AP$1001,$AR$6:$AR$1001,AR328,$F$6:$F$1001,F328,$AX$6:$AX$1001,AX328),0)","v":0},0,0,0,{"$f":"IF(AU328<>0,SUMIFS($AV$6:$AV$1001,$AT$6:$AT$1001,AT328,$F$6:$F$1001,F328,$AY$6:$AY$1001,AY328),0)","v":0},1900,1900,0,0,0,0,0,0,0,0,0,"","",0,0,0,"FORMATO INCORRECTO","FORMATO INCORRECTO","FORMATO INCORRECTO",{"$f":"IF(L328=\"\",\"\",IF(ISERROR(edata(L328)),\"FORMATO INCORRECTO\",\"FORMATO CORRECTO\"))","v":""},{"$f":"IF(U328=\"\",\"\",IF(ISERROR(edata(U328)),\"FORMATO INCORRECTO\",\"FORMATO CORRECTO\"))","v":""},{"$f":"IF(N328=\"\",\"\",IF(ISERROR(edata(N328)),\"FORMATO INCORRECTO\",\"FORMATO CORRECTO\"))","v":""}]
["1900-11-18","",null,null,null,null,null,null,"",null,null,null,null,null,null,null,null,"",null,null,null,null,null,null,null,null,"",null,"",null,null,"",null,null,null,null,null,0,0,0,0,0,{"$f":"IF(AO329<>0,SUMIFS($AP$6:$AP$1001,$AN$6:$AN$1001,AN329,$F$6:$F$1001,F329,$AX$6:$AX$1001,AX329),0)","v":0},0,{"$f":"IF(AO329<>0,SUMIFS($AP$6:$AP$1001,$AR$6:$AR$1001,AR329,$F$6:$F$1001,F329,$AX$6:$AX$1001,AX329),0)","v":0},0,0,0,{"$f":"IF(AU329<>0,SUMIFS($AV$6:$AV$1001,$AT$6:$AT$1001,AT329,$F$6:$F$1001,F329,$AY$6:$AY$1001,AY329),0)","v":0},1900,1900,0,0,0,0,0,0,0,0,0,"","",0,0,0,"FORMATO INCORRECTO","FORMATO INCORRECTO","FORMATO INCORRECTO",{"$f":"IF(L329=\"\",\"\",IF(ISERROR(edata(L329)),\"FORMATO INCORRECTO\",\"FORMATO CORRECTO\"))","v":""},{"$f":"IF(U329=\"\",\"\",IF(ISERROR(edata(U329)),\"FORMATO INCORRECTO\",\"FORMATO CORRECTO\"))","v":""},{"$f":"IF(N329=\"\",\"\",IF(ISERROR(edata(N329)),\"FORMATO INCORRECTO\",\"FORMATO CORRECTO\"))","v":""}]
["1900-11-19","",null,null,null,null,null,null,"",null,null,null,null,null,null,null,null,"",null,null,null,null,null,null,null,null,"",null,"",null,null,"",null,null,null,null,null,0,0,0,0,0,{"$f":"IF(AO330<>0,SUMIFS($AP$6:$AP$1001,$AN$6:$AN$1001,AN330,$F$6:$F$1001,F330,$AX$6:$AX$1001,AX330),0)","v":0},0,{"$f":"IF(AO330<>0,SUMIFS($AP$6:$AP$1001,$AR$6:$AR$1001,AR330,$F$6:$F$1001,F330,$AX$6:$AX$1001,AX330),0)","v":0},0,0,0,{"$f":"IF(AU330<>0,SUMIFS($AV$6:$AV$1001,$AT$6:$AT$1001,AT330,$F$6:$F$1001,F330,$AY$6:$AY$1001,AY330),0)","v":0},1900,1900,0,0,0,0,0,0,0,0,0,"","",0,0,0,"FORMATO INCORRECTO","FORMATO INCORRECTO","FORMATO INCORRECTO",{"$f":"IF(L330=\"\",\"\",IF(ISERROR(edata(L330)),\"FORMATO INCORRECTO\",\"FORMATO CORRECTO\"))","v":""},{"$f":"IF(U330=\"\",\"\",IF(ISERROR(edata(U330)),\"FORMATO INCORRECTO\",\"FORMATO CORRECTO\"))","v":""},{"$f":"IF(N330=\"\",\"\",IF(ISERROR(edata(N330)),\"FORMATO INCORRECTO\",\"FORMATO CORRECTO\"))","v":""}]
["1900-11-20","",null,null,null,null,null,null,"",null,null,null,null,null,null,null,null,"",null,null,null,null,null,null,null,null,"",null,"",null,null,"",null,null,null,null,null,0,0,0,0,0,{"$f":"IF(AO331<>0,SUMIFS($AP$6:$AP$1001,$AN$6:$AN$1001,AN331,$F$6:$F$1001,F331,$AX$6:$AX$1001,AX331),0)","v":0},0,{"$f":"IF(AO331<>0,SUMIFS($AP$6:$AP$1001,$AR$6:$AR$1001,AR331,$F$6:$F$1001,F331,$AX$6:$AX$1001,AX331),0)","v":0},0,0,0,{"$f":"IF(AU331<>0,SUMIFS($AV$6:$AV$1001,$AT$6:$AT$1001,AT331,$F$6:$F$1001,F331,$AY$6:$AY$1001,AY331),0)","v":0},1900,1900,0,0,0,0,0,0,0,0,0,"","",0,0,0,"FORMATO INCORRECTO","FORMATO INCORRECTO","FORMATO INCORRECTO",{"$f":"IF(L331=\"\",\"\",IF(ISERROR(edata(L331)),\"FORMATO INCORRECTO\",\"FORMATO CORRECTO\"))","v":""},{"$f":"IF(U331=\"\",\"\",IF(ISERROR(edata(U331)),\"FORMATO INCORRECTO\",\"FORMATO CORRECTO\"))","v":""},{"$f":"IF(N331=\"\",\"\",IF(ISERROR(edata(N331)),\"FORMATO INCORRECTO\",\"FORMATO CORRECTO\"))","v":""}]
["1900-11-21","",null,null,null,null,null,null,"",null,null,null,null,null,null,null,null,"",null,null,null,null,null,null,null,null,"",null,"",null,null,"",null,null,null,null,null,0,0,0,0,0,{"$f":"IF(AO332<>0,SUMIFS($AP$6:$AP$1001,$AN$6:$AN$1001,AN332,$F$6:$F$1001,F332,$AX$6:$AX$1001,AX332),0)","v":0},0,{"$f":"IF(AO332<>0,SUMIFS($AP$6:$AP$1001,$AR$6:$AR$1001,AR332,$F$6:$F$1001,F332,$AX$6:$AX$1001,AX332),0)","v":0},0,0,0,{"$f":"IF(AU332<>0,SUMIFS($AV$6:$AV$1001,$AT$6:$AT$1001,AT332,$F$6:$F$1001,F332,$AY$6:$AY$1001,AY332),0)","v":0},1900,1900,0,0,0,0,0,0,0,0,0,"","",0,0,0,"FORMATO INCORRECTO","FORMATO INCORRECTO","FORMATO INCORRECTO",{"$f":"IF(L332=\"\",\"\",IF(ISERROR(edata(L332)),\"FORMATO INCORRECTO\",\"FORMATO CORRECTO\"))","v":""},{"$f":"IF(U332=\"\",\"\",IF(ISERROR(edata(U332)),\"FORMATO INCORRECTO\",\"FORMATO CORRECTO\"))","v":""},{"$f":"IF(N332=\"\",\"\",IF(ISERROR(edata(N332)),\"FORMATO INCORRECTO\",\"FORMATO CORRECTO\"))","v":""}]
["1900-11-22","",null,null,null,null,null,null,"",null,null,null,null,null,null,null,null,"",null,null,null,null,null,null,null,null,"",null,"",null,null,"",null,null,null,null,null,0,0,0,0,0,{"$f":"IF(AO333<>0,SUMIFS($AP$6:$AP$1001,$AN$6:$AN$1001,AN333,$F$6:$F$1001,F333,$AX$6:$AX$1001,AX333),0)","v":0},0,{"$f":"IF(AO333<>0,SUMIFS($AP$6:$AP$1001,$AR$6:$AR$1001,AR333,$F$6:$F$1001,F333,$AX$6:$AX$1001,AX333),0)","v":0},0,0,0,{"$f":"IF(AU333<>0,SUMIFS($AV$6:$AV$1001,$AT$6:$AT$1001,AT333,$F$6:$F$1001,F333,$AY$6:$AY$1001,AY333),0)","v":0},1900,1900,0,0,0,0,0,0,0,0,0,"","",0,0,0,"FORMATO INCORRECTO","FORMATO INCORRECTO","FORMATO INCORRECTO",{"$f":"IF(L333=\"\",\"\",IF(ISERROR(edata(L333)),\"FORMATO INCORRECTO\",\"FORMATO CORRECTO\"))","v":""},{"$f":"IF(U333=\"\",\"\",IF(ISERROR(edata(U333)),\"FORMATO INCORRECTO\",\"FORMATO CORRECTO\"))","v":""},{"$f":"IF(N333=\"\",\"\",IF(ISERROR(edata(N333)),\"FORMATO INCORRECTO\",\"FORMATO CORRECTO\"))","v":""}]
["1900-11-23","",null,null,null,null,null,null,"",null,null,null,null,null,null,null,null,"",null,null,null,null,null,null,null,null,"",null,"",null,null,"",null,null,null,null,null,0,0,0,0,0,{"$f":"IF(AO334<>0,SUMIFS($AP$6:$AP$1001,$AN$6:$AN$1001,AN334,$F$6:$F$1001,F334,$AX$6:$AX$1001,AX334),0)","v":0},0,{"$f":"IF(AO334<>0,SUMIFS($AP$6:$AP$1001,$AR$6:$AR$1001,AR334,$F$6:$F$1001,F334,$AX$6:$AX$1001,AX334),0)","v":0},0,0,0,{"$f":"IF(AU334<>0,SUMIFS($AV$6:$AV$1001,$AT$6:$AT$1001,AT334,$F$6:$F$1001,F334,$AY$6:$AY$1001,AY334),0)","v":0},1900,1900,0,0,0,0,0,0,0,0,0,"","",0,0,0,"FORMATO INCORRECTO","FORMATO INCORRECTO","FORMATO INCORRECTO",{"$f":"IF(L334=\"\",\"\",IF(ISERROR(edata(L334)),\"FORMATO INCORRECTO\",\"FORMATO CORRECTO\"))","v":""},{"$f":"IF(U334=\"\",\"\",IF(ISERROR(edata(U334)),\"FORMATO INCORRECTO\",\"FORMATO CORRECTO\"))","v":""},{"$f":"IF(N334=\"\",\"\",IF(ISERROR(edata(N334)),\"FORMATO INCORRECTO\",\"FORMATO CORRECTO\"))","v":""}]
["1900-11-24","",null,null,null,null,null,null,"",null,null,null,null,null,null,null,null,"",null,null,null,null,null,null,null,null,"",null,"",null,null,"",null,null,null,null,null,0,0,0,0,0,{"$f":"IF(AO335<>0,SUMIFS($AP$6:$AP$1001,$AN$6:$AN$1001,AN335,$F$6:$F$1001,F335,$AX$6:$AX$1001,AX335),0)","v":0},0,{"$f":"IF(AO335<>0,SUMIFS($AP$6:$AP$1001,$AR$6:$AR$1001,AR335,$F$6:$F$1001,F335,$AX$6:$AX$1001,AX335),0)","v":0},0,0,0,{"$f":"IF(AU335<>0,SUMIFS($AV$6:$AV$1001,$AT$6:$AT$1001,AT335,$F$6:$F$1001,F335,$AY$6:$AY$1001,AY335),0)","v":0},1900,1900,0,0,0,0,0,0,0,0,0,"","",0,0,0,"FORMATO INCORRECTO","FORMATO INCORRECTO","FORMATO INCORRECTO",{"$f":"IF(L335=\"\",\"\",IF(ISERROR(edata(L335)),\"FORMATO INCORRECTO\",\"FORMATO CORRECTO\"))","v":""},{"$f":"IF(U335=\"\",\"\",IF(ISERROR(edata(U335)),\"FORMATO INCORRECTO\",\"FORMATO CORRECTO\"))","v":""},{"$f":"IF(N335=\"\",\"\",IF(ISERROR(edata(N335)),\"FORMATO INCORRECTO\",\"FORMATO CORRECTO\"))","v":""}]
["1900-11-25","",null,null,null,null,null,null,"",null,null,null,null,null,null,null,null,"",null,null,null,null,null,null,null,null,"",null,"",null,null,"",null,null,null,null,null,0,0,0,0,0,{"$f":"IF(AO336<>0,SUMIFS($AP$6:$AP$1001,$AN$6:$AN$1001,AN336,$F$6:$F$1001,F336,$AX$6:$AX$1001,AX336),0)","v":0},0,{"$f":"IF(AO336<>0,SUMIFS($AP$6:$AP$1001,$AR$6:$AR$1001,AR336,$F$6:$F$1001,F336,$AX$6:$AX$1001,AX336),0)","v":0},0,0,0,{"$f":"IF(AU336<>0,SUMIFS($AV$6:$AV$1001,$AT$6:$AT$1001,AT336,$F$6:$F$1001,F336,$AY$6:$AY$1001,AY336),0)","v":0},1900,1900,0,0,0,0,0,0,0,0,0,"","",0,0,0,"FORMATO INCORRECTO","FORMATO INCORRECTO","FORMATO INCORRECTO",{"$f":"IF(L336=\"\",\"\",IF(ISERROR(edata(L336)),\"FORMATO INCORRECTO\",\"FORMATO CORRECTO\"))","v":""},{"$f":"IF(U336=\"\",\"\",IF(ISERROR(edata(U336)),\"FORMATO INCORRECTO\",\"FORMATO CORRECTO\"))","v":""},{"$f":"IF(N336=\"\",\"\",IF(ISERROR(edata(N336)),\"FORMATO INCORRECTO\",\"FORMATO CORRECTO\"))","v":""}]
["1900-11-26","",null,null,null,null,null,null,"",null,null,null,null,null,null,null,null,"",null,null,null,null,null,null,null,null,"",null,"",null,null,"",null,null,null,null,null,0,0,0,0,0,{"$f":"IF(AO337<>0,SUMIFS($AP$6:$AP$1001,$AN$6:$AN$1001,AN337,$F$6:$F$1001,F337,$AX$6:$AX$1001,AX337),0)","v":0},0,{"$f":"IF(AO337<>0,SUMIFS($AP$6:$AP$1001,$AR$6:$AR$1001,AR337,$F$6:$F$1001,F337,$AX$6:$AX$1001,AX337),0)","v":0},0,0,0,{"$f":"IF(AU337<>0,SUMIFS($AV$6:$AV$1001,$AT$6:$AT$1001,AT337,$F$6:$F$1001,F337,$AY$6:$AY$1001,AY337),0)","v":0},1900,1900,0,0,0,0,0,0,0,0,0,"","",0,0,0,"FORMATO INCORRECTO","FORMATO INCORRECTO","FORMATO INCORRECTO",{"$f":"IF(L337=\"\",\"\",IF(ISERROR(edata(L337)),\"FORMATO INCORRECTO\",\"FORMATO CORRECTO\"))","v":""},{"$f":"IF(U337=\"\",\"\",IF(ISERROR(edata(U337)),\"FORMATO INCORRECTO\",\"FORMATO CORRECTO\"))","v":""},{"$f":"IF(N337=\"\",\"\",IF(ISERROR(edata(N337)),\"FORMATO INCORRECTO\",\"FORMATO CORRECTO\"))","v":""}]
["1900-11-27","",null,null,null,null,null,null,"",null,null,null,null,null,null,null,null,"",null,null,null,null,null,null,null,null,"",null,"",null,null,"",null,null,null,null,null,0,0,0,0,0,{"$f":"IF(AO338<>0,SUMIFS($AP$6:$AP$1001,$AN$6:$AN$1001,AN338,$F$6:$F$1001,F338,$AX$6:$AX$1001,AX338),0)","v":0},0,{"$f":"IF(AO338<>0,SUMIFS($AP$6:$AP$1001,$AR$6:$AR$1001,AR338,$F$6:$F$1001,F338,$AX$6:$AX$1001,AX338),0)","v":0},0,0,0,{"$f":"IF(AU338<>0,SUMIFS($AV$6:$AV$1001,$AT$6:$AT$1001,AT338,$F$6:$F$1001,F338,$AY$6:$AY$1001,AY338),0)","v":0},1900,1900,0,0,0,0,0,0,0,0,0,"","",0,0,0,"FORMATO INCORRECTO","FORMATO INCORRECTO","FORMATO INCORRECTO",{"$f":"IF(L338=\"\",\"\",IF(ISERROR(edata(L338)),\"FORMATO INCORRECTO\",\"FORMATO CORRECTO\"))","v":""},{"$f":"IF(U338=\"\",\"\",IF(ISERROR(edata(U338)),\"FORMATO INCORRECTO\",\"FORMATO CORRECTO\"))","v":""},{"$f":"IF(N338=\"\",\"\",IF(ISERROR(edata(N338)),\"FORMATO INCORRECTO\",\"FORMATO CORRECTO\"))","v":""}]
["1900-11-28","",null,null,null,null,null,null,"",null,null,null,null,null,null,null,null,"",null,null,null,null,null,null,null,null,"",null,"",null,null,"",null,null,null,null,null,0,0,0,0,0,{"$f":"IF(AO339<>0,SUMIFS($AP$6:$AP$1001,$AN$6:$AN$1001,AN339,$F$6:$F$1001,F339,$AX$6:$AX$1001,AX339),0)","v":0},0,{"$f":"IF(AO339<>0,SUMIFS($AP$6:$AP$1001,$AR$6:$AR$1001,AR339,$F$6:$F$1001,F339,$AX$6:$AX$1001,AX339),0)","v":0},0,0,0,{"$f":"IF(AU339<>0,SUMIFS($AV$6:$AV$1001,$AT$6:$AT$1001,AT339,$F$6:$F$1001,F339,$AY$6:$AY$1001,AY339),0)","v":0},1900,1900,0,0,0,0,0,0,0,0,0,"","",0,0,0,"FORMATO INCORRECTO","FORMATO INCORRECTO","FORMATO INCORRECTO",{"$f":"IF(L339=\"\",\"\",IF(ISERROR(edata(L339)),\"FORMATO INCORRECTO\",\"FORMATO CORRECTO\"))","v":""},{"$f":"IF(U339=\"\",\"\",IF(ISERROR(edata(U339)),\"FORMATO INCORRECTO\",\"FORMATO CORRECTO\"))","v":""},{"$f":"IF(N339=\"\",\"\",IF(ISERROR(edata(N339)),\"FORMATO INCORRECTO\",\"FORMATO CORRECTO\"))","v":""}]
["1900-11-29","",null,null,null,null,null,null,"",null,null,null,null,null,null,null,null,"",null,null,null,null,null,null,null,null,"",null,"",null,null,"",null,null,null,null,null,0,0,0,0,0,{"$f":"IF(AO340<>0,SUMIFS($AP$6:$AP$1001,$AN$6:$AN$1001,AN340,$F$6:$F$1001,F340,$AX$6:$AX$1001,AX340),0)","v":0},0,{"$f":"IF(AO340<>0,SUMIFS($AP$6:$AP$1001,$AR$6:$AR$1001,AR340,$F$6:$F$1001,F340,$AX$6:$AX$1001,AX340),0)","v":0},0,0,0,{"$f":"IF(AU340<>0,SUMIFS($AV$6:$AV$1001,$AT$6:$AT$1001,AT340,$F$6:$F$1001,F340,$AY$6:$AY$1001,AY340),0)","v":0},1900,1900,0,0,0,0,0,0,0,0,0,"","",0,0,0,"FORMATO INCORRECTO","FORMATO INCORRECTO","FORMATO INCORRECTO",{"$f":"IF(L340=\"\",\"\",IF(ISERROR(edata(L340)),\"FORMATO INCORRECTO\",\"FORMATO CORRECTO\"))","v":""},{"$f":"IF(U340=\"\",\"\",IF(ISERROR(edata(U340)),\"FORMATO INCORRECTO\",\"FORMATO CORRECTO\"))","v":""},{"$f":"IF(N340=\"\",\"\",IF(ISERROR(edata(N340)),\"FORMATO INCORRECTO\",\"FORMATO CORRECTO\"))","v":""}]
["1900-11-30","",null,null,null,null,null,null,"",null,null,null,null,null,null,null,null,"",null,null,null,null,null,null,null,null,"",null,"",null,null,"",null,null,null,null,null,0,0,0,0,0,{"$f":"IF(AO341<>0,SUMIFS($AP$6:$AP$1001,$AN$6:$AN$1001,AN341,$F$6:$F$1001,F341,$AX$6:$AX$1001,AX341),0)","v":0},0,{"$f":"IF(AO341<>0,SUMIFS($AP$6:$AP$1001,$AR$6:$AR$1001,AR341,$F$6:$F$1001,F341,$AX$6:$AX$1001,AX341),0)","v":0},0,0,0,{"$f":"IF(AU341<>0,SUMIFS($AV$6:$AV$1001,$AT$6:$AT$1001,AT341,$F$6:$F$1001,F341,$AY$6:$AY$1001,AY341),0)","v":0},1900,1900,0,0,0,0,0,0,0,0,0,"","",0,0,0,"FORMATO INCORRECTO","FORMATO INCORRECTO","FORMATO INCORRECTO",{"$f":"IF(L341=\"\",\"\",IF(ISERROR(edata(L341)),\"FORMATO INCORRECTO\",\"FORMATO CORRECTO\"))","v":""},{"$f":"IF(U341=\"\",\"\",IF(ISERROR(edata(U341)),\"FORMATO INCORRECTO\",\"FORMATO CORRECTO\"))","v":""},{"$f":"IF(N341=\"\",\"\",IF(ISERROR(edata(N341)),\"FORMATO INCORRECTO\",\"FORMATO CORRECTO\"))","v":""}]
["1900-12-01","",null,null,null,null,null,null,"",null,null,null,null,null,null,null,null,"",null,null,null,null,null,null,null,null,"",null,"",null,null,"",null,null,null,null,null,0,0,0,0,0,{"$f":"IF(AO342<>0,SUMIFS($AP$6:$AP$1001,$AN$6:$AN$1001,AN342,$F$6:$F$1001,F342,$AX$6:$AX$1001,AX342),0)","v":0},0,{"$f":"IF(AO342<>0,SUMIFS($AP$6:$AP$1001,$AR$6:$AR$1001,AR342,$F$6:$F$1001,F342,$AX$6:$AX$1001,AX342),0)","v":0},0,0,0,{"$f":"IF(AU342<>0,SUMIFS($AV$6:$AV$1001,$AT$6:$AT$1001,AT342,$F$6:$F$1001,F342,$AY$6:$AY$1001,AY342),0)","v":0},1900,1900,0,0,0,0,0,0,0,0,0,"","",0,0,0,"FORMATO INCORRECTO","FORMATO INCORRECTO","FORMATO INCORRECTO",{"$f":"IF(L342=\"\",\"\",IF(ISERROR(edata(L342)),\"FORMATO INCORRECTO\",\"FORMATO CORRECTO\"))","v":""},{"$f":"IF(U342=\"\",\"\",IF(ISERROR(edata(U342)),\"FORMATO INCORRECTO\",\"FORMATO CORRECTO\"))","v":""},{"$f":"IF(N342=\"\",\"\",IF(ISERROR(edata(N342)),\"FORMATO INCORRECTO\",\"FORMATO CORRECTO\"))","v":""}]
["1900-12-02","",null,null,null,null,null,null,"",null,null,null,null,null,null,null,null,"",null,null,null,null,null,null,null,null,"",null,"",null,null,"",null,null,null,null,null,0,0,0,0,0,{"$f":"IF(AO343<>0,SUMIFS($AP$6:$AP$1001,$AN$6:$AN$1001,AN343,$F$6:$F$1001,F343,$AX$6:$AX$1001,AX343),0)","v":0},0,{"$f":"IF(AO343<>0,SUMIFS($AP$6:$AP$1001,$AR$6:$AR$1001,AR343,$F$6:$F$1001,F343,$AX$6:$AX$1001,AX343),0)","v":0},0,0,0,{"$f":"IF(AU343<>0,SUMIFS($AV$6:$AV$1001,$AT$6:$AT$1001,AT343,$F$6:$F$1001,F343,$AY$6:$AY$1001,AY343),0)","v":0},1900,1900,0,0,0,0,0,0,0,0,0,"","",0,0,0,"FORMATO INCORRECTO","FORMATO INCORRECTO","FORMATO INCORRECTO",{"$f":"IF(L343=\"\",\"\",IF(ISERROR(edata(L343)),\"FORMATO INCORRECTO\",\"FORMATO CORRECTO\"))","v":""},{"$f":"IF(U343=\"\",\"\",IF(ISERROR(edata(U343)),\"FORMATO INCORRECTO\",\"FORMATO CORRECTO\"))","v":""},{"$f":"IF(N343=\"\",\"\",IF(ISERROR(edata(N343)),\"FORMATO INCORRECTO\",\"FORMATO CORRECTO\"))","v":""}]
["1900-12-03","",null,null,null,null,null,null,"",null,null,null,null,null,null,null,null,"",null,null,null,null,null,null,null,null,"",null,"",null,null,"",null,null,null,null,null,0,0,0,0,0,{"$f":"IF(AO344<>0,SUMIFS($AP$6:$AP$1001,$AN$6:$AN$1001,AN344,$F$6:$F$1001,F344,$AX$6:$AX$1001,AX344),0)","v":0},0,{"$f":"IF(AO344<>0,SUMIFS($AP$6:$AP$1001,$AR$6:$AR$1001,AR344,$F$6:$F$1001,F344,$AX$6:$AX$1001,AX344),0)","v":0},0,0,0,{"$f":"IF(AU344<>0,SUMIFS($AV$6:$AV$1001,$AT$6:$AT$1001,AT344,$F$6:$F$1001,F344,$AY$6:$AY$1001,AY344),0)","v":0},1900,1900,0,0,0,0,0,0,0,0,0,"","",0,0,0,"FORMATO INCORRECTO","FORMATO INCORRECTO","FORMATO INCORRECTO",{"$f":"IF(L344=\"\",\"\",IF(ISERROR(edata(L344)),\"FORMATO INCORRECTO\",\"FORMATO CORRECTO\"))","v":""},{"$f":"IF(U344=\"\",\"\",IF(ISERROR(edata(U344)),\"FORMATO INCORRECTO\",\"FORMATO CORRECTO\"))","v":""},{"$f":"IF(N344=\"\",\"\",IF(ISERROR(edata(N344)),\"FORMATO INCORRECTO\",\"FORMATO CORRECTO\"))","v":""}]
["1900-12-04","",null,null,null,null,null,null,"",null,null,null,null,null,null,null,null,"",null,null,null,null,null,null,null,null,"",null,"",null,null,"",null,null,null,null,null,0,0,0,0,0,{"$f":"IF(AO345<>0,SUMIFS($AP$6:$AP$1001,$AN$6:$AN$1001,AN345,$F$6:$F$1001,F345,$AX$6:$AX$1001,AX345),0)","v":0},0,{"$f":"IF(AO345<>0,SUMIFS($AP$6:$AP$1001,$AR$6:$AR$1001,AR345,$F$6:$F$1001,F345,$AX$6:$AX$1001,AX345),0)","v":0},0,0,0,{"$f":"IF(AU345<>0,SUMIFS($AV$6:$AV$1001,$AT$6:$AT$1001,AT345,$F$6:$F$1001,F345,$AY$6:$AY$1001,AY345),0)","v":0},1900,1900,0,0,0,0,0,0,0,0,0,"","",0,0,0,"FORMATO INCORRECTO","FORMATO INCORRECTO","FORMATO INCORRECTO",{"$f":"IF(L345=\"\",\"\",IF(ISERROR(edata(L345)),\"FORMATO INCORRECTO\",\"FORMATO CORRECTO\"))","v":""},{"$f":"IF(U345=\"\",\"\",IF(ISERROR(edata(U345)),\"FORMATO INCORRECTO\",\"FORMATO CORRECTO\"))","v":""},{"$f":"IF(N345=\"\",\"\",IF(ISERROR(edata(N345)),\"FORMATO INCORRECTO\",\"FORMATO CORRECTO\"))","v":""}]
["1900-12-05","",null,null,null,null,null,null,"",null,null,null,null,null,null,null,null,"",null,null,null,null,null,null,null,null,"",null,"",null,null,"",null,null,null,null,null,0,0,0,0,0,{"$f":"IF(AO346<>0,SUMIFS($AP$6:$AP$1001,$AN$6:$AN$1001,AN346,$F$6:$F$1001,F346,$AX$6:$AX$1001,AX346),0)","v":0},0,{"$f":"IF(AO346<>0,SUMIFS($AP$6:$AP$1001,$AR$6:$AR$1001,AR346,$F$6:$F$1001,F346,$AX$6:$AX$1001,AX346),0)","v":0},0,0,0,{"$f":"IF(AU346<>0,SUMIFS($AV$6:$AV$1001,$AT$6:$AT$1001,AT346,$F$6:$F$1001,F346,$AY$6:$AY$1001,AY346),0)","v":0},1900,1900,0,0,0,0,0,0,0,0,0,"","",0,0,0,"FORMATO INCORRECTO","FORMATO INCORRECTO","FORMATO INCORRECTO",{"$f":"IF(L346=\"\",\"\",IF(ISERROR(edata(L346)),\"FORMATO INCORRECTO\",\"FORMATO CORRECTO\"))","v":""},{"$f":"IF(U346=\"\",\"\",IF(ISERROR(edata(U346)),\"FORMATO INCORRECTO\",\"FORMATO CORRECTO\"))","v":""},{"$f":"IF(N346=\"\",\"\",IF(ISERROR(edata(N346)),\"FORMATO INCORRECTO\",\"FORMATO CORRECTO\"))","v":""}]
["1900-12-06","",null,null,null,null,null,null,"",null,null,null,null,null,null,null,null,"",null,null,null,null,null,null,null,null,"",null,"",null,null,"",null,null,null,null,null,0,0,0,0,0,{"$f":"IF(AO347<>0,SUMIFS($AP$6:$AP$1001,$AN$6:$AN$1001,AN347,$F$6:$F$1001,F347,$AX$6:$AX$1001,AX347),0)","v":0},0,{"$f":"IF(AO347<>0,SUMIFS($AP$6:$AP$1001,$AR$6:$AR$1001,AR347,$F$6:$F$1001,F347,$AX$6:$AX$1001,AX347),0)","v":0},0,0,0,{"$f":"IF(AU347<>0,SUMIFS($AV$6:$AV$1001,$AT$6:$AT$1001,AT347,$F$6:$F$1001,F347,$AY$6:$AY$1001,AY347),0)","v":0},1900,1900,0,0,0,0,0,0,0,0,0,"","",0,0,0,"FORMATO INCORRECTO","FORMATO INCORRECTO","FORMATO INCORRECTO",{"$f":"IF(L347=\"\",\"\",IF(ISERROR(edata(L347)),\"FORMATO INCORRECTO\",\"FORMATO CORRECTO\"))","v":""},{"$f":"IF(U347=\"\",\"\",IF(ISERROR(edata(U347)),\"FORMATO INCORRECTO\",\"FORMATO CORRECTO\"))","v":""},{"$f":"IF(N347=\"\",\"\",IF(ISERROR(edata(N347)),\"FORMATO INCORRECTO\",\"FORMATO CORRECTO\"))","v":""}]
["1900-12-07","",null,null,null,null,null,null,"",null,null,null,null,null,null,null,null,"",null,null,null,null,null,null,null,null,"",null,"",null,null,"",null,null,null,null,null,0,0,0,0,0,{"$f":"IF(AO348<>0,SUMIFS($AP$6:$AP$1001,$AN$6:$AN$1001,AN348,$F$6:$F$1001,F348,$AX$6:$AX$1001,AX348),0)","v":0},0,{"$f":"IF(AO348<>0,SUMIFS($AP$6:$AP$1001,$AR$6:$AR$1001,AR348,$F$6:$F$1001,F348,$AX$6:$AX$1001,AX348),0)","v":0},0,0,0,{"$f":"IF(AU348<>0,SUMIFS($AV$6:$AV$1001,$AT$6:$AT$1001,AT348,$F$6:$F$1001,F348,$AY$6:$AY$1001,AY348),0)","v":0},1900,1900,0,0,0,0,0,0,0,0,0,"","",0,0,0,"FORMATO INCORRECTO","FORMATO INCORRECTO","FORMATO INCORRECTO",{"$f":"IF(L348=\"\",\"\",IF(ISERROR(edata(L348)),\"FORMATO INCORRECTO\",\"FORMATO CORRECTO\"))","v":""},{"$f":"IF(U348=\"\",\"\",IF(ISERROR(edata(U348)),\"FORMATO INCORRECTO\",\"FORMATO CORRECTO\"))","v":""},{"$f":"IF(N348=\"\",\"\",IF(ISERROR(edata(N348)),\"FORMATO INCORRECTO\",\"FORMATO CORRECTO\"))","v":""}]
["1900-12-08","",null,null,null,null,null,null,"",null,null,null,null,null,null,null,null,"",null,null,null,null,null,null,null,null,"",null,"",null,null,"",null,null,null,null,null,0,0,0,0,0,{"$f":"IF(AO349<>0,SUMIFS($AP$6:$AP$1001,$AN$6:$AN$1001,AN349,$F$6:$F$1001,F349,$AX$6:$AX$1001,AX349),0)","v":0},0,{"$f":"IF(AO349<>0,SUMIFS($AP$6:$AP$1001,$AR$6:$AR$1001,AR349,$F$6:$F$1001,F349,$AX$6:$AX$1001,AX349),0)","v":0},0,0,0,{"$f":"IF(AU349<>0,SUMIFS($AV$6:$AV$1001,$AT$6:$AT$1001,AT349,$F$6:$F$1001,F349,$AY$6:$AY$1001,AY349),0)","v":0},1900,1900,0,0,0,0,0,0,0,0,0,"","",0,0,0,"FORMATO INCORRECTO","FORMATO INCORRECTO","FORMATO INCORRECTO",{"$f":"IF(L349=\"\",\"\",IF(ISERROR(edata(L349)),\"FORMATO INCORRECTO\",\"FORMATO CORRECTO\"))","v":""},{"$f":"IF(U349=\"\",\"\",IF(ISERROR(edata(U349)),\"FORMATO INCORRECTO\",\"FORMATO CORRECTO\"))","v":""},{"$f":"IF(N349=\"\",\"\",IF(ISERROR(edata(N349)),\"FORMATO INCORRECTO\",\"FORMATO CORRECTO\"))","v":""}]
["1900-12-09","",null,null,null,null,null,null,"",null,null,null,null,null,null,null,null,"",null,null,null,null,null,null,null,null,"",null,"",null,null,"",null,null,null,null,null,0,0,0,0,0,{"$f":"IF(AO350<>0,SUMIFS($AP$6:$AP$1001,$AN$6:$AN$1001,AN350,$F$6:$F$1001,F350,$AX$6:$AX$1001,AX350),0)","v":0},0,{"$f":"IF(AO350<>0,SUMIFS($AP$6:$AP$1001,$AR$6:$AR$1001,AR350,$F$6:$F$1001,F350,$AX$6:$AX$1001,AX350),0)","v":0},0,0,0,{"$f":"IF(AU350<>0,SUMIFS($AV$6:$AV$1001,$AT$6:$AT$1001,AT350,$F$6:$F$1001,F350,$AY$6:$AY$1001,AY350),0)","v":0},1900,1900,0,0,0,0,0,0,0,0,0,"","",0,0,0,"FORMATO INCORRECTO","FORMATO INCORRECTO","FORMATO INCORRECTO",{"$f":"IF(L350=\"\",\"\",IF(ISERROR(edata(L350)),\"FORMATO INCORRECTO\",\"FORMATO CORRECTO\"))","v":""},{"$f":"IF(U350=\"\",\"\",IF(ISERROR(edata(U350)),\"FORMATO INCORRECTO\",\"FORMATO CORRECTO\"))","v":""},{"$f":"IF(N350=\"\",\"\",IF(ISERROR(edata(N350)),\"FORMATO INCORRECTO\",\"FORMATO CORRECTO\"))","v":""}]
["1900-12-10","",null,null,null,null,null,null,"",null,null,null,null,null,null,null,null,"",null,null,null,null,null,null,null,null,"",null,"",null,null,"",null,null,null,null,null,0,0,0,0,0,{"$f":"IF(AO351<>0,SUMIFS($AP$6:$AP$1001,$AN$6:$AN$1001,AN351,$F$6:$F$1001,F351,$AX$6:$AX$1001,AX351),0)","v":0},0,{"$f":"IF(AO351<>0,SUMIFS($AP$6:$AP$1001,$AR$6:$AR$1001,AR351,$F$6:$F$1001,F351,$AX$6:$AX$1001,AX351),0)","v":0},0,0,0,{"$f":"IF(AU351<>0,SUMIFS($AV$6:$AV$1001,$AT$6:$AT$1001,AT351,$F$6:$F$1001,F351,$AY$6:$AY$1001,AY351),0)","v":0},1900,1900,0,0,0,0,0,0,0,0,0,"","",0,0,0,"FORMATO INCORRECTO","FORMATO INCORRECTO","FORMATO INCORRECTO",{"$f":"IF(L351=\"\",\"\",IF(ISERROR(edata(L351)),\"FORMATO INCORRECTO\",\"FORMATO CORRECTO\"))","v":""},{"$f":"IF(U351=\"\",\"\",IF(ISERROR(edata(U351)),\"FORMATO INCORRECTO\",\"FORMATO CORRECTO\"))","v":""},{"$f":"IF(N351=\"\",\"\",IF(ISERROR(edata(N351)),\"FORMATO INCORRECTO\",\"FORMATO CORRECTO\"))","v":""}]
["1900-12-11","",null,null,null,null,null,null,"",null,null,null,null,null,null,null,null,"",null,null,null,null,null,null,null,null,"",null,"",null,null,"",null,null,null,null,null,0,0,0,0,0,{"$f":"IF(AO352<>0,SUMIFS($AP$6:$AP$1001,$AN$6:$AN$1001,AN352,$F$6:$F$1001,F352,$AX$6:$AX$1001,AX352),0)","v":0},0,{"$f":"IF(AO352<>0,SUMIFS($AP$6:$AP$1001,$AR$6:$AR$1001,AR352,$F$6:$F$1001,F352,$AX$6:$AX$1001,AX352),0)","v":0},0,0,0,{"$f":"IF(AU352<>0,SUMIFS($AV$6:$AV$1001,$AT$6:$AT$1001,AT352,$F$6:$F$1001,F352,$AY$6:$AY$1001,AY352),0)","v":0},1900,1900,0,0,0,0,0,0,0,0,0,"","",0,0,0,"FORMATO INCORRECTO","FORMATO INCORRECTO","FORMATO INCORRECTO",{"$f":"IF(L352=\"\",\"\",IF(ISERROR(edata(L352)),\"FORMATO INCORRECTO\",\"FORMATO CORRECTO\"))","v":""},{"$f":"IF(U352=\"\",\"\",IF(ISERROR(edata(U352)),\"FORMATO INCORRECTO\",\"FORMATO CORRECTO\"))","v":""},{"$f":"IF(N352=\"\",\"\",IF(ISERROR(edata(N352)),\"FORMATO INCORRECTO\",\"FORMATO CORRECTO\"))","v":""}]
["1900-12-12","",null,null,null,null,null,null,"",null,null,null,null,null,null,null,null,"",null,null,null,null,null,null,null,null,"",null,"",null,null,"",null,null,null,null,null,0,0,0,0,0,{"$f":"IF(AO353<>0,SUMIFS($AP$6:$AP$1001,$AN$6:$AN$1001,AN353,$F$6:$F$1001,F353,$AX$6:$AX$1001,AX353),0)","v":0},0,{"$f":"IF(AO353<>0,SUMIFS($AP$6:$AP$1001,$AR$6:$AR$1001,AR353,$F$6:$F$1001,F353,$AX$6:$AX$1001,AX353),0)","v":0},0,0,0,{"$f":"IF(AU353<>0,SUMIFS($AV$6:$AV$1001,$AT$6:$AT$1001,AT353,$F$6:$F$1001,F353,$AY$6:$AY$1001,AY353),0)","v":0},1900,1900,0,0,0,0,0,0,0,0,0,"","",0,0,0,"FORMATO INCORRECTO","FORMATO INCORRECTO","FORMATO INCORRECTO",{"$f":"IF(L353=\"\",\"\",IF(ISERROR(edata(L353)),\"FORMATO INCORRECTO\",\"FORMATO CORRECTO\"))","v":""},{"$f":"IF(U353=\"\",\"\",IF(ISERROR(edata(U353)),\"FORMATO INCORRECTO\",\"FORMATO CORRECTO\"))","v":""},{"$f":"IF(N353=\"\",\"\",IF(ISERROR(edata(N353)),\"FORMATO INCORRECTO\",\"FORMATO CORRECTO\"))","v":""}]
["1900-12-13","",null,null,null,null,null,null,"",null,null,null,null,null,null,null,null,"",null,null,null,null,null,null,null,null,"",null,"",null,null,"",null,null,null,null,null,0,0,0,0,0,{"$f":"IF(AO354<>0,SUMIFS($AP$6:$AP$1001,$AN$6:$AN$1001,AN354,$F$6:$F$1001,F354,$AX$6:$AX$1001,AX354),0)","v":0},0,{"$f":"IF(AO354<>0,SUMIFS($AP$6:$AP$1001,$AR$6:$AR$1001,AR354,$F$6:$F$1001,F354,$AX$6:$AX$1001,AX354),0)","v":0},0,0,0,{"$f":"IF(AU354<>0,SUMIFS($AV$6:$AV$1001,$AT$6:$AT$1001,AT354,$F$6:$F$1001,F354,$AY$6:$AY$1001,AY354),0)","v":0},1900,1900,0,0,0,0,0,0,0,0,0,"","",0,0,0,"FORMATO INCORRECTO","FORMATO INCORRECTO","FORMATO INCORRECTO",{"$f":"IF(L354=\"\",\"\",IF(ISERROR(edata(L354)),\"FORMATO INCORRECTO\",\"FORMATO CORRECTO\"))","v":""},{"$f":"IF(U354=\"\",\"\",IF(ISERROR(edata(U354)),\"FORMATO INCORRECTO\",\"FORMATO CORRECTO\"))","v":""},{"$f":"IF(N354=\"\",\"\",IF(ISERROR(edata(N354)),\"FORMATO INCORRECTO\",\"FORMATO CORRECTO\"))","v":""}]
["1900-12-14","",null,null,null,null,null,null,"",null,null,null,null,null,null,null,null,"",null,null,null,null,null,null,null,null,"",null,"",null,null,"",null,null,null,null,null,0,0,0,0,0,{"$f":"IF(AO355<>0,SUMIFS($AP$6:$AP$1001,$AN$6:$AN$1001,AN355,$F$6:$F$1001,F355,$AX$6:$AX$1001,AX355),0)","v":0},0,{"$f":"IF(AO355<>0,SUMIFS($AP$6:$AP$1001,$AR$6:$AR$1001,AR355,$F$6:$F$1001,F355,$AX$6:$AX$1001,AX355),0)","v":0},0,0,0,{"$f":"IF(AU355<>0,SUMIFS($AV$6:$AV$1001,$AT$6:$AT$1001,AT355,$F$6:$F$1001,F355,$AY$6:$AY$1001,AY355),0)","v":0},1900,1900,0,0,0,0,0,0,0,0,0,"","",0,0,0,"FORMATO INCORRECTO","FORMATO INCORRECTO","FORMATO INCORRECTO",{"$f":"IF(L355=\"\",\"\",IF(ISERROR(edata(L355)),\"FORMATO INCORRECTO\",\"FORMATO CORRECTO\"))","v":""},{"$f":"IF(U355=\"\",\"\",IF(ISERROR(edata(U355)),\"FORMATO INCORRECTO\",\"FORMATO CORRECTO\"))","v":""},{"$f":"IF(N355=\"\",\"\",IF(ISERROR(edata(N355)),\"FORMATO INCORRECTO\",\"FORMATO CORRECTO\"))","v":""}]
["1900-12-15","",null,null,null,null,null,null,"",null,null,null,null,null,null,null,null,"",null,null,null,null,null,null,null,null,"",null,"",null,null,"",null,null,null,null,null,0,0,0,0,0,{"$f":"IF(AO356<>0,SUMIFS($AP$6:$AP$1001,$AN$6:$AN$1001,AN356,$F$6:$F$1001,F356,$AX$6:$AX$1001,AX356),0)","v":0},0,{"$f":"IF(AO356<>0,SUMIFS($AP$6:$AP$1001,$AR$6:$AR$1001,AR356,$F$6:$F$1001,F356,$AX$6:$AX$1001,AX356),0)","v":0},0,0,0,{"$f":"IF(AU356<>0,SUMIFS($AV$6:$AV$1001,$AT$6:$AT$1001,AT356,$F$6:$F$1001,F356,$AY$6:$AY$1001,AY356),0)","v":0},1900,1900,0,0,0,0,0,0,0,0,0,"","",0,0,0,"FORMATO INCORRECTO","FORMATO INCORRECTO","FORMATO INCORRECTO",{"$f":"IF(L356=\"\",\"\",IF(ISERROR(edata(L356)),\"FORMATO INCORRECTO\",\"FORMATO CORRECTO\"))","v":""},{"$f":"IF(U356=\"\",\"\",IF(ISERROR(edata(U356)),\"FORMATO INCORRECTO\",\"FORMATO CORRECTO\"))","v":""},{"$f":"IF(N356=\"\",\"\",IF(ISERROR(edata(N356)),\"FORMATO INCORRECTO\",\"FORMATO CORRECTO\"))","v":""}]
["1900-12-16","",null,null,null,null,null,null,"",null,null,null,null,null,null,null,null,"",null,null,null,null,null,null,null,null,"",null,"",null,null,"",null,null,null,null,null,0,0,0,0,0,{"$f":"IF(AO357<>0,SUMIFS($AP$6:$AP$1001,$AN$6:$AN$1001,AN357,$F$6:$F$1001,F357,$AX$6:$AX$1001,AX357),0)","v":0},0,{"$f":"IF(AO357<>0,SUMIFS($AP$6:$AP$1001,$AR$6:$AR$1001,AR357,$F$6:$F$1001,F357,$AX$6:$AX$1001,AX357),0)","v":0},0,0,0,{"$f":"IF(AU357<>0,SUMIFS($AV$6:$AV$1001,$AT$6:$AT$1001,AT357,$F$6:$F$1001,F357,$AY$6:$AY$1001,AY357),0)","v":0},1900,1900,0,0,0,0,0,0,0,0,0,"","",0,0,0,"FORMATO INCORRECTO","FORMATO INCORRECTO","FORMATO INCORRECTO",{"$f":"IF(L357=\"\",\"\",IF(ISERROR(edata(L357)),\"FORMATO INCORRECTO\",\"FORMATO CORRECTO\"))","v":""},{"$f":"IF(U357=\"\",\"\",IF(ISERROR(edata(U357)),\"FORMATO INCORRECTO\",\"FORMATO CORRECTO\"))","v":""},{"$f":"IF(N357=\"\",\"\",IF(ISERROR(edata(N357)),\"FORMATO INCORRECTO\",\"FORMATO CORRECTO\"))","v":""}]
["1900-12-17","",null,null,null,null,null,null,"",null,null,null,null,null,null,null,null,"",null,null,null,null,null,null,null,null,"",null,"",null,null,"",null,null,null,null,null,0,0,0,0,0,{"$f":"IF(AO358<>0,SUMIFS($AP$6:$AP$1001,$AN$6:$AN$1001,AN358,$F$6:$F$1001,F358,$AX$6:$AX$1001,AX358),0)","v":0},0,{"$f":"IF(AO358<>0,SUMIFS($AP$6:$AP$1001,$AR$6:$AR$1001,AR358,$F$6:$F$1001,F358,$AX$6:$AX$1001,AX358),0)","v":0},0,0,0,{"$f":"IF(AU358<>0,SUMIFS($AV$6:$AV$1001,$AT$6:$AT$1001,AT358,$F$6:$F$1001,F358,$AY$6:$AY$1001,AY358),0)","v":0},1900,1900,0,0,0,0,0,0,0,0,0,"","",0,0,0,"FORMATO INCORRECTO","FORMATO INCORRECTO","FORMATO INCORRECTO",{"$f":"IF(L358=\"\",\"\",IF(ISERROR(edata(L358)),\"FORMATO INCORRECTO\",\"FORMATO CORRECTO\"))","v":""},{"$f":"IF(U358=\"\",\"\",IF(ISERROR(edata(U358)),\"FORMATO INCORRECTO\",\"FORMATO CORRECTO\"))","v":""},{"$f":"IF(N358=\"\",\"\",IF(ISERROR(edata(N358)),\"FORMATO INCORRECTO\",\"FORMATO CORRECTO\"))","v":""}]
["1900-12-18","",null,null,null,null,null,null,"",null,null,null,null,null,null,null,null,"",null,null,null,null,null,null,null,null,"",null,"",null,null,"",null,null,null,null,null,0,0,0,0,0,{"$f":"IF(AO359<>0,SUMIFS($AP$6:$AP$1001,$AN$6:$AN$1001,AN359,$F$6:$F$1001,F359,$AX$6:$AX$1001,AX359),0)","v":0},0,{"$f":"IF(AO359<>0,SUMIFS($AP$6:$AP$1001,$AR$6:$AR$1001,AR359,$F$6:$F$1001,F359,$AX$6:$AX$1001,AX359),0)","v":0},0,0,0,{"$f":"IF(AU359<>0,SUMIFS($AV$6:$AV$1001,$AT$6:$AT$1001,AT359,$F$6:$F$1001,F359,$AY$6:$AY$1001,AY359),0)","v":0},1900,1900,0,0,0,0,0,0,0,0,0,"","",0,0,0,"FORMATO INCORRECTO","FORMATO INCORRECTO","FORMATO INCORRECTO",{"$f":"IF(L359=\"\",\"\",IF(ISERROR(edata(L359)),\"FORMATO INCORRECTO\",\"FORMATO CORRECTO\"))","v":""},{"$f":"IF(U359=\"\",\"\",IF(ISERROR(edata(U359)),\"FORMATO INCORRECTO\",\"FORMATO CORRECTO\"))","v":""},{"$f":"IF(N359=\"\",\"\",IF(ISERROR(edata(N359)),\"FORMATO INCORRECTO\",\"FORMATO CORRECTO\"))","v":""}]
["1900-12-19","",null,null,null,null,null,null,"",null,null,null,null,null,null,null,null,"",null,null,null,null,null,null,null,null,"",null,"",null,null,"",null,null,null,null,null,0,0,0,0,0,{"$f":"IF(AO360<>0,SUMIFS($AP$6:$AP$1001,$AN$6:$AN$1001,AN360,$F$6:$F$1001,F360,$AX$6:$AX$1001,AX360),0)","v":0},0,{"$f":"IF(AO360<>0,SUMIFS($AP$6:$AP$1001,$AR$6:$AR$1001,AR360,$F$6:$F$1001,F360,$AX$6:$AX$1001,AX360),0)","v":0},0,0,0,{"$f":"IF(AU360<>0,SUMIFS($AV$6:$AV$1001,$AT$6:$AT$1001,AT360,$F$6:$F$1001,F360,$AY$6:$AY$1001,AY360),0)","v":0},1900,1900,0,0,0,0,0,0,0,0,0,"","",0,0,0,"FORMATO INCORRECTO","FORMATO INCORRECTO","FORMATO INCORRECTO",{"$f":"IF(L360=\"\",\"\",IF(ISERROR(edata(L360)),\"FORMATO INCORRECTO\",\"FORMATO CORRECTO\"))","v":""},{"$f":"IF(U360=\"\",\"\",IF(ISERROR(edata(U360)),\"FORMATO INCORRECTO\",\"FORMATO CORRECTO\"))","v":""},{"$f":"IF(N360=\"\",\"\",IF(ISERROR(edata(N360)),\"FORMATO INCORRECTO\",\"FORMATO CORRECTO\"))","v":""}]
["1900-12-20","",null,null,null,null,null,null,"",null,null,null,null,null,null,null,null,"",null,null,null,null,null,null,null,null,"",null,"",null,null,"",null,null,null,null,null,0,0,0,0,0,{"$f":"IF(AO361<>0,SUMIFS($AP$6:$AP$1001,$AN$6:$AN$1001,AN361,$F$6:$F$1001,F361,$AX$6:$AX$1001,AX361),0)","v":0},0,{"$f":"IF(AO361<>0,SUMIFS($AP$6:$AP$1001,$AR$6:$AR$1001,AR361,$F$6:$F$1001,F361,$AX$6:$AX$1001,AX361),0)","v":0},0,0,0,{"$f":"IF(AU361<>0,SUMIFS($AV$6:$AV$1001,$AT$6:$AT$1001,AT361,$F$6:$F$1001,F361,$AY$6:$AY$1001,AY361),0)","v":0},1900,1900,0,0,0,0,0,0,0,0,0,"","",0,0,0,"FORMATO INCORRECTO","FORMATO INCORRECTO","FORMATO INCORRECTO",{"$f":"IF(L361=\"\",\"\",IF(ISERROR(edata(L361)),\"FORMATO INCORRECTO\",\"FORMATO CORRECTO\"))","v":""},{"$f":"IF(U361=\"\",\"\",IF(ISERROR(edata(U361)),\"FORMATO INCORRECTO\",\"FORMATO CORRECTO\"))","v":""},{"$f":"IF(N361=\"\",\"\",IF(ISERROR(edata(N361)),\"FORMATO INCORRECTO\",\"FORMATO CORRECTO\"))","v":""}]
["1900-12-21","",null,null,null,null,null,null,"",null,null,null,null,null,null,null,null,"",null,null,null,null,null,null,null,null,"",null,"",null,null,"",null,null,null,null,null,0,0,0,0,0,{"$f":"IF(AO362<>0,SUMIFS($AP$6:$AP$1001,$AN$6:$AN$1001,AN362,$F$6:$F$1001,F362,$AX$6:$AX$1001,AX362),0)","v":0},0,{"$f":"IF(AO362<>0,SUMIFS($AP$6:$AP$1001,$AR$6:$AR$1001,AR362,$F$6:$F$1001,F362,$AX$6:$AX$1001,AX362),0)","v":0},0,0,0,{"$f":"IF(AU362<>0,SUMIFS($AV$6:$AV$1001,$AT$6:$AT$1001,AT362,$F$6:$F$1001,F362,$AY$6:$AY$1001,AY362),0)","v":0},1900,1900,0,0,0,0,0,0,0,0,0,"","",0,0,0,"FORMATO INCORRECTO","FORMATO INCORRECTO","FORMATO INCORRECTO",{"$f":"IF(L362=\"\",\"\",IF(ISERROR(edata(L362)),\"FORMATO INCORRECTO\",\"FORMATO CORRECTO\"))","v":""},{"$f":"IF(U362=\"\",\"\",IF(ISERROR(edata(U362)),\"FORMATO INCORRECTO\",\"FORMATO CORRECTO\"))","v":""},{"$f":"IF(N362=\"\",\"\",IF(ISERROR(edata(N362)),\"FORMATO INCORRECTO\",\"FORMATO CORRECTO\"))","v":""}]
["1900-12-22","",null,null,null,null,null,null,"",null,null,null,null,null,null,null,null,"",null,null,null,null,null,null,null,null,"",null,"",null,null,"",null,null,null,null,null,0,0,0,0,0,{"$f":"IF(AO363<>0,SUMIFS($AP$6:$AP$1001,$AN$6:$AN$1001,AN363,$F$6:$F$1001,F363,$AX$6:$AX$1001,AX363),0)","v":0},0,{"$f":"IF(AO363<>0,SUMIFS($AP$6:$AP$1001,$AR$6:$AR$1001,AR363,$F$6:$F$1001,F363,$AX$6:$AX$1001,AX363),0)","v":0},0,0,0,{"$f":"IF(AU363<>0,SUMIFS($AV$6:$AV$1001,$AT$6:$AT$1001,AT363,$F$6:$F$1001,F363,$AY$6:$AY$1001,AY363),0)","v":0},1900,1900,0,0,0,0,0,0,0,0,0,"","",0,0,0,"FORMATO INCORRECTO","FORMATO INCORRECTO","FORMATO INCORRECTO",{"$f":"IF(L363=\"\",\"\",IF(ISERROR(edata(L363)),\"FORMATO INCORRECTO\",\"FORMATO CORRECTO\"))","v":""},{"$f":"IF(U363=\"\",\"\",IF(ISERROR(edata(U363)),\"FORMATO INCORRECTO\",\"FORMATO CORRECTO\"))","v":""},{"$f":"IF(N363=\"\",\"\",IF(ISERROR(edata(N363)),\"FORMATO INCORRECTO\",\"FORMATO CORRECTO\"))","v":""}]
["1900-12-23","",null,null,null,null,null,null,"",null,null,null,null,null,null,null,null,"",null,null,null,null,null,null,null,null,"",null,"",null,null,"",null,null,null,null,null,0,0,0,0,0,{"$f":"IF(AO364<>0,SUMIFS($AP$6:$AP$1001,$AN$6:$AN$1001,AN364,$F$6:$F$1001,F364,$AX$6:$AX$1001,AX364),0)","v":0},0,{"$f":"IF(AO364<>0,SUMIFS($AP$6:$AP$1001,$AR$6:$AR$1001,AR364,$F$6:$F$1001,F364,$AX$6:$AX$1001,AX364),0)","v":0},0,0,0,{"$f":"IF(AU364<>0,SUMIFS($AV$6:$AV$1001,$AT$6:$AT$1001,AT364,$F$6:$F$1001,F364,$AY$6:$AY$1001,AY364),0)","v":0},1900,1900,0,0,0,0,0,0,0,0,0,"","",0,0,0,"FORMATO INCORRECTO","FORMATO INCORRECTO","FORMATO INCORRECTO",{"$f":"IF(L364=\"\",\"\",IF(ISERROR(edata(L364)),\"FORMATO INCORRECTO\",\"FORMATO CORRECTO\"))","v":""},{"$f":"IF(U364=\"\",\"\",IF(ISERROR(edata(U364)),\"FORMATO INCORRECTO\",\"FORMATO CORRECTO\"))","v":""},{"$f":"IF(N364=\"\",\"\",IF(ISERROR(edata(N364)),\"FORMATO INCORRECTO\",\"FORMATO CORRECTO\"))","v":""}]
["1900-12-24","",null,null,null,null,null,null,"",null,null,null,null,null,null,null,null,"",null,null,null,null,null,null,null,null,"",null,"",null,null,"",null,null,null,null,null,0,0,0,0,0,{"$f":"IF(AO365<>0,SUMIFS($AP$6:$AP$1001,$AN$6:$AN$1001,AN365,$F$6:$F$1001,F365,$AX$6:$AX$1001,AX365),0)","v":0},0,{"$f":"IF(AO365<>0,SUMIFS($AP$6:$AP$1001,$AR$6:$AR$1001,AR365,$F$6:$F$1001,F365,$AX$6:$AX$1001,AX365),0)","v":0},0,0,0,{"$f":"IF(AU365<>0,SUMIFS($AV$6:$AV$1001,$AT$6:$AT$1001,AT365,$F$6:$F$1001,F365,$AY$6:$AY$1001,AY365),0)","v":0},1900,1900,0,0,0,0,0,0,0,0,0,"","",0,0,0,"FORMATO INCORRECTO","FORMATO INCORRECTO","FORMATO INCORRECTO",{"$f":"IF(L365=\"\",\"\",IF(ISERROR(edata(L365)),\"FORMATO INCORRECTO\",\"FORMATO CORRECTO\"))","v":""},{"$f":"IF(U365=\"\",\"\",IF(ISERROR(edata(U365)),\"FORMATO INCORRECTO\",\"FORMATO CORRECTO\"))","v":""},{"$f":"IF(N365=\"\",\"\",IF(ISERROR(edata(N365)),\"FORMATO INCORRECTO\",\"FORMATO CORRECTO\"))","v":""}]
["1900-12-25","",null,null,null,null,null,null,"",null,null,null,null,null,null,null,null,"",null,null,null,null,null,null,null,null,"",null,"",null,null,"",null,null,null,null,null,0,0,0,0,0,{"$f":"IF(AO366<>0,SUMIFS($AP$6:$AP$1001,$AN$6:$AN$1001,AN366,$F$6:$F$1001,F366,$AX$6:$AX$1001,AX366),0)","v":0},0,{"$f":"IF(AO366<>0,SUMIFS($AP$6:$AP$1001,$AR$6:$AR$1001,AR366,$F$6:$F$1001,F366,$AX$6:$AX$1001,AX366),0)","v":0},0,0,0,{"$f":"IF(AU366<>0,SUMIFS($AV$6:$AV$1001,$AT$6:$AT$1001,AT366,$F$6:$F$1001,F366,$AY$6:$AY$1001,AY366),0)","v":0},1900,1900,0,0,0,0,0,0,0,0,0,"","",0,0,0,"FORMATO INCORRECTO","FORMATO INCORRECTO","FORMATO INCORRECTO",{"$f":"IF(L366=\"\",\"\",IF(ISERROR(edata(L366)),\"FORMATO INCORRECTO\",\"FORMATO CORRECTO\"))","v":""},{"$f":"IF(U366=\"\",\"\",IF(ISERROR(edata(U366)),\"FORMATO INCORRECTO\",\"FORMATO CORRECTO\"))","v":""},{"$f":"IF(N366=\"\",\"\",IF(ISERROR(edata(N366)),\"FORMATO INCORRECTO\",\"FORMATO CORRECTO\"))","v":""}]
["1900-12-26","",null,null,null,null,null,null,"",null,null,null,null,null,null,null,null,"",null,null,null,null,null,null,null,null,"",null,"",null,null,"",null,null,null,null,null,0,0,0,0,0,{"$f":"IF(AO367<>0,SUMIFS($AP$6:$AP$1001,$AN$6:$AN$1001,AN367,$F$6:$F$1001,F367,$AX$6:$AX$1001,AX367),0)","v":0},0,{"$f":"IF(AO367<>0,SUMIFS($AP$6:$AP$1001,$AR$6:$AR$1001,AR367,$F$6:$F$1001,F367,$AX$6:$AX$1001,AX367),0)","v":0},0,0,0,{"$f":"IF(AU367<>0,SUMIFS($AV$6:$AV$1001,$AT$6:$AT$1001,AT367,$F$6:$F$1001,F367,$AY$6:$AY$1001,AY367),0)","v":0},1900,1900,0,0,0,0,0,0,0,0,0,"","",0,0,0,"FORMATO INCORRECTO","FORMATO INCORRECTO","FORMATO INCORRECTO",{"$f":"IF(L367=\"\",\"\",IF(ISERROR(edata(L367)),\"FORMATO INCORRECTO\",\"FORMATO CORRECTO\"))","v":""},{"$f":"IF(U367=\"\",\"\",IF(ISERROR(edata(U367)),\"FORMATO INCORRECTO\",\"FORMATO CORRECTO\"))","v":""},{"$f":"IF(N367=\"\",\"\",IF(ISERROR(edata(N367)),\"FORMATO INCORRECTO\",\"FORMATO CORRECTO\"))","v":""}]
["1900-12-27","",null,null,null,null,null,null,"",null,null,null,null,null,null,null,null,"",null,null,null,null,null,null,null,null,"",null,"",null,null,"",null,null,null,null,null,0,0,0,0,0,{"$f":"IF(AO368<>0,SUMIFS($AP$6:$AP$1001,$AN$6:$AN$1001,AN368,$F$6:$F$1001,F368,$AX$6:$AX$1001,AX368),0)","v":0},0,{"$f":"IF(AO368<>0,SUMIFS($AP$6:$AP$1001,$AR$6:$AR$1001,AR368,$F$6:$F$1001,F368,$AX$6:$AX$1001,AX368),0)","v":0},0,0,0,{"$f":"IF(AU368<>0,SUMIFS($AV$6:$AV$1001,$AT$6:$AT$1001,AT368,$F$6:$F$1001,F368,$AY$6:$AY$1001,AY368),0)","v":0},1900,1900,0,0,0,0,0,0,0,0,0,"","",0,0,0,"FORMATO INCORRECTO","FORMATO INCORRECTO","FORMATO INCORRECTO",{"$f":"IF(L368=\"\",\"\",IF(ISERROR(edata(L368)),\"FORMATO INCORRECTO\",\"FORMATO CORRECTO\"))","v":""},{"$f":"IF(U368=\"\",\"\",IF(ISERROR(edata(U368)),\"FORMATO INCORRECTO\",\"FORMATO CORRECTO\"))","v":""},{"$f":"IF(N368=\"\",\"\",IF(ISERROR(edata(N368)),\"FORMATO INCORRECTO\",\"FORMATO CORRECTO\"))","v":""}]
["1900-12-28","",null,null,null,null,null,null,"",null,null,null,null,null,null,null,null,"",null,null,null,null,null,null,null,null,"",null,"",null,null,"",null,null,null,null,null,0,0,0,0,0,{"$f":"IF(AO369<>0,SUMIFS($AP$6:$AP$1001,$AN$6:$AN$1001,AN369,$F$6:$F$1001,F369,$AX$6:$AX$1001,AX369),0)","v":0},0,{"$f":"IF(AO369<>0,SUMIFS($AP$6:$AP$1001,$AR$6:$AR$1001,AR369,$F$6:$F$1001,F369,$AX$6:$AX$1001,AX369),0)","v":0},0,0,0,{"$f":"IF(AU369<>0,SUMIFS($AV$6:$AV$1001,$AT$6:$AT$1001,AT369,$F$6:$F$1001,F369,$AY$6:$AY$1001,AY369),0)","v":0},1900,1900,0,0,0,0,0,0,0,0,0,"","",0,0,0,"FORMATO INCORRECTO","FORMATO INCORRECTO","FORMATO INCORRECTO",{"$f":"IF(L369=\"\",\"\",IF(ISERROR(edata(L369)),\"FORMATO INCORRECTO\",\"FORMATO CORRECTO\"))","v":""},{"$f":"IF(U369=\"\",\"\",IF(ISERROR(edata(U369)),\"FORMATO INCORRECTO\",\"FORMATO CORRECTO\"))","v":""},{"$f":"IF(N369=\"\",\"\",IF(ISERROR(edata(N369)),\"FORMATO INCORRECTO\",\"FORMATO CORRECTO\"))","v":""}]
["1900-12-29","",null,null,null,null,null,null,"",null,null,null,null,null,null,null,null,"",null,null,null,null,null,null,null,null,"",null,"",null,null,"",null,null,null,null,null,0,0,0,0,0,{"$f":"IF(AO370<>0,SUMIFS($AP$6:$AP$1001,$AN$6:$AN$1001,AN370,$F$6:$F$1001,F370,$AX$6:$AX$1001,AX370),0)","v":0},0,{"$f":"IF(AO370<>0,SUMIFS($AP$6:$AP$1001,$AR$6:$AR$1001,AR370,$F$6:$F$1001,F370,$AX$6:$AX$1001,AX370),0)","v":0},0,0,0,{"$f":"IF(AU370<>0,SUMIFS($AV$6:$AV$1001,$AT$6:$AT$1001,AT370,$F$6:$F$1001,F370,$AY$6:$AY$1001,AY370),0)","v":0},1900,1900,0,0,0,0,0,0,0,0,0,"","",0,0,0,"FORMATO INCORRECTO","FORMATO INCORRECTO","FORMATO INCORRECTO",{"$f":"IF(L370=\"\",\"\",IF(ISERROR(edata(L370)),\"FORMATO INCORRECTO\",\"FORMATO CORRECTO\"))","v":""},{"$f":"IF(U370=\"\",\"\",IF(ISERROR(edata(U370)),\"FORMATO INCORRECTO\",\"FORMATO CORRECTO\"))","v":""},{"$f":"IF(N370=\"\",\"\",IF(ISERROR(edata(N370)),\"FORMATO INCORRECTO\",\"FORMATO CORRECTO\"))","v":""}]
["1900-12-30","",null,null,null,null,null,null,"",null,null,null,null,null,null,null,null,"",null,null,null,null,null,null,null,null,"",null,"",null,null,"",null,null,null,null,null,0,0,0,0,0,{"$f":"IF(AO371<>0,SUMIFS($AP$6:$AP$1001,$AN$6:$AN$1001,AN371,$F$6:$F$1001,F371,$AX$6:$AX$1001,AX371),0)","v":0},0,{"$f":"IF(AO371<>0,SUMIFS($AP$6:$AP$1001,$AR$6:$AR$1001,AR371,$F$6:$F$1001,F371,$AX$6:$AX$1001,AX371),0)","v":0},0,0,0,{"$f":"IF(AU371<>0,SUMIFS($AV$6:$AV$1001,$AT$6:$AT$1001,AT371,$F$6:$F$1001,F371,$AY$6:$AY$1001,AY371),0)","v":0},1900,1900,0,0,0,0,0,0,0,0,0,"","",0,0,0,"FORMATO INCORRECTO","FORMATO INCORRECTO","FORMATO INCORRECTO",{"$f":"IF(L371=\"\",\"\",IF(ISERROR(edata(L371)),\"FORMATO INCORRECTO\",\"FORMATO CORRECTO\"))","v":""},{"$f":"IF(U371=\"\",\"\",IF(ISERROR(edata(U371)),\"FORMATO INCORRECTO\",\"FORMATO CORRECTO\"))","v":""},{"$f":"IF(N371=\"\",\"\",IF(ISERROR(edata(N371)),\"FORMATO INCORRECTO\",\"FORMATO CORRECTO\"))","v":""}]
["1900-12-31","",null,null,null,null,null,null,"",null,null,null,null,null,null,null,null,"",null,null,null,null,null,null,null,null,"",null,"",null,null,"",null,null,null,null,null,0,0,0,0,0,{"$f":"IF(AO372<>0,SUMIFS($AP$6:$AP$1001,$AN$6:$AN$1001,AN372,$F$6:$F$1001,F372,$AX$6:$AX$1001,AX372),0)","v":0},0,{"$f":"IF(AO372<>0,SUMIFS($AP$6:$AP$1001,$AR$6:$AR$1001,AR372,$F$6:$F$1001,F372,$AX$6:$AX$1001,AX372),0)","v":0},0,0,0,{"$f":"IF(AU372<>0,SUMIFS($AV$6:$AV$1001,$AT$6:$AT$1001,AT372,$F$6:$F$1001,F372,$AY$6:$AY$1001,AY372),0)","v":0},1900,1900,0,0,0,0,0,0,0,0,0,"","",0,0,0,"FORMATO INCORRECTO","FORMATO INCORRECTO","FORMATO INCORRECTO",{"$f":"IF(L372=\"\",\"\",IF(ISERROR(edata(L372)),\"FORMATO INCORRECTO\",\"FORMATO CORRECTO\"))","v":""},{"$f":"IF(U372=\"\",\"\",IF(ISERROR(edata(U372)),\"FORMATO INCORRECTO\",\"FORMATO CORRECTO\"))","v":""},{"$f":"IF(N372=\"\",\"\",IF(ISERROR(edata(N372)),\"FORMATO INCORRECTO\",\"FORMATO CORRECTO\"))","v":""}]
["1901-01-01","",null,null,null,null,null,null,"",null,null,null,null,null,null,null,null,"",null,null,null,null,null,null,null,null,"",null,"",null,null,"",null,null,null,null,null,0,0,0,0,0,{"$f":"IF(AO373<>0,SUMIFS($AP$6:$AP$1001,$AN$6:$AN$1001,AN373,$F$6:$F$1001,F373,$AX$6:$AX$1001,AX373),0)","v":0},0,{"$f":"IF(AO373<>0,SUMIFS($AP$6:$AP$1001,$AR$6:$AR$1001,AR373,$F$6:$F$1001,F373,$AX$6:$AX$1001,AX373),0)","v":0},0,0,0,{"$f":"IF(AU373<>0,SUMIFS($AV$6:$AV$1001,$AT$6:$AT$1001,AT373,$F$6:$F$1001,F373,$AY$6:$AY$1001,AY373),0)","v":0},1900,1900,0,0,0,0,0,0,0,0,0,"","",0,0,0,"FORMATO INCORRECTO","FORMATO INCORRECTO","FORMATO INCORRECTO",{"$f":"IF(L373=\"\",\"\",IF(ISERROR(edata(L373)),\"FORMATO INCORRECTO\",\"FORMATO CORRECTO\"))","v":""},{"$f":"IF(U373=\"\",\"\",IF(ISERROR(edata(U373)),\"FORMATO INCORRECTO\",\"FORMATO CORRECTO\"))","v":""},{"$f":"IF(N373=\"\",\"\",IF(ISERROR(edata(N373)),\"FORMATO INCORRECTO\",\"FORMATO CORRECTO\"))","v":""}]
["1901-01-02","",null,null,null,null,null,null,"",null,null,null,null,null,null,null,null,"",null,null,null,null,null,null,null,null,"",null,"",null,null,"",null,null,null,null,null,0,0,0,0,0,{"$f":"IF(AO374<>0,SUMIFS($AP$6:$AP$1001,$AN$6:$AN$1001,AN374,$F$6:$F$1001,F374,$AX$6:$AX$1001,AX374),0)","v":0},0,{"$f":"IF(AO374<>0,SUMIFS($AP$6:$AP$1001,$AR$6:$AR$1001,AR374,$F$6:$F$1001,F374,$AX$6:$AX$1001,AX374),0)","v":0},0,0,0,{"$f":"IF(AU374<>0,SUMIFS($AV$6:$AV$1001,$AT$6:$AT$1001,AT374,$F$6:$F$1001,F374,$AY$6:$AY$1001,AY374),0)","v":0},1900,1900,0,0,0,0,0,0,0,0,0,"","",0,0,0,"FORMATO INCORRECTO","FORMATO INCORRECTO","FORMATO INCORRECTO",{"$f":"IF(L374=\"\",\"\",IF(ISERROR(edata(L374)),\"FORMATO INCORRECTO\",\"FORMATO CORRECTO\"))","v":""},{"$f":"IF(U374=\"\",\"\",IF(ISERROR(edata(U374)),\"FORMATO INCORRECTO\",\"FORMATO CORRECTO\"))","v":""},{"$f":"IF(N374=\"\",\"\",IF(ISERROR(edata(N374)),\"FORMATO INCORRECTO\",\"FORMATO CORRECTO\"))","v":""}]
["1901-01-03","",null,null,null,null,null,null,"",null,null,null,null,null,null,null,null,"",null,null,null,null,null,null,null,null,"",null,"",null,null,"",null,null,null,null,null,0,0,0,0,0,{"$f":"IF(AO375<>0,SUMIFS($AP$6:$AP$1001,$AN$6:$AN$1001,AN375,$F$6:$F$1001,F375,$AX$6:$AX$1001,AX375),0)","v":0},0,{"$f":"IF(AO375<>0,SUMIFS($AP$6:$AP$1001,$AR$6:$AR$1001,AR375,$F$6:$F$1001,F375,$AX$6:$AX$1001,AX375),0)","v":0},0,0,0,{"$f":"IF(AU375<>0,SUMIFS($AV$6:$AV$1001,$AT$6:$AT$1001,AT375,$F$6:$F$1001,F375,$AY$6:$AY$1001,AY375),0)","v":0},1900,1900,0,0,0,0,0,0,0,0,0,"","",0,0,0,"FORMATO INCORRECTO","FORMATO INCORRECTO","FORMATO INCORRECTO",{"$f":"IF(L375=\"\",\"\",IF(ISERROR(edata(L375)),\"FORMATO INCORRECTO\",\"FORMATO CORRECTO\"))","v":""},{"$f":"IF(U375=\"\",\"\",IF(ISERROR(edata(U375)),\"FORMATO INCORRECTO\",\"FORMATO CORRECTO\"))","v":""},{"$f":"IF(N375=\"\",\"\",IF(ISERROR(edata(N375)),\"FORMATO INCORRECTO\",\"FORMATO CORRECTO\"))","v":""}]
["1901-01-04","",null,null,null,null,null,null,"",null,null,null,null,null,null,null,null,"",null,null,null,null,null,null,null,null,"",null,"",null,null,"",null,null,null,null,null,0,0,0,0,0,{"$f":"IF(AO376<>0,SUMIFS($AP$6:$AP$1001,$AN$6:$AN$1001,AN376,$F$6:$F$1001,F376,$AX$6:$AX$1001,AX376),0)","v":0},0,{"$f":"IF(AO376<>0,SUMIFS($AP$6:$AP$1001,$AR$6:$AR$1001,AR376,$F$6:$F$1001,F376,$AX$6:$AX$1001,AX376),0)","v":0},0,0,0,{"$f":"IF(AU376<>0,SUMIFS($AV$6:$AV$1001,$AT$6:$AT$1001,AT376,$F$6:$F$1001,F376,$AY$6:$AY$1001,AY376),0)","v":0},1900,1900,0,0,0,0,0,0,0,0,0,"","",0,0,0,"FORMATO INCORRECTO","FORMATO INCORRECTO","FORMATO INCORRECTO",{"$f":"IF(L376=\"\",\"\",IF(ISERROR(edata(L376)),\"FORMATO INCORRECTO\",\"FORMATO CORRECTO\"))","v":""},{"$f":"IF(U376=\"\",\"\",IF(ISERROR(edata(U376)),\"FORMATO INCORRECTO\",\"FORMATO CORRECTO\"))","v":""},{"$f":"IF(N376=\"\",\"\",IF(ISERROR(edata(N376)),\"FORMATO INCORRECTO\",\"FORMATO CORRECTO\"))","v":""}]
["1901-01-05","",null,null,null,null,null,null,"",null,null,null,null,null,null,null,null,"",null,null,null,null,null,null,null,null,"",null,"",null,null,"",null,null,null,null,null,0,0,0,0,0,{"$f":"IF(AO377<>0,SUMIFS($AP$6:$AP$1001,$AN$6:$AN$1001,AN377,$F$6:$F$1001,F377,$AX$6:$AX$1001,AX377),0)","v":0},0,{"$f":"IF(AO377<>0,SUMIFS($AP$6:$AP$1001,$AR$6:$AR$1001,AR377,$F$6:$F$1001,F377,$AX$6:$AX$1001,AX377),0)","v":0},0,0,0,{"$f":"IF(AU377<>0,SUMIFS($AV$6:$AV$1001,$AT$6:$AT$1001,AT377,$F$6:$F$1001,F377,$AY$6:$AY$1001,AY377),0)","v":0},1900,1900,0,0,0,0,0,0,0,0,0,"","",0,0,0,"FORMATO INCORRECTO","FORMATO INCORRECTO","FORMATO INCORRECTO",{"$f":"IF(L377=\"\",\"\",IF(ISERROR(edata(L377)),\"FORMATO INCORRECTO\",\"FORMATO CORRECTO\"))","v":""},{"$f":"IF(U377=\"\",\"\",IF(ISERROR(edata(U377)),\"FORMATO INCORRECTO\",\"FORMATO CORRECTO\"))","v":""},{"$f":"IF(N377=\"\",\"\",IF(ISERROR(edata(N377)),\"FORMATO INCORRECTO\",\"FORMATO CORRECTO\"))","v":""}]
["1901-01-06","",null,null,null,null,null,null,"",null,null,null,null,null,null,null,null,"",null,null,null,null,null,null,null,null,"",null,"",null,null,"",null,null,null,null,null,0,0,0,0,0,{"$f":"IF(AO378<>0,SUMIFS($AP$6:$AP$1001,$AN$6:$AN$1001,AN378,$F$6:$F$1001,F378,$AX$6:$AX$1001,AX378),0)","v":0},0,{"$f":"IF(AO378<>0,SUMIFS($AP$6:$AP$1001,$AR$6:$AR$1001,AR378,$F$6:$F$1001,F378,$AX$6:$AX$1001,AX378),0)","v":0},0,0,0,{"$f":"IF(AU378<>0,SUMIFS($AV$6:$AV$1001,$AT$6:$AT$1001,AT378,$F$6:$F$1001,F378,$AY$6:$AY$1001,AY378),0)","v":0},1900,1900,0,0,0,0,0,0,0,0,0,"","",0,0,0,"FORMATO INCORRECTO","FORMATO INCORRECTO","FORMATO INCORRECTO",{"$f":"IF(L378=\"\",\"\",IF(ISERROR(edata(L378)),\"FORMATO INCORRECTO\",\"FORMATO CORRECTO\"))","v":""},{"$f":"IF(U378=\"\",\"\",IF(ISERROR(edata(U378)),\"FORMATO INCORRECTO\",\"FORMATO CORRECTO\"))","v":""},{"$f":"IF(N378=\"\",\"\",IF(ISERROR(edata(N378)),\"FORMATO INCORRECTO\",\"FORMATO CORRECTO\"))","v":""}]
["1901-01-07","",null,null,null,null,null,null,"",null,null,null,null,null,null,null,null,"",null,null,null,null,null,null,null,null,"",null,"",null,null,"",null,null,null,null,null,0,0,0,0,0,{"$f":"IF(AO379<>0,SUMIFS($AP$6:$AP$1001,$AN$6:$AN$1001,AN379,$F$6:$F$1001,F379,$AX$6:$AX$1001,AX379),0)","v":0},0,{"$f":"IF(AO379<>0,SUMIFS($AP$6:$AP$1001,$AR$6:$AR$1001,AR379,$F$6:$F$1001,F379,$AX$6:$AX$1001,AX379),0)","v":0},0,0,0,{"$f":"IF(AU379<>0,SUMIFS($AV$6:$AV$1001,$AT$6:$AT$1001,AT379,$F$6:$F$1001,F379,$AY$6:$AY$1001,AY379),0)","v":0},1900,1900,0,0,0,0,0,0,0,0,0,"","",0,0,0,"FORMATO INCORRECTO","FORMATO INCORRECTO","FORMATO INCORRECTO",{"$f":"IF(L379=\"\",\"\",IF(ISERROR(edata(L379)),\"FORMATO INCORRECTO\",\"FORMATO CORRECTO\"))","v":""},{"$f":"IF(U379=\"\",\"\",IF(ISERROR(edata(U379)),\"FORMATO INCORRECTO\",\"FORMATO CORRECTO\"))","v":""},{"$f":"IF(N379=\"\",\"\",IF(ISERROR(edata(N379)),\"FORMATO INCORRECTO\",\"FORMATO CORRECTO\"))","v":""}]
["1901-01-08","",null,null,null,null,null,null,"",null,null,null,null,null,null,null,null,"",null,null,null,null,null,null,null,null,"",null,"",null,null,"",null,null,null,null,null,0,0,0,0,0,{"$f":"IF(AO380<>0,SUMIFS($AP$6:$AP$1001,$AN$6:$AN$1001,AN380,$F$6:$F$1001,F380,$AX$6:$AX$1001,AX380),0)","v":0},0,{"$f":"IF(AO380<>0,SUMIFS($AP$6:$AP$1001,$AR$6:$AR$1001,AR380,$F$6:$F$1001,F380,$AX$6:$AX$1001,AX380),0)","v":0},0,0,0,{"$f":"IF(AU380<>0,SUMIFS($AV$6:$AV$1001,$AT$6:$AT$1001,AT380,$F$6:$F$1001,F380,$AY$6:$AY$1001,AY380),0)","v":0},1900,1900,0,0,0,0,0,0,0,0,0,"","",0,0,0,"FORMATO INCORRECTO","FORMATO INCORRECTO","FORMATO INCORRECTO",{"$f":"IF(L380=\"\",\"\",IF(ISERROR(edata(L380)),\"FORMATO INCORRECTO\",\"FORMATO CORRECTO\"))","v":""},{"$f":"IF(U380=\"\",\"\",IF(ISERROR(edata(U380)),\"FORMATO INCORRECTO\",\"FORMATO CORRECTO\"))","v":""},{"$f":"IF(N380=\"\",\"\",IF(ISERROR(edata(N380)),\"FORMATO INCORRECTO\",\"FORMATO CORRECTO\"))","v":""}]
["1901-01-09","",null,null,null,null,null,null,"",null,null,null,null,null,null,null,null,"",null,null,null,null,null,null,null,null,"",null,"",null,null,"",null,null,null,null,null,0,0,0,0,0,{"$f":"IF(AO381<>0,SUMIFS($AP$6:$AP$1001,$AN$6:$AN$1001,AN381,$F$6:$F$1001,F381,$AX$6:$AX$1001,AX381),0)","v":0},0,{"$f":"IF(AO381<>0,SUMIFS($AP$6:$AP$1001,$AR$6:$AR$1001,AR381,$F$6:$F$1001,F381,$AX$6:$AX$1001,AX381),0)","v":0},0,0,0,{"$f":"IF(AU381<>0,SUMIFS($AV$6:$AV$1001,$AT$6:$AT$1001,AT381,$F$6:$F$1001,F381,$AY$6:$AY$1001,AY381),0)","v":0},1900,1900,0,0,0,0,0,0,0,0,0,"","",0,0,0,"FORMATO INCORRECTO","FORMATO INCORRECTO","FORMATO INCORRECTO",{"$f":"IF(L381=\"\",\"\",IF(ISERROR(edata(L381)),\"FORMATO INCORRECTO\",\"FORMATO CORRECTO\"))","v":""},{"$f":"IF(U381=\"\",\"\",IF(ISERROR(edata(U381)),\"FORMATO INCORRECTO\",\"FORMATO CORRECTO\"))","v":""},{"$f":"IF(N381=\"\",\"\",IF(ISERROR(edata(N381)),\"FORMATO INCORRECTO\",\"FORMATO CORRECTO\"))","v":""}]
["1901-01-10","",null,null,null,null,null,null,"",null,null,null,null,null,null,null,null,"",null,null,null,null,null,null,null,null,"",null,"",null,null,"",null,null,null,null,null,0,0,0,0,0,{"$f":"IF(AO382<>0,SUMIFS($AP$6:$AP$1001,$AN$6:$AN$1001,AN382,$F$6:$F$1001,F382,$AX$6:$AX$1001,AX382),0)","v":0},0,{"$f":"IF(AO382<>0,SUMIFS($AP$6:$AP$1001,$AR$6:$AR$1001,AR382,$F$6:$F$1001,F382,$AX$6:$AX$1001,AX382),0)","v":0},0,0,0,{"$f":"IF(AU382<>0,SUMIFS($AV$6:$AV$1001,$AT$6:$AT$1001,AT382,$F$6:$F$1001,F382,$AY$6:$AY$1001,AY382),0)","v":0},1900,1900,0,0,0,0,0,0,0,0,0,"","",0,0,0,"FORMATO INCORRECTO","FORMATO INCORRECTO","FORMATO INCORRECTO",{"$f":"IF(L382=\"\",\"\",IF(ISERROR(edata(L382)),\"FORMATO INCORRECTO\",\"FORMATO CORRECTO\"))","v":""},{"$f":"IF(U382=\"\",\"\",IF(ISERROR(edata(U382)),\"FORMATO INCORRECTO\",\"FORMATO CORRECTO\"))","v":""},{"$f":"IF(N382=\"\",\"\",IF(ISERROR(edata(N382)),\"FORMATO INCORRECTO\",\"FORMATO CORRECTO\"))","v":""}]
["1901-01-11","",null,null,null,null,null,null,"",null,null,null,null,null,null,null,null,"",null,null,null,null,null,null,null,null,"",null,"",null,null,"",null,null,null,null,null,0,0,0,0,0,{"$f":"IF(AO383<>0,SUMIFS($AP$6:$AP$1001,$AN$6:$AN$1001,AN383,$F$6:$F$1001,F383,$AX$6:$AX$1001,AX383),0)","v":0},0,{"$f":"IF(AO383<>0,SUMIFS($AP$6:$AP$1001,$AR$6:$AR$1001,AR383,$F$6:$F$1001,F383,$AX$6:$AX$1001,AX383),0)","v":0},0,0,0,{"$f":"IF(AU383<>0,SUMIFS($AV$6:$AV$1001,$AT$6:$AT$1001,AT383,$F$6:$F$1001,F383,$AY$6:$AY$1001,AY383),0)","v":0},1900,1900,0,0,0,0,0,0,0,0,0,"","",0,0,0,"FORMATO INCORRECTO","FORMATO INCORRECTO","FORMATO INCORRECTO",{"$f":"IF(L383=\"\",\"\",IF(ISERROR(edata(L383)),\"FORMATO INCORRECTO\",\"FORMATO CORRECTO\"))","v":""},{"$f":"IF(U383=\"\",\"\",IF(ISERROR(edata(U383)),\"FORMATO INCORRECTO\",\"FORMATO CORRECTO\"))","v":""},{"$f":"IF(N383=\"\",\"\",IF(ISERROR(edata(N383)),\"FORMATO INCORRECTO\",\"FORMATO CORRECTO\"))","v":""}]
["1901-01-12","",null,null,null,null,null,null,"",null,null,null,null,null,null,null,null,"",null,null,null,null,null,null,null,null,"",null,"",null,null,"",null,null,null,null,null,0,0,0,0,0,{"$f":"IF(AO384<>0,SUMIFS($AP$6:$AP$1001,$AN$6:$AN$1001,AN384,$F$6:$F$1001,F384,$AX$6:$AX$1001,AX384),0)","v":0},0,{"$f":"IF(AO384<>0,SUMIFS($AP$6:$AP$1001,$AR$6:$AR$1001,AR384,$F$6:$F$1001,F384,$AX$6:$AX$1001,AX384),0)","v":0},0,0,0,{"$f":"IF(AU384<>0,SUMIFS($AV$6:$AV$1001,$AT$6:$AT$1001,AT384,$F$6:$F$1001,F384,$AY$6:$AY$1001,AY384),0)","v":0},1900,1900,0,0,0,0,0,0,0,0,0,"","",0,0,0,"FORMATO INCORRECTO","FORMATO INCORRECTO","FORMATO INCORRECTO",{"$f":"IF(L384=\"\",\"\",IF(ISERROR(edata(L384)),\"FORMATO INCORRECTO\",\"FORMATO CORRECTO\"))","v":""},{"$f":"IF(U384=\"\",\"\",IF(ISERROR(edata(U384)),\"FORMATO INCORRECTO\",\"FORMATO CORRECTO\"))","v":""},{"$f":"IF(N384=\"\",\"\",IF(ISERROR(edata(N384)),\"FORMATO INCORRECTO\",\"FORMATO CORRECTO\"))","v":""}]
["1901-01-13","",null,null,null,null,null,null,"",null,null,null,null,null,null,null,null,"",null,null,null,null,null,null,null,null,"",null,"",null,null,"",null,null,null,null,null,0,0,0,0,0,{"$f":"IF(AO385<>0,SUMIFS($AP$6:$AP$1001,$AN$6:$AN$1001,AN385,$F$6:$F$1001,F385,$AX$6:$AX$1001,AX385),0)","v":0},0,{"$f":"IF(AO385<>0,SUMIFS($AP$6:$AP$1001,$AR$6:$AR$1001,AR385,$F$6:$F$1001,F385,$AX$6:$AX$1001,AX385),0)","v":0},0,0,0,{"$f":"IF(AU385<>0,SUMIFS($AV$6:$AV$1001,$AT$6:$AT$1001,AT385,$F$6:$F$1001,F385,$AY$6:$AY$1001,AY385),0)","v":0},1900,1900,0,0,0,0,0,0,0,0,0,"","",0,0,0,"FORMATO INCORRECTO","FORMATO INCORRECTO","FORMATO INCORRECTO",{"$f":"IF(L385=\"\",\"\",IF(ISERROR(edata(L385)),\"FORMATO INCORRECTO\",\"FORMATO CORRECTO\"))","v":""},{"$f":"IF(U385=\"\",\"\",IF(ISERROR(edata(U385)),\"FORMATO INCORRECTO\",\"FORMATO CORRECTO\"))","v":""},{"$f":"IF(N385=\"\",\"\",IF(ISERROR(edata(N385)),\"FORMATO INCORRECTO\",\"FORMATO CORRECTO\"))","v":""}]
["1901-01-14","",null,null,null,null,null,null,"",null,null,null,null,null,null,null,null,"",null,null,null,null,null,null,null,null,"",null,"",null,null,"",null,null,null,null,null,0,0,0,0,0,{"$f":"IF(AO386<>0,SUMIFS($AP$6:$AP$1001,$AN$6:$AN$1001,AN386,$F$6:$F$1001,F386,$AX$6:$AX$1001,AX386),0)","v":0},0,{"$f":"IF(AO386<>0,SUMIFS($AP$6:$AP$1001,$AR$6:$AR$1001,AR386,$F$6:$F$1001,F386,$AX$6:$AX$1001,AX386),0)","v":0},0,0,0,{"$f":"IF(AU386<>0,SUMIFS($AV$6:$AV$1001,$AT$6:$AT$1001,AT386,$F$6:$F$1001,F386,$AY$6:$AY$1001,AY386),0)","v":0},1900,1900,0,0,0,0,0,0,0,0,0,"","",0,0,0,"FORMATO INCORRECTO","FORMATO INCORRECTO","FORMATO INCORRECTO",{"$f":"IF(L386=\"\",\"\",IF(ISERROR(edata(L386)),\"FORMATO INCORRECTO\",\"FORMATO CORRECTO\"))","v":""},{"$f":"IF(U386=\"\",\"\",IF(ISERROR(edata(U386)),\"FORMATO INCORRECTO\",\"FORMATO CORRECTO\"))","v":""},{"$f":"IF(N386=\"\",\"\",IF(ISERROR(edata(N386)),\"FORMATO INCORRECTO\",\"FORMATO CORRECTO\"))","v":""}]
["1901-01-15","",null,null,null,null,null,null,"",null,null,null,null,null,null,null,null,"",null,null,null,null,null,null,null,null,"",null,"",null,null,"",null,null,null,null,null,0,0,0,0,0,{"$f":"IF(AO387<>0,SUMIFS($AP$6:$AP$1001,$AN$6:$AN$1001,AN387,$F$6:$F$1001,F387,$AX$6:$AX$1001,AX387),0)","v":0},0,{"$f":"IF(AO387<>0,SUMIFS($AP$6:$AP$1001,$AR$6:$AR$1001,AR387,$F$6:$F$1001,F387,$AX$6:$AX$1001,AX387),0)","v":0},0,0,0,{"$f":"IF(AU387<>0,SUMIFS($AV$6:$AV$1001,$AT$6:$AT$1001,AT387,$F$6:$F$1001,F387,$AY$6:$AY$1001,AY387),0)","v":0},1900,1900,0,0,0,0,0,0,0,0,0,"","",0,0,0,"FORMATO INCORRECTO","FORMATO INCORRECTO","FORMATO INCORRECTO",{"$f":"IF(L387=\"\",\"\",IF(ISERROR(edata(L387)),\"FORMATO INCORRECTO\",\"FORMATO CORRECTO\"))","v":""},{"$f":"IF(U387=\"\",\"\",IF(ISERROR(edata(U387)),\"FORMATO INCORRECTO\",\"FORMATO CORRECTO\"))","v":""},{"$f":"IF(N387=\"\",\"\",IF(ISERROR(edata(N387)),\"FORMATO INCORRECTO\",\"FORMATO CORRECTO\"))","v":""}]
["1901-01-16","",null,null,null,null,null,null,"",null,null,null,null,null,null,null,null,"",null,null,null,null,null,null,null,null,"",null,"",null,null,"",null,null,null,null,null,0,0,0,0,0,{"$f":"IF(AO388<>0,SUMIFS($AP$6:$AP$1001,$AN$6:$AN$1001,AN388,$F$6:$F$1001,F388,$AX$6:$AX$1001,AX388),0)","v":0},0,{"$f":"IF(AO388<>0,SUMIFS($AP$6:$AP$1001,$AR$6:$AR$1001,AR388,$F$6:$F$1001,F388,$AX$6:$AX$1001,AX388),0)","v":0},0,0,0,{"$f":"IF(AU388<>0,SUMIFS($AV$6:$AV$1001,$AT$6:$AT$1001,AT388,$F$6:$F$1001,F388,$AY$6:$AY$1001,AY388),0)","v":0},1900,1900,0,0,0,0,0,0,0,0,0,"","",0,0,0,"FORMATO INCORRECTO","FORMATO INCORRECTO","FORMATO INCORRECTO",{"$f":"IF(L388=\"\",\"\",IF(ISERROR(edata(L388)),\"FORMATO INCORRECTO\",\"FORMATO CORRECTO\"))","v":""},{"$f":"IF(U388=\"\",\"\",IF(ISERROR(edata(U388)),\"FORMATO INCORRECTO\",\"FORMATO CORRECTO\"))","v":""},{"$f":"IF(N388=\"\",\"\",IF(ISERROR(edata(N388)),\"FORMATO INCORRECTO\",\"FORMATO CORRECTO\"))","v":""}]
["1901-01-17","",null,null,null,null,null,null,"",null,null,null,null,null,null,null,null,"",null,null,null,null,null,null,null,null,"",null,"",null,null,"",null,null,null,null,null,0,0,0,0,0,{"$f":"IF(AO389<>0,SUMIFS($AP$6:$AP$1001,$AN$6:$AN$1001,AN389,$F$6:$F$1001,F389,$AX$6:$AX$1001,AX389),0)","v":0},0,{"$f":"IF(AO389<>0,SUMIFS($AP$6:$AP$1001,$AR$6:$AR$1001,AR389,$F$6:$F$1001,F389,$AX$6:$AX$1001,AX389),0)","v":0},0,0,0,{"$f":"IF(AU389<>0,SUMIFS($AV$6:$AV$1001,$AT$6:$AT$1001,AT389,$F$6:$F$1001,F389,$AY$6:$AY$1001,AY389),0)","v":0},1900,1900,0,0,0,0,0,0,0,0,0,"","",0,0,0,"FORMATO INCORRECTO","FORMATO INCORRECTO","FORMATO INCORRECTO",{"$f":"IF(L389=\"\",\"\",IF(ISERROR(edata(L389)),\"FORMATO INCORRECTO\",\"FORMATO CORRECTO\"))","v":""},{"$f":"IF(U389=\"\",\"\",IF(ISERROR(edata(U389)),\"FORMATO INCORRECTO\",\"FORMATO CORRECTO\"))","v":""},{"$f":"IF(N389=\"\",\"\",IF(ISERROR(edata(N389)),\"FORMATO INCORRECTO\",\"FORMATO CORRECTO\"))","v":""}]
["1901-01-18","",null,null,null,null,null,null,{"$f":"IF(ISERROR(VLOOKUP(J390,tipoDocDesp,2,FALSE)),\"\",VLOOKUP(J390,tipoDocDesp,2,FALSE))","v":""},null,null,null,null,null,null,null,null,{"$f":"IF(ISERROR(VLOOKUP(S390,tipoDocQuit,2,FALSE)),\"\",VLOOKUP(S390,tipoDocQuit,2,FALSE))","v":""},null,null,null,null,null,null,null,null,{"$f":"IF(ISERROR(VLOOKUP(AB390,DESPESASGERAL,3,FALSE)),\"\",VLOOKUP(AB390,DESPESASGERAL,3,FALSE))","v":""},null,{"$f":"IF(ISERROR(VLOOKUP(AD390,RUBRICASGERAL,2,FALSE)),\"\",VLOOKUP(AD390,RUBRICASGERAL,2,FALSE))","v":""},null,null,{"$f":"IF(ISERROR(VLOOKUP(AG390,CONCELHOGERAL,2,FALSE)),\"\",VLOOKUP(AG390,CONCELHOGERAL,2,FALSE))","v":""},null,null,null,null,null,0,0,0,{"$f":"+M390","v":0},{"$f":"+N390","v":0},{"$f":"IF(AO390<>0,SUMIFS($AP$6:$AP$1001,$AN$6:$AN$1001,AN390,$F$6:$F$1001,F390,$AX$6:$AX$1001,AX390),0)","v":0},{"$f":"+K390","v":0},{"$f":"IF(AO390<>0,SUMIFS($AP$6:$AP$1001,$AR$6:$AR$1001,AR390,$F$6:$F$1001,F390,$AX$6:$AX$1001,AX390),0)","v":0},{"$f":"+T390","v":0},{"$f":"+V390","v":0},{"$f":"+W390","v":0},{"$f":"IF(AU390<>0,SUMIFS($AV$6:$AV$1001,$AT$6:$AT$1001,AT390,$F$6:$F$1001,F390,$AY$6:$AY$1001,AY390),0)","v":0},{"$f":"YEAR(L390)","v":1900},{"$f":"YEAR(U390)","v":1900},0,0,{"$f":"+M390-BA390","v":0},0,0,{"$f":"+M390-BD390","v":0},0,0,{"$f":"+V390-BG390","v":0},"","",0,0,0,"FORMATO INCORRECTO","FORMATO INCORRECTO","FORMATO INCORRECTO",{"$f":"IF(L390=\"\",\"\",IF(ISERROR(edata(L390)),\"FORMATO INCORRECTO\",\"FORMATO CORRECTO\"))","v":""},{"$f":"IF(U390=\"\",\"\",IF(ISERROR(edata(U390)),\"FORMATO INCORRECTO\",\"FORMATO CORRECTO\"))","v":""},{"$f":"IF(N390=\"\",\"\",IF(ISERROR(edata(N390)),\"FORMATO INCORRECTO\",\"FORMATO CORRECTO\"))","v":""}]
["1901-01-19","",null,null,null,null,null,null,"",null,null,null,null,null,null,null,null,"",null,null,null,null,null,null,null,null,"",null,"",null,null,"",null,null,null,null,null,{"$f":"+O391+P391+Q391-N391","v":0},{"$f":"+O391+P391+Q391-W391","v":0},{"$f":"+D391","v":0},0,0,{"$f":"IF(AO391<>0,SUMIFS($AP$6:$AP$1001,$AN$6:$AN$1001,AN391,$F$6:$F$1001,F391,$AX$6:$AX$1001,AX391),0)","v":0},0,{"$f":"IF(AO391<>0,SUMIFS($AP$6:$AP$1001,$AR$6:$AR$1001,AR391,$F$6:$F$1001,F391,$AX$6:$AX$1001,AX391),0)","v":0},0,0,0,{"$f":"IF(AU391<>0,SUMIFS($AV$6:$AV$1001,$AT$6:$AT$1001,AT391,$F$6:$F$1001,F391,$AY$6:$AY$1001,AY391),0)","v":0},1900,1900,{"$f":"+AN391","v":0},{"$f":"+AQ391","v":0},0,{"$f":"+AR391","v":0},{"$f":"ROUND(AS391,2)","v":0},0,{"$f":"+AT391","v":0},{"$f":"ROUND(AW391,2)","v":0},0,{"$f":"IF(ISERROR(L391<=U391),\"FORMATO INCORRECTO\",IF(AND(L391=0,U391=0),\"\",IF(L391<=U391,\"VALIDADO\",\"NÃO VALIDADO\")))","v":""},{"$f":"IF(AND(L391=\"\",U391=\"\",Y391=\"\"),\"\",IF(OR(ISERROR(BK391),ISERROR(BL391),ISERROR(BM391)),\"ERRO NO FORMATO\",\"FORMATO CORRECTO\"))","v":""},{"$f":"convdata(L391)","v":0},{"$f":"convdata(U391)","v":0},{"$f":"convdata(Y391)","v":0},{"$f":"ENULO(L391)","v":"FORMATO INCORRECTO"},{"$f":"ENULO(U391)","v":"FORMATO INCORRECTO"},{"$f":"ENULO(Y391)","v":"FORMATO INCORRECTO"},{"$f":"IF(L391=\"\",\"\",IF(ISERROR(edata(L391)),\"FORMATO INCORRECTO\",\"FORMATO CORRECTO\"))","v":""},{"$f":"IF(U391=\"\",\"\",IF(ISERROR(edata(U391)),\"FORMATO INCORRECTO\",\"FORMATO CORRECTO\"))","v":""},{"$f":"IF(N391=\"\",\"\",IF(ISERROR(edata(N391)),\"FORMATO INCORRECTO\",\"FORMATO CORRECTO\"))","v":""}]
["1901-01-20",{"$f":"IF(G392<>\"\",+B391+1,\"\")","v":""},null,null,null,null,null,null,"",null,null,null,null,null,null,null,null,"",null,null,null,null,null,null,null,null,"",null,"",null,null,"",null,null,null,null,null,0,0,0,0,0,{"$f":"IF(AO392<>0,SUMIFS($AP$6:$AP$1001,$AN$6:$AN$1001,AN392,$F$6:$F$1001,F392,$AX$6:$AX$1001,AX392),0)","v":0},0,{"$f":"IF(AO392<>0,SUMIFS($AP$6:$AP$1001,$AR$6:$AR$1001,AR392,$F$6:$F$1001,F392,$AX$6:$AX$1001,AX392),0)","v":0},0,0,0,{"$f":"IF(AU392<>0,SUMIFS($AV$6:$AV$1001,$AT$6:$AT$1001,AT392,$F$6:$F$1001,F392,$AY$6:$AY$1001,AY392),0)","v":0},1900,1900,0,0,0,0,0,0,0,0,0,"","",0,0,0,"FORMATO INCORRECTO","FORMATO INCORRECTO","FORMATO INCORRECTO",{"$f":"IF(L392=\"\",\"\",IF(ISERROR(edata(L392)),\"FORMATO INCORRECTO\",\"FORMATO CORRECTO\"))","v":""},{"$f":"IF(U392=\"\",\"\",IF(ISERROR(edata(U392)),\"FORMATO INCORRECTO\",\"FORMATO CORRECTO\"))","v":""},{"$f":"IF(N392=\"\",\"\",IF(ISERROR(edata(N392)),\"FORMATO INCORRECTO\",\"FORMATO CORRECTO\"))","v":""}]
["1901-01-21","",null,null,null,null,null,null,"",null,null,null,null,null,null,null,null,"",null,null,null,null,null,null,null,null,"",null,"",null,null,"",null,null,null,null,null,0,0,0,0,0,{"$f":"IF(AO393<>0,SUMIFS($AP$6:$AP$1001,$AN$6:$AN$1001,AN393,$F$6:$F$1001,F393,$AX$6:$AX$1001,AX393),0)","v":0},0,{"$f":"IF(AO393<>0,SUMIFS($AP$6:$AP$1001,$AR$6:$AR$1001,AR393,$F$6:$F$1001,F393,$AX$6:$AX$1001,AX393),0)","v":0},0,0,0,{"$f":"IF(AU393<>0,SUMIFS($AV$6:$AV$1001,$AT$6:$AT$1001,AT393,$F$6:$F$1001,F393,$AY$6:$AY$1001,AY393),0)","v":0},1900,1900,0,0,0,0,0,0,0,0,0,"","",0,0,0,"FORMATO INCORRECTO","FORMATO INCORRECTO","FORMATO INCORRECTO",{"$f":"IF(L393=\"\",\"\",IF(ISERROR(edata(L393)),\"FORMATO INCORRECTO\",\"FORMATO CORRECTO\"))","v":""},{"$f":"IF(U393=\"\",\"\",IF(ISERROR(edata(U393)),\"FORMATO INCORRECTO\",\"FORMATO CORRECTO\"))","v":""},{"$f":"IF(N393=\"\",\"\",IF(ISERROR(edata(N393)),\"FORMATO INCORRECTO\",\"FORMATO CORRECTO\"))","v":""}]
["1901-01-22","",null,null,null,null,null,null,"",null,null,null,null,null,null,null,null,"",null,null,null,null,null,null,null,null,"",null,"",null,null,"",null,null,null,null,null,0,0,0,0,0,{"$f":"IF(AO394<>0,SUMIFS($AP$6:$AP$1001,$AN$6:$AN$1001,AN394,$F$6:$F$1001,F394,$AX$6:$AX$1001,AX394),0)","v":0},0,{"$f":"IF(AO394<>0,SUMIFS($AP$6:$AP$1001,$AR$6:$AR$1001,AR394,$F$6:$F$1001,F394,$AX$6:$AX$1001,AX394),0)","v":0},0,0,0,{"$f":"IF(AU394<>0,SUMIFS($AV$6:$AV$1001,$AT$6:$AT$1001,AT394,$F$6:$F$1001,F394,$AY$6:$AY$1001,AY394),0)","v":0},1900,1900,0,0,0,0,0,0,0,0,0,"","",0,0,0,"FORMATO INCORRECTO","FORMATO INCORRECTO","FORMATO INCORRECTO",{"$f":"IF(L394=\"\",\"\",IF(ISERROR(edata(L394)),\"FORMATO INCORRECTO\",\"FORMATO CORRECTO\"))","v":""},{"$f":"IF(U394=\"\",\"\",IF(ISERROR(edata(U394)),\"FORMATO INCORRECTO\",\"FORMATO CORRECTO\"))","v":""},{"$f":"IF(N394=\"\",\"\",IF(ISERROR(edata(N394)),\"FORMATO INCORRECTO\",\"FORMATO CORRECTO\"))","v":""}]
["1901-01-23","",null,null,null,null,null,null,"",null,null,null,null,null,null,null,null,"",null,null,null,null,null,null,null,null,"",null,"",null,null,"",null,null,null,null,null,0,0,0,0,0,{"$f":"IF(AO395<>0,SUMIFS($AP$6:$AP$1001,$AN$6:$AN$1001,AN395,$F$6:$F$1001,F395,$AX$6:$AX$1001,AX395),0)","v":0},0,{"$f":"IF(AO395<>0,SUMIFS($AP$6:$AP$1001,$AR$6:$AR$1001,AR395,$F$6:$F$1001,F395,$AX$6:$AX$1001,AX395),0)","v":0},0,0,0,{"$f":"IF(AU395<>0,SUMIFS($AV$6:$AV$1001,$AT$6:$AT$1001,AT395,$F$6:$F$1001,F395,$AY$6:$AY$1001,AY395),0)","v":0},1900,1900,0,0,0,0,0,0,0,0,0,"","",0,0,0,"FORMATO INCORRECTO","FORMATO INCORRECTO","FORMATO INCORRECTO",{"$f":"IF(L395=\"\",\"\",IF(ISERROR(edata(L395)),\"FORMATO INCORRECTO\",\"FORMATO CORRECTO\"))","v":""},{"$f":"IF(U395=\"\",\"\",IF(ISERROR(edata(U395)),\"FORMATO INCORRECTO\",\"FORMATO CORRECTO\"))","v":""},{"$f":"IF(N395=\"\",\"\",IF(ISERROR(edata(N395)),\"FORMATO INCORRECTO\",\"FORMATO CORRECTO\"))","v":""}]
["1901-01-24","",null,null,null,null,null,null,"",null,null,null,null,null,null,null,null,"",null,null,null,null,null,null,null,null,"",null,"",null,null,"",null,null,null,null,null,0,0,0,0,0,{"$f":"IF(AO396<>0,SUMIFS($AP$6:$AP$1001,$AN$6:$AN$1001,AN396,$F$6:$F$1001,F396,$AX$6:$AX$1001,AX396),0)","v":0},0,{"$f":"IF(AO396<>0,SUMIFS($AP$6:$AP$1001,$AR$6:$AR$1001,AR396,$F$6:$F$1001,F396,$AX$6:$AX$1001,AX396),0)","v":0},0,0,0,{"$f":"IF(AU396<>0,SUMIFS($AV$6:$AV$1001,$AT$6:$AT$1001,AT396,$F$6:$F$1001,F396,$AY$6:$AY$1001,AY396),0)","v":0},1900,1900,0,0,0,0,0,0,0,0,0,"","",0,0,0,"FORMATO INCORRECTO","FORMATO INCORRECTO","FORMATO INCORRECTO",{"$f":"IF(L396=\"\",\"\",IF(ISERROR(edata(L396)),\"FORMATO INCORRECTO\",\"FORMATO CORRECTO\"))","v":""},{"$f":"IF(U396=\"\",\"\",IF(ISERROR(edata(U396)),\"FORMATO INCORRECTO\",\"FORMATO CORRECTO\"))","v":""},{"$f":"IF(N396=\"\",\"\",IF(ISERROR(edata(N396)),\"FORMATO INCORRECTO\",\"FORMATO CORRECTO\"))","v":""}]
["1901-01-25","",null,null,null,null,null,null,"",null,null,null,null,null,null,null,null,"",null,null,null,null,null,null,null,null,"",null,"",null,null,"",null,null,null,null,null,0,0,0,0,0,{"$f":"IF(AO397<>0,SUMIFS($AP$6:$AP$1001,$AN$6:$AN$1001,AN397,$F$6:$F$1001,F397,$AX$6:$AX$1001,AX397),0)","v":0},0,{"$f":"IF(AO397<>0,SUMIFS($AP$6:$AP$1001,$AR$6:$AR$1001,AR397,$F$6:$F$1001,F397,$AX$6:$AX$1001,AX397),0)","v":0},0,0,0,{"$f":"IF(AU397<>0,SUMIFS($AV$6:$AV$1001,$AT$6:$AT$1001,AT397,$F$6:$F$1001,F397,$AY$6:$AY$1001,AY397),0)","v":0},1900,1900,0,0,0,0,0,0,0,0,0,"","",0,0,0,"FORMATO INCORRECTO","FORMATO INCORRECTO","FORMATO INCORRECTO",{"$f":"IF(L397=\"\",\"\",IF(ISERROR(edata(L397)),\"FORMATO INCORRECTO\",\"FORMATO CORRECTO\"))","v":""},{"$f":"IF(U397=\"\",\"\",IF(ISERROR(edata(U397)),\"FORMATO INCORRECTO\",\"FORMATO CORRECTO\"))","v":""},{"$f":"IF(N397=\"\",\"\",IF(ISERROR(edata(N397)),\"FORMATO INCORRECTO\",\"FORMATO CORRECTO\"))","v":""}]
["1901-01-26","",null,null,null,null,null,null,"",null,null,null,null,null,null,null,null,"",null,null,null,null,null,null,null,null,"",null,"",null,null,"",null,null,null,null,null,0,0,0,0,0,{"$f":"IF(AO398<>0,SUMIFS($AP$6:$AP$1001,$AN$6:$AN$1001,AN398,$F$6:$F$1001,F398,$AX$6:$AX$1001,AX398),0)","v":0},0,{"$f":"IF(AO398<>0,SUMIFS($AP$6:$AP$1001,$AR$6:$AR$1001,AR398,$F$6:$F$1001,F398,$AX$6:$AX$1001,AX398),0)","v":0},0,0,0,{"$f":"IF(AU398<>0,SUMIFS($AV$6:$AV$1001,$AT$6:$AT$1001,AT398,$F$6:$F$1001,F398,$AY$6:$AY$1001,AY398),0)","v":0},1900,1900,0,0,0,0,0,0,0,0,0,"","",0,0,0,"FORMATO INCORRECTO","FORMATO INCORRECTO","FORMATO INCORRECTO",{"$f":"IF(L398=\"\",\"\",IF(ISERROR(edata(L398)),\"FORMATO INCORRECTO\",\"FORMATO CORRECTO\"))","v":""},{"$f":"IF(U398=\"\",\"\",IF(ISERROR(edata(U398)),\"FORMATO INCORRECTO\",\"FORMATO CORRECTO\"))","v":""},{"$f":"IF(N398=\"\",\"\",IF(ISERROR(edata(N398)),\"FORMATO INCORRECTO\",\"FORMATO CORRECTO\"))","v":""}]
["1901-01-27","",null,null,null,null,null,null,"",null,null,null,null,null,null,null,null,"",null,null,null,null,null,null,null,null,"",null,"",null,null,"",null,null,null,null,null,0,0,0,0,0,{"$f":"IF(AO399<>0,SUMIFS($AP$6:$AP$1001,$AN$6:$AN$1001,AN399,$F$6:$F$1001,F399,$AX$6:$AX$1001,AX399),0)","v":0},0,{"$f":"IF(AO399<>0,SUMIFS($AP$6:$AP$1001,$AR$6:$AR$1001,AR399,$F$6:$F$1001,F399,$AX$6:$AX$1001,AX399),0)","v":0},0,0,0,{"$f":"IF(AU399<>0,SUMIFS($AV$6:$AV$1001,$AT$6:$AT$1001,AT399,$F$6:$F$1001,F399,$AY$6:$AY$1001,AY399),0)","v":0},1900,1900,0,0,0,0,0,0,0,0,0,"","",0,0,0,"FORMATO INCORRECTO","FORMATO INCORRECTO","FORMATO INCORRECTO",{"$f":"IF(L399=\"\",\"\",IF(ISERROR(edata(L399)),\"FORMATO INCORRECTO\",\"FORMATO CORRECTO\"))","v":""},{"$f":"IF(U399=\"\",\"\",IF(ISERROR(edata(U399)),\"FORMATO INCORRECTO\",\"FORMATO CORRECTO\"))","v":""},{"$f":"IF(N399=\"\",\"\",IF(ISERROR(edata(N399)),\"FORMATO INCORRECTO\",\"FORMATO CORRECTO\"))","v":""}]
["1901-01-28","",null,null,null,null,null,null,"",null,null,null,null,null,null,null,null,"",null,null,null,null,null,null,null,null,"",null,"",null,null,"",null,null,null,null,null,0,0,0,0,0,{"$f":"IF(AO400<>0,SUMIFS($AP$6:$AP$1001,$AN$6:$AN$1001,AN400,$F$6:$F$1001,F400,$AX$6:$AX$1001,AX400),0)","v":0},0,{"$f":"IF(AO400<>0,SUMIFS($AP$6:$AP$1001,$AR$6:$AR$1001,AR400,$F$6:$F$1001,F400,$AX$6:$AX$1001,AX400),0)","v":0},0,0,0,{"$f":"IF(AU400<>0,SUMIFS($AV$6:$AV$1001,$AT$6:$AT$1001,AT400,$F$6:$F$1001,F400,$AY$6:$AY$1001,AY400),0)","v":0},1900,1900,0,0,0,0,0,0,0,0,0,"","",0,0,0,"FORMATO INCORRECTO","FORMATO INCORRECTO","FORMATO INCORRECTO",{"$f":"IF(L400=\"\",\"\",IF(ISERROR(edata(L400)),\"FORMATO INCORRECTO\",\"FORMATO CORRECTO\"))","v":""},{"$f":"IF(U400=\"\",\"\",IF(ISERROR(edata(U400)),\"FORMATO INCORRECTO\",\"FORMATO CORRECTO\"))","v":""},{"$f":"IF(N400=\"\",\"\",IF(ISERROR(edata(N400)),\"FORMATO INCORRECTO\",\"FORMATO CORRECTO\"))","v":""}]
["1901-01-29","",null,null,null,null,null,null,"",null,null,null,null,null,null,null,null,"",null,null,null,null,null,null,null,null,"",null,"",null,null,"",null,null,null,null,null,0,0,0,0,0,{"$f":"IF(AO401<>0,SUMIFS($AP$6:$AP$1001,$AN$6:$AN$1001,AN401,$F$6:$F$1001,F401,$AX$6:$AX$1001,AX401),0)","v":0},0,{"$f":"IF(AO401<>0,SUMIFS($AP$6:$AP$1001,$AR$6:$AR$1001,AR401,$F$6:$F$1001,F401,$AX$6:$AX$1001,AX401),0)","v":0},0,0,0,{"$f":"IF(AU401<>0,SUMIFS($AV$6:$AV$1001,$AT$6:$AT$1001,AT401,$F$6:$F$1001,F401,$AY$6:$AY$1001,AY401),0)","v":0},1900,1900,0,0,0,0,0,0,0,0,0,"","",0,0,0,"FORMATO INCORRECTO","FORMATO INCORRECTO","FORMATO INCORRECTO",{"$f":"IF(L401=\"\",\"\",IF(ISERROR(edata(L401)),\"FORMATO INCORRECTO\",\"FORMATO CORRECTO\"))","v":""},{"$f":"IF(U401=\"\",\"\",IF(ISERROR(edata(U401)),\"FORMATO INCORRECTO\",\"FORMATO CORRECTO\"))","v":""},{"$f":"IF(N401=\"\",\"\",IF(ISERROR(edata(N401)),\"FORMATO INCORRECTO\",\"FORMATO CORRECTO\"))","v":""}]
["1901-01-30","",null,null,null,null,null,null,"",null,null,null,null,null,null,null,null,"",null,null,null,null,null,null,null,null,"",null,"",null,null,"",null,null,null,null,null,0,0,0,0,0,{"$f":"IF(AO402<>0,SUMIFS($AP$6:$AP$1001,$AN$6:$AN$1001,AN402,$F$6:$F$1001,F402,$AX$6:$AX$1001,AX402),0)","v":0},0,{"$f":"IF(AO402<>0,SUMIFS($AP$6:$AP$1001,$AR$6:$AR$1001,AR402,$F$6:$F$1001,F402,$AX$6:$AX$1001,AX402),0)","v":0},0,0,0,{"$f":"IF(AU402<>0,SUMIFS($AV$6:$AV$1001,$AT$6:$AT$1001,AT402,$F$6:$F$1001,F402,$AY$6:$AY$1001,AY402),0)","v":0},1900,1900,0,0,0,0,0,0,0,0,0,"","",0,0,0,"FORMATO INCORRECTO","FORMATO INCORRECTO","FORMATO INCORRECTO",{"$f":"IF(L402=\"\",\"\",IF(ISERROR(edata(L402)),\"FORMATO INCORRECTO\",\"FORMATO CORRECTO\"))","v":""},{"$f":"IF(U402=\"\",\"\",IF(ISERROR(edata(U402)),\"FORMATO INCORRECTO\",\"FORMATO CORRECTO\"))","v":""},{"$f":"IF(N402=\"\",\"\",IF(ISERROR(edata(N402)),\"FORMATO INCORRECTO\",\"FORMATO CORRECTO\"))","v":""}]
["1901-01-31","",null,null,null,null,null,null,"",null,null,null,null,null,null,null,null,"",null,null,null,null,null,null,null,null,"",null,"",null,null,"",null,null,null,null,null,0,0,0,0,0,{"$f":"IF(AO403<>0,SUMIFS($AP$6:$AP$1001,$AN$6:$AN$1001,AN403,$F$6:$F$1001,F403,$AX$6:$AX$1001,AX403),0)","v":0},0,{"$f":"IF(AO403<>0,SUMIFS($AP$6:$AP$1001,$AR$6:$AR$1001,AR403,$F$6:$F$1001,F403,$AX$6:$AX$1001,AX403),0)","v":0},0,0,0,{"$f":"IF(AU403<>0,SUMIFS($AV$6:$AV$1001,$AT$6:$AT$1001,AT403,$F$6:$F$1001,F403,$AY$6:$AY$1001,AY403),0)","v":0},1900,1900,0,0,0,0,0,0,0,0,0,"","",0,0,0,"FORMATO INCORRECTO","FORMATO INCORRECTO","FORMATO INCORRECTO",{"$f":"IF(L403=\"\",\"\",IF(ISERROR(edata(L403)),\"FORMATO INCORRECTO\",\"FORMATO CORRECTO\"))","v":""},{"$f":"IF(U403=\"\",\"\",IF(ISERROR(edata(U403)),\"FORMATO INCORRECTO\",\"FORMATO CORRECTO\"))","v":""},{"$f":"IF(N403=\"\",\"\",IF(ISERROR(edata(N403)),\"FORMATO INCORRECTO\",\"FORMATO CORRECTO\"))","v":""}]
["1901-02-01","",null,null,null,null,null,null,"",null,null,null,null,null,null,null,null,"",null,null,null,null,null,null,null,null,"",null,"",null,null,"",null,null,null,null,null,0,0,0,0,0,{"$f":"IF(AO404<>0,SUMIFS($AP$6:$AP$1001,$AN$6:$AN$1001,AN404,$F$6:$F$1001,F404,$AX$6:$AX$1001,AX404),0)","v":0},0,{"$f":"IF(AO404<>0,SUMIFS($AP$6:$AP$1001,$AR$6:$AR$1001,AR404,$F$6:$F$1001,F404,$AX$6:$AX$1001,AX404),0)","v":0},0,0,0,{"$f":"IF(AU404<>0,SUMIFS($AV$6:$AV$1001,$AT$6:$AT$1001,AT404,$F$6:$F$1001,F404,$AY$6:$AY$1001,AY404),0)","v":0},1900,1900,0,0,0,0,0,0,0,0,0,"","",0,0,0,"FORMATO INCORRECTO","FORMATO INCORRECTO","FORMATO INCORRECTO",{"$f":"IF(L404=\"\",\"\",IF(ISERROR(edata(L404)),\"FORMATO INCORRECTO\",\"FORMATO CORRECTO\"))","v":""},{"$f":"IF(U404=\"\",\"\",IF(ISERROR(edata(U404)),\"FORMATO INCORRECTO\",\"FORMATO CORRECTO\"))","v":""},{"$f":"IF(N404=\"\",\"\",IF(ISERROR(edata(N404)),\"FORMATO INCORRECTO\",\"FORMATO CORRECTO\"))","v":""}]
["1901-02-02","",null,null,null,null,null,null,"",null,null,null,null,null,null,null,null,"",null,null,null,null,null,null,null,null,"",null,"",null,null,"",null,null,null,null,null,0,0,0,0,0,{"$f":"IF(AO405<>0,SUMIFS($AP$6:$AP$1001,$AN$6:$AN$1001,AN405,$F$6:$F$1001,F405,$AX$6:$AX$1001,AX405),0)","v":0},0,{"$f":"IF(AO405<>0,SUMIFS($AP$6:$AP$1001,$AR$6:$AR$1001,AR405,$F$6:$F$1001,F405,$AX$6:$AX$1001,AX405),0)","v":0},0,0,0,{"$f":"IF(AU405<>0,SUMIFS($AV$6:$AV$1001,$AT$6:$AT$1001,AT405,$F$6:$F$1001,F405,$AY$6:$AY$1001,AY405),0)","v":0},1900,1900,0,0,0,0,0,0,0,0,0,"","",0,0,0,"FORMATO INCORRECTO","FORMATO INCORRECTO","FORMATO INCORRECTO",{"$f":"IF(L405=\"\",\"\",IF(ISERROR(edata(L405)),\"FORMATO INCORRECTO\",\"FORMATO CORRECTO\"))","v":""},{"$f":"IF(U405=\"\",\"\",IF(ISERROR(edata(U405)),\"FORMATO INCORRECTO\",\"FORMATO CORRECTO\"))","v":""},{"$f":"IF(N405=\"\",\"\",IF(ISERROR(edata(N405)),\"FORMATO INCORRECTO\",\"FORMATO CORRECTO\"))","v":""}]
["1901-02-03","",null,null,null,null,null,null,"",null,null,null,null,null,null,null,null,"",null,null,null,null,null,null,null,null,"",null,"",null,null,"",null,null,null,null,null,0,0,0,0,0,{"$f":"IF(AO406<>0,SUMIFS($AP$6:$AP$1001,$AN$6:$AN$1001,AN406,$F$6:$F$1001,F406,$AX$6:$AX$1001,AX406),0)","v":0},0,{"$f":"IF(AO406<>0,SUMIFS($AP$6:$AP$1001,$AR$6:$AR$1001,AR406,$F$6:$F$1001,F406,$AX$6:$AX$1001,AX406),0)","v":0},0,0,0,{"$f":"IF(AU406<>0,SUMIFS($AV$6:$AV$1001,$AT$6:$AT$1001,AT406,$F$6:$F$1001,F406,$AY$6:$AY$1001,AY406),0)","v":0},1900,1900,0,0,0,0,0,0,0,0,0,"","",0,0,0,"FORMATO INCORRECTO","FORMATO INCORRECTO","FORMATO INCORRECTO",{"$f":"IF(L406=\"\",\"\",IF(ISERROR(edata(L406)),\"FORMATO INCORRECTO\",\"FORMATO CORRECTO\"))","v":""},{"$f":"IF(U406=\"\",\"\",IF(ISERROR(edata(U406)),\"FORMATO INCORRECTO\",\"FORMATO CORRECTO\"))","v":""},{"$f":"IF(N406=\"\",\"\",IF(ISERROR(edata(N406)),\"FORMATO INCORRECTO\",\"FORMATO CORRECTO\"))","v":""}]
["1901-02-04","",null,null,null,null,null,null,"",null,null,null,null,null,null,null,null,"",null,null,null,null,null,null,null,null,"",null,"",null,null,"",null,null,null,null,null,0,0,0,0,0,{"$f":"IF(AO407<>0,SUMIFS($AP$6:$AP$1001,$AN$6:$AN$1001,AN407,$F$6:$F$1001,F407,$AX$6:$AX$1001,AX407),0)","v":0},0,{"$f":"IF(AO407<>0,SUMIFS($AP$6:$AP$1001,$AR$6:$AR$1001,AR407,$F$6:$F$1001,F407,$AX$6:$AX$1001,AX407),0)","v":0},0,0,0,{"$f":"IF(AU407<>0,SUMIFS($AV$6:$AV$1001,$AT$6:$AT$1001,AT407,$F$6:$F$1001,F407,$AY$6:$AY$1001,AY407),0)","v":0},1900,1900,0,0,0,0,0,0,0,0,0,"","",0,0,0,"FORMATO INCORRECTO","FORMATO INCORRECTO","FORMATO INCORRECTO",{"$f":"IF(L407=\"\",\"\",IF(ISERROR(edata(L407)),\"FORMATO INCORRECTO\",\"FORMATO CORRECTO\"))","v":""},{"$f":"IF(U407=\"\",\"\",IF(ISERROR(edata(U407)),\"FORMATO INCORRECTO\",\"FORMATO CORRECTO\"))","v":""},{"$f":"IF(N407=\"\",\"\",IF(ISERROR(edata(N407)),\"FORMATO INCORRECTO\",\"FORMATO CORRECTO\"))","v":""}]
["1901-02-05","",null,null,null,null,null,null,"",null,null,null,null,null,null,null,null,"",null,null,null,null,null,null,null,null,"",null,"",null,null,"",null,null,null,null,null,0,0,0,0,0,{"$f":"IF(AO408<>0,SUMIFS($AP$6:$AP$1001,$AN$6:$AN$1001,AN408,$F$6:$F$1001,F408,$AX$6:$AX$1001,AX408),0)","v":0},0,{"$f":"IF(AO408<>0,SUMIFS($AP$6:$AP$1001,$AR$6:$AR$1001,AR408,$F$6:$F$1001,F408,$AX$6:$AX$1001,AX408),0)","v":0},0,0,0,{"$f":"IF(AU408<>0,SUMIFS($AV$6:$AV$1001,$AT$6:$AT$1001,AT408,$F$6:$F$1001,F408,$AY$6:$AY$1001,AY408),0)","v":0},1900,1900,0,0,0,0,0,0,0,0,0,"","",0,0,0,"FORMATO INCORRECTO","FORMATO INCORRECTO","FORMATO INCORRECTO",{"$f":"IF(L408=\"\",\"\",IF(ISERROR(edata(L408)),\"FORMATO INCORRECTO\",\"FORMATO CORRECTO\"))","v":""},{"$f":"IF(U408=\"\",\"\",IF(ISERROR(edata(U408)),\"FORMATO INCORRECTO\",\"FORMATO CORRECTO\"))","v":""},{"$f":"IF(N408=\"\",\"\",IF(ISERROR(edata(N408)),\"FORMATO INCORRECTO\",\"FORMATO CORRECTO\"))","v":""}]
["1901-02-06","",null,null,null,null,null,null,"",null,null,null,null,null,null,null,null,"",null,null,null,null,null,null,null,null,"",null,"",null,null,"",null,null,null,null,null,0,0,0,0,0,{"$f":"IF(AO409<>0,SUMIFS($AP$6:$AP$1001,$AN$6:$AN$1001,AN409,$F$6:$F$1001,F409,$AX$6:$AX$1001,AX409),0)","v":0},0,{"$f":"IF(AO409<>0,SUMIFS($AP$6:$AP$1001,$AR$6:$AR$1001,AR409,$F$6:$F$1001,F409,$AX$6:$AX$1001,AX409),0)","v":0},0,0,0,{"$f":"IF(AU409<>0,SUMIFS($AV$6:$AV$1001,$AT$6:$AT$1001,AT409,$F$6:$F$1001,F409,$AY$6:$AY$1001,AY409),0)","v":0},1900,1900,0,0,0,0,0,0,0,0,0,"","",0,0,0,"FORMATO INCORRECTO","FORMATO INCORRECTO","FORMATO INCORRECTO",{"$f":"IF(L409=\"\",\"\",IF(ISERROR(edata(L409)),\"FORMATO INCORRECTO\",\"FORMATO CORRECTO\"))","v":""},{"$f":"IF(U409=\"\",\"\",IF(ISERROR(edata(U409)),\"FORMATO INCORRECTO\",\"FORMATO CORRECTO\"))","v":""},{"$f":"IF(N409=\"\",\"\",IF(ISERROR(edata(N409)),\"FORMATO INCORRECTO\",\"FORMATO CORRECTO\"))","v":""}]
["1901-02-07","",null,null,null,null,null,null,"",null,null,null,null,null,null,null,null,"",null,null,null,null,null,null,null,null,"",null,"",null,null,"",null,null,null,null,null,0,0,0,0,0,{"$f":"IF(AO410<>0,SUMIFS($AP$6:$AP$1001,$AN$6:$AN$1001,AN410,$F$6:$F$1001,F410,$AX$6:$AX$1001,AX410),0)","v":0},0,{"$f":"IF(AO410<>0,SUMIFS($AP$6:$AP$1001,$AR$6:$AR$1001,AR410,$F$6:$F$1001,F410,$AX$6:$AX$1001,AX410),0)","v":0},0,0,0,{"$f":"IF(AU410<>0,SUMIFS($AV$6:$AV$1001,$AT$6:$AT$1001,AT410,$F$6:$F$1001,F410,$AY$6:$AY$1001,AY410),0)","v":0},1900,1900,0,0,0,0,0,0,0,0,0,"","",0,0,0,"FORMATO INCORRECTO","FORMATO INCORRECTO","FORMATO INCORRECTO",{"$f":"IF(L410=\"\",\"\",IF(ISERROR(edata(L410)),\"FORMATO INCORRECTO\",\"FORMATO CORRECTO\"))","v":""},{"$f":"IF(U410=\"\",\"\",IF(ISERROR(edata(U410)),\"FORMATO INCORRECTO\",\"FORMATO CORRECTO\"))","v":""},{"$f":"IF(N410=\"\",\"\",IF(ISERROR(edata(N410)),\"FORMATO INCORRECTO\",\"FORMATO CORRECTO\"))","v":""}]
["1901-02-08","",null,null,null,null,null,null,"",null,null,null,null,null,null,null,null,"",null,null,null,null,null,null,null,null,"",null,"",null,null,"",null,null,null,null,null,0,0,0,0,0,{"$f":"IF(AO411<>0,SUMIFS($AP$6:$AP$1001,$AN$6:$AN$1001,AN411,$F$6:$F$1001,F411,$AX$6:$AX$1001,AX411),0)","v":0},0,{"$f":"IF(AO411<>0,SUMIFS($AP$6:$AP$1001,$AR$6:$AR$1001,AR411,$F$6:$F$1001,F411,$AX$6:$AX$1001,AX411),0)","v":0},0,0,0,{"$f":"IF(AU411<>0,SUMIFS($AV$6:$AV$1001,$AT$6:$AT$1001,AT411,$F$6:$F$1001,F411,$AY$6:$AY$1001,AY411),0)","v":0},1900,1900,0,0,0,0,0,0,0,0,0,"","",0,0,0,"FORMATO INCORRECTO","FORMATO INCORRECTO","FORMATO INCORRECTO",{"$f":"IF(L411=\"\",\"\",IF(ISERROR(edata(L411)),\"FORMATO INCORRECTO\",\"FORMATO CORRECTO\"))","v":""},{"$f":"IF(U411=\"\",\"\",IF(ISERROR(edata(U411)),\"FORMATO INCORRECTO\",\"FORMATO CORRECTO\"))","v":""},{"$f":"IF(N411=\"\",\"\",IF(ISERROR(edata(N411)),\"FORMATO INCORRECTO\",\"FORMATO CORRECTO\"))","v":""}]
["1901-02-09","",null,null,null,null,null,null,"",null,null,null,null,null,null,null,null,"",null,null,null,null,null,null,null,null,"",null,"",null,null,"",null,null,null,null,null,0,0,0,0,0,{"$f":"IF(AO412<>0,SUMIFS($AP$6:$AP$1001,$AN$6:$AN$1001,AN412,$F$6:$F$1001,F412,$AX$6:$AX$1001,AX412),0)","v":0},0,{"$f":"IF(AO412<>0,SUMIFS($AP$6:$AP$1001,$AR$6:$AR$1001,AR412,$F$6:$F$1001,F412,$AX$6:$AX$1001,AX412),0)","v":0},0,0,0,{"$f":"IF(AU412<>0,SUMIFS($AV$6:$AV$1001,$AT$6:$AT$1001,AT412,$F$6:$F$1001,F412,$AY$6:$AY$1001,AY412),0)","v":0},1900,1900,0,0,0,0,0,0,0,0,0,"","",0,0,0,"FORMATO INCORRECTO","FORMATO INCORRECTO","FORMATO INCORRECTO",{"$f":"IF(L412=\"\",\"\",IF(ISERROR(edata(L412)),\"FORMATO INCORRECTO\",\"FORMATO CORRECTO\"))","v":""},{"$f":"IF(U412=\"\",\"\",IF(ISERROR(edata(U412)),\"FORMATO INCORRECTO\",\"FORMATO CORRECTO\"))","v":""},{"$f":"IF(N412=\"\",\"\",IF(ISERROR(edata(N412)),\"FORMATO INCORRECTO\",\"FORMATO CORRECTO\"))","v":""}]
["1901-02-10","",null,null,null,null,null,null,"",null,null,null,null,null,null,null,null,"",null,null,null,null,null,null,null,null,"",null,"",null,null,"",null,null,null,null,null,0,0,0,0,0,{"$f":"IF(AO413<>0,SUMIFS($AP$6:$AP$1001,$AN$6:$AN$1001,AN413,$F$6:$F$1001,F413,$AX$6:$AX$1001,AX413),0)","v":0},0,{"$f":"IF(AO413<>0,SUMIFS($AP$6:$AP$1001,$AR$6:$AR$1001,AR413,$F$6:$F$1001,F413,$AX$6:$AX$1001,AX413),0)","v":0},0,0,0,{"$f":"IF(AU413<>0,SUMIFS($AV$6:$AV$1001,$AT$6:$AT$1001,AT413,$F$6:$F$1001,F413,$AY$6:$AY$1001,AY413),0)","v":0},1900,1900,0,0,0,0,0,0,0,0,0,"","",0,0,0,"FORMATO INCORRECTO","FORMATO INCORRECTO","FORMATO INCORRECTO",{"$f":"IF(L413=\"\",\"\",IF(ISERROR(edata(L413)),\"FORMATO INCORRECTO\",\"FORMATO CORRECTO\"))","v":""},{"$f":"IF(U413=\"\",\"\",IF(ISERROR(edata(U413)),\"FORMATO INCORRECTO\",\"FORMATO CORRECTO\"))","v":""},{"$f":"IF(N413=\"\",\"\",IF(ISERROR(edata(N413)),\"FORMATO INCORRECTO\",\"FORMATO CORRECTO\"))","v":""}]
["1901-02-11","",null,null,null,null,null,null,"",null,null,null,null,null,null,null,null,"",null,null,null,null,null,null,null,null,"",null,"",null,null,"",null,null,null,null,null,0,0,0,0,0,{"$f":"IF(AO414<>0,SUMIFS($AP$6:$AP$1001,$AN$6:$AN$1001,AN414,$F$6:$F$1001,F414,$AX$6:$AX$1001,AX414),0)","v":0},0,{"$f":"IF(AO414<>0,SUMIFS($AP$6:$AP$1001,$AR$6:$AR$1001,AR414,$F$6:$F$1001,F414,$AX$6:$AX$1001,AX414),0)","v":0},0,0,0,{"$f":"IF(AU414<>0,SUMIFS($AV$6:$AV$1001,$AT$6:$AT$1001,AT414,$F$6:$F$1001,F414,$AY$6:$AY$1001,AY414),0)","v":0},1900,1900,0,0,0,0,0,0,0,0,0,"","",0,0,0,"FORMATO INCORRECTO","FORMATO INCORRECTO","FORMATO INCORRECTO",{"$f":"IF(L414=\"\",\"\",IF(ISERROR(edata(L414)),\"FORMATO INCORRECTO\",\"FORMATO CORRECTO\"))","v":""},{"$f":"IF(U414=\"\",\"\",IF(ISERROR(edata(U414)),\"FORMATO INCORRECTO\",\"FORMATO CORRECTO\"))","v":""},{"$f":"IF(N414=\"\",\"\",IF(ISERROR(edata(N414)),\"FORMATO INCORRECTO\",\"FORMATO CORRECTO\"))","v":""}]
["1901-02-12","",null,null,null,null,null,null,"",null,null,null,null,null,null,null,null,"",null,null,null,null,null,null,null,null,"",null,"",null,null,"",null,null,null,null,null,0,0,0,0,0,{"$f":"IF(AO415<>0,SUMIFS($AP$6:$AP$1001,$AN$6:$AN$1001,AN415,$F$6:$F$1001,F415,$AX$6:$AX$1001,AX415),0)","v":0},0,{"$f":"IF(AO415<>0,SUMIFS($AP$6:$AP$1001,$AR$6:$AR$1001,AR415,$F$6:$F$1001,F415,$AX$6:$AX$1001,AX415),0)","v":0},0,0,0,{"$f":"IF(AU415<>0,SUMIFS($AV$6:$AV$1001,$AT$6:$AT$1001,AT415,$F$6:$F$1001,F415,$AY$6:$AY$1001,AY415),0)","v":0},1900,1900,0,0,0,0,0,0,0,0,0,"","",0,0,0,"FORMATO INCORRECTO","FORMATO INCORRECTO","FORMATO INCORRECTO",{"$f":"IF(L415=\"\",\"\",IF(ISERROR(edata(L415)),\"FORMATO INCORRECTO\",\"FORMATO CORRECTO\"))","v":""},{"$f":"IF(U415=\"\",\"\",IF(ISERROR(edata(U415)),\"FORMATO INCORRECTO\",\"FORMATO CORRECTO\"))","v":""},{"$f":"IF(N415=\"\",\"\",IF(ISERROR(edata(N415)),\"FORMATO INCORRECTO\",\"FORMATO CORRECTO\"))","v":""}]
["1901-02-13","",null,null,null,null,null,null,"",null,null,null,null,null,null,null,null,"",null,null,null,null,null,null,null,null,"",null,"",null,null,"",null,null,null,null,null,0,0,0,0,0,{"$f":"IF(AO416<>0,SUMIFS($AP$6:$AP$1001,$AN$6:$AN$1001,AN416,$F$6:$F$1001,F416,$AX$6:$AX$1001,AX416),0)","v":0},0,{"$f":"IF(AO416<>0,SUMIFS($AP$6:$AP$1001,$AR$6:$AR$1001,AR416,$F$6:$F$1001,F416,$AX$6:$AX$1001,AX416),0)","v":0},0,0,0,{"$f":"IF(AU416<>0,SUMIFS($AV$6:$AV$1001,$AT$6:$AT$1001,AT416,$F$6:$F$1001,F416,$AY$6:$AY$1001,AY416),0)","v":0},1900,1900,0,0,0,0,0,0,0,0,0,"","",0,0,0,"FORMATO INCORRECTO","FORMATO INCORRECTO","FORMATO INCORRECTO",{"$f":"IF(L416=\"\",\"\",IF(ISERROR(edata(L416)),\"FORMATO INCORRECTO\",\"FORMATO CORRECTO\"))","v":""},{"$f":"IF(U416=\"\",\"\",IF(ISERROR(edata(U416)),\"FORMATO INCORRECTO\",\"FORMATO CORRECTO\"))","v":""},{"$f":"IF(N416=\"\",\"\",IF(ISERROR(edata(N416)),\"FORMATO INCORRECTO\",\"FORMATO CORRECTO\"))","v":""}]
["1901-02-14","",null,null,null,null,null,null,"",null,null,null,null,null,null,null,null,"",null,null,null,null,null,null,null,null,"",null,"",null,null,"",null,null,null,null,null,0,0,0,0,0,{"$f":"IF(AO417<>0,SUMIFS($AP$6:$AP$1001,$AN$6:$AN$1001,AN417,$F$6:$F$1001,F417,$AX$6:$AX$1001,AX417),0)","v":0},0,{"$f":"IF(AO417<>0,SUMIFS($AP$6:$AP$1001,$AR$6:$AR$1001,AR417,$F$6:$F$1001,F417,$AX$6:$AX$1001,AX417),0)","v":0},0,0,0,{"$f":"IF(AU417<>0,SUMIFS($AV$6:$AV$1001,$AT$6:$AT$1001,AT417,$F$6:$F$1001,F417,$AY$6:$AY$1001,AY417),0)","v":0},1900,1900,0,0,0,0,0,0,0,0,0,"","",0,0,0,"FORMATO INCORRECTO","FORMATO INCORRECTO","FORMATO INCORRECTO",{"$f":"IF(L417=\"\",\"\",IF(ISERROR(edata(L417)),\"FORMATO INCORRECTO\",\"FORMATO CORRECTO\"))","v":""},{"$f":"IF(U417=\"\",\"\",IF(ISERROR(edata(U417)),\"FORMATO INCORRECTO\",\"FORMATO CORRECTO\"))","v":""},{"$f":"IF(N417=\"\",\"\",IF(ISERROR(edata(N417)),\"FORMATO INCORRECTO\",\"FORMATO CORRECTO\"))","v":""}]
["1901-02-15","",null,null,null,null,null,null,"",null,null,null,null,null,null,null,null,"",null,null,null,null,null,null,null,null,"",null,"",null,null,"",null,null,null,null,null,0,0,0,0,0,{"$f":"IF(AO418<>0,SUMIFS($AP$6:$AP$1001,$AN$6:$AN$1001,AN418,$F$6:$F$1001,F418,$AX$6:$AX$1001,AX418),0)","v":0},0,{"$f":"IF(AO418<>0,SUMIFS($AP$6:$AP$1001,$AR$6:$AR$1001,AR418,$F$6:$F$1001,F418,$AX$6:$AX$1001,AX418),0)","v":0},0,0,0,{"$f":"IF(AU418<>0,SUMIFS($AV$6:$AV$1001,$AT$6:$AT$1001,AT418,$F$6:$F$1001,F418,$AY$6:$AY$1001,AY418),0)","v":0},1900,1900,0,0,0,0,0,0,0,0,0,"","",0,0,0,"FORMATO INCORRECTO","FORMATO INCORRECTO","FORMATO INCORRECTO",{"$f":"IF(L418=\"\",\"\",IF(ISERROR(edata(L418)),\"FORMATO INCORRECTO\",\"FORMATO CORRECTO\"))","v":""},{"$f":"IF(U418=\"\",\"\",IF(ISERROR(edata(U418)),\"FORMATO INCORRECTO\",\"FORMATO CORRECTO\"))","v":""},{"$f":"IF(N418=\"\",\"\",IF(ISERROR(edata(N418)),\"FORMATO INCORRECTO\",\"FORMATO CORRECTO\"))","v":""}]
["1901-02-16","",null,null,null,null,null,null,"",null,null,null,null,null,null,null,null,"",null,null,null,null,null,null,null,null,"",null,"",null,null,"",null,null,null,null,null,0,0,0,0,0,{"$f":"IF(AO419<>0,SUMIFS($AP$6:$AP$1001,$AN$6:$AN$1001,AN419,$F$6:$F$1001,F419,$AX$6:$AX$1001,AX419),0)","v":0},0,{"$f":"IF(AO419<>0,SUMIFS($AP$6:$AP$1001,$AR$6:$AR$1001,AR419,$F$6:$F$1001,F419,$AX$6:$AX$1001,AX419),0)","v":0},0,0,0,{"$f":"IF(AU419<>0,SUMIFS($AV$6:$AV$1001,$AT$6:$AT$1001,AT419,$F$6:$F$1001,F419,$AY$6:$AY$1001,AY419),0)","v":0},1900,1900,0,0,0,0,0,0,0,0,0,"","",0,0,0,"FORMATO INCORRECTO","FORMATO INCORRECTO","FORMATO INCORRECTO",{"$f":"IF(L419=\"\",\"\",IF(ISERROR(edata(L419)),\"FORMATO INCORRECTO\",\"FORMATO CORRECTO\"))","v":""},{"$f":"IF(U419=\"\",\"\",IF(ISERROR(edata(U419)),\"FORMATO INCORRECTO\",\"FORMATO CORRECTO\"))","v":""},{"$f":"IF(N419=\"\",\"\",IF(ISERROR(edata(N419)),\"FORMATO INCORRECTO\",\"FORMATO CORRECTO\"))","v":""}]
["1901-02-17","",null,null,null,null,null,null,"",null,null,null,null,null,null,null,null,"",null,null,null,null,null,null,null,null,"",null,"",null,null,"",null,null,null,null,null,0,0,0,0,0,{"$f":"IF(AO420<>0,SUMIFS($AP$6:$AP$1001,$AN$6:$AN$1001,AN420,$F$6:$F$1001,F420,$AX$6:$AX$1001,AX420),0)","v":0},0,{"$f":"IF(AO420<>0,SUMIFS($AP$6:$AP$1001,$AR$6:$AR$1001,AR420,$F$6:$F$1001,F420,$AX$6:$AX$1001,AX420),0)","v":0},0,0,0,{"$f":"IF(AU420<>0,SUMIFS($AV$6:$AV$1001,$AT$6:$AT$1001,AT420,$F$6:$F$1001,F420,$AY$6:$AY$1001,AY420),0)","v":0},1900,1900,0,0,0,0,0,0,0,0,0,"","",0,0,0,"FORMATO INCORRECTO","FORMATO INCORRECTO","FORMATO INCORRECTO",{"$f":"IF(L420=\"\",\"\",IF(ISERROR(edata(L420)),\"FORMATO INCORRECTO\",\"FORMATO CORRECTO\"))","v":""},{"$f":"IF(U420=\"\",\"\",IF(ISERROR(edata(U420)),\"FORMATO INCORRECTO\",\"FORMATO CORRECTO\"))","v":""},{"$f":"IF(N420=\"\",\"\",IF(ISERROR(edata(N420)),\"FORMATO INCORRECTO\",\"FORMATO CORRECTO\"))","v":""}]
["1901-02-18","",null,null,null,null,null,null,"",null,null,null,null,null,null,null,null,"",null,null,null,null,null,null,null,null,"",null,"",null,null,"",null,null,null,null,null,0,0,0,0,0,{"$f":"IF(AO421<>0,SUMIFS($AP$6:$AP$1001,$AN$6:$AN$1001,AN421,$F$6:$F$1001,F421,$AX$6:$AX$1001,AX421),0)","v":0},0,{"$f":"IF(AO421<>0,SUMIFS($AP$6:$AP$1001,$AR$6:$AR$1001,AR421,$F$6:$F$1001,F421,$AX$6:$AX$1001,AX421),0)","v":0},0,0,0,{"$f":"IF(AU421<>0,SUMIFS($AV$6:$AV$1001,$AT$6:$AT$1001,AT421,$F$6:$F$1001,F421,$AY$6:$AY$1001,AY421),0)","v":0},1900,1900,0,0,0,0,0,0,0,0,0,"","",0,0,0,"FORMATO INCORRECTO","FORMATO INCORRECTO","FORMATO INCORRECTO",{"$f":"IF(L421=\"\",\"\",IF(ISERROR(edata(L421)),\"FORMATO INCORRECTO\",\"FORMATO CORRECTO\"))","v":""},{"$f":"IF(U421=\"\",\"\",IF(ISERROR(edata(U421)),\"FORMATO INCORRECTO\",\"FORMATO CORRECTO\"))","v":""},{"$f":"IF(N421=\"\",\"\",IF(ISERROR(edata(N421)),\"FORMATO INCORRECTO\",\"FORMATO CORRECTO\"))","v":""}]
["1901-02-19","",null,null,null,null,null,null,"",null,null,null,null,null,null,null,null,"",null,null,null,null,null,null,null,null,"",null,"",null,null,"",null,null,null,null,null,0,0,0,0,0,{"$f":"IF(AO422<>0,SUMIFS($AP$6:$AP$1001,$AN$6:$AN$1001,AN422,$F$6:$F$1001,F422,$AX$6:$AX$1001,AX422),0)","v":0},0,{"$f":"IF(AO422<>0,SUMIFS($AP$6:$AP$1001,$AR$6:$AR$1001,AR422,$F$6:$F$1001,F422,$AX$6:$AX$1001,AX422),0)","v":0},0,0,0,{"$f":"IF(AU422<>0,SUMIFS($AV$6:$AV$1001,$AT$6:$AT$1001,AT422,$F$6:$F$1001,F422,$AY$6:$AY$1001,AY422),0)","v":0},1900,1900,0,0,0,0,0,0,0,0,0,"","",0,0,0,"FORMATO INCORRECTO","FORMATO INCORRECTO","FORMATO INCORRECTO",{"$f":"IF(L422=\"\",\"\",IF(ISERROR(edata(L422)),\"FORMATO INCORRECTO\",\"FORMATO CORRECTO\"))","v":""},{"$f":"IF(U422=\"\",\"\",IF(ISERROR(edata(U422)),\"FORMATO INCORRECTO\",\"FORMATO CORRECTO\"))","v":""},{"$f":"IF(N422=\"\",\"\",IF(ISERROR(edata(N422)),\"FORMATO INCORRECTO\",\"FORMATO CORRECTO\"))","v":""}]
["1901-02-20","",null,null,null,null,null,null,"",null,null,null,null,null,null,null,null,"",null,null,null,null,null,null,null,null,"",null,"",null,null,"",null,null,null,null,null,0,0,0,0,0,{"$f":"IF(AO423<>0,SUMIFS($AP$6:$AP$1001,$AN$6:$AN$1001,AN423,$F$6:$F$1001,F423,$AX$6:$AX$1001,AX423),0)","v":0},0,{"$f":"IF(AO423<>0,SUMIFS($AP$6:$AP$1001,$AR$6:$AR$1001,AR423,$F$6:$F$1001,F423,$AX$6:$AX$1001,AX423),0)","v":0},0,0,0,{"$f":"IF(AU423<>0,SUMIFS($AV$6:$AV$1001,$AT$6:$AT$1001,AT423,$F$6:$F$1001,F423,$AY$6:$AY$1001,AY423),0)","v":0},1900,1900,0,0,0,0,0,0,0,0,0,"","",0,0,0,"FORMATO INCORRECTO","FORMATO INCORRECTO","FORMATO INCORRECTO",{"$f":"IF(L423=\"\",\"\",IF(ISERROR(edata(L423)),\"FORMATO INCORRECTO\",\"FORMATO CORRECTO\"))","v":""},{"$f":"IF(U423=\"\",\"\",IF(ISERROR(edata(U423)),\"FORMATO INCORRECTO\",\"FORMATO CORRECTO\"))","v":""},{"$f":"IF(N423=\"\",\"\",IF(ISERROR(edata(N423)),\"FORMATO INCORRECTO\",\"FORMATO CORRECTO\"))","v":""}]
["1901-02-21","",null,null,null,null,null,null,"",null,null,null,null,null,null,null,null,"",null,null,null,null,null,null,null,null,"",null,"",null,null,"",null,null,null,null,null,0,0,0,0,0,{"$f":"IF(AO424<>0,SUMIFS($AP$6:$AP$1001,$AN$6:$AN$1001,AN424,$F$6:$F$1001,F424,$AX$6:$AX$1001,AX424),0)","v":0},0,{"$f":"IF(AO424<>0,SUMIFS($AP$6:$AP$1001,$AR$6:$AR$1001,AR424,$F$6:$F$1001,F424,$AX$6:$AX$1001,AX424),0)","v":0},0,0,0,{"$f":"IF(AU424<>0,SUMIFS($AV$6:$AV$1001,$AT$6:$AT$1001,AT424,$F$6:$F$1001,F424,$AY$6:$AY$1001,AY424),0)","v":0},1900,1900,0,0,0,0,0,0,0,0,0,"","",0,0,0,"FORMATO INCORRECTO","FORMATO INCORRECTO","FORMATO INCORRECTO",{"$f":"IF(L424=\"\",\"\",IF(ISERROR(edata(L424)),\"FORMATO INCORRECTO\",\"FORMATO CORRECTO\"))","v":""},{"$f":"IF(U424=\"\",\"\",IF(ISERROR(edata(U424)),\"FORMATO INCORRECTO\",\"FORMATO CORRECTO\"))","v":""},{"$f":"IF(N424=\"\",\"\",IF(ISERROR(edata(N424)),\"FORMATO INCORRECTO\",\"FORMATO CORRECTO\"))","v":""}]
["1901-02-22","",null,null,null,null,null,null,"",null,null,null,null,null,null,null,null,"",null,null,null,null,null,null,null,null,"",null,"",null,null,"",null,null,null,null,null,0,0,0,0,0,{"$f":"IF(AO425<>0,SUMIFS($AP$6:$AP$1001,$AN$6:$AN$1001,AN425,$F$6:$F$1001,F425,$AX$6:$AX$1001,AX425),0)","v":0},0,{"$f":"IF(AO425<>0,SUMIFS($AP$6:$AP$1001,$AR$6:$AR$1001,AR425,$F$6:$F$1001,F425,$AX$6:$AX$1001,AX425),0)","v":0},0,0,0,{"$f":"IF(AU425<>0,SUMIFS($AV$6:$AV$1001,$AT$6:$AT$1001,AT425,$F$6:$F$1001,F425,$AY$6:$AY$1001,AY425),0)","v":0},1900,1900,0,0,0,0,0,0,0,0,0,"","",0,0,0,"FORMATO INCORRECTO","FORMATO INCORRECTO","FORMATO INCORRECTO",{"$f":"IF(L425=\"\",\"\",IF(ISERROR(edata(L425)),\"FORMATO INCORRECTO\",\"FORMATO CORRECTO\"))","v":""},{"$f":"IF(U425=\"\",\"\",IF(ISERROR(edata(U425)),\"FORMATO INCORRECTO\",\"FORMATO CORRECTO\"))","v":""},{"$f":"IF(N425=\"\",\"\",IF(ISERROR(edata(N425)),\"FORMATO INCORRECTO\",\"FORMATO CORRECTO\"))","v":""}]
["1901-02-23","",null,null,null,null,null,null,"",null,null,null,null,null,null,null,null,"",null,null,null,null,null,null,null,null,"",null,"",null,null,"",null,null,null,null,null,0,0,0,0,0,{"$f":"IF(AO426<>0,SUMIFS($AP$6:$AP$1001,$AN$6:$AN$1001,AN426,$F$6:$F$1001,F426,$AX$6:$AX$1001,AX426),0)","v":0},0,{"$f":"IF(AO426<>0,SUMIFS($AP$6:$AP$1001,$AR$6:$AR$1001,AR426,$F$6:$F$1001,F426,$AX$6:$AX$1001,AX426),0)","v":0},0,0,0,{"$f":"IF(AU426<>0,SUMIFS($AV$6:$AV$1001,$AT$6:$AT$1001,AT426,$F$6:$F$1001,F426,$AY$6:$AY$1001,AY426),0)","v":0},1900,1900,0,0,0,0,0,0,0,0,0,"","",0,0,0,"FORMATO INCORRECTO","FORMATO INCORRECTO","FORMATO INCORRECTO",{"$f":"IF(L426=\"\",\"\",IF(ISERROR(edata(L426)),\"FORMATO INCORRECTO\",\"FORMATO CORRECTO\"))","v":""},{"$f":"IF(U426=\"\",\"\",IF(ISERROR(edata(U426)),\"FORMATO INCORRECTO\",\"FORMATO CORRECTO\"))","v":""},{"$f":"IF(N426=\"\",\"\",IF(ISERROR(edata(N426)),\"FORMATO INCORRECTO\",\"FORMATO CORRECTO\"))","v":""}]
["1901-02-24","",null,null,null,null,null,null,"",null,null,null,null,null,null,null,null,"",null,null,null,null,null,null,null,null,"",null,"",null,null,"",null,null,null,null,null,0,0,0,0,0,{"$f":"IF(AO427<>0,SUMIFS($AP$6:$AP$1001,$AN$6:$AN$1001,AN427,$F$6:$F$1001,F427,$AX$6:$AX$1001,AX427),0)","v":0},0,{"$f":"IF(AO427<>0,SUMIFS($AP$6:$AP$1001,$AR$6:$AR$1001,AR427,$F$6:$F$1001,F427,$AX$6:$AX$1001,AX427),0)","v":0},0,0,0,{"$f":"IF(AU427<>0,SUMIFS($AV$6:$AV$1001,$AT$6:$AT$1001,AT427,$F$6:$F$1001,F427,$AY$6:$AY$1001,AY427),0)","v":0},1900,1900,0,0,0,0,0,0,0,0,0,"","",0,0,0,"FORMATO INCORRECTO","FORMATO INCORRECTO","FORMATO INCORRECTO",{"$f":"IF(L427=\"\",\"\",IF(ISERROR(edata(L427)),\"FORMATO INCORRECTO\",\"FORMATO CORRECTO\"))","v":""},{"$f":"IF(U427=\"\",\"\",IF(ISERROR(edata(U427)),\"FORMATO INCORRECTO\",\"FORMATO CORRECTO\"))","v":""},{"$f":"IF(N427=\"\",\"\",IF(ISERROR(edata(N427)),\"FORMATO INCORRECTO\",\"FORMATO CORRECTO\"))","v":""}]
["1901-02-25","",null,null,null,null,null,null,"",null,null,null,null,null,null,null,null,"",null,null,null,null,null,null,null,null,"",null,"",null,null,"",null,null,null,null,null,0,0,0,0,0,{"$f":"IF(AO428<>0,SUMIFS($AP$6:$AP$1001,$AN$6:$AN$1001,AN428,$F$6:$F$1001,F428,$AX$6:$AX$1001,AX428),0)","v":0},0,{"$f":"IF(AO428<>0,SUMIFS($AP$6:$AP$1001,$AR$6:$AR$1001,AR428,$F$6:$F$1001,F428,$AX$6:$AX$1001,AX428),0)","v":0},0,0,0,{"$f":"IF(AU428<>0,SUMIFS($AV$6:$AV$1001,$AT$6:$AT$1001,AT428,$F$6:$F$1001,F428,$AY$6:$AY$1001,AY428),0)","v":0},1900,1900,0,0,0,0,0,0,0,0,0,"","",0,0,0,"FORMATO INCORRECTO","FORMATO INCORRECTO","FORMATO INCORRECTO",{"$f":"IF(L428=\"\",\"\",IF(ISERROR(edata(L428)),\"FORMATO INCORRECTO\",\"FORMATO CORRECTO\"))","v":""},{"$f":"IF(U428=\"\",\"\",IF(ISERROR(edata(U428)),\"FORMATO INCORRECTO\",\"FORMATO CORRECTO\"))","v":""},{"$f":"IF(N428=\"\",\"\",IF(ISERROR(edata(N428)),\"FORMATO INCORRECTO\",\"FORMATO CORRECTO\"))","v":""}]
["1901-02-26","",null,null,null,null,null,null,"",null,null,null,null,null,null,null,null,"",null,null,null,null,null,null,null,null,"",null,"",null,null,"",null,null,null,null,null,0,0,0,0,0,{"$f":"IF(AO429<>0,SUMIFS($AP$6:$AP$1001,$AN$6:$AN$1001,AN429,$F$6:$F$1001,F429,$AX$6:$AX$1001,AX429),0)","v":0},0,{"$f":"IF(AO429<>0,SUMIFS($AP$6:$AP$1001,$AR$6:$AR$1001,AR429,$F$6:$F$1001,F429,$AX$6:$AX$1001,AX429),0)","v":0},0,0,0,{"$f":"IF(AU429<>0,SUMIFS($AV$6:$AV$1001,$AT$6:$AT$1001,AT429,$F$6:$F$1001,F429,$AY$6:$AY$1001,AY429),0)","v":0},1900,1900,0,0,0,0,0,0,0,0,0,"","",0,0,0,"FORMATO INCORRECTO","FORMATO INCORRECTO","FORMATO INCORRECTO",{"$f":"IF(L429=\"\",\"\",IF(ISERROR(edata(L429)),\"FORMATO INCORRECTO\",\"FORMATO CORRECTO\"))","v":""},{"$f":"IF(U429=\"\",\"\",IF(ISERROR(edata(U429)),\"FORMATO INCORRECTO\",\"FORMATO CORRECTO\"))","v":""},{"$f":"IF(N429=\"\",\"\",IF(ISERROR(edata(N429)),\"FORMATO INCORRECTO\",\"FORMATO CORRECTO\"))","v":""}]
["1901-02-27","",null,null,null,null,null,null,"",null,null,null,null,null,null,null,null,"",null,null,null,null,null,null,null,null,"",null,"",null,null,"",null,null,null,null,null,0,0,0,0,0,{"$f":"IF(AO430<>0,SUMIFS($AP$6:$AP$1001,$AN$6:$AN$1001,AN430,$F$6:$F$1001,F430,$AX$6:$AX$1001,AX430),0)","v":0},0,{"$f":"IF(AO430<>0,SUMIFS($AP$6:$AP$1001,$AR$6:$AR$1001,AR430,$F$6:$F$1001,F430,$AX$6:$AX$1001,AX430),0)","v":0},0,0,0,{"$f":"IF(AU430<>0,SUMIFS($AV$6:$AV$1001,$AT$6:$AT$1001,AT430,$F$6:$F$1001,F430,$AY$6:$AY$1001,AY430),0)","v":0},1900,1900,0,0,0,0,0,0,0,0,0,"","",0,0,0,"FORMATO INCORRECTO","FORMATO INCORRECTO","FORMATO INCORRECTO",{"$f":"IF(L430=\"\",\"\",IF(ISERROR(edata(L430)),\"FORMATO INCORRECTO\",\"FORMATO CORRECTO\"))","v":""},{"$f":"IF(U430=\"\",\"\",IF(ISERROR(edata(U430)),\"FORMATO INCORRECTO\",\"FORMATO CORRECTO\"))","v":""},{"$f":"IF(N430=\"\",\"\",IF(ISERROR(edata(N430)),\"FORMATO INCORRECTO\",\"FORMATO CORRECTO\"))","v":""}]
["1901-02-28","",null,null,null,null,null,null,"",null,null,null,null,null,null,null,null,"",null,null,null,null,null,null,null,null,"",null,"",null,null,"",null,null,null,null,null,0,0,0,0,0,{"$f":"IF(AO431<>0,SUMIFS($AP$6:$AP$1001,$AN$6:$AN$1001,AN431,$F$6:$F$1001,F431,$AX$6:$AX$1001,AX431),0)","v":0},0,{"$f":"IF(AO431<>0,SUMIFS($AP$6:$AP$1001,$AR$6:$AR$1001,AR431,$F$6:$F$1001,F431,$AX$6:$AX$1001,AX431),0)","v":0},0,0,0,{"$f":"IF(AU431<>0,SUMIFS($AV$6:$AV$1001,$AT$6:$AT$1001,AT431,$F$6:$F$1001,F431,$AY$6:$AY$1001,AY431),0)","v":0},1900,1900,0,0,0,0,0,0,0,0,0,"","",0,0,0,"FORMATO INCORRECTO","FORMATO INCORRECTO","FORMATO INCORRECTO",{"$f":"IF(L431=\"\",\"\",IF(ISERROR(edata(L431)),\"FORMATO INCORRECTO\",\"FORMATO CORRECTO\"))","v":""},{"$f":"IF(U431=\"\",\"\",IF(ISERROR(edata(U431)),\"FORMATO INCORRECTO\",\"FORMATO CORRECTO\"))","v":""},{"$f":"IF(N431=\"\",\"\",IF(ISERROR(edata(N431)),\"FORMATO INCORRECTO\",\"FORMATO CORRECTO\"))","v":""}]
["1901-03-01","",null,null,null,null,null,null,"",null,null,null,null,null,null,null,null,"",null,null,null,null,null,null,null,null,"",null,"",null,null,"",null,null,null,null,null,0,0,0,0,0,{"$f":"IF(AO432<>0,SUMIFS($AP$6:$AP$1001,$AN$6:$AN$1001,AN432,$F$6:$F$1001,F432,$AX$6:$AX$1001,AX432),0)","v":0},0,{"$f":"IF(AO432<>0,SUMIFS($AP$6:$AP$1001,$AR$6:$AR$1001,AR432,$F$6:$F$1001,F432,$AX$6:$AX$1001,AX432),0)","v":0},0,0,0,{"$f":"IF(AU432<>0,SUMIFS($AV$6:$AV$1001,$AT$6:$AT$1001,AT432,$F$6:$F$1001,F432,$AY$6:$AY$1001,AY432),0)","v":0},1900,1900,0,0,0,0,0,0,0,0,0,"","",0,0,0,"FORMATO INCORRECTO","FORMATO INCORRECTO","FORMATO INCORRECTO",{"$f":"IF(L432=\"\",\"\",IF(ISERROR(edata(L432)),\"FORMATO INCORRECTO\",\"FORMATO CORRECTO\"))","v":""},{"$f":"IF(U432=\"\",\"\",IF(ISERROR(edata(U432)),\"FORMATO INCORRECTO\",\"FORMATO CORRECTO\"))","v":""},{"$f":"IF(N432=\"\",\"\",IF(ISERROR(edata(N432)),\"FORMATO INCORRECTO\",\"FORMATO CORRECTO\"))","v":""}]
["1901-03-02","",null,null,null,null,null,null,"",null,null,null,null,null,null,null,null,"",null,null,null,null,null,null,null,null,"",null,"",null,null,"",null,null,null,null,null,0,0,0,0,0,{"$f":"IF(AO433<>0,SUMIFS($AP$6:$AP$1001,$AN$6:$AN$1001,AN433,$F$6:$F$1001,F433,$AX$6:$AX$1001,AX433),0)","v":0},0,{"$f":"IF(AO433<>0,SUMIFS($AP$6:$AP$1001,$AR$6:$AR$1001,AR433,$F$6:$F$1001,F433,$AX$6:$AX$1001,AX433),0)","v":0},0,0,0,{"$f":"IF(AU433<>0,SUMIFS($AV$6:$AV$1001,$AT$6:$AT$1001,AT433,$F$6:$F$1001,F433,$AY$6:$AY$1001,AY433),0)","v":0},1900,1900,0,0,0,0,0,0,0,0,0,"","",0,0,0,"FORMATO INCORRECTO","FORMATO INCORRECTO","FORMATO INCORRECTO",{"$f":"IF(L433=\"\",\"\",IF(ISERROR(edata(L433)),\"FORMATO INCORRECTO\",\"FORMATO CORRECTO\"))","v":""},{"$f":"IF(U433=\"\",\"\",IF(ISERROR(edata(U433)),\"FORMATO INCORRECTO\",\"FORMATO CORRECTO\"))","v":""},{"$f":"IF(N433=\"\",\"\",IF(ISERROR(edata(N433)),\"FORMATO INCORRECTO\",\"FORMATO CORRECTO\"))","v":""}]
["1901-03-03","",null,null,null,null,null,null,"",null,null,null,null,null,null,null,null,"",null,null,null,null,null,null,null,null,"",null,"",null,null,"",null,null,null,null,null,0,0,0,0,0,{"$f":"IF(AO434<>0,SUMIFS($AP$6:$AP$1001,$AN$6:$AN$1001,AN434,$F$6:$F$1001,F434,$AX$6:$AX$1001,AX434),0)","v":0},0,{"$f":"IF(AO434<>0,SUMIFS($AP$6:$AP$1001,$AR$6:$AR$1001,AR434,$F$6:$F$1001,F434,$AX$6:$AX$1001,AX434),0)","v":0},0,0,0,{"$f":"IF(AU434<>0,SUMIFS($AV$6:$AV$1001,$AT$6:$AT$1001,AT434,$F$6:$F$1001,F434,$AY$6:$AY$1001,AY434),0)","v":0},1900,1900,0,0,0,0,0,0,0,0,0,"","",0,0,0,"FORMATO INCORRECTO","FORMATO INCORRECTO","FORMATO INCORRECTO",{"$f":"IF(L434=\"\",\"\",IF(ISERROR(edata(L434)),\"FORMATO INCORRECTO\",\"FORMATO CORRECTO\"))","v":""},{"$f":"IF(U434=\"\",\"\",IF(ISERROR(edata(U434)),\"FORMATO INCORRECTO\",\"FORMATO CORRECTO\"))","v":""},{"$f":"IF(N434=\"\",\"\",IF(ISERROR(edata(N434)),\"FORMATO INCORRECTO\",\"FORMATO CORRECTO\"))","v":""}]
["1901-03-04","",null,null,null,null,null,null,"",null,null,null,null,null,null,null,null,"",null,null,null,null,null,null,null,null,"",null,"",null,null,"",null,null,null,null,null,0,0,0,0,0,{"$f":"IF(AO435<>0,SUMIFS($AP$6:$AP$1001,$AN$6:$AN$1001,AN435,$F$6:$F$1001,F435,$AX$6:$AX$1001,AX435),0)","v":0},0,{"$f":"IF(AO435<>0,SUMIFS($AP$6:$AP$1001,$AR$6:$AR$1001,AR435,$F$6:$F$1001,F435,$AX$6:$AX$1001,AX435),0)","v":0},0,0,0,{"$f":"IF(AU435<>0,SUMIFS($AV$6:$AV$1001,$AT$6:$AT$1001,AT435,$F$6:$F$1001,F435,$AY$6:$AY$1001,AY435),0)","v":0},1900,1900,0,0,0,0,0,0,0,0,0,"","",0,0,0,"FORMATO INCORRECTO","FORMATO INCORRECTO","FORMATO INCORRECTO",{"$f":"IF(L435=\"\",\"\",IF(ISERROR(edata(L435)),\"FORMATO INCORRECTO\",\"FORMATO CORRECTO\"))","v":""},{"$f":"IF(U435=\"\",\"\",IF(ISERROR(edata(U435)),\"FORMATO INCORRECTO\",\"FORMATO CORRECTO\"))","v":""},{"$f":"IF(N435=\"\",\"\",IF(ISERROR(edata(N435)),\"FORMATO INCORRECTO\",\"FORMATO CORRECTO\"))","v":""}]
["1901-03-05","",null,null,null,null,null,null,"",null,null,null,null,null,null,null,null,"",null,null,null,null,null,null,null,null,"",null,"",null,null,"",null,null,null,null,null,0,0,0,0,0,{"$f":"IF(AO436<>0,SUMIFS($AP$6:$AP$1001,$AN$6:$AN$1001,AN436,$F$6:$F$1001,F436,$AX$6:$AX$1001,AX436),0)","v":0},0,{"$f":"IF(AO436<>0,SUMIFS($AP$6:$AP$1001,$AR$6:$AR$1001,AR436,$F$6:$F$1001,F436,$AX$6:$AX$1001,AX436),0)","v":0},0,0,0,{"$f":"IF(AU436<>0,SUMIFS($AV$6:$AV$1001,$AT$6:$AT$1001,AT436,$F$6:$F$1001,F436,$AY$6:$AY$1001,AY436),0)","v":0},1900,1900,0,0,0,0,0,0,0,0,0,"","",0,0,0,"FORMATO INCORRECTO","FORMATO INCORRECTO","FORMATO INCORRECTO",{"$f":"IF(L436=\"\",\"\",IF(ISERROR(edata(L436)),\"FORMATO INCORRECTO\",\"FORMATO CORRECTO\"))","v":""},{"$f":"IF(U436=\"\",\"\",IF(ISERROR(edata(U436)),\"FORMATO INCORRECTO\",\"FORMATO CORRECTO\"))","v":""},{"$f":"IF(N436=\"\",\"\",IF(ISERROR(edata(N436)),\"FORMATO INCORRECTO\",\"FORMATO CORRECTO\"))","v":""}]
["1901-03-06","",null,null,null,null,null,null,"",null,null,null,null,null,null,null,null,"",null,null,null,null,null,null,null,null,"",null,"",null,null,"",null,null,null,null,null,0,0,0,0,0,{"$f":"IF(AO437<>0,SUMIFS($AP$6:$AP$1001,$AN$6:$AN$1001,AN437,$F$6:$F$1001,F437,$AX$6:$AX$1001,AX437),0)","v":0},0,{"$f":"IF(AO437<>0,SUMIFS($AP$6:$AP$1001,$AR$6:$AR$1001,AR437,$F$6:$F$1001,F437,$AX$6:$AX$1001,AX437),0)","v":0},0,0,0,{"$f":"IF(AU437<>0,SUMIFS($AV$6:$AV$1001,$AT$6:$AT$1001,AT437,$F$6:$F$1001,F437,$AY$6:$AY$1001,AY437),0)","v":0},1900,1900,0,0,0,0,0,0,0,0,0,"","",0,0,0,"FORMATO INCORRECTO","FORMATO INCORRECTO","FORMATO INCORRECTO",{"$f":"IF(L437=\"\",\"\",IF(ISERROR(edata(L437)),\"FORMATO INCORRECTO\",\"FORMATO CORRECTO\"))","v":""},{"$f":"IF(U437=\"\",\"\",IF(ISERROR(edata(U437)),\"FORMATO INCORRECTO\",\"FORMATO CORRECTO\"))","v":""},{"$f":"IF(N437=\"\",\"\",IF(ISERROR(edata(N437)),\"FORMATO INCORRECTO\",\"FORMATO CORRECTO\"))","v":""}]
["1901-03-07","",null,null,null,null,null,null,"",null,null,null,null,null,null,null,null,"",null,null,null,null,null,null,null,null,"",null,"",null,null,"",null,null,null,null,null,0,0,0,0,0,{"$f":"IF(AO438<>0,SUMIFS($AP$6:$AP$1001,$AN$6:$AN$1001,AN438,$F$6:$F$1001,F438,$AX$6:$AX$1001,AX438),0)","v":0},0,{"$f":"IF(AO438<>0,SUMIFS($AP$6:$AP$1001,$AR$6:$AR$1001,AR438,$F$6:$F$1001,F438,$AX$6:$AX$1001,AX438),0)","v":0},0,0,0,{"$f":"IF(AU438<>0,SUMIFS($AV$6:$AV$1001,$AT$6:$AT$1001,AT438,$F$6:$F$1001,F438,$AY$6:$AY$1001,AY438),0)","v":0},1900,1900,0,0,0,0,0,0,0,0,0,"","",0,0,0,"FORMATO INCORRECTO","FORMATO INCORRECTO","FORMATO INCORRECTO",{"$f":"IF(L438=\"\",\"\",IF(ISERROR(edata(L438)),\"FORMATO INCORRECTO\",\"FORMATO CORRECTO\"))","v":""},{"$f":"IF(U438=\"\",\"\",IF(ISERROR(edata(U438)),\"FORMATO INCORRECTO\",\"FORMATO CORRECTO\"))","v":""},{"$f":"IF(N438=\"\",\"\",IF(ISERROR(edata(N438)),\"FORMATO INCORRECTO\",\"FORMATO CORRECTO\"))","v":""}]
["1901-03-08","",null,null,null,null,null,null,"",null,null,null,null,null,null,null,null,"",null,null,null,null,null,null,null,null,"",null,"",null,null,"",null,null,null,null,null,0,0,0,0,0,{"$f":"IF(AO439<>0,SUMIFS($AP$6:$AP$1001,$AN$6:$AN$1001,AN439,$F$6:$F$1001,F439,$AX$6:$AX$1001,AX439),0)","v":0},0,{"$f":"IF(AO439<>0,SUMIFS($AP$6:$AP$1001,$AR$6:$AR$1001,AR439,$F$6:$F$1001,F439,$AX$6:$AX$1001,AX439),0)","v":0},0,0,0,{"$f":"IF(AU439<>0,SUMIFS($AV$6:$AV$1001,$AT$6:$AT$1001,AT439,$F$6:$F$1001,F439,$AY$6:$AY$1001,AY439),0)","v":0},1900,1900,0,0,0,0,0,0,0,0,0,"","",0,0,0,"FORMATO INCORRECTO","FORMATO INCORRECTO","FORMATO INCORRECTO",{"$f":"IF(L439=\"\",\"\",IF(ISERROR(edata(L439)),\"FORMATO INCORRECTO\",\"FORMATO CORRECTO\"))","v":""},{"$f":"IF(U439=\"\",\"\",IF(ISERROR(edata(U439)),\"FORMATO INCORRECTO\",\"FORMATO CORRECTO\"))","v":""},{"$f":"IF(N439=\"\",\"\",IF(ISERROR(edata(N439)),\"FORMATO INCORRECTO\",\"FORMATO CORRECTO\"))","v":""}]
["1901-03-09","",null,null,null,null,null,null,"",null,null,null,null,null,null,null,null,"",null,null,null,null,null,null,null,null,"",null,"",null,null,"",null,null,null,null,null,0,0,0,0,0,{"$f":"IF(AO440<>0,SUMIFS($AP$6:$AP$1001,$AN$6:$AN$1001,AN440,$F$6:$F$1001,F440,$AX$6:$AX$1001,AX440),0)","v":0},0,{"$f":"IF(AO440<>0,SUMIFS($AP$6:$AP$1001,$AR$6:$AR$1001,AR440,$F$6:$F$1001,F440,$AX$6:$AX$1001,AX440),0)","v":0},0,0,0,{"$f":"IF(AU440<>0,SUMIFS($AV$6:$AV$1001,$AT$6:$AT$1001,AT440,$F$6:$F$1001,F440,$AY$6:$AY$1001,AY440),0)","v":0},1900,1900,0,0,0,0,0,0,0,0,0,"","",0,0,0,"FORMATO INCORRECTO","FORMATO INCORRECTO","FORMATO INCORRECTO",{"$f":"IF(L440=\"\",\"\",IF(ISERROR(edata(L440)),\"FORMATO INCORRECTO\",\"FORMATO CORRECTO\"))","v":""},{"$f":"IF(U440=\"\",\"\",IF(ISERROR(edata(U440)),\"FORMATO INCORRECTO\",\"FORMATO CORRECTO\"))","v":""},{"$f":"IF(N440=\"\",\"\",IF(ISERROR(edata(N440)),\"FORMATO INCORRECTO\",\"FORMATO CORRECTO\"))","v":""}]
["1901-03-10","",null,null,null,null,null,null,"",null,null,null,null,null,null,null,null,"",null,null,null,null,null,null,null,null,"",null,"",null,null,"",null,null,null,null,null,0,0,0,0,0,{"$f":"IF(AO441<>0,SUMIFS($AP$6:$AP$1001,$AN$6:$AN$1001,AN441,$F$6:$F$1001,F441,$AX$6:$AX$1001,AX441),0)","v":0},0,{"$f":"IF(AO441<>0,SUMIFS($AP$6:$AP$1001,$AR$6:$AR$1001,AR441,$F$6:$F$1001,F441,$AX$6:$AX$1001,AX441),0)","v":0},0,0,0,{"$f":"IF(AU441<>0,SUMIFS($AV$6:$AV$1001,$AT$6:$AT$1001,AT441,$F$6:$F$1001,F441,$AY$6:$AY$1001,AY441),0)","v":0},1900,1900,0,0,0,0,0,0,0,0,0,"","",0,0,0,"FORMATO INCORRECTO","FORMATO INCORRECTO","FORMATO INCORRECTO",{"$f":"IF(L441=\"\",\"\",IF(ISERROR(edata(L441)),\"FORMATO INCORRECTO\",\"FORMATO CORRECTO\"))","v":""},{"$f":"IF(U441=\"\",\"\",IF(ISERROR(edata(U441)),\"FORMATO INCORRECTO\",\"FORMATO CORRECTO\"))","v":""},{"$f":"IF(N441=\"\",\"\",IF(ISERROR(edata(N441)),\"FORMATO INCORRECTO\",\"FORMATO CORRECTO\"))","v":""}]
["1901-03-11","",null,null,null,null,null,null,"",null,null,null,null,null,null,null,null,"",null,null,null,null,null,null,null,null,"",null,"",null,null,"",null,null,null,null,null,0,0,0,0,0,{"$f":"IF(AO442<>0,SUMIFS($AP$6:$AP$1001,$AN$6:$AN$1001,AN442,$F$6:$F$1001,F442,$AX$6:$AX$1001,AX442),0)","v":0},0,{"$f":"IF(AO442<>0,SUMIFS($AP$6:$AP$1001,$AR$6:$AR$1001,AR442,$F$6:$F$1001,F442,$AX$6:$AX$1001,AX442),0)","v":0},0,0,0,{"$f":"IF(AU442<>0,SUMIFS($AV$6:$AV$1001,$AT$6:$AT$1001,AT442,$F$6:$F$1001,F442,$AY$6:$AY$1001,AY442),0)","v":0},1900,1900,0,0,0,0,0,0,0,0,0,"","",0,0,0,"FORMATO INCORRECTO","FORMATO INCORRECTO","FORMATO INCORRECTO",{"$f":"IF(L442=\"\",\"\",IF(ISERROR(edata(L442)),\"FORMATO INCORRECTO\",\"FORMATO CORRECTO\"))","v":""},{"$f":"IF(U442=\"\",\"\",IF(ISERROR(edata(U442)),\"FORMATO INCORRECTO\",\"FORMATO CORRECTO\"))","v":""},{"$f":"IF(N442=\"\",\"\",IF(ISERROR(edata(N442)),\"FORMATO INCORRECTO\",\"FORMATO CORRECTO\"))","v":""}]
["1901-03-12","",null,null,null,null,null,null,"",null,null,null,null,null,null,null,null,"",null,null,null,null,null,null,null,null,"",null,"",null,null,"",null,null,null,null,null,0,0,0,0,0,{"$f":"IF(AO443<>0,SUMIFS($AP$6:$AP$1001,$AN$6:$AN$1001,AN443,$F$6:$F$1001,F443,$AX$6:$AX$1001,AX443),0)","v":0},0,{"$f":"IF(AO443<>0,SUMIFS($AP$6:$AP$1001,$AR$6:$AR$1001,AR443,$F$6:$F$1001,F443,$AX$6:$AX$1001,AX443),0)","v":0},0,0,0,{"$f":"IF(AU443<>0,SUMIFS($AV$6:$AV$1001,$AT$6:$AT$1001,AT443,$F$6:$F$1001,F443,$AY$6:$AY$1001,AY443),0)","v":0},1900,1900,0,0,0,0,0,0,0,0,0,"","",0,0,0,"FORMATO INCORRECTO","FORMATO INCORRECTO","FORMATO INCORRECTO",{"$f":"IF(L443=\"\",\"\",IF(ISERROR(edata(L443)),\"FORMATO INCORRECTO\",\"FORMATO CORRECTO\"))","v":""},{"$f":"IF(U443=\"\",\"\",IF(ISERROR(edata(U443)),\"FORMATO INCORRECTO\",\"FORMATO CORRECTO\"))","v":""},{"$f":"IF(N443=\"\",\"\",IF(ISERROR(edata(N443)),\"FORMATO INCORRECTO\",\"FORMATO CORRECTO\"))","v":""}]
["1901-03-13","",null,null,null,null,null,null,"",null,null,null,null,null,null,null,null,"",null,null,null,null,null,null,null,null,"",null,"",null,null,"",null,null,null,null,null,0,0,0,0,0,{"$f":"IF(AO444<>0,SUMIFS($AP$6:$AP$1001,$AN$6:$AN$1001,AN444,$F$6:$F$1001,F444,$AX$6:$AX$1001,AX444),0)","v":0},0,{"$f":"IF(AO444<>0,SUMIFS($AP$6:$AP$1001,$AR$6:$AR$1001,AR444,$F$6:$F$1001,F444,$AX$6:$AX$1001,AX444),0)","v":0},0,0,0,{"$f":"IF(AU444<>0,SUMIFS($AV$6:$AV$1001,$AT$6:$AT$1001,AT444,$F$6:$F$1001,F444,$AY$6:$AY$1001,AY444),0)","v":0},1900,1900,0,0,0,0,0,0,0,0,0,"","",0,0,0,"FORMATO INCORRECTO","FORMATO INCORRECTO","FORMATO INCORRECTO",{"$f":"IF(L444=\"\",\"\",IF(ISERROR(edata(L444)),\"FORMATO INCORRECTO\",\"FORMATO CORRECTO\"))","v":""},{"$f":"IF(U444=\"\",\"\",IF(ISERROR(edata(U444)),\"FORMATO INCORRECTO\",\"FORMATO CORRECTO\"))","v":""},{"$f":"IF(N444=\"\",\"\",IF(ISERROR(edata(N444)),\"FORMATO INCORRECTO\",\"FORMATO CORRECTO\"))","v":""}]
["1901-03-14","",null,null,null,null,null,null,"",null,null,null,null,null,null,null,null,"",null,null,null,null,null,null,null,null,"",null,"",null,null,"",null,null,null,null,null,0,0,0,0,0,{"$f":"IF(AO445<>0,SUMIFS($AP$6:$AP$1001,$AN$6:$AN$1001,AN445,$F$6:$F$1001,F445,$AX$6:$AX$1001,AX445),0)","v":0},0,{"$f":"IF(AO445<>0,SUMIFS($AP$6:$AP$1001,$AR$6:$AR$1001,AR445,$F$6:$F$1001,F445,$AX$6:$AX$1001,AX445),0)","v":0},0,0,0,{"$f":"IF(AU445<>0,SUMIFS($AV$6:$AV$1001,$AT$6:$AT$1001,AT445,$F$6:$F$1001,F445,$AY$6:$AY$1001,AY445),0)","v":0},1900,1900,0,0,0,0,0,0,0,0,0,"","",0,0,0,"FORMATO INCORRECTO","FORMATO INCORRECTO","FORMATO INCORRECTO",{"$f":"IF(L445=\"\",\"\",IF(ISERROR(edata(L445)),\"FORMATO INCORRECTO\",\"FORMATO CORRECTO\"))","v":""},{"$f":"IF(U445=\"\",\"\",IF(ISERROR(edata(U445)),\"FORMATO INCORRECTO\",\"FORMATO CORRECTO\"))","v":""},{"$f":"IF(N445=\"\",\"\",IF(ISERROR(edata(N445)),\"FORMATO INCORRECTO\",\"FORMATO CORRECTO\"))","v":""}]
["1901-03-15","",null,null,null,null,null,null,"",null,null,null,null,null,null,null,null,"",null,null,null,null,null,null,null,null,"",null,"",null,null,"",null,null,null,null,null,0,0,0,0,0,{"$f":"IF(AO446<>0,SUMIFS($AP$6:$AP$1001,$AN$6:$AN$1001,AN446,$F$6:$F$1001,F446,$AX$6:$AX$1001,AX446),0)","v":0},0,{"$f":"IF(AO446<>0,SUMIFS($AP$6:$AP$1001,$AR$6:$AR$1001,AR446,$F$6:$F$1001,F446,$AX$6:$AX$1001,AX446),0)","v":0},0,0,0,{"$f":"IF(AU446<>0,SUMIFS($AV$6:$AV$1001,$AT$6:$AT$1001,AT446,$F$6:$F$1001,F446,$AY$6:$AY$1001,AY446),0)","v":0},1900,1900,0,0,0,0,0,0,0,0,0,"","",0,0,0,"FORMATO INCORRECTO","FORMATO INCORRECTO","FORMATO INCORRECTO",{"$f":"IF(L446=\"\",\"\",IF(ISERROR(edata(L446)),\"FORMATO INCORRECTO\",\"FORMATO CORRECTO\"))","v":""},{"$f":"IF(U446=\"\",\"\",IF(ISERROR(edata(U446)),\"FORMATO INCORRECTO\",\"FORMATO CORRECTO\"))","v":""},{"$f":"IF(N446=\"\",\"\",IF(ISERROR(edata(N446)),\"FORMATO INCORRECTO\",\"FORMATO CORRECTO\"))","v":""}]
["1901-03-16","",null,null,null,null,null,null,"",null,null,null,null,null,null,null,null,"",null,null,null,null,null,null,null,null,"",null,"",null,null,"",null,null,null,null,null,0,0,0,0,0,{"$f":"IF(AO447<>0,SUMIFS($AP$6:$AP$1001,$AN$6:$AN$1001,AN447,$F$6:$F$1001,F447,$AX$6:$AX$1001,AX447),0)","v":0},0,{"$f":"IF(AO447<>0,SUMIFS($AP$6:$AP$1001,$AR$6:$AR$1001,AR447,$F$6:$F$1001,F447,$AX$6:$AX$1001,AX447),0)","v":0},0,0,0,{"$f":"IF(AU447<>0,SUMIFS($AV$6:$AV$1001,$AT$6:$AT$1001,AT447,$F$6:$F$1001,F447,$AY$6:$AY$1001,AY447),0)","v":0},1900,1900,0,0,0,0,0,0,0,0,0,"","",0,0,0,"FORMATO INCORRECTO","FORMATO INCORRECTO","FORMATO INCORRECTO",{"$f":"IF(L447=\"\",\"\",IF(ISERROR(edata(L447)),\"FORMATO INCORRECTO\",\"FORMATO CORRECTO\"))","v":""},{"$f":"IF(U447=\"\",\"\",IF(ISERROR(edata(U447)),\"FORMATO INCORRECTO\",\"FORMATO CORRECTO\"))","v":""},{"$f":"IF(N447=\"\",\"\",IF(ISERROR(edata(N447)),\"FORMATO INCORRECTO\",\"FORMATO CORRECTO\"))","v":""}]
["1901-03-17","",null,null,null,null,null,null,"",null,null,null,null,null,null,null,null,"",null,null,null,null,null,null,null,null,"",null,"",null,null,"",null,null,null,null,null,0,0,0,0,0,{"$f":"IF(AO448<>0,SUMIFS($AP$6:$AP$1001,$AN$6:$AN$1001,AN448,$F$6:$F$1001,F448,$AX$6:$AX$1001,AX448),0)","v":0},0,{"$f":"IF(AO448<>0,SUMIFS($AP$6:$AP$1001,$AR$6:$AR$1001,AR448,$F$6:$F$1001,F448,$AX$6:$AX$1001,AX448),0)","v":0},0,0,0,{"$f":"IF(AU448<>0,SUMIFS($AV$6:$AV$1001,$AT$6:$AT$1001,AT448,$F$6:$F$1001,F448,$AY$6:$AY$1001,AY448),0)","v":0},1900,1900,0,0,0,0,0,0,0,0,0,"","",0,0,0,"FORMATO INCORRECTO","FORMATO INCORRECTO","FORMATO INCORRECTO",{"$f":"IF(L448=\"\",\"\",IF(ISERROR(edata(L448)),\"FORMATO INCORRECTO\",\"FORMATO CORRECTO\"))","v":""},{"$f":"IF(U448=\"\",\"\",IF(ISERROR(edata(U448)),\"FORMATO INCORRECTO\",\"FORMATO CORRECTO\"))","v":""},{"$f":"IF(N448=\"\",\"\",IF(ISERROR(edata(N448)),\"FORMATO INCORRECTO\",\"FORMATO CORRECTO\"))","v":""}]
["1901-03-18","",null,null,null,null,null,null,"",null,null,null,null,null,null,null,null,"",null,null,null,null,null,null,null,null,"",null,"",null,null,"",null,null,null,null,null,0,0,0,0,0,{"$f":"IF(AO449<>0,SUMIFS($AP$6:$AP$1001,$AN$6:$AN$1001,AN449,$F$6:$F$1001,F449,$AX$6:$AX$1001,AX449),0)","v":0},0,{"$f":"IF(AO449<>0,SUMIFS($AP$6:$AP$1001,$AR$6:$AR$1001,AR449,$F$6:$F$1001,F449,$AX$6:$AX$1001,AX449),0)","v":0},0,0,0,{"$f":"IF(AU449<>0,SUMIFS($AV$6:$AV$1001,$AT$6:$AT$1001,AT449,$F$6:$F$1001,F449,$AY$6:$AY$1001,AY449),0)","v":0},1900,1900,0,0,0,0,0,0,0,0,0,"","",0,0,0,"FORMATO INCORRECTO","FORMATO INCORRECTO","FORMATO INCORRECTO",{"$f":"IF(L449=\"\",\"\",IF(ISERROR(edata(L449)),\"FORMATO INCORRECTO\",\"FORMATO CORRECTO\"))","v":""},{"$f":"IF(U449=\"\",\"\",IF(ISERROR(edata(U449)),\"FORMATO INCORRECTO\",\"FORMATO CORRECTO\"))","v":""},{"$f":"IF(N449=\"\",\"\",IF(ISERROR(edata(N449)),\"FORMATO INCORRECTO\",\"FORMATO CORRECTO\"))","v":""}]
["1901-03-19","",null,null,null,null,null,null,"",null,null,null,null,null,null,null,null,"",null,null,null,null,null,null,null,null,"",null,"",null,null,"",null,null,null,null,null,0,0,0,0,0,{"$f":"IF(AO450<>0,SUMIFS($AP$6:$AP$1001,$AN$6:$AN$1001,AN450,$F$6:$F$1001,F450,$AX$6:$AX$1001,AX450),0)","v":0},0,{"$f":"IF(AO450<>0,SUMIFS($AP$6:$AP$1001,$AR$6:$AR$1001,AR450,$F$6:$F$1001,F450,$AX$6:$AX$1001,AX450),0)","v":0},0,0,0,{"$f":"IF(AU450<>0,SUMIFS($AV$6:$AV$1001,$AT$6:$AT$1001,AT450,$F$6:$F$1001,F450,$AY$6:$AY$1001,AY450),0)","v":0},1900,1900,0,0,0,0,0,0,0,0,0,"","",0,0,0,"FORMATO INCORRECTO","FORMATO INCORRECTO","FORMATO INCORRECTO",{"$f":"IF(L450=\"\",\"\",IF(ISERROR(edata(L450)),\"FORMATO INCORRECTO\",\"FORMATO CORRECTO\"))","v":""},{"$f":"IF(U450=\"\",\"\",IF(ISERROR(edata(U450)),\"FORMATO INCORRECTO\",\"FORMATO CORRECTO\"))","v":""},{"$f":"IF(N450=\"\",\"\",IF(ISERROR(edata(N450)),\"FORMATO INCORRECTO\",\"FORMATO CORRECTO\"))","v":""}]
["1901-03-20","",null,null,null,null,null,null,"",null,null,null,null,null,null,null,null,"",null,null,null,null,null,null,null,null,"",null,"",null,null,"",null,null,null,null,null,0,0,0,0,0,{"$f":"IF(AO451<>0,SUMIFS($AP$6:$AP$1001,$AN$6:$AN$1001,AN451,$F$6:$F$1001,F451,$AX$6:$AX$1001,AX451),0)","v":0},0,{"$f":"IF(AO451<>0,SUMIFS($AP$6:$AP$1001,$AR$6:$AR$1001,AR451,$F$6:$F$1001,F451,$AX$6:$AX$1001,AX451),0)","v":0},0,0,0,{"$f":"IF(AU451<>0,SUMIFS($AV$6:$AV$1001,$AT$6:$AT$1001,AT451,$F$6:$F$1001,F451,$AY$6:$AY$1001,AY451),0)","v":0},1900,1900,0,0,0,0,0,0,0,0,0,"","",0,0,0,"FORMATO INCORRECTO","FORMATO INCORRECTO","FORMATO INCORRECTO",{"$f":"IF(L451=\"\",\"\",IF(ISERROR(edata(L451)),\"FORMATO INCORRECTO\",\"FORMATO CORRECTO\"))","v":""},{"$f":"IF(U451=\"\",\"\",IF(ISERROR(edata(U451)),\"FORMATO INCORRECTO\",\"FORMATO CORRECTO\"))","v":""},{"$f":"IF(N451=\"\",\"\",IF(ISERROR(edata(N451)),\"FORMATO INCORRECTO\",\"FORMATO CORRECTO\"))","v":""}]
["1901-03-21","",null,null,null,null,null,null,"",null,null,null,null,null,null,null,null,"",null,null,null,null,null,null,null,null,"",null,"",null,null,"",null,null,null,null,null,0,0,0,0,0,{"$f":"IF(AO452<>0,SUMIFS($AP$6:$AP$1001,$AN$6:$AN$1001,AN452,$F$6:$F$1001,F452,$AX$6:$AX$1001,AX452),0)","v":0},0,{"$f":"IF(AO452<>0,SUMIFS($AP$6:$AP$1001,$AR$6:$AR$1001,AR452,$F$6:$F$1001,F452,$AX$6:$AX$1001,AX452),0)","v":0},0,0,0,{"$f":"IF(AU452<>0,SUMIFS($AV$6:$AV$1001,$AT$6:$AT$1001,AT452,$F$6:$F$1001,F452,$AY$6:$AY$1001,AY452),0)","v":0},1900,1900,0,0,0,0,0,0,0,0,0,"","",0,0,0,"FORMATO INCORRECTO","FORMATO INCORRECTO","FORMATO INCORRECTO",{"$f":"IF(L452=\"\",\"\",IF(ISERROR(edata(L452)),\"FORMATO INCORRECTO\",\"FORMATO CORRECTO\"))","v":""},{"$f":"IF(U452=\"\",\"\",IF(ISERROR(edata(U452)),\"FORMATO INCORRECTO\",\"FORMATO CORRECTO\"))","v":""},{"$f":"IF(N452=\"\",\"\",IF(ISERROR(edata(N452)),\"FORMATO INCORRECTO\",\"FORMATO CORRECTO\"))","v":""}]
["1901-03-22","",null,null,null,null,null,null,"",null,null,null,null,null,null,null,null,"",null,null,null,null,null,null,null,null,"",null,"",null,null,"",null,null,null,null,null,0,0,0,0,0,{"$f":"IF(AO453<>0,SUMIFS($AP$6:$AP$1001,$AN$6:$AN$1001,AN453,$F$6:$F$1001,F453,$AX$6:$AX$1001,AX453),0)","v":0},0,{"$f":"IF(AO453<>0,SUMIFS($AP$6:$AP$1001,$AR$6:$AR$1001,AR453,$F$6:$F$1001,F453,$AX$6:$AX$1001,AX453),0)","v":0},0,0,0,{"$f":"IF(AU453<>0,SUMIFS($AV$6:$AV$1001,$AT$6:$AT$1001,AT453,$F$6:$F$1001,F453,$AY$6:$AY$1001,AY453),0)","v":0},1900,1900,0,0,0,0,0,0,0,0,0,"","",0,0,0,"FORMATO INCORRECTO","FORMATO INCORRECTO","FORMATO INCORRECTO",{"$f":"IF(L453=\"\",\"\",IF(ISERROR(edata(L453)),\"FORMATO INCORRECTO\",\"FORMATO CORRECTO\"))","v":""},{"$f":"IF(U453=\"\",\"\",IF(ISERROR(edata(U453)),\"FORMATO INCORRECTO\",\"FORMATO CORRECTO\"))","v":""},{"$f":"IF(N453=\"\",\"\",IF(ISERROR(edata(N453)),\"FORMATO INCORRECTO\",\"FORMATO CORRECTO\"))","v":""}]
["1901-03-23","",null,null,null,null,null,null,{"$f":"IF(ISERROR(VLOOKUP(J454,tipoDocDesp,2,FALSE)),\"\",VLOOKUP(J454,tipoDocDesp,2,FALSE))","v":""},null,null,null,null,null,null,null,null,{"$f":"IF(ISERROR(VLOOKUP(S454,tipoDocQuit,2,FALSE)),\"\",VLOOKUP(S454,tipoDocQuit,2,FALSE))","v":""},null,null,null,null,null,null,null,null,{"$f":"IF(ISERROR(VLOOKUP(AB454,DESPESASGERAL,3,FALSE)),\"\",VLOOKUP(AB454,DESPESASGERAL,3,FALSE))","v":""},null,{"$f":"IF(ISERROR(VLOOKUP(AD454,RUBRICASGERAL,2,FALSE)),\"\",VLOOKUP(AD454,RUBRICASGERAL,2,FALSE))","v":""},null,null,{"$f":"IF(ISERROR(VLOOKUP(AG454,CONCELHOGERAL,2,FALSE)),\"\",VLOOKUP(AG454,CONCELHOGERAL,2,FALSE))","v":""},null,null,null,null,null,0,0,0,{"$f":"+M454","v":0},{"$f":"+N454","v":0},{"$f":"IF(AO454<>0,SUMIFS($AP$6:$AP$1001,$AN$6:$AN$1001,AN454,$F$6:$F$1001,F454,$AX$6:$AX$1001,AX454),0)","v":0},{"$f":"+K454","v":0},{"$f":"IF(AO454<>0,SUMIFS($AP$6:$AP$1001,$AR$6:$AR$1001,AR454,$F$6:$F$1001,F454,$AX$6:$AX$1001,AX454),0)","v":0},{"$f":"+T454","v":0},{"$f":"+V454","v":0},{"$f":"+W454","v":0},{"$f":"IF(AU454<>0,SUMIFS($AV$6:$AV$1001,$AT$6:$AT$1001,AT454,$F$6:$F$1001,F454,$AY$6:$AY$1001,AY454),0)","v":0},{"$f":"YEAR(L454)","v":1900},{"$f":"YEAR(U454)","v":1900},0,0,{"$f":"+M454-BA454","v":0},0,0,{"$f":"+M454-BD454","v":0},0,0,{"$f":"+V454-BG454","v":0},"","",0,0,0,"FORMATO INCORRECTO","FORMATO INCORRECTO","FORMATO INCORRECTO",{"$f":"IF(L454=\"\",\"\",IF(ISERROR(edata(L454)),\"FORMATO INCORRECTO\",\"FORMATO CORRECTO\"))","v":""},{"$f":"IF(U454=\"\",\"\",IF(ISERROR(edata(U454)),\"FORMATO INCORRECTO\",\"FORMATO CORRECTO\"))","v":""},{"$f":"IF(N454=\"\",\"\",IF(ISERROR(edata(N454)),\"FORMATO INCORRECTO\",\"FORMATO CORRECTO\"))","v":""}]
["1901-03-24","",null,null,null,null,null,null,"",null,null,null,null,null,null,null,null,"",null,null,null,null,null,null,null,null,"",null,"",null,null,"",null,null,null,null,null,{"$f":"+O455+P455+Q455-N455","v":0},{"$f":"+O455+P455+Q455-W455","v":0},{"$f":"+D455","v":0},0,0,{"$f":"IF(AO455<>0,SUMIFS($AP$6:$AP$1001,$AN$6:$AN$1001,AN455,$F$6:$F$1001,F455,$AX$6:$AX$1001,AX455),0)","v":0},0,{"$f":"IF(AO455<>0,SUMIFS($AP$6:$AP$1001,$AR$6:$AR$1001,AR455,$F$6:$F$1001,F455,$AX$6:$AX$1001,AX455),0)","v":0},0,0,0,{"$f":"IF(AU455<>0,SUMIFS($AV$6:$AV$1001,$AT$6:$AT$1001,AT455,$F$6:$F$1001,F455,$AY$6:$AY$1001,AY455),0)","v":0},1900,1900,{"$f":"+AN455","v":0},{"$f":"+AQ455","v":0},0,{"$f":"+AR455","v":0},{"$f":"ROUND(AS455,2)","v":0},0,{"$f":"+AT455","v":0},{"$f":"ROUND(AW455,2)","v":0},0,{"$f":"IF(ISERROR(L455<=U455),\"FORMATO INCORRECTO\",IF(AND(L455=0,U455=0),\"\",IF(L455<=U455,\"VALIDADO\",\"NÃO VALIDADO\")))","v":""},{"$f":"IF(AND(L455=\"\",U455=\"\",Y455=\"\"),\"\",IF(OR(ISERROR(BK455),ISERROR(BL455),ISERROR(BM455)),\"ERRO NO FORMATO\",\"FORMATO CORRECTO\"))","v":""},{"$f":"convdata(L455)","v":0},{"$f":"convdata(U455)","v":0},{"$f":"convdata(Y455)","v":0},{"$f":"ENULO(L455)","v":"FORMATO INCORRECTO"},{"$f":"ENULO(U455)","v":"FORMATO INCORRECTO"},{"$f":"ENULO(Y455)","v":"FORMATO INCORRECTO"},{"$f":"IF(L455=\"\",\"\",IF(ISERROR(edata(L455)),\"FORMATO INCORRECTO\",\"FORMATO CORRECTO\"))","v":""},{"$f":"IF(U455=\"\",\"\",IF(ISERROR(edata(U455)),\"FORMATO INCORRECTO\",\"FORMATO CORRECTO\"))","v":""},{"$f":"IF(N455=\"\",\"\",IF(ISERROR(edata(N455)),\"FORMATO INCORRECTO\",\"FORMATO CORRECTO\"))","v":""}]
["1901-03-25",{"$f":"IF(G456<>\"\",+B455+1,\"\")","v":""},null,null,null,null,null,null,"",null,null,null,null,null,null,null,null,"",null,null,null,null,null,null,null,null,"",null,"",null,null,"",null,null,null,null,null,0,0,0,0,0,{"$f":"IF(AO456<>0,SUMIFS($AP$6:$AP$1001,$AN$6:$AN$1001,AN456,$F$6:$F$1001,F456,$AX$6:$AX$1001,AX456),0)","v":0},0,{"$f":"IF(AO456<>0,SUMIFS($AP$6:$AP$1001,$AR$6:$AR$1001,AR456,$F$6:$F$1001,F456,$AX$6:$AX$1001,AX456),0)","v":0},0,0,0,{"$f":"IF(AU456<>0,SUMIFS($AV$6:$AV$1001,$AT$6:$AT$1001,AT456,$F$6:$F$1001,F456,$AY$6:$AY$1001,AY456),0)","v":0},1900,1900,0,0,0,0,0,0,0,0,0,"","",0,0,0,"FORMATO INCORRECTO","FORMATO INCORRECTO","FORMATO INCORRECTO",{"$f":"IF(L456=\"\",\"\",IF(ISERROR(edata(L456)),\"FORMATO INCORRECTO\",\"FORMATO CORRECTO\"))","v":""},{"$f":"IF(U456=\"\",\"\",IF(ISERROR(edata(U456)),\"FORMATO INCORRECTO\",\"FORMATO CORRECTO\"))","v":""},{"$f":"IF(N456=\"\",\"\",IF(ISERROR(edata(N456)),\"FORMATO INCORRECTO\",\"FORMATO CORRECTO\"))","v":""}]
["1901-03-26","",null,null,null,null,null,null,"",null,null,null,null,null,null,null,null,"",null,null,null,null,null,null,null,null,"",null,"",null,null,"",null,null,null,null,null,0,0,0,0,0,{"$f":"IF(AO457<>0,SUMIFS($AP$6:$AP$1001,$AN$6:$AN$1001,AN457,$F$6:$F$1001,F457,$AX$6:$AX$1001,AX457),0)","v":0},0,{"$f":"IF(AO457<>0,SUMIFS($AP$6:$AP$1001,$AR$6:$AR$1001,AR457,$F$6:$F$1001,F457,$AX$6:$AX$1001,AX457),0)","v":0},0,0,0,{"$f":"IF(AU457<>0,SUMIFS($AV$6:$AV$1001,$AT$6:$AT$1001,AT457,$F$6:$F$1001,F457,$AY$6:$AY$1001,AY457),0)","v":0},1900,1900,0,0,0,0,0,0,0,0,0,"","",0,0,0,"FORMATO INCORRECTO","FORMATO INCORRECTO","FORMATO INCORRECTO",{"$f":"IF(L457=\"\",\"\",IF(ISERROR(edata(L457)),\"FORMATO INCORRECTO\",\"FORMATO CORRECTO\"))","v":""},{"$f":"IF(U457=\"\",\"\",IF(ISERROR(edata(U457)),\"FORMATO INCORRECTO\",\"FORMATO CORRECTO\"))","v":""},{"$f":"IF(N457=\"\",\"\",IF(ISERROR(edata(N457)),\"FORMATO INCORRECTO\",\"FORMATO CORRECTO\"))","v":""}]
["1901-03-27","",null,null,null,null,null,null,"",null,null,null,null,null,null,null,null,"",null,null,null,null,null,null,null,null,"",null,"",null,null,"",null,null,null,null,null,0,0,0,0,0,{"$f":"IF(AO458<>0,SUMIFS($AP$6:$AP$1001,$AN$6:$AN$1001,AN458,$F$6:$F$1001,F458,$AX$6:$AX$1001,AX458),0)","v":0},0,{"$f":"IF(AO458<>0,SUMIFS($AP$6:$AP$1001,$AR$6:$AR$1001,AR458,$F$6:$F$1001,F458,$AX$6:$AX$1001,AX458),0)","v":0},0,0,0,{"$f":"IF(AU458<>0,SUMIFS($AV$6:$AV$1001,$AT$6:$AT$1001,AT458,$F$6:$F$1001,F458,$AY$6:$AY$1001,AY458),0)","v":0},1900,1900,0,0,0,0,0,0,0,0,0,"","",0,0,0,"FORMATO INCORRECTO","FORMATO INCORRECTO","FORMATO INCORRECTO",{"$f":"IF(L458=\"\",\"\",IF(ISERROR(edata(L458)),\"FORMATO INCORRECTO\",\"FORMATO CORRECTO\"))","v":""},{"$f":"IF(U458=\"\",\"\",IF(ISERROR(edata(U458)),\"FORMATO INCORRECTO\",\"FORMATO CORRECTO\"))","v":""},{"$f":"IF(N458=\"\",\"\",IF(ISERROR(edata(N458)),\"FORMATO INCORRECTO\",\"FORMATO CORRECTO\"))","v":""}]
["1901-03-28","",null,null,null,null,null,null,"",null,null,null,null,null,null,null,null,"",null,null,null,null,null,null,null,null,"",null,"",null,null,"",null,null,null,null,null,0,0,0,0,0,{"$f":"IF(AO459<>0,SUMIFS($AP$6:$AP$1001,$AN$6:$AN$1001,AN459,$F$6:$F$1001,F459,$AX$6:$AX$1001,AX459),0)","v":0},0,{"$f":"IF(AO459<>0,SUMIFS($AP$6:$AP$1001,$AR$6:$AR$1001,AR459,$F$6:$F$1001,F459,$AX$6:$AX$1001,AX459),0)","v":0},0,0,0,{"$f":"IF(AU459<>0,SUMIFS($AV$6:$AV$1001,$AT$6:$AT$1001,AT459,$F$6:$F$1001,F459,$AY$6:$AY$1001,AY459),0)","v":0},1900,1900,0,0,0,0,0,0,0,0,0,"","",0,0,0,"FORMATO INCORRECTO","FORMATO INCORRECTO","FORMATO INCORRECTO",{"$f":"IF(L459=\"\",\"\",IF(ISERROR(edata(L459)),\"FORMATO INCORRECTO\",\"FORMATO CORRECTO\"))","v":""},{"$f":"IF(U459=\"\",\"\",IF(ISERROR(edata(U459)),\"FORMATO INCORRECTO\",\"FORMATO CORRECTO\"))","v":""},{"$f":"IF(N459=\"\",\"\",IF(ISERROR(edata(N459)),\"FORMATO INCORRECTO\",\"FORMATO CORRECTO\"))","v":""}]
["1901-03-29","",null,null,null,null,null,null,"",null,null,null,null,null,null,null,null,"",null,null,null,null,null,null,null,null,"",null,"",null,null,"",null,null,null,null,null,0,0,0,0,0,{"$f":"IF(AO460<>0,SUMIFS($AP$6:$AP$1001,$AN$6:$AN$1001,AN460,$F$6:$F$1001,F460,$AX$6:$AX$1001,AX460),0)","v":0},0,{"$f":"IF(AO460<>0,SUMIFS($AP$6:$AP$1001,$AR$6:$AR$1001,AR460,$F$6:$F$1001,F460,$AX$6:$AX$1001,AX460),0)","v":0},0,0,0,{"$f":"IF(AU460<>0,SUMIFS($AV$6:$AV$1001,$AT$6:$AT$1001,AT460,$F$6:$F$1001,F460,$AY$6:$AY$1001,AY460),0)","v":0},1900,1900,0,0,0,0,0,0,0,0,0,"","",0,0,0,"FORMATO INCORRECTO","FORMATO INCORRECTO","FORMATO INCORRECTO",{"$f":"IF(L460=\"\",\"\",IF(ISERROR(edata(L460)),\"FORMATO INCORRECTO\",\"FORMATO CORRECTO\"))","v":""},{"$f":"IF(U460=\"\",\"\",IF(ISERROR(edata(U460)),\"FORMATO INCORRECTO\",\"FORMATO CORRECTO\"))","v":""},{"$f":"IF(N460=\"\",\"\",IF(ISERROR(edata(N460)),\"FORMATO INCORRECTO\",\"FORMATO CORRECTO\"))","v":""}]
["1901-03-30","",null,null,null,null,null,null,"",null,null,null,null,null,null,null,null,"",null,null,null,null,null,null,null,null,"",null,"",null,null,"",null,null,null,null,null,0,0,0,0,0,{"$f":"IF(AO461<>0,SUMIFS($AP$6:$AP$1001,$AN$6:$AN$1001,AN461,$F$6:$F$1001,F461,$AX$6:$AX$1001,AX461),0)","v":0},0,{"$f":"IF(AO461<>0,SUMIFS($AP$6:$AP$1001,$AR$6:$AR$1001,AR461,$F$6:$F$1001,F461,$AX$6:$AX$1001,AX461),0)","v":0},0,0,0,{"$f":"IF(AU461<>0,SUMIFS($AV$6:$AV$1001,$AT$6:$AT$1001,AT461,$F$6:$F$1001,F461,$AY$6:$AY$1001,AY461),0)","v":0},1900,1900,0,0,0,0,0,0,0,0,0,"","",0,0,0,"FORMATO INCORRECTO","FORMATO INCORRECTO","FORMATO INCORRECTO",{"$f":"IF(L461=\"\",\"\",IF(ISERROR(edata(L461)),\"FORMATO INCORRECTO\",\"FORMATO CORRECTO\"))","v":""},{"$f":"IF(U461=\"\",\"\",IF(ISERROR(edata(U461)),\"FORMATO INCORRECTO\",\"FORMATO CORRECTO\"))","v":""},{"$f":"IF(N461=\"\",\"\",IF(ISERROR(edata(N461)),\"FORMATO INCORRECTO\",\"FORMATO CORRECTO\"))","v":""}]
["1901-03-31","",null,null,null,null,null,null,"",null,null,null,null,null,null,null,null,"",null,null,null,null,null,null,null,null,"",null,"",null,null,"",null,null,null,null,null,0,0,0,0,0,{"$f":"IF(AO462<>0,SUMIFS($AP$6:$AP$1001,$AN$6:$AN$1001,AN462,$F$6:$F$1001,F462,$AX$6:$AX$1001,AX462),0)","v":0},0,{"$f":"IF(AO462<>0,SUMIFS($AP$6:$AP$1001,$AR$6:$AR$1001,AR462,$F$6:$F$1001,F462,$AX$6:$AX$1001,AX462),0)","v":0},0,0,0,{"$f":"IF(AU462<>0,SUMIFS($AV$6:$AV$1001,$AT$6:$AT$1001,AT462,$F$6:$F$1001,F462,$AY$6:$AY$1001,AY462),0)","v":0},1900,1900,0,0,0,0,0,0,0,0,0,"","",0,0,0,"FORMATO INCORRECTO","FORMATO INCORRECTO","FORMATO INCORRECTO",{"$f":"IF(L462=\"\",\"\",IF(ISERROR(edata(L462)),\"FORMATO INCORRECTO\",\"FORMATO CORRECTO\"))","v":""},{"$f":"IF(U462=\"\",\"\",IF(ISERROR(edata(U462)),\"FORMATO INCORRECTO\",\"FORMATO CORRECTO\"))","v":""},{"$f":"IF(N462=\"\",\"\",IF(ISERROR(edata(N462)),\"FORMATO INCORRECTO\",\"FORMATO CORRECTO\"))","v":""}]
["1901-04-01","",null,null,null,null,null,null,"",null,null,null,null,null,null,null,null,"",null,null,null,null,null,null,null,null,"",null,"",null,null,"",null,null,null,null,null,0,0,0,0,0,{"$f":"IF(AO463<>0,SUMIFS($AP$6:$AP$1001,$AN$6:$AN$1001,AN463,$F$6:$F$1001,F463,$AX$6:$AX$1001,AX463),0)","v":0},0,{"$f":"IF(AO463<>0,SUMIFS($AP$6:$AP$1001,$AR$6:$AR$1001,AR463,$F$6:$F$1001,F463,$AX$6:$AX$1001,AX463),0)","v":0},0,0,0,{"$f":"IF(AU463<>0,SUMIFS($AV$6:$AV$1001,$AT$6:$AT$1001,AT463,$F$6:$F$1001,F463,$AY$6:$AY$1001,AY463),0)","v":0},1900,1900,0,0,0,0,0,0,0,0,0,"","",0,0,0,"FORMATO INCORRECTO","FORMATO INCORRECTO","FORMATO INCORRECTO",{"$f":"IF(L463=\"\",\"\",IF(ISERROR(edata(L463)),\"FORMATO INCORRECTO\",\"FORMATO CORRECTO\"))","v":""},{"$f":"IF(U463=\"\",\"\",IF(ISERROR(edata(U463)),\"FORMATO INCORRECTO\",\"FORMATO CORRECTO\"))","v":""},{"$f":"IF(N463=\"\",\"\",IF(ISERROR(edata(N463)),\"FORMATO INCORRECTO\",\"FORMATO CORRECTO\"))","v":""}]
["1901-04-02","",null,null,null,null,null,null,"",null,null,null,null,null,null,null,null,"",null,null,null,null,null,null,null,null,"",null,"",null,null,"",null,null,null,null,null,0,0,0,0,0,{"$f":"IF(AO464<>0,SUMIFS($AP$6:$AP$1001,$AN$6:$AN$1001,AN464,$F$6:$F$1001,F464,$AX$6:$AX$1001,AX464),0)","v":0},0,{"$f":"IF(AO464<>0,SUMIFS($AP$6:$AP$1001,$AR$6:$AR$1001,AR464,$F$6:$F$1001,F464,$AX$6:$AX$1001,AX464),0)","v":0},0,0,0,{"$f":"IF(AU464<>0,SUMIFS($AV$6:$AV$1001,$AT$6:$AT$1001,AT464,$F$6:$F$1001,F464,$AY$6:$AY$1001,AY464),0)","v":0},1900,1900,0,0,0,0,0,0,0,0,0,"","",0,0,0,"FORMATO INCORRECTO","FORMATO INCORRECTO","FORMATO INCORRECTO",{"$f":"IF(L464=\"\",\"\",IF(ISERROR(edata(L464)),\"FORMATO INCORRECTO\",\"FORMATO CORRECTO\"))","v":""},{"$f":"IF(U464=\"\",\"\",IF(ISERROR(edata(U464)),\"FORMATO INCORRECTO\",\"FORMATO CORRECTO\"))","v":""},{"$f":"IF(N464=\"\",\"\",IF(ISERROR(edata(N464)),\"FORMATO INCORRECTO\",\"FORMATO CORRECTO\"))","v":""}]
["1901-04-03","",null,null,null,null,null,null,"",null,null,null,null,null,null,null,null,"",null,null,null,null,null,null,null,null,"",null,"",null,null,"",null,null,null,null,null,0,0,0,0,0,{"$f":"IF(AO465<>0,SUMIFS($AP$6:$AP$1001,$AN$6:$AN$1001,AN465,$F$6:$F$1001,F465,$AX$6:$AX$1001,AX465),0)","v":0},0,{"$f":"IF(AO465<>0,SUMIFS($AP$6:$AP$1001,$AR$6:$AR$1001,AR465,$F$6:$F$1001,F465,$AX$6:$AX$1001,AX465),0)","v":0},0,0,0,{"$f":"IF(AU465<>0,SUMIFS($AV$6:$AV$1001,$AT$6:$AT$1001,AT465,$F$6:$F$1001,F465,$AY$6:$AY$1001,AY465),0)","v":0},1900,1900,0,0,0,0,0,0,0,0,0,"","",0,0,0,"FORMATO INCORRECTO","FORMATO INCORRECTO","FORMATO INCORRECTO",{"$f":"IF(L465=\"\",\"\",IF(ISERROR(edata(L465)),\"FORMATO INCORRECTO\",\"FORMATO CORRECTO\"))","v":""},{"$f":"IF(U465=\"\",\"\",IF(ISERROR(edata(U465)),\"FORMATO INCORRECTO\",\"FORMATO CORRECTO\"))","v":""},{"$f":"IF(N465=\"\",\"\",IF(ISERROR(edata(N465)),\"FORMATO INCORRECTO\",\"FORMATO CORRECTO\"))","v":""}]
["1901-04-04","",null,null,null,null,null,null,"",null,null,null,null,null,null,null,null,"",null,null,null,null,null,null,null,null,"",null,"",null,null,"",null,null,null,null,null,0,0,0,0,0,{"$f":"IF(AO466<>0,SUMIFS($AP$6:$AP$1001,$AN$6:$AN$1001,AN466,$F$6:$F$1001,F466,$AX$6:$AX$1001,AX466),0)","v":0},0,{"$f":"IF(AO466<>0,SUMIFS($AP$6:$AP$1001,$AR$6:$AR$1001,AR466,$F$6:$F$1001,F466,$AX$6:$AX$1001,AX466),0)","v":0},0,0,0,{"$f":"IF(AU466<>0,SUMIFS($AV$6:$AV$1001,$AT$6:$AT$1001,AT466,$F$6:$F$1001,F466,$AY$6:$AY$1001,AY466),0)","v":0},1900,1900,0,0,0,0,0,0,0,0,0,"","",0,0,0,"FORMATO INCORRECTO","FORMATO INCORRECTO","FORMATO INCORRECTO",{"$f":"IF(L466=\"\",\"\",IF(ISERROR(edata(L466)),\"FORMATO INCORRECTO\",\"FORMATO CORRECTO\"))","v":""},{"$f":"IF(U466=\"\",\"\",IF(ISERROR(edata(U466)),\"FORMATO INCORRECTO\",\"FORMATO CORRECTO\"))","v":""},{"$f":"IF(N466=\"\",\"\",IF(ISERROR(edata(N466)),\"FORMATO INCORRECTO\",\"FORMATO CORRECTO\"))","v":""}]
["1901-04-05","",null,null,null,null,null,null,"",null,null,null,null,null,null,null,null,"",null,null,null,null,null,null,null,null,"",null,"",null,null,"",null,null,null,null,null,0,0,0,0,0,{"$f":"IF(AO467<>0,SUMIFS($AP$6:$AP$1001,$AN$6:$AN$1001,AN467,$F$6:$F$1001,F467,$AX$6:$AX$1001,AX467),0)","v":0},0,{"$f":"IF(AO467<>0,SUMIFS($AP$6:$AP$1001,$AR$6:$AR$1001,AR467,$F$6:$F$1001,F467,$AX$6:$AX$1001,AX467),0)","v":0},0,0,0,{"$f":"IF(AU467<>0,SUMIFS($AV$6:$AV$1001,$AT$6:$AT$1001,AT467,$F$6:$F$1001,F467,$AY$6:$AY$1001,AY467),0)","v":0},1900,1900,0,0,0,0,0,0,0,0,0,"","",0,0,0,"FORMATO INCORRECTO","FORMATO INCORRECTO","FORMATO INCORRECTO",{"$f":"IF(L467=\"\",\"\",IF(ISERROR(edata(L467)),\"FORMATO INCORRECTO\",\"FORMATO CORRECTO\"))","v":""},{"$f":"IF(U467=\"\",\"\",IF(ISERROR(edata(U467)),\"FORMATO INCORRECTO\",\"FORMATO CORRECTO\"))","v":""},{"$f":"IF(N467=\"\",\"\",IF(ISERROR(edata(N467)),\"FORMATO INCORRECTO\",\"FORMATO CORRECTO\"))","v":""}]
["1901-04-06","",null,null,null,null,null,null,"",null,null,null,null,null,null,null,null,"",null,null,null,null,null,null,null,null,"",null,"",null,null,"",null,null,null,null,null,0,0,0,0,0,{"$f":"IF(AO468<>0,SUMIFS($AP$6:$AP$1001,$AN$6:$AN$1001,AN468,$F$6:$F$1001,F468,$AX$6:$AX$1001,AX468),0)","v":0},0,{"$f":"IF(AO468<>0,SUMIFS($AP$6:$AP$1001,$AR$6:$AR$1001,AR468,$F$6:$F$1001,F468,$AX$6:$AX$1001,AX468),0)","v":0},0,0,0,{"$f":"IF(AU468<>0,SUMIFS($AV$6:$AV$1001,$AT$6:$AT$1001,AT468,$F$6:$F$1001,F468,$AY$6:$AY$1001,AY468),0)","v":0},1900,1900,0,0,0,0,0,0,0,0,0,"","",0,0,0,"FORMATO INCORRECTO","FORMATO INCORRECTO","FORMATO INCORRECTO",{"$f":"IF(L468=\"\",\"\",IF(ISERROR(edata(L468)),\"FORMATO INCORRECTO\",\"FORMATO CORRECTO\"))","v":""},{"$f":"IF(U468=\"\",\"\",IF(ISERROR(edata(U468)),\"FORMATO INCORRECTO\",\"FORMATO CORRECTO\"))","v":""},{"$f":"IF(N468=\"\",\"\",IF(ISERROR(edata(N468)),\"FORMATO INCORRECTO\",\"FORMATO CORRECTO\"))","v":""}]
["1901-04-07","",null,null,null,null,null,null,"",null,null,null,null,null,null,null,null,"",null,null,null,null,null,null,null,null,"",null,"",null,null,"",null,null,null,null,null,0,0,0,0,0,{"$f":"IF(AO469<>0,SUMIFS($AP$6:$AP$1001,$AN$6:$AN$1001,AN469,$F$6:$F$1001,F469,$AX$6:$AX$1001,AX469),0)","v":0},0,{"$f":"IF(AO469<>0,SUMIFS($AP$6:$AP$1001,$AR$6:$AR$1001,AR469,$F$6:$F$1001,F469,$AX$6:$AX$1001,AX469),0)","v":0},0,0,0,{"$f":"IF(AU469<>0,SUMIFS($AV$6:$AV$1001,$AT$6:$AT$1001,AT469,$F$6:$F$1001,F469,$AY$6:$AY$1001,AY469),0)","v":0},1900,1900,0,0,0,0,0,0,0,0,0,"","",0,0,0,"FORMATO INCORRECTO","FORMATO INCORRECTO","FORMATO INCORRECTO",{"$f":"IF(L469=\"\",\"\",IF(ISERROR(edata(L469)),\"FORMATO INCORRECTO\",\"FORMATO CORRECTO\"))","v":""},{"$f":"IF(U469=\"\",\"\",IF(ISERROR(edata(U469)),\"FORMATO INCORRECTO\",\"FORMATO CORRECTO\"))","v":""},{"$f":"IF(N469=\"\",\"\",IF(ISERROR(edata(N469)),\"FORMATO INCORRECTO\",\"FORMATO CORRECTO\"))","v":""}]
["1901-04-08","",null,null,null,null,null,null,"",null,null,null,null,null,null,null,null,"",null,null,null,null,null,null,null,null,"",null,"",null,null,"",null,null,null,null,null,0,0,0,0,0,{"$f":"IF(AO470<>0,SUMIFS($AP$6:$AP$1001,$AN$6:$AN$1001,AN470,$F$6:$F$1001,F470,$AX$6:$AX$1001,AX470),0)","v":0},0,{"$f":"IF(AO470<>0,SUMIFS($AP$6:$AP$1001,$AR$6:$AR$1001,AR470,$F$6:$F$1001,F470,$AX$6:$AX$1001,AX470),0)","v":0},0,0,0,{"$f":"IF(AU470<>0,SUMIFS($AV$6:$AV$1001,$AT$6:$AT$1001,AT470,$F$6:$F$1001,F470,$AY$6:$AY$1001,AY470),0)","v":0},1900,1900,0,0,0,0,0,0,0,0,0,"","",0,0,0,"FORMATO INCORRECTO","FORMATO INCORRECTO","FORMATO INCORRECTO",{"$f":"IF(L470=\"\",\"\",IF(ISERROR(edata(L470)),\"FORMATO INCORRECTO\",\"FORMATO CORRECTO\"))","v":""},{"$f":"IF(U470=\"\",\"\",IF(ISERROR(edata(U470)),\"FORMATO INCORRECTO\",\"FORMATO CORRECTO\"))","v":""},{"$f":"IF(N470=\"\",\"\",IF(ISERROR(edata(N470)),\"FORMATO INCORRECTO\",\"FORMATO CORRECTO\"))","v":""}]
["1901-04-09","",null,null,null,null,null,null,"",null,null,null,null,null,null,null,null,"",null,null,null,null,null,null,null,null,"",null,"",null,null,"",null,null,null,null,null,0,0,0,0,0,{"$f":"IF(AO471<>0,SUMIFS($AP$6:$AP$1001,$AN$6:$AN$1001,AN471,$F$6:$F$1001,F471,$AX$6:$AX$1001,AX471),0)","v":0},0,{"$f":"IF(AO471<>0,SUMIFS($AP$6:$AP$1001,$AR$6:$AR$1001,AR471,$F$6:$F$1001,F471,$AX$6:$AX$1001,AX471),0)","v":0},0,0,0,{"$f":"IF(AU471<>0,SUMIFS($AV$6:$AV$1001,$AT$6:$AT$1001,AT471,$F$6:$F$1001,F471,$AY$6:$AY$1001,AY471),0)","v":0},1900,1900,0,0,0,0,0,0,0,0,0,"","",0,0,0,"FORMATO INCORRECTO","FORMATO INCORRECTO","FORMATO INCORRECTO",{"$f":"IF(L471=\"\",\"\",IF(ISERROR(edata(L471)),\"FORMATO INCORRECTO\",\"FORMATO CORRECTO\"))","v":""},{"$f":"IF(U471=\"\",\"\",IF(ISERROR(edata(U471)),\"FORMATO INCORRECTO\",\"FORMATO CORRECTO\"))","v":""},{"$f":"IF(N471=\"\",\"\",IF(ISERROR(edata(N471)),\"FORMATO INCORRECTO\",\"FORMATO CORRECTO\"))","v":""}]
["1901-04-10","",null,null,null,null,null,null,"",null,null,null,null,null,null,null,null,"",null,null,null,null,null,null,null,null,"",null,"",null,null,"",null,null,null,null,null,0,0,0,0,0,{"$f":"IF(AO472<>0,SUMIFS($AP$6:$AP$1001,$AN$6:$AN$1001,AN472,$F$6:$F$1001,F472,$AX$6:$AX$1001,AX472),0)","v":0},0,{"$f":"IF(AO472<>0,SUMIFS($AP$6:$AP$1001,$AR$6:$AR$1001,AR472,$F$6:$F$1001,F472,$AX$6:$AX$1001,AX472),0)","v":0},0,0,0,{"$f":"IF(AU472<>0,SUMIFS($AV$6:$AV$1001,$AT$6:$AT$1001,AT472,$F$6:$F$1001,F472,$AY$6:$AY$1001,AY472),0)","v":0},1900,1900,0,0,0,0,0,0,0,0,0,"","",0,0,0,"FORMATO INCORRECTO","FORMATO INCORRECTO","FORMATO INCORRECTO",{"$f":"IF(L472=\"\",\"\",IF(ISERROR(edata(L472)),\"FORMATO INCORRECTO\",\"FORMATO CORRECTO\"))","v":""},{"$f":"IF(U472=\"\",\"\",IF(ISERROR(edata(U472)),\"FORMATO INCORRECTO\",\"FORMATO CORRECTO\"))","v":""},{"$f":"IF(N472=\"\",\"\",IF(ISERROR(edata(N472)),\"FORMATO INCORRECTO\",\"FORMATO CORRECTO\"))","v":""}]
["1901-04-11","",null,null,null,null,null,null,"",null,null,null,null,null,null,null,null,"",null,null,null,null,null,null,null,null,"",null,"",null,null,"",null,null,null,null,null,0,0,0,0,0,{"$f":"IF(AO473<>0,SUMIFS($AP$6:$AP$1001,$AN$6:$AN$1001,AN473,$F$6:$F$1001,F473,$AX$6:$AX$1001,AX473),0)","v":0},0,{"$f":"IF(AO473<>0,SUMIFS($AP$6:$AP$1001,$AR$6:$AR$1001,AR473,$F$6:$F$1001,F473,$AX$6:$AX$1001,AX473),0)","v":0},0,0,0,{"$f":"IF(AU473<>0,SUMIFS($AV$6:$AV$1001,$AT$6:$AT$1001,AT473,$F$6:$F$1001,F473,$AY$6:$AY$1001,AY473),0)","v":0},1900,1900,0,0,0,0,0,0,0,0,0,"","",0,0,0,"FORMATO INCORRECTO","FORMATO INCORRECTO","FORMATO INCORRECTO",{"$f":"IF(L473=\"\",\"\",IF(ISERROR(edata(L473)),\"FORMATO INCORRECTO\",\"FORMATO CORRECTO\"))","v":""},{"$f":"IF(U473=\"\",\"\",IF(ISERROR(edata(U473)),\"FORMATO INCORRECTO\",\"FORMATO CORRECTO\"))","v":""},{"$f":"IF(N473=\"\",\"\",IF(ISERROR(edata(N473)),\"FORMATO INCORRECTO\",\"FORMATO CORRECTO\"))","v":""}]
["1901-04-12","",null,null,null,null,null,null,"",null,null,null,null,null,null,null,null,"",null,null,null,null,null,null,null,null,"",null,"",null,null,"",null,null,null,null,null,0,0,0,0,0,{"$f":"IF(AO474<>0,SUMIFS($AP$6:$AP$1001,$AN$6:$AN$1001,AN474,$F$6:$F$1001,F474,$AX$6:$AX$1001,AX474),0)","v":0},0,{"$f":"IF(AO474<>0,SUMIFS($AP$6:$AP$1001,$AR$6:$AR$1001,AR474,$F$6:$F$1001,F474,$AX$6:$AX$1001,AX474),0)","v":0},0,0,0,{"$f":"IF(AU474<>0,SUMIFS($AV$6:$AV$1001,$AT$6:$AT$1001,AT474,$F$6:$F$1001,F474,$AY$6:$AY$1001,AY474),0)","v":0},1900,1900,0,0,0,0,0,0,0,0,0,"","",0,0,0,"FORMATO INCORRECTO","FORMATO INCORRECTO","FORMATO INCORRECTO",{"$f":"IF(L474=\"\",\"\",IF(ISERROR(edata(L474)),\"FORMATO INCORRECTO\",\"FORMATO CORRECTO\"))","v":""},{"$f":"IF(U474=\"\",\"\",IF(ISERROR(edata(U474)),\"FORMATO INCORRECTO\",\"FORMATO CORRECTO\"))","v":""},{"$f":"IF(N474=\"\",\"\",IF(ISERROR(edata(N474)),\"FORMATO INCORRECTO\",\"FORMATO CORRECTO\"))","v":""}]
["1901-04-13","",null,null,null,null,null,null,"",null,null,null,null,null,null,null,null,"",null,null,null,null,null,null,null,null,"",null,"",null,null,"",null,null,null,null,null,0,0,0,0,0,{"$f":"IF(AO475<>0,SUMIFS($AP$6:$AP$1001,$AN$6:$AN$1001,AN475,$F$6:$F$1001,F475,$AX$6:$AX$1001,AX475),0)","v":0},0,{"$f":"IF(AO475<>0,SUMIFS($AP$6:$AP$1001,$AR$6:$AR$1001,AR475,$F$6:$F$1001,F475,$AX$6:$AX$1001,AX475),0)","v":0},0,0,0,{"$f":"IF(AU475<>0,SUMIFS($AV$6:$AV$1001,$AT$6:$AT$1001,AT475,$F$6:$F$1001,F475,$AY$6:$AY$1001,AY475),0)","v":0},1900,1900,0,0,0,0,0,0,0,0,0,"","",0,0,0,"FORMATO INCORRECTO","FORMATO INCORRECTO","FORMATO INCORRECTO",{"$f":"IF(L475=\"\",\"\",IF(ISERROR(edata(L475)),\"FORMATO INCORRECTO\",\"FORMATO CORRECTO\"))","v":""},{"$f":"IF(U475=\"\",\"\",IF(ISERROR(edata(U475)),\"FORMATO INCORRECTO\",\"FORMATO CORRECTO\"))","v":""},{"$f":"IF(N475=\"\",\"\",IF(ISERROR(edata(N475)),\"FORMATO INCORRECTO\",\"FORMATO CORRECTO\"))","v":""}]
["1901-04-14","",null,null,null,null,null,null,"",null,null,null,null,null,null,null,null,"",null,null,null,null,null,null,null,null,"",null,"",null,null,"",null,null,null,null,null,0,0,0,0,0,{"$f":"IF(AO476<>0,SUMIFS($AP$6:$AP$1001,$AN$6:$AN$1001,AN476,$F$6:$F$1001,F476,$AX$6:$AX$1001,AX476),0)","v":0},0,{"$f":"IF(AO476<>0,SUMIFS($AP$6:$AP$1001,$AR$6:$AR$1001,AR476,$F$6:$F$1001,F476,$AX$6:$AX$1001,AX476),0)","v":0},0,0,0,{"$f":"IF(AU476<>0,SUMIFS($AV$6:$AV$1001,$AT$6:$AT$1001,AT476,$F$6:$F$1001,F476,$AY$6:$AY$1001,AY476),0)","v":0},1900,1900,0,0,0,0,0,0,0,0,0,"","",0,0,0,"FORMATO INCORRECTO","FORMATO INCORRECTO","FORMATO INCORRECTO",{"$f":"IF(L476=\"\",\"\",IF(ISERROR(edata(L476)),\"FORMATO INCORRECTO\",\"FORMATO CORRECTO\"))","v":""},{"$f":"IF(U476=\"\",\"\",IF(ISERROR(edata(U476)),\"FORMATO INCORRECTO\",\"FORMATO CORRECTO\"))","v":""},{"$f":"IF(N476=\"\",\"\",IF(ISERROR(edata(N476)),\"FORMATO INCORRECTO\",\"FORMATO CORRECTO\"))","v":""}]
["1901-04-15","",null,null,null,null,null,null,"",null,null,null,null,null,null,null,null,"",null,null,null,null,null,null,null,null,"",null,"",null,null,"",null,null,null,null,null,0,0,0,0,0,{"$f":"IF(AO477<>0,SUMIFS($AP$6:$AP$1001,$AN$6:$AN$1001,AN477,$F$6:$F$1001,F477,$AX$6:$AX$1001,AX477),0)","v":0},0,{"$f":"IF(AO477<>0,SUMIFS($AP$6:$AP$1001,$AR$6:$AR$1001,AR477,$F$6:$F$1001,F477,$AX$6:$AX$1001,AX477),0)","v":0},0,0,0,{"$f":"IF(AU477<>0,SUMIFS($AV$6:$AV$1001,$AT$6:$AT$1001,AT477,$F$6:$F$1001,F477,$AY$6:$AY$1001,AY477),0)","v":0},1900,1900,0,0,0,0,0,0,0,0,0,"","",0,0,0,"FORMATO INCORRECTO","FORMATO INCORRECTO","FORMATO INCORRECTO",{"$f":"IF(L477=\"\",\"\",IF(ISERROR(edata(L477)),\"FORMATO INCORRECTO\",\"FORMATO CORRECTO\"))","v":""},{"$f":"IF(U477=\"\",\"\",IF(ISERROR(edata(U477)),\"FORMATO INCORRECTO\",\"FORMATO CORRECTO\"))","v":""},{"$f":"IF(N477=\"\",\"\",IF(ISERROR(edata(N477)),\"FORMATO INCORRECTO\",\"FORMATO CORRECTO\"))","v":""}]
["1901-04-16","",null,null,null,null,null,null,"",null,null,null,null,null,null,null,null,"",null,null,null,null,null,null,null,null,"",null,"",null,null,"",null,null,null,null,null,0,0,0,0,0,{"$f":"IF(AO478<>0,SUMIFS($AP$6:$AP$1001,$AN$6:$AN$1001,AN478,$F$6:$F$1001,F478,$AX$6:$AX$1001,AX478),0)","v":0},0,{"$f":"IF(AO478<>0,SUMIFS($AP$6:$AP$1001,$AR$6:$AR$1001,AR478,$F$6:$F$1001,F478,$AX$6:$AX$1001,AX478),0)","v":0},0,0,0,{"$f":"IF(AU478<>0,SUMIFS($AV$6:$AV$1001,$AT$6:$AT$1001,AT478,$F$6:$F$1001,F478,$AY$6:$AY$1001,AY478),0)","v":0},1900,1900,0,0,0,0,0,0,0,0,0,"","",0,0,0,"FORMATO INCORRECTO","FORMATO INCORRECTO","FORMATO INCORRECTO",{"$f":"IF(L478=\"\",\"\",IF(ISERROR(edata(L478)),\"FORMATO INCORRECTO\",\"FORMATO CORRECTO\"))","v":""},{"$f":"IF(U478=\"\",\"\",IF(ISERROR(edata(U478)),\"FORMATO INCORRECTO\",\"FORMATO CORRECTO\"))","v":""},{"$f":"IF(N478=\"\",\"\",IF(ISERROR(edata(N478)),\"FORMATO INCORRECTO\",\"FORMATO CORRECTO\"))","v":""}]
["1901-04-17","",null,null,null,null,null,null,"",null,null,null,null,null,null,null,null,"",null,null,null,null,null,null,null,null,"",null,"",null,null,"",null,null,null,null,null,0,0,0,0,0,{"$f":"IF(AO479<>0,SUMIFS($AP$6:$AP$1001,$AN$6:$AN$1001,AN479,$F$6:$F$1001,F479,$AX$6:$AX$1001,AX479),0)","v":0},0,{"$f":"IF(AO479<>0,SUMIFS($AP$6:$AP$1001,$AR$6:$AR$1001,AR479,$F$6:$F$1001,F479,$AX$6:$AX$1001,AX479),0)","v":0},0,0,0,{"$f":"IF(AU479<>0,SUMIFS($AV$6:$AV$1001,$AT$6:$AT$1001,AT479,$F$6:$F$1001,F479,$AY$6:$AY$1001,AY479),0)","v":0},1900,1900,0,0,0,0,0,0,0,0,0,"","",0,0,0,"FORMATO INCORRECTO","FORMATO INCORRECTO","FORMATO INCORRECTO",{"$f":"IF(L479=\"\",\"\",IF(ISERROR(edata(L479)),\"FORMATO INCORRECTO\",\"FORMATO CORRECTO\"))","v":""},{"$f":"IF(U479=\"\",\"\",IF(ISERROR(edata(U479)),\"FORMATO INCORRECTO\",\"FORMATO CORRECTO\"))","v":""},{"$f":"IF(N479=\"\",\"\",IF(ISERROR(edata(N479)),\"FORMATO INCORRECTO\",\"FORMATO CORRECTO\"))","v":""}]
["1901-04-18","",null,null,null,null,null,null,"",null,null,null,null,null,null,null,null,"",null,null,null,null,null,null,null,null,"",null,"",null,null,"",null,null,null,null,null,0,0,0,0,0,{"$f":"IF(AO480<>0,SUMIFS($AP$6:$AP$1001,$AN$6:$AN$1001,AN480,$F$6:$F$1001,F480,$AX$6:$AX$1001,AX480),0)","v":0},0,{"$f":"IF(AO480<>0,SUMIFS($AP$6:$AP$1001,$AR$6:$AR$1001,AR480,$F$6:$F$1001,F480,$AX$6:$AX$1001,AX480),0)","v":0},0,0,0,{"$f":"IF(AU480<>0,SUMIFS($AV$6:$AV$1001,$AT$6:$AT$1001,AT480,$F$6:$F$1001,F480,$AY$6:$AY$1001,AY480),0)","v":0},1900,1900,0,0,0,0,0,0,0,0,0,"","",0,0,0,"FORMATO INCORRECTO","FORMATO INCORRECTO","FORMATO INCORRECTO",{"$f":"IF(L480=\"\",\"\",IF(ISERROR(edata(L480)),\"FORMATO INCORRECTO\",\"FORMATO CORRECTO\"))","v":""},{"$f":"IF(U480=\"\",\"\",IF(ISERROR(edata(U480)),\"FORMATO INCORRECTO\",\"FORMATO CORRECTO\"))","v":""},{"$f":"IF(N480=\"\",\"\",IF(ISERROR(edata(N480)),\"FORMATO INCORRECTO\",\"FORMATO CORRECTO\"))","v":""}]
["1901-04-19","",null,null,null,null,null,null,"",null,null,null,null,null,null,null,null,"",null,null,null,null,null,null,null,null,"",null,"",null,null,"",null,null,null,null,null,0,0,0,0,0,{"$f":"IF(AO481<>0,SUMIFS($AP$6:$AP$1001,$AN$6:$AN$1001,AN481,$F$6:$F$1001,F481,$AX$6:$AX$1001,AX481),0)","v":0},0,{"$f":"IF(AO481<>0,SUMIFS($AP$6:$AP$1001,$AR$6:$AR$1001,AR481,$F$6:$F$1001,F481,$AX$6:$AX$1001,AX481),0)","v":0},0,0,0,{"$f":"IF(AU481<>0,SUMIFS($AV$6:$AV$1001,$AT$6:$AT$1001,AT481,$F$6:$F$1001,F481,$AY$6:$AY$1001,AY481),0)","v":0},1900,1900,0,0,0,0,0,0,0,0,0,"","",0,0,0,"FORMATO INCORRECTO","FORMATO INCORRECTO","FORMATO INCORRECTO",{"$f":"IF(L481=\"\",\"\",IF(ISERROR(edata(L481)),\"FORMATO INCORRECTO\",\"FORMATO CORRECTO\"))","v":""},{"$f":"IF(U481=\"\",\"\",IF(ISERROR(edata(U481)),\"FORMATO INCORRECTO\",\"FORMATO CORRECTO\"))","v":""},{"$f":"IF(N481=\"\",\"\",IF(ISERROR(edata(N481)),\"FORMATO INCORRECTO\",\"FORMATO CORRECTO\"))","v":""}]
["1901-04-20","",null,null,null,null,null,null,"",null,null,null,null,null,null,null,null,"",null,null,null,null,null,null,null,null,"",null,"",null,null,"",null,null,null,null,null,0,0,0,0,0,{"$f":"IF(AO482<>0,SUMIFS($AP$6:$AP$1001,$AN$6:$AN$1001,AN482,$F$6:$F$1001,F482,$AX$6:$AX$1001,AX482),0)","v":0},0,{"$f":"IF(AO482<>0,SUMIFS($AP$6:$AP$1001,$AR$6:$AR$1001,AR482,$F$6:$F$1001,F482,$AX$6:$AX$1001,AX482),0)","v":0},0,0,0,{"$f":"IF(AU482<>0,SUMIFS($AV$6:$AV$1001,$AT$6:$AT$1001,AT482,$F$6:$F$1001,F482,$AY$6:$AY$1001,AY482),0)","v":0},1900,1900,0,0,0,0,0,0,0,0,0,"","",0,0,0,"FORMATO INCORRECTO","FORMATO INCORRECTO","FORMATO INCORRECTO",{"$f":"IF(L482=\"\",\"\",IF(ISERROR(edata(L482)),\"FORMATO INCORRECTO\",\"FORMATO CORRECTO\"))","v":""},{"$f":"IF(U482=\"\",\"\",IF(ISERROR(edata(U482)),\"FORMATO INCORRECTO\",\"FORMATO CORRECTO\"))","v":""},{"$f":"IF(N482=\"\",\"\",IF(ISERROR(edata(N482)),\"FORMATO INCORRECTO\",\"FORMATO CORRECTO\"))","v":""}]
["1901-04-21","",null,null,null,null,null,null,"",null,null,null,null,null,null,null,null,"",null,null,null,null,null,null,null,null,"",null,"",null,null,"",null,null,null,null,null,0,0,0,0,0,{"$f":"IF(AO483<>0,SUMIFS($AP$6:$AP$1001,$AN$6:$AN$1001,AN483,$F$6:$F$1001,F483,$AX$6:$AX$1001,AX483),0)","v":0},0,{"$f":"IF(AO483<>0,SUMIFS($AP$6:$AP$1001,$AR$6:$AR$1001,AR483,$F$6:$F$1001,F483,$AX$6:$AX$1001,AX483),0)","v":0},0,0,0,{"$f":"IF(AU483<>0,SUMIFS($AV$6:$AV$1001,$AT$6:$AT$1001,AT483,$F$6:$F$1001,F483,$AY$6:$AY$1001,AY483),0)","v":0},1900,1900,0,0,0,0,0,0,0,0,0,"","",0,0,0,"FORMATO INCORRECTO","FORMATO INCORRECTO","FORMATO INCORRECTO",{"$f":"IF(L483=\"\",\"\",IF(ISERROR(edata(L483)),\"FORMATO INCORRECTO\",\"FORMATO CORRECTO\"))","v":""},{"$f":"IF(U483=\"\",\"\",IF(ISERROR(edata(U483)),\"FORMATO INCORRECTO\",\"FORMATO CORRECTO\"))","v":""},{"$f":"IF(N483=\"\",\"\",IF(ISERROR(edata(N483)),\"FORMATO INCORRECTO\",\"FORMATO CORRECTO\"))","v":""}]
["1901-04-22","",null,null,null,null,null,null,"",null,null,null,null,null,null,null,null,"",null,null,null,null,null,null,null,null,"",null,"",null,null,"",null,null,null,null,null,0,0,0,0,0,{"$f":"IF(AO484<>0,SUMIFS($AP$6:$AP$1001,$AN$6:$AN$1001,AN484,$F$6:$F$1001,F484,$AX$6:$AX$1001,AX484),0)","v":0},0,{"$f":"IF(AO484<>0,SUMIFS($AP$6:$AP$1001,$AR$6:$AR$1001,AR484,$F$6:$F$1001,F484,$AX$6:$AX$1001,AX484),0)","v":0},0,0,0,{"$f":"IF(AU484<>0,SUMIFS($AV$6:$AV$1001,$AT$6:$AT$1001,AT484,$F$6:$F$1001,F484,$AY$6:$AY$1001,AY484),0)","v":0},1900,1900,0,0,0,0,0,0,0,0,0,"","",0,0,0,"FORMATO INCORRECTO","FORMATO INCORRECTO","FORMATO INCORRECTO",{"$f":"IF(L484=\"\",\"\",IF(ISERROR(edata(L484)),\"FORMATO INCORRECTO\",\"FORMATO CORRECTO\"))","v":""},{"$f":"IF(U484=\"\",\"\",IF(ISERROR(edata(U484)),\"FORMATO INCORRECTO\",\"FORMATO CORRECTO\"))","v":""},{"$f":"IF(N484=\"\",\"\",IF(ISERROR(edata(N484)),\"FORMATO INCORRECTO\",\"FORMATO CORRECTO\"))","v":""}]
["1901-04-23","",null,null,null,null,null,null,"",null,null,null,null,null,null,null,null,"",null,null,null,null,null,null,null,null,"",null,"",null,null,"",null,null,null,null,null,0,0,0,0,0,{"$f":"IF(AO485<>0,SUMIFS($AP$6:$AP$1001,$AN$6:$AN$1001,AN485,$F$6:$F$1001,F485,$AX$6:$AX$1001,AX485),0)","v":0},0,{"$f":"IF(AO485<>0,SUMIFS($AP$6:$AP$1001,$AR$6:$AR$1001,AR485,$F$6:$F$1001,F485,$AX$6:$AX$1001,AX485),0)","v":0},0,0,0,{"$f":"IF(AU485<>0,SUMIFS($AV$6:$AV$1001,$AT$6:$AT$1001,AT485,$F$6:$F$1001,F485,$AY$6:$AY$1001,AY485),0)","v":0},1900,1900,0,0,0,0,0,0,0,0,0,"","",0,0,0,"FORMATO INCORRECTO","FORMATO INCORRECTO","FORMATO INCORRECTO",{"$f":"IF(L485=\"\",\"\",IF(ISERROR(edata(L485)),\"FORMATO INCORRECTO\",\"FORMATO CORRECTO\"))","v":""},{"$f":"IF(U485=\"\",\"\",IF(ISERROR(edata(U485)),\"FORMATO INCORRECTO\",\"FORMATO CORRECTO\"))","v":""},{"$f":"IF(N485=\"\",\"\",IF(ISERROR(edata(N485)),\"FORMATO INCORRECTO\",\"FORMATO CORRECTO\"))","v":""}]
["1901-04-24","",null,null,null,null,null,null,"",null,null,null,null,null,null,null,null,"",null,null,null,null,null,null,null,null,"",null,"",null,null,"",null,null,null,null,null,0,0,0,0,0,{"$f":"IF(AO486<>0,SUMIFS($AP$6:$AP$1001,$AN$6:$AN$1001,AN486,$F$6:$F$1001,F486,$AX$6:$AX$1001,AX486),0)","v":0},0,{"$f":"IF(AO486<>0,SUMIFS($AP$6:$AP$1001,$AR$6:$AR$1001,AR486,$F$6:$F$1001,F486,$AX$6:$AX$1001,AX486),0)","v":0},0,0,0,{"$f":"IF(AU486<>0,SUMIFS($AV$6:$AV$1001,$AT$6:$AT$1001,AT486,$F$6:$F$1001,F486,$AY$6:$AY$1001,AY486),0)","v":0},1900,1900,0,0,0,0,0,0,0,0,0,"","",0,0,0,"FORMATO INCORRECTO","FORMATO INCORRECTO","FORMATO INCORRECTO",{"$f":"IF(L486=\"\",\"\",IF(ISERROR(edata(L486)),\"FORMATO INCORRECTO\",\"FORMATO CORRECTO\"))","v":""},{"$f":"IF(U486=\"\",\"\",IF(ISERROR(edata(U486)),\"FORMATO INCORRECTO\",\"FORMATO CORRECTO\"))","v":""},{"$f":"IF(N486=\"\",\"\",IF(ISERROR(edata(N486)),\"FORMATO INCORRECTO\",\"FORMATO CORRECTO\"))","v":""}]
["1901-04-25","",null,null,null,null,null,null,"",null,null,null,null,null,null,null,null,"",null,null,null,null,null,null,null,null,"",null,"",null,null,"",null,null,null,null,null,0,0,0,0,0,{"$f":"IF(AO487<>0,SUMIFS($AP$6:$AP$1001,$AN$6:$AN$1001,AN487,$F$6:$F$1001,F487,$AX$6:$AX$1001,AX487),0)","v":0},0,{"$f":"IF(AO487<>0,SUMIFS($AP$6:$AP$1001,$AR$6:$AR$1001,AR487,$F$6:$F$1001,F487,$AX$6:$AX$1001,AX487),0)","v":0},0,0,0,{"$f":"IF(AU487<>0,SUMIFS($AV$6:$AV$1001,$AT$6:$AT$1001,AT487,$F$6:$F$1001,F487,$AY$6:$AY$1001,AY487),0)","v":0},1900,1900,0,0,0,0,0,0,0,0,0,"","",0,0,0,"FORMATO INCORRECTO","FORMATO INCORRECTO","FORMATO INCORRECTO",{"$f":"IF(L487=\"\",\"\",IF(ISERROR(edata(L487)),\"FORMATO INCORRECTO\",\"FORMATO CORRECTO\"))","v":""},{"$f":"IF(U487=\"\",\"\",IF(ISERROR(edata(U487)),\"FORMATO INCORRECTO\",\"FORMATO CORRECTO\"))","v":""},{"$f":"IF(N487=\"\",\"\",IF(ISERROR(edata(N487)),\"FORMATO INCORRECTO\",\"FORMATO CORRECTO\"))","v":""}]
["1901-04-26","",null,null,null,null,null,null,"",null,null,null,null,null,null,null,null,"",null,null,null,null,null,null,null,null,"",null,"",null,null,"",null,null,null,null,null,0,0,0,0,0,{"$f":"IF(AO488<>0,SUMIFS($AP$6:$AP$1001,$AN$6:$AN$1001,AN488,$F$6:$F$1001,F488,$AX$6:$AX$1001,AX488),0)","v":0},0,{"$f":"IF(AO488<>0,SUMIFS($AP$6:$AP$1001,$AR$6:$AR$1001,AR488,$F$6:$F$1001,F488,$AX$6:$AX$1001,AX488),0)","v":0},0,0,0,{"$f":"IF(AU488<>0,SUMIFS($AV$6:$AV$1001,$AT$6:$AT$1001,AT488,$F$6:$F$1001,F488,$AY$6:$AY$1001,AY488),0)","v":0},1900,1900,0,0,0,0,0,0,0,0,0,"","",0,0,0,"FORMATO INCORRECTO","FORMATO INCORRECTO","FORMATO INCORRECTO",{"$f":"IF(L488=\"\",\"\",IF(ISERROR(edata(L488)),\"FORMATO INCORRECTO\",\"FORMATO CORRECTO\"))","v":""},{"$f":"IF(U488=\"\",\"\",IF(ISERROR(edata(U488)),\"FORMATO INCORRECTO\",\"FORMATO CORRECTO\"))","v":""},{"$f":"IF(N488=\"\",\"\",IF(ISERROR(edata(N488)),\"FORMATO INCORRECTO\",\"FORMATO CORRECTO\"))","v":""}]
["1901-04-27","",null,null,null,null,null,null,"",null,null,null,null,null,null,null,null,"",null,null,null,null,null,null,null,null,"",null,"",null,null,"",null,null,null,null,null,0,0,0,0,0,{"$f":"IF(AO489<>0,SUMIFS($AP$6:$AP$1001,$AN$6:$AN$1001,AN489,$F$6:$F$1001,F489,$AX$6:$AX$1001,AX489),0)","v":0},0,{"$f":"IF(AO489<>0,SUMIFS($AP$6:$AP$1001,$AR$6:$AR$1001,AR489,$F$6:$F$1001,F489,$AX$6:$AX$1001,AX489),0)","v":0},0,0,0,{"$f":"IF(AU489<>0,SUMIFS($AV$6:$AV$1001,$AT$6:$AT$1001,AT489,$F$6:$F$1001,F489,$AY$6:$AY$1001,AY489),0)","v":0},1900,1900,0,0,0,0,0,0,0,0,0,"","",0,0,0,"FORMATO INCORRECTO","FORMATO INCORRECTO","FORMATO INCORRECTO",{"$f":"IF(L489=\"\",\"\",IF(ISERROR(edata(L489)),\"FORMATO INCORRECTO\",\"FORMATO CORRECTO\"))","v":""},{"$f":"IF(U489=\"\",\"\",IF(ISERROR(edata(U489)),\"FORMATO INCORRECTO\",\"FORMATO CORRECTO\"))","v":""},{"$f":"IF(N489=\"\",\"\",IF(ISERROR(edata(N489)),\"FORMATO INCORRECTO\",\"FORMATO CORRECTO\"))","v":""}]
["1901-04-28","",null,null,null,null,null,null,"",null,null,null,null,null,null,null,null,"",null,null,null,null,null,null,null,null,"",null,"",null,null,"",null,null,null,null,null,0,0,0,0,0,{"$f":"IF(AO490<>0,SUMIFS($AP$6:$AP$1001,$AN$6:$AN$1001,AN490,$F$6:$F$1001,F490,$AX$6:$AX$1001,AX490),0)","v":0},0,{"$f":"IF(AO490<>0,SUMIFS($AP$6:$AP$1001,$AR$6:$AR$1001,AR490,$F$6:$F$1001,F490,$AX$6:$AX$1001,AX490),0)","v":0},0,0,0,{"$f":"IF(AU490<>0,SUMIFS($AV$6:$AV$1001,$AT$6:$AT$1001,AT490,$F$6:$F$1001,F490,$AY$6:$AY$1001,AY490),0)","v":0},1900,1900,0,0,0,0,0,0,0,0,0,"","",0,0,0,"FORMATO INCORRECTO","FORMATO INCORRECTO","FORMATO INCORRECTO",{"$f":"IF(L490=\"\",\"\",IF(ISERROR(edata(L490)),\"FORMATO INCORRECTO\",\"FORMATO CORRECTO\"))","v":""},{"$f":"IF(U490=\"\",\"\",IF(ISERROR(edata(U490)),\"FORMATO INCORRECTO\",\"FORMATO CORRECTO\"))","v":""},{"$f":"IF(N490=\"\",\"\",IF(ISERROR(edata(N490)),\"FORMATO INCORRECTO\",\"FORMATO CORRECTO\"))","v":""}]
["1901-04-29","",null,null,null,null,null,null,"",null,null,null,null,null,null,null,null,"",null,null,null,null,null,null,null,null,"",null,"",null,null,"",null,null,null,null,null,0,0,0,0,0,{"$f":"IF(AO491<>0,SUMIFS($AP$6:$AP$1001,$AN$6:$AN$1001,AN491,$F$6:$F$1001,F491,$AX$6:$AX$1001,AX491),0)","v":0},0,{"$f":"IF(AO491<>0,SUMIFS($AP$6:$AP$1001,$AR$6:$AR$1001,AR491,$F$6:$F$1001,F491,$AX$6:$AX$1001,AX491),0)","v":0},0,0,0,{"$f":"IF(AU491<>0,SUMIFS($AV$6:$AV$1001,$AT$6:$AT$1001,AT491,$F$6:$F$1001,F491,$AY$6:$AY$1001,AY491),0)","v":0},1900,1900,0,0,0,0,0,0,0,0,0,"","",0,0,0,"FORMATO INCORRECTO","FORMATO INCORRECTO","FORMATO INCORRECTO",{"$f":"IF(L491=\"\",\"\",IF(ISERROR(edata(L491)),\"FORMATO INCORRECTO\",\"FORMATO CORRECTO\"))","v":""},{"$f":"IF(U491=\"\",\"\",IF(ISERROR(edata(U491)),\"FORMATO INCORRECTO\",\"FORMATO CORRECTO\"))","v":""},{"$f":"IF(N491=\"\",\"\",IF(ISERROR(edata(N491)),\"FORMATO INCORRECTO\",\"FORMATO CORRECTO\"))","v":""}]
["1901-04-30","",null,null,null,null,null,null,"",null,null,null,null,null,null,null,null,"",null,null,null,null,null,null,null,null,"",null,"",null,null,"",null,null,null,null,null,0,0,0,0,0,{"$f":"IF(AO492<>0,SUMIFS($AP$6:$AP$1001,$AN$6:$AN$1001,AN492,$F$6:$F$1001,F492,$AX$6:$AX$1001,AX492),0)","v":0},0,{"$f":"IF(AO492<>0,SUMIFS($AP$6:$AP$1001,$AR$6:$AR$1001,AR492,$F$6:$F$1001,F492,$AX$6:$AX$1001,AX492),0)","v":0},0,0,0,{"$f":"IF(AU492<>0,SUMIFS($AV$6:$AV$1001,$AT$6:$AT$1001,AT492,$F$6:$F$1001,F492,$AY$6:$AY$1001,AY492),0)","v":0},1900,1900,0,0,0,0,0,0,0,0,0,"","",0,0,0,"FORMATO INCORRECTO","FORMATO INCORRECTO","FORMATO INCORRECTO",{"$f":"IF(L492=\"\",\"\",IF(ISERROR(edata(L492)),\"FORMATO INCORRECTO\",\"FORMATO CORRECTO\"))","v":""},{"$f":"IF(U492=\"\",\"\",IF(ISERROR(edata(U492)),\"FORMATO INCORRECTO\",\"FORMATO CORRECTO\"))","v":""},{"$f":"IF(N492=\"\",\"\",IF(ISERROR(edata(N492)),\"FORMATO INCORRECTO\",\"FORMATO CORRECTO\"))","v":""}]
["1901-05-01","",null,null,null,null,null,null,"",null,null,null,null,null,null,null,null,"",null,null,null,null,null,null,null,null,"",null,"",null,null,"",null,null,null,null,null,0,0,0,0,0,{"$f":"IF(AO493<>0,SUMIFS($AP$6:$AP$1001,$AN$6:$AN$1001,AN493,$F$6:$F$1001,F493,$AX$6:$AX$1001,AX493),0)","v":0},0,{"$f":"IF(AO493<>0,SUMIFS($AP$6:$AP$1001,$AR$6:$AR$1001,AR493,$F$6:$F$1001,F493,$AX$6:$AX$1001,AX493),0)","v":0},0,0,0,{"$f":"IF(AU493<>0,SUMIFS($AV$6:$AV$1001,$AT$6:$AT$1001,AT493,$F$6:$F$1001,F493,$AY$6:$AY$1001,AY493),0)","v":0},1900,1900,0,0,0,0,0,0,0,0,0,"","",0,0,0,"FORMATO INCORRECTO","FORMATO INCORRECTO","FORMATO INCORRECTO",{"$f":"IF(L493=\"\",\"\",IF(ISERROR(edata(L493)),\"FORMATO INCORRECTO\",\"FORMATO CORRECTO\"))","v":""},{"$f":"IF(U493=\"\",\"\",IF(ISERROR(edata(U493)),\"FORMATO INCORRECTO\",\"FORMATO CORRECTO\"))","v":""},{"$f":"IF(N493=\"\",\"\",IF(ISERROR(edata(N493)),\"FORMATO INCORRECTO\",\"FORMATO CORRECTO\"))","v":""}]
["1901-05-02","",null,null,null,null,null,null,"",null,null,null,null,null,null,null,null,"",null,null,null,null,null,null,null,null,"",null,"",null,null,"",null,null,null,null,null,0,0,0,0,0,{"$f":"IF(AO494<>0,SUMIFS($AP$6:$AP$1001,$AN$6:$AN$1001,AN494,$F$6:$F$1001,F494,$AX$6:$AX$1001,AX494),0)","v":0},0,{"$f":"IF(AO494<>0,SUMIFS($AP$6:$AP$1001,$AR$6:$AR$1001,AR494,$F$6:$F$1001,F494,$AX$6:$AX$1001,AX494),0)","v":0},0,0,0,{"$f":"IF(AU494<>0,SUMIFS($AV$6:$AV$1001,$AT$6:$AT$1001,AT494,$F$6:$F$1001,F494,$AY$6:$AY$1001,AY494),0)","v":0},1900,1900,0,0,0,0,0,0,0,0,0,"","",0,0,0,"FORMATO INCORRECTO","FORMATO INCORRECTO","FORMATO INCORRECTO",{"$f":"IF(L494=\"\",\"\",IF(ISERROR(edata(L494)),\"FORMATO INCORRECTO\",\"FORMATO CORRECTO\"))","v":""},{"$f":"IF(U494=\"\",\"\",IF(ISERROR(edata(U494)),\"FORMATO INCORRECTO\",\"FORMATO CORRECTO\"))","v":""},{"$f":"IF(N494=\"\",\"\",IF(ISERROR(edata(N494)),\"FORMATO INCORRECTO\",\"FORMATO CORRECTO\"))","v":""}]
["1901-05-03","",null,null,null,null,null,null,"",null,null,null,null,null,null,null,null,"",null,null,null,null,null,null,null,null,"",null,"",null,null,"",null,null,null,null,null,0,0,0,0,0,{"$f":"IF(AO495<>0,SUMIFS($AP$6:$AP$1001,$AN$6:$AN$1001,AN495,$F$6:$F$1001,F495,$AX$6:$AX$1001,AX495),0)","v":0},0,{"$f":"IF(AO495<>0,SUMIFS($AP$6:$AP$1001,$AR$6:$AR$1001,AR495,$F$6:$F$1001,F495,$AX$6:$AX$1001,AX495),0)","v":0},0,0,0,{"$f":"IF(AU495<>0,SUMIFS($AV$6:$AV$1001,$AT$6:$AT$1001,AT495,$F$6:$F$1001,F495,$AY$6:$AY$1001,AY495),0)","v":0},1900,1900,0,0,0,0,0,0,0,0,0,"","",0,0,0,"FORMATO INCORRECTO","FORMATO INCORRECTO","FORMATO INCORRECTO",{"$f":"IF(L495=\"\",\"\",IF(ISERROR(edata(L495)),\"FORMATO INCORRECTO\",\"FORMATO CORRECTO\"))","v":""},{"$f":"IF(U495=\"\",\"\",IF(ISERROR(edata(U495)),\"FORMATO INCORRECTO\",\"FORMATO CORRECTO\"))","v":""},{"$f":"IF(N495=\"\",\"\",IF(ISERROR(edata(N495)),\"FORMATO INCORRECTO\",\"FORMATO CORRECTO\"))","v":""}]
["1901-05-04","",null,null,null,null,null,null,"",null,null,null,null,null,null,null,null,"",null,null,null,null,null,null,null,null,"",null,"",null,null,"",null,null,null,null,null,0,0,0,0,0,{"$f":"IF(AO496<>0,SUMIFS($AP$6:$AP$1001,$AN$6:$AN$1001,AN496,$F$6:$F$1001,F496,$AX$6:$AX$1001,AX496),0)","v":0},0,{"$f":"IF(AO496<>0,SUMIFS($AP$6:$AP$1001,$AR$6:$AR$1001,AR496,$F$6:$F$1001,F496,$AX$6:$AX$1001,AX496),0)","v":0},0,0,0,{"$f":"IF(AU496<>0,SUMIFS($AV$6:$AV$1001,$AT$6:$AT$1001,AT496,$F$6:$F$1001,F496,$AY$6:$AY$1001,AY496),0)","v":0},1900,1900,0,0,0,0,0,0,0,0,0,"","",0,0,0,"FORMATO INCORRECTO","FORMATO INCORRECTO","FORMATO INCORRECTO",{"$f":"IF(L496=\"\",\"\",IF(ISERROR(edata(L496)),\"FORMATO INCORRECTO\",\"FORMATO CORRECTO\"))","v":""},{"$f":"IF(U496=\"\",\"\",IF(ISERROR(edata(U496)),\"FORMATO INCORRECTO\",\"FORMATO CORRECTO\"))","v":""},{"$f":"IF(N496=\"\",\"\",IF(ISERROR(edata(N496)),\"FORMATO INCORRECTO\",\"FORMATO CORRECTO\"))","v":""}]
["1901-05-05","",null,null,null,null,null,null,"",null,null,null,null,null,null,null,null,"",null,null,null,null,null,null,null,null,"",null,"",null,null,"",null,null,null,null,null,0,0,0,0,0,{"$f":"IF(AO497<>0,SUMIFS($AP$6:$AP$1001,$AN$6:$AN$1001,AN497,$F$6:$F$1001,F497,$AX$6:$AX$1001,AX497),0)","v":0},0,{"$f":"IF(AO497<>0,SUMIFS($AP$6:$AP$1001,$AR$6:$AR$1001,AR497,$F$6:$F$1001,F497,$AX$6:$AX$1001,AX497),0)","v":0},0,0,0,{"$f":"IF(AU497<>0,SUMIFS($AV$6:$AV$1001,$AT$6:$AT$1001,AT497,$F$6:$F$1001,F497,$AY$6:$AY$1001,AY497),0)","v":0},1900,1900,0,0,0,0,0,0,0,0,0,"","",0,0,0,"FORMATO INCORRECTO","FORMATO INCORRECTO","FORMATO INCORRECTO",{"$f":"IF(L497=\"\",\"\",IF(ISERROR(edata(L497)),\"FORMATO INCORRECTO\",\"FORMATO CORRECTO\"))","v":""},{"$f":"IF(U497=\"\",\"\",IF(ISERROR(edata(U497)),\"FORMATO INCORRECTO\",\"FORMATO CORRECTO\"))","v":""},{"$f":"IF(N497=\"\",\"\",IF(ISERROR(edata(N497)),\"FORMATO INCORRECTO\",\"FORMATO CORRECTO\"))","v":""}]
["1901-05-06","",null,null,null,null,null,null,"",null,null,null,null,null,null,null,null,"",null,null,null,null,null,null,null,null,"",null,"",null,null,"",null,null,null,null,null,0,0,0,0,0,{"$f":"IF(AO498<>0,SUMIFS($AP$6:$AP$1001,$AN$6:$AN$1001,AN498,$F$6:$F$1001,F498,$AX$6:$AX$1001,AX498),0)","v":0},0,{"$f":"IF(AO498<>0,SUMIFS($AP$6:$AP$1001,$AR$6:$AR$1001,AR498,$F$6:$F$1001,F498,$AX$6:$AX$1001,AX498),0)","v":0},0,0,0,{"$f":"IF(AU498<>0,SUMIFS($AV$6:$AV$1001,$AT$6:$AT$1001,AT498,$F$6:$F$1001,F498,$AY$6:$AY$1001,AY498),0)","v":0},1900,1900,0,0,0,0,0,0,0,0,0,"","",0,0,0,"FORMATO INCORRECTO","FORMATO INCORRECTO","FORMATO INCORRECTO",{"$f":"IF(L498=\"\",\"\",IF(ISERROR(edata(L498)),\"FORMATO INCORRECTO\",\"FORMATO CORRECTO\"))","v":""},{"$f":"IF(U498=\"\",\"\",IF(ISERROR(edata(U498)),\"FORMATO INCORRECTO\",\"FORMATO CORRECTO\"))","v":""},{"$f":"IF(N498=\"\",\"\",IF(ISERROR(edata(N498)),\"FORMATO INCORRECTO\",\"FORMATO CORRECTO\"))","v":""}]
["1901-05-07","",null,null,null,null,null,null,"",null,null,null,null,null,null,null,null,"",null,null,null,null,null,null,null,null,"",null,"",null,null,"",null,null,null,null,null,0,0,0,0,0,{"$f":"IF(AO499<>0,SUMIFS($AP$6:$AP$1001,$AN$6:$AN$1001,AN499,$F$6:$F$1001,F499,$AX$6:$AX$1001,AX499),0)","v":0},0,{"$f":"IF(AO499<>0,SUMIFS($AP$6:$AP$1001,$AR$6:$AR$1001,AR499,$F$6:$F$1001,F499,$AX$6:$AX$1001,AX499),0)","v":0},0,0,0,{"$f":"IF(AU499<>0,SUMIFS($AV$6:$AV$1001,$AT$6:$AT$1001,AT499,$F$6:$F$1001,F499,$AY$6:$AY$1001,AY499),0)","v":0},1900,1900,0,0,0,0,0,0,0,0,0,"","",0,0,0,"FORMATO INCORRECTO","FORMATO INCORRECTO","FORMATO INCORRECTO",{"$f":"IF(L499=\"\",\"\",IF(ISERROR(edata(L499)),\"FORMATO INCORRECTO\",\"FORMATO CORRECTO\"))","v":""},{"$f":"IF(U499=\"\",\"\",IF(ISERROR(edata(U499)),\"FORMATO INCORRECTO\",\"FORMATO CORRECTO\"))","v":""},{"$f":"IF(N499=\"\",\"\",IF(ISERROR(edata(N499)),\"FORMATO INCORRECTO\",\"FORMATO CORRECTO\"))","v":""}]
["1901-05-08","",null,null,null,null,null,null,"",null,null,null,null,null,null,null,null,"",null,null,null,null,null,null,null,null,"",null,"",null,null,"",null,null,null,null,null,0,0,0,0,0,{"$f":"IF(AO500<>0,SUMIFS($AP$6:$AP$1001,$AN$6:$AN$1001,AN500,$F$6:$F$1001,F500,$AX$6:$AX$1001,AX500),0)","v":0},0,{"$f":"IF(AO500<>0,SUMIFS($AP$6:$AP$1001,$AR$6:$AR$1001,AR500,$F$6:$F$1001,F500,$AX$6:$AX$1001,AX500),0)","v":0},0,0,0,{"$f":"IF(AU500<>0,SUMIFS($AV$6:$AV$1001,$AT$6:$AT$1001,AT500,$F$6:$F$1001,F500,$AY$6:$AY$1001,AY500),0)","v":0},1900,1900,0,0,0,0,0,0,0,0,0,"","",0,0,0,"FORMATO INCORRECTO","FORMATO INCORRECTO","FORMATO INCORRECTO",{"$f":"IF(L500=\"\",\"\",IF(ISERROR(edata(L500)),\"FORMATO INCORRECTO\",\"FORMATO CORRECTO\"))","v":""},{"$f":"IF(U500=\"\",\"\",IF(ISERROR(edata(U500)),\"FORMATO INCORRECTO\",\"FORMATO CORRECTO\"))","v":""},{"$f":"IF(N500=\"\",\"\",IF(ISERROR(edata(N500)),\"FORMATO INCORRECTO\",\"FORMATO CORRECTO\"))","v":""}]
["1901-05-10","",null,null,null,null,null,null,"",null,null,null,null,null,null,null,null,"",null,null,null,null,null,null,null,null,"",null,"",null,null,"",null,null,null,null,null,0,0,0,0,0,{"$f":"IF(AO502<>0,SUMIFS($AP$6:$AP$1001,$AN$6:$AN$1001,AN502,$F$6:$F$1001,F502,$AX$6:$AX$1001,AX502),0)","v":0},0,{"$f":"IF(AO502<>0,SUMIFS($AP$6:$AP$1001,$AR$6:$AR$1001,AR502,$F$6:$F$1001,F502,$AX$6:$AX$1001,AX502),0)","v":0},0,0,0,{"$f":"IF(AU502<>0,SUMIFS($AV$6:$AV$1001,$AT$6:$AT$1001,AT502,$F$6:$F$1001,F502,$AY$6:$AY$1001,AY502),0)","v":0},1900,1900,0,0,0,0,0,0,0,0,0,"","",0,0,0,"FORMATO INCORRECTO","FORMATO INCORRECTO","FORMATO INCORRECTO",{"$f":"IF(L502=\"\",\"\",IF(ISERROR(edata(L502)),\"FORMATO INCORRECTO\",\"FORMATO CORRECTO\"))","v":""},{"$f":"IF(U502=\"\",\"\",IF(ISERROR(edata(U502)),\"FORMATO INCORRECTO\",\"FORMATO CORRECTO\"))","v":""},{"$f":"IF(N502=\"\",\"\",IF(ISERROR(edata(N502)),\"FORMATO INCORRECTO\",\"FORMATO CORRECTO\"))","v":""}]
["1901-05-21","",null,null,null,null,null,null,"",null,null,null,null,null,null,null,null,"",null,null,null,null,null,null,null,null,"",null,"",null,null,"",null,null,null,null,null,0,0,0,0,0,{"$f":"IF(AO513<>0,SUMIFS($AP$6:$AP$1001,$AN$6:$AN$1001,AN513,$F$6:$F$1001,F513,$AX$6:$AX$1001,AX513),0)","v":0},0,{"$f":"IF(AO513<>0,SUMIFS($AP$6:$AP$1001,$AR$6:$AR$1001,AR513,$F$6:$F$1001,F513,$AX$6:$AX$1001,AX513),0)","v":0},0,0,0,{"$f":"IF(AU513<>0,SUMIFS($AV$6:$AV$1001,$AT$6:$AT$1001,AT513,$F$6:$F$1001,F513,$AY$6:$AY$1001,AY513),0)","v":0},1900,1900,0,0,0,0,0,0,0,0,0,"","",0,0,0,"FORMATO INCORRECTO","FORMATO INCORRECTO","FORMATO INCORRECTO",{"$f":"IF(L513=\"\",\"\",IF(ISERROR(edata(L513)),\"FORMATO INCORRECTO\",\"FORMATO CORRECTO\"))","v":""},{"$f":"IF(U513=\"\",\"\",IF(ISERROR(edata(U513)),\"FORMATO INCORRECTO\",\"FORMATO CORRECTO\"))","v":""},{"$f":"IF(N513=\"\",\"\",IF(ISERROR(edata(N513)),\"FORMATO INCORRECTO\",\"FORMATO CORRECTO\"))","v":""}]
["1901-06-02","",null,null,null,null,null,null,"",null,null,null,null,null,null,null,null,"",null,null,null,null,null,null,null,null,"",null,"",null,null,"",null,null,null,null,null,0,0,0,0,0,{"$f":"IF(AO525<>0,SUMIFS($AP$6:$AP$1001,$AN$6:$AN$1001,AN525,$F$6:$F$1001,F525,$AX$6:$AX$1001,AX525),0)","v":0},0,{"$f":"IF(AO525<>0,SUMIFS($AP$6:$AP$1001,$AR$6:$AR$1001,AR525,$F$6:$F$1001,F525,$AX$6:$AX$1001,AX525),0)","v":0},0,0,0,{"$f":"IF(AU525<>0,SUMIFS($AV$6:$AV$1001,$AT$6:$AT$1001,AT525,$F$6:$F$1001,F525,$AY$6:$AY$1001,AY525),0)","v":0},1900,1900,0,0,0,0,0,0,0,0,0,"","",0,0,0,"FORMATO INCORRECTO","FORMATO INCORRECTO","FORMATO INCORRECTO",{"$f":"IF(L525=\"\",\"\",IF(ISERROR(edata(L525)),\"FORMATO INCORRECTO\",\"FORMATO CORRECTO\"))","v":""},{"$f":"IF(U525=\"\",\"\",IF(ISERROR(edata(U525)),\"FORMATO INCORRECTO\",\"FORMATO CORRECTO\"))","v":""},{"$f":"IF(N525=\"\",\"\",IF(ISERROR(edata(N525)),\"FORMATO INCORRECTO\",\"FORMATO CORRECTO\"))","v":""}]
["1901-06-09","",null,null,null,null,null,null,"",null,null,null,null,null,null,null,null,"",null,null,null,null,null,null,null,null,"",null,"",null,null,"",null,null,null,null,null,0,0,0,0,0,{"$f":"IF(AO532<>0,SUMIFS($AP$6:$AP$1001,$AN$6:$AN$1001,AN532,$F$6:$F$1001,F532,$AX$6:$AX$1001,AX532),0)","v":0},0,{"$f":"IF(AO532<>0,SUMIFS($AP$6:$AP$1001,$AR$6:$AR$1001,AR532,$F$6:$F$1001,F532,$AX$6:$AX$1001,AX532),0)","v":0},0,0,0,{"$f":"IF(AU532<>0,SUMIFS($AV$6:$AV$1001,$AT$6:$AT$1001,AT532,$F$6:$F$1001,F532,$AY$6:$AY$1001,AY532),0)","v":0},1900,1900,0,0,0,0,0,0,0,0,0,"","",0,0,0,"FORMATO INCORRECTO","FORMATO INCORRECTO","FORMATO INCORRECTO",{"$f":"IF(L532=\"\",\"\",IF(ISERROR(edata(L532)),\"FORMATO INCORRECTO\",\"FORMATO CORRECTO\"))","v":""},{"$f":"IF(U532=\"\",\"\",IF(ISERROR(edata(U532)),\"FORMATO INCORRECTO\",\"FORMATO CORRECTO\"))","v":""},{"$f":"IF(N532=\"\",\"\",IF(ISERROR(edata(N532)),\"FORMATO INCORRECTO\",\"FORMATO CORRECTO\"))","v":""}]
["1901-06-18","",null,null,null,null,null,null,"",null,null,null,null,null,null,null,null,"",null,null,null,null,null,null,null,null,"",null,"",null,null,"",null,null,null,null,null,0,0,0,0,0,{"$f":"IF(AO541<>0,SUMIFS($AP$6:$AP$1001,$AN$6:$AN$1001,AN541,$F$6:$F$1001,F541,$AX$6:$AX$1001,AX541),0)","v":0},0,{"$f":"IF(AO541<>0,SUMIFS($AP$6:$AP$1001,$AR$6:$AR$1001,AR541,$F$6:$F$1001,F541,$AX$6:$AX$1001,AX541),0)","v":0},0,0,0,{"$f":"IF(AU541<>0,SUMIFS($AV$6:$AV$1001,$AT$6:$AT$1001,AT541,$F$6:$F$1001,F541,$AY$6:$AY$1001,AY541),0)","v":0},1900,1900,0,0,0,0,0,0,0,0,0,"","",0,0,0,"FORMATO INCORRECTO","FORMATO INCORRECTO","FORMATO INCORRECTO",{"$f":"IF(L541=\"\",\"\",IF(ISERROR(edata(L541)),\"FORMATO INCORRECTO\",\"FORMATO CORRECTO\"))","v":""},{"$f":"IF(U541=\"\",\"\",IF(ISERROR(edata(U541)),\"FORMATO INCORRECTO\",\"FORMATO CORRECTO\"))","v":""},{"$f":"IF(N541=\"\",\"\",IF(ISERROR(edata(N541)),\"FORMATO INCORRECTO\",\"FORMATO CORRECTO\"))","v":""}]
["1901-06-23","",null,null,null,null,null,null,"",null,null,null,null,null,null,null,null,"",null,null,null,null,null,null,null,null,"",null,"",null,null,"",null,null,null,null,null,0,0,0,0,0,{"$f":"IF(AO546<>0,SUMIFS($AP$6:$AP$1001,$AN$6:$AN$1001,AN546,$F$6:$F$1001,F546,$AX$6:$AX$1001,AX546),0)","v":0},0,{"$f":"IF(AO546<>0,SUMIFS($AP$6:$AP$1001,$AR$6:$AR$1001,AR546,$F$6:$F$1001,F546,$AX$6:$AX$1001,AX546),0)","v":0},0,0,0,{"$f":"IF(AU546<>0,SUMIFS($AV$6:$AV$1001,$AT$6:$AT$1001,AT546,$F$6:$F$1001,F546,$AY$6:$AY$1001,AY546),0)","v":0},1900,1900,0,0,0,0,0,0,0,0,0,"","",0,0,0,"FORMATO INCORRECTO","FORMATO INCORRECTO","FORMATO INCORRECTO",{"$f":"IF(L546=\"\",\"\",IF(ISERROR(edata(L546)),\"FORMATO INCORRECTO\",\"FORMATO CORRECTO\"))","v":""},{"$f":"IF(U546=\"\",\"\",IF(ISERROR(edata(U546)),\"FORMATO INCORRECTO\",\"FORMATO CORRECTO\"))","v":""},{"$f":"IF(N546=\"\",\"\",IF(ISERROR(edata(N546)),\"FORMATO INCORRECTO\",\"FORMATO CORRECTO\"))","v":""}]
["1901-06-30","",null,null,null,null,null,null,"",null,null,null,null,null,null,null,null,"",null,null,null,null,null,null,null,null,"",null,"",null,null,"",null,null,null,null,null,0,0,0,0,0,{"$f":"IF(AO553<>0,SUMIFS($AP$6:$AP$1001,$AN$6:$AN$1001,AN553,$F$6:$F$1001,F553,$AX$6:$AX$1001,AX553),0)","v":0},0,{"$f":"IF(AO553<>0,SUMIFS($AP$6:$AP$1001,$AR$6:$AR$1001,AR553,$F$6:$F$1001,F553,$AX$6:$AX$1001,AX553),0)","v":0},0,0,0,{"$f":"IF(AU553<>0,SUMIFS($AV$6:$AV$1001,$AT$6:$AT$1001,AT553,$F$6:$F$1001,F553,$AY$6:$AY$1001,AY553),0)","v":0},1900,1900,0,0,0,0,0,0,0,0,0,"","",0,0,0,"FORMATO INCORRECTO","FORMATO INCORRECTO","FORMATO INCORRECTO",{"$f":"IF(L553=\"\",\"\",IF(ISERROR(edata(L553)),\"FORMATO INCORRECTO\",\"FORMATO CORRECTO\"))","v":""},{"$f":"IF(U553=\"\",\"\",IF(ISERROR(edata(U553)),\"FORMATO INCORRECTO\",\"FORMATO CORRECTO\"))","v":""},{"$f":"IF(N553=\"\",\"\",IF(ISERROR(edata(N553)),\"FORMATO INCORRECTO\",\"FORMATO CORRECTO\"))","v":""}]
["1901-07-12","",null,null,null,null,null,null,"",null,null,null,null,null,null,null,null,"",null,null,null,null,null,null,null,null,"",null,"",null,null,"",null,null,null,null,null,0,0,0,0,0,{"$f":"IF(AO565<>0,SUMIFS($AP$6:$AP$1001,$AN$6:$AN$1001,AN565,$F$6:$F$1001,F565,$AX$6:$AX$1001,AX565),0)","v":0},0,{"$f":"IF(AO565<>0,SUMIFS($AP$6:$AP$1001,$AR$6:$AR$1001,AR565,$F$6:$F$1001,F565,$AX$6:$AX$1001,AX565),0)","v":0},0,0,0,{"$f":"IF(AU565<>0,SUMIFS($AV$6:$AV$1001,$AT$6:$AT$1001,AT565,$F$6:$F$1001,F565,$AY$6:$AY$1001,AY565),0)","v":0},1900,1900,0,0,0,0,0,0,0,0,0,"","",0,0,0,"FORMATO INCORRECTO","FORMATO INCORRECTO","FORMATO INCORRECTO",{"$f":"IF(L565=\"\",\"\",IF(ISERROR(edata(L565)),\"FORMATO INCORRECTO\",\"FORMATO CORRECTO\"))","v":""},{"$f":"IF(U565=\"\",\"\",IF(ISERROR(edata(U565)),\"FORMATO INCORRECTO\",\"FORMATO CORRECTO\"))","v":""},{"$f":"IF(N565=\"\",\"\",IF(ISERROR(edata(N565)),\"FORMATO INCORRECTO\",\"FORMATO CORRECTO\"))","v":""}]
["1901-07-19","",null,null,null,null,null,null,"",null,null,null,null,null,null,null,null,"",null,null,null,null,null,null,null,null,"",null,"",null,null,"",null,null,null,null,null,0,0,0,0,0,{"$f":"IF(AO572<>0,SUMIFS($AP$6:$AP$1001,$AN$6:$AN$1001,AN572,$F$6:$F$1001,F572,$AX$6:$AX$1001,AX572),0)","v":0},0,{"$f":"IF(AO572<>0,SUMIFS($AP$6:$AP$1001,$AR$6:$AR$1001,AR572,$F$6:$F$1001,F572,$AX$6:$AX$1001,AX572),0)","v":0},0,0,0,{"$f":"IF(AU572<>0,SUMIFS($AV$6:$AV$1001,$AT$6:$AT$1001,AT572,$F$6:$F$1001,F572,$AY$6:$AY$1001,AY572),0)","v":0},1900,1900,0,0,0,0,0,0,0,0,0,"","",0,0,0,"FORMATO INCORRECTO","FORMATO INCORRECTO","FORMATO INCORRECTO",{"$f":"IF(L572=\"\",\"\",IF(ISERROR(edata(L572)),\"FORMATO INCORRECTO\",\"FORMATO CORRECTO\"))","v":""},{"$f":"IF(U572=\"\",\"\",IF(ISERROR(edata(U572)),\"FORMATO INCORRECTO\",\"FORMATO CORRECTO\"))","v":""},{"$f":"IF(N572=\"\",\"\",IF(ISERROR(edata(N572)),\"FORMATO INCORRECTO\",\"FORMATO CORRECTO\"))","v":""}]
["1901-07-30","",null,null,null,null,null,null,"",null,null,null,null,null,null,null,null,"",null,null,null,null,null,null,null,null,"",null,"",null,null,"",null,null,null,null,null,{"$f":"+O583+P583+Q583-N583","v":0},{"$f":"+O583+P583+Q583-W583","v":0},{"$f":"+D583","v":0},0,0,{"$f":"IF(AO583<>0,SUMIFS($AP$6:$AP$1001,$AN$6:$AN$1001,AN583,$F$6:$F$1001,F583,$AX$6:$AX$1001,AX583),0)","v":0},0,{"$f":"IF(AO583<>0,SUMIFS($AP$6:$AP$1001,$AR$6:$AR$1001,AR583,$F$6:$F$1001,F583,$AX$6:$AX$1001,AX583),0)","v":0},0,0,0,{"$f":"IF(AU583<>0,SUMIFS($AV$6:$AV$1001,$AT$6:$AT$1001,AT583,$F$6:$F$1001,F583,$AY$6:$AY$1001,AY583),0)","v":0},1900,1900,{"$f":"+AN583","v":0},{"$f":"+AQ583","v":0},0,{"$f":"+AR583","v":0},{"$f":"ROUND(AS583,2)","v":0},0,{"$f":"+AT583","v":0},{"$f":"ROUND(AW583,2)","v":0},0,{"$f":"IF(ISERROR(L583<=U583),\"FORMATO INCORRECTO\",IF(AND(L583=0,U583=0),\"\",IF(L583<=U583,\"VALIDADO\",\"NÃO VALIDADO\")))","v":""},{"$f":"IF(AND(L583=\"\",U583=\"\",Y583=\"\"),\"\",IF(OR(ISERROR(BK583),ISERROR(BL583),ISERROR(BM583)),\"ERRO NO FORMATO\",\"FORMATO CORRECTO\"))","v":""},{"$f":"convdata(L583)","v":0},{"$f":"convdata(U583)","v":0},{"$f":"convdata(Y583)","v":0},{"$f":"ENULO(L583)","v":"FORMATO INCORRECTO"},{"$f":"ENULO(U583)","v":"FORMATO INCORRECTO"},{"$f":"ENULO(Y583)","v":"FORMATO INCORRECTO"},{"$f":"IF(L583=\"\",\"\",IF(ISERROR(edata(L583)),\"FORMATO INCORRECTO\",\"FORMATO CORRECTO\"))","v":""},{"$f":"IF(U583=\"\",\"\",IF(ISERROR(edata(U583)),\"FORMATO INCORRECTO\",\"FORMATO CORRECTO\"))","v":""},{"$f":"IF(N583=\"\",\"\",IF(ISERROR(edata(N583)),\"FORMATO INCORRECTO\",\"FORMATO CORRECTO\"))","v":""}]
["1901-08-11","",null,null,null,null,null,null,"",null,null,null,null,null,null,null,null,"",null,null,null,null,null,null,null,null,"",null,"",null,null,"",null,null,null,null,null,0,0,0,0,0,{"$f":"IF(AO595<>0,SUMIFS($AP$6:$AP$1001,$AN$6:$AN$1001,AN595,$F$6:$F$1001,F595,$AX$6:$AX$1001,AX595),0)","v":0},0,{"$f":"IF(AO595<>0,SUMIFS($AP$6:$AP$1001,$AR$6:$AR$1001,AR595,$F$6:$F$1001,F595,$AX$6:$AX$1001,AX595),0)","v":0},0,0,0,{"$f":"IF(AU595<>0,SUMIFS($AV$6:$AV$1001,$AT$6:$AT$1001,AT595,$F$6:$F$1001,F595,$AY$6:$AY$1001,AY595),0)","v":0},1900,1900,0,0,0,0,0,0,0,0,0,"","",0,0,0,"FORMATO INCORRECTO","FORMATO INCORRECTO","FORMATO INCORRECTO",{"$f":"IF(L595=\"\",\"\",IF(ISERROR(edata(L595)),\"FORMATO INCORRECTO\",\"FORMATO CORRECTO\"))","v":""},{"$f":"IF(U595=\"\",\"\",IF(ISERROR(edata(U595)),\"FORMATO INCORRECTO\",\"FORMATO CORRECTO\"))","v":""},{"$f":"IF(N595=\"\",\"\",IF(ISERROR(edata(N595)),\"FORMATO INCORRECTO\",\"FORMATO CORRECTO\"))","v":""}]
["1901-08-18","",null,null,null,null,null,null,"",null,null,null,null,null,null,null,null,"",null,null,null,null,null,null,null,null,"",null,"",null,null,"",null,null,null,null,null,0,0,0,0,0,{"$f":"IF(AO602<>0,SUMIFS($AP$6:$AP$1001,$AN$6:$AN$1001,AN602,$F$6:$F$1001,F602,$AX$6:$AX$1001,AX602),0)","v":0},0,{"$f":"IF(AO602<>0,SUMIFS($AP$6:$AP$1001,$AR$6:$AR$1001,AR602,$F$6:$F$1001,F602,$AX$6:$AX$1001,AX602),0)","v":0},0,0,0,{"$f":"IF(AU602<>0,SUMIFS($AV$6:$AV$1001,$AT$6:$AT$1001,AT602,$F$6:$F$1001,F602,$AY$6:$AY$1001,AY602),0)","v":0},1900,1900,0,0,0,0,0,0,0,0,0,"","",0,0,0,"FORMATO INCORRECTO","FORMATO INCORRECTO","FORMATO INCORRECTO",{"$f":"IF(L602=\"\",\"\",IF(ISERROR(edata(L602)),\"FORMATO INCORRECTO\",\"FORMATO CORRECTO\"))","v":""},{"$f":"IF(U602=\"\",\"\",IF(ISERROR(edata(U602)),\"FORMATO INCORRECTO\",\"FORMATO CORRECTO\"))","v":""},{"$f":"IF(N602=\"\",\"\",IF(ISERROR(edata(N602)),\"FORMATO INCORRECTO\",\"FORMATO CORRECTO\"))","v":""}]
["1901-08-27","",null,null,null,null,null,null,"",null,null,null,null,null,null,null,null,"",null,null,null,null,null,null,null,null,"",null,"",null,null,"",null,null,null,null,null,0,0,0,0,0,{"$f":"IF(AO611<>0,SUMIFS($AP$6:$AP$1001,$AN$6:$AN$1001,AN611,$F$6:$F$1001,F611,$AX$6:$AX$1001,AX611),0)","v":0},0,{"$f":"IF(AO611<>0,SUMIFS($AP$6:$AP$1001,$AR$6:$AR$1001,AR611,$F$6:$F$1001,F611,$AX$6:$AX$1001,AX611),0)","v":0},0,0,0,{"$f":"IF(AU611<>0,SUMIFS($AV$6:$AV$1001,$AT$6:$AT$1001,AT611,$F$6:$F$1001,F611,$AY$6:$AY$1001,AY611),0)","v":0},1900,1900,0,0,0,0,0,0,0,0,0,"","",0,0,0,"FORMATO INCORRECTO","FORMATO INCORRECTO","FORMATO INCORRECTO",{"$f":"IF(L611=\"\",\"\",IF(ISERROR(edata(L611)),\"FORMATO INCORRECTO\",\"FORMATO CORRECTO\"))","v":""},{"$f":"IF(U611=\"\",\"\",IF(ISERROR(edata(U611)),\"FORMATO INCORRECTO\",\"FORMATO CORRECTO\"))","v":""},{"$f":"IF(N611=\"\",\"\",IF(ISERROR(edata(N611)),\"FORMATO INCORRECTO\",\"FORMATO CORRECTO\"))","v":""}]
["1901-09-01","",null,null,null,null,null,null,"",null,null,null,null,null,null,null,null,"",null,null,null,null,null,null,null,null,"",null,"",null,null,"",null,null,null,null,null,0,0,0,0,0,{"$f":"IF(AO616<>0,SUMIFS($AP$6:$AP$1001,$AN$6:$AN$1001,AN616,$F$6:$F$1001,F616,$AX$6:$AX$1001,AX616),0)","v":0},0,{"$f":"IF(AO616<>0,SUMIFS($AP$6:$AP$1001,$AR$6:$AR$1001,AR616,$F$6:$F$1001,F616,$AX$6:$AX$1001,AX616),0)","v":0},0,0,0,{"$f":"IF(AU616<>0,SUMIFS($AV$6:$AV$1001,$AT$6:$AT$1001,AT616,$F$6:$F$1001,F616,$AY$6:$AY$1001,AY616),0)","v":0},1900,1900,0,0,0,0,0,0,0,0,0,"","",0,0,0,"FORMATO INCORRECTO","FORMATO INCORRECTO","FORMATO INCORRECTO",{"$f":"IF(L616=\"\",\"\",IF(ISERROR(edata(L616)),\"FORMATO INCORRECTO\",\"FORMATO CORRECTO\"))","v":""},{"$f":"IF(U616=\"\",\"\",IF(ISERROR(edata(U616)),\"FORMATO INCORRECTO\",\"FORMATO CORRECTO\"))","v":""},{"$f":"IF(N616=\"\",\"\",IF(ISERROR(edata(N616)),\"FORMATO INCORRECTO\",\"FORMATO CORRECTO\"))","v":""}]
["1901-09-08","",null,null,null,null,null,null,"",null,null,null,null,null,null,null,null,"",null,null,null,null,null,null,null,null,"",null,"",null,null,"",null,null,null,null,null,0,0,0,0,0,{"$f":"IF(AO623<>0,SUMIFS($AP$6:$AP$1001,$AN$6:$AN$1001,AN623,$F$6:$F$1001,F623,$AX$6:$AX$1001,AX623),0)","v":0},0,{"$f":"IF(AO623<>0,SUMIFS($AP$6:$AP$1001,$AR$6:$AR$1001,AR623,$F$6:$F$1001,F623,$AX$6:$AX$1001,AX623),0)","v":0},0,0,0,{"$f":"IF(AU623<>0,SUMIFS($AV$6:$AV$1001,$AT$6:$AT$1001,AT623,$F$6:$F$1001,F623,$AY$6:$AY$1001,AY623),0)","v":0},1900,1900,0,0,0,0,0,0,0,0,0,"","",0,0,0,"FORMATO INCORRECTO","FORMATO INCORRECTO","FORMATO INCORRECTO",{"$f":"IF(L623=\"\",\"\",IF(ISERROR(edata(L623)),\"FORMATO INCORRECTO\",\"FORMATO CORRECTO\"))","v":""},{"$f":"IF(U623=\"\",\"\",IF(ISERROR(edata(U623)),\"FORMATO INCORRECTO\",\"FORMATO CORRECTO\"))","v":""},{"$f":"IF(N623=\"\",\"\",IF(ISERROR(edata(N623)),\"FORMATO INCORRECTO\",\"FORMATO CORRECTO\"))","v":""}]
["1901-09-20","",null,null,null,null,null,null,"",null,null,null,null,null,null,null,null,"",null,null,null,null,null,null,null,null,"",null,"",null,null,"",null,null,null,null,null,0,0,0,0,0,{"$f":"IF(AO635<>0,SUMIFS($AP$6:$AP$1001,$AN$6:$AN$1001,AN635,$F$6:$F$1001,F635,$AX$6:$AX$1001,AX635),0)","v":0},0,{"$f":"IF(AO635<>0,SUMIFS($AP$6:$AP$1001,$AR$6:$AR$1001,AR635,$F$6:$F$1001,F635,$AX$6:$AX$1001,AX635),0)","v":0},0,0,0,{"$f":"IF(AU635<>0,SUMIFS($AV$6:$AV$1001,$AT$6:$AT$1001,AT635,$F$6:$F$1001,F635,$AY$6:$AY$1001,AY635),0)","v":0},1900,1900,0,0,0,0,0,0,0,0,0,"","",0,0,0,"FORMATO INCORRECTO","FORMATO INCORRECTO","FORMATO INCORRECTO",{"$f":"IF(L635=\"\",\"\",IF(ISERROR(edata(L635)),\"FORMATO INCORRECTO\",\"FORMATO CORRECTO\"))","v":""},{"$f":"IF(U635=\"\",\"\",IF(ISERROR(edata(U635)),\"FORMATO INCORRECTO\",\"FORMATO CORRECTO\"))","v":""},{"$f":"IF(N635=\"\",\"\",IF(ISERROR(edata(N635)),\"FORMATO INCORRECTO\",\"FORMATO CORRECTO\"))","v":""}]
["1901-09-27","",null,null,null,null,null,null,"",null,null,null,null,null,null,null,null,"",null,null,null,null,null,null,null,null,"",null,"",null,null,"",null,null,null,null,null,0,0,0,0,0,{"$f":"IF(AO642<>0,SUMIFS($AP$6:$AP$1001,$AN$6:$AN$1001,AN642,$F$6:$F$1001,F642,$AX$6:$AX$1001,AX642),0)","v":0},0,{"$f":"IF(AO642<>0,SUMIFS($AP$6:$AP$1001,$AR$6:$AR$1001,AR642,$F$6:$F$1001,F642,$AX$6:$AX$1001,AX642),0)","v":0},0,0,0,{"$f":"IF(AU642<>0,SUMIFS($AV$6:$AV$1001,$AT$6:$AT$1001,AT642,$F$6:$F$1001,F642,$AY$6:$AY$1001,AY642),0)","v":0},1900,1900,0,0,0,0,0,0,0,0,0,"","",0,0,0,"FORMATO INCORRECTO","FORMATO INCORRECTO","FORMATO INCORRECTO",{"$f":"IF(L642=\"\",\"\",IF(ISERROR(edata(L642)),\"FORMATO INCORRECTO\",\"FORMATO CORRECTO\"))","v":""},{"$f":"IF(U642=\"\",\"\",IF(ISERROR(edata(U642)),\"FORMATO INCORRECTO\",\"FORMATO CORRECTO\"))","v":""},{"$f":"IF(N642=\"\",\"\",IF(ISERROR(edata(N642)),\"FORMATO INCORRECTO\",\"FORMATO CORRECTO\"))","v":""}]
["1901-10-08","",null,null,null,null,null,null,"",null,null,null,null,null,null,null,null,"",null,null,null,null,null,null,null,null,"",null,"",null,null,"",null,null,null,null,null,0,0,0,0,0,{"$f":"IF(AO653<>0,SUMIFS($AP$6:$AP$1001,$AN$6:$AN$1001,AN653,$F$6:$F$1001,F653,$AX$6:$AX$1001,AX653),0)","v":0},0,{"$f":"IF(AO653<>0,SUMIFS($AP$6:$AP$1001,$AR$6:$AR$1001,AR653,$F$6:$F$1001,F653,$AX$6:$AX$1001,AX653),0)","v":0},0,0,0,{"$f":"IF(AU653<>0,SUMIFS($AV$6:$AV$1001,$AT$6:$AT$1001,AT653,$F$6:$F$1001,F653,$AY$6:$AY$1001,AY653),0)","v":0},1900,1900,0,0,0,0,0,0,0,0,0,"","",0,0,0,"FORMATO INCORRECTO","FORMATO INCORRECTO","FORMATO INCORRECTO",{"$f":"IF(L653=\"\",\"\",IF(ISERROR(edata(L653)),\"FORMATO INCORRECTO\",\"FORMATO CORRECTO\"))","v":""},{"$f":"IF(U653=\"\",\"\",IF(ISERROR(edata(U653)),\"FORMATO INCORRECTO\",\"FORMATO CORRECTO\"))","v":""},{"$f":"IF(N653=\"\",\"\",IF(ISERROR(edata(N653)),\"FORMATO INCORRECTO\",\"FORMATO CORRECTO\"))","v":""}]
["1901-10-20","",null,null,null,null,null,null,"",null,null,null,null,null,null,null,null,"",null,null,null,null,null,null,null,null,"",null,"",null,null,"",null,null,null,null,null,0,0,0,0,0,{"$f":"IF(AO665<>0,SUMIFS($AP$6:$AP$1001,$AN$6:$AN$1001,AN665,$F$6:$F$1001,F665,$AX$6:$AX$1001,AX665),0)","v":0},0,{"$f":"IF(AO665<>0,SUMIFS($AP$6:$AP$1001,$AR$6:$AR$1001,AR665,$F$6:$F$1001,F665,$AX$6:$AX$1001,AX665),0)","v":0},0,0,0,{"$f":"IF(AU665<>0,SUMIFS($AV$6:$AV$1001,$AT$6:$AT$1001,AT665,$F$6:$F$1001,F665,$AY$6:$AY$1001,AY665),0)","v":0},1900,1900,0,0,0,0,0,0,0,0,0,"","",0,0,0,"FORMATO INCORRECTO","FORMATO INCORRECTO","FORMATO INCORRECTO",{"$f":"IF(L665=\"\",\"\",IF(ISERROR(edata(L665)),\"FORMATO INCORRECTO\",\"FORMATO CORRECTO\"))","v":""},{"$f":"IF(U665=\"\",\"\",IF(ISERROR(edata(U665)),\"FORMATO INCORRECTO\",\"FORMATO CORRECTO\"))","v":""},{"$f":"IF(N665=\"\",\"\",IF(ISERROR(edata(N665)),\"FORMATO INCORRECTO\",\"FORMATO CORRECTO\"))","v":""}]
["1901-10-27","",null,null,null,null,null,null,"",null,null,null,null,null,null,null,null,"",null,null,null,null,null,null,null,null,"",null,"",null,null,"",null,null,null,null,null,0,0,0,0,0,{"$f":"IF(AO672<>0,SUMIFS($AP$6:$AP$1001,$AN$6:$AN$1001,AN672,$F$6:$F$1001,F672,$AX$6:$AX$1001,AX672),0)","v":0},0,{"$f":"IF(AO672<>0,SUMIFS($AP$6:$AP$1001,$AR$6:$AR$1001,AR672,$F$6:$F$1001,F672,$AX$6:$AX$1001,AX672),0)","v":0},0,0,0,{"$f":"IF(AU672<>0,SUMIFS($AV$6:$AV$1001,$AT$6:$AT$1001,AT672,$F$6:$F$1001,F672,$AY$6:$AY$1001,AY672),0)","v":0},1900,1900,0,0,0,0,0,0,0,0,0,"","",0,0,0,"FORMATO INCORRECTO","FORMATO INCORRECTO","FORMATO INCORRECTO",{"$f":"IF(L672=\"\",\"\",IF(ISERROR(edata(L672)),\"FORMATO INCORRECTO\",\"FORMATO CORRECTO\"))","v":""},{"$f":"IF(U672=\"\",\"\",IF(ISERROR(edata(U672)),\"FORMATO INCORRECTO\",\"FORMATO CORRECTO\"))","v":""},{"$f":"IF(N672=\"\",\"\",IF(ISERROR(edata(N672)),\"FORMATO INCORRECTO\",\"FORMATO CORRECTO\"))","v":""}]
["1901-11-05","",null,null,null,null,null,null,"",null,null,null,null,null,null,null,null,"",null,null,null,null,null,null,null,null,"",null,"",null,null,"",null,null,null,null,null,0,0,0,0,0,{"$f":"IF(AO681<>0,SUMIFS($AP$6:$AP$1001,$AN$6:$AN$1001,AN681,$F$6:$F$1001,F681,$AX$6:$AX$1001,AX681),0)","v":0},0,{"$f":"IF(AO681<>0,SUMIFS($AP$6:$AP$1001,$AR$6:$AR$1001,AR681,$F$6:$F$1001,F681,$AX$6:$AX$1001,AX681),0)","v":0},0,0,0,{"$f":"IF(AU681<>0,SUMIFS($AV$6:$AV$1001,$AT$6:$AT$1001,AT681,$F$6:$F$1001,F681,$AY$6:$AY$1001,AY681),0)","v":0},1900,1900,0,0,0,0,0,0,0,0,0,"","",0,0,0,"FORMATO INCORRECTO","FORMATO INCORRECTO","FORMATO INCORRECTO",{"$f":"IF(L681=\"\",\"\",IF(ISERROR(edata(L681)),\"FORMATO INCORRECTO\",\"FORMATO CORRECTO\"))","v":""},{"$f":"IF(U681=\"\",\"\",IF(ISERROR(edata(U681)),\"FORMATO INCORRECTO\",\"FORMATO CORRECTO\"))","v":""},{"$f":"IF(N681=\"\",\"\",IF(ISERROR(edata(N681)),\"FORMATO INCORRECTO\",\"FORMATO CORRECTO\"))","v":""}]
["1901-11-14","",null,null,null,null,null,null,"",null,null,null,null,null,null,null,null,"",null,null,null,null,null,null,null,null,"",null,"",null,null,"",null,null,null,null,null,0,0,0,0,0,{"$f":"IF(AO690<>0,SUMIFS($AP$6:$AP$1001,$AN$6:$AN$1001,AN690,$F$6:$F$1001,F690,$AX$6:$AX$1001,AX690),0)","v":0},0,{"$f":"IF(AO690<>0,SUMIFS($AP$6:$AP$1001,$AR$6:$AR$1001,AR690,$F$6:$F$1001,F690,$AX$6:$AX$1001,AX690),0)","v":0},0,0,0,{"$f":"IF(AU690<>0,SUMIFS($AV$6:$AV$1001,$AT$6:$AT$1001,AT690,$F$6:$F$1001,F690,$AY$6:$AY$1001,AY690),0)","v":0},1900,1900,0,0,0,0,0,0,0,0,0,"","",0,0,0,"FORMATO INCORRECTO","FORMATO INCORRECTO","FORMATO INCORRECTO",{"$f":"IF(L690=\"\",\"\",IF(ISERROR(edata(L690)),\"FORMATO INCORRECTO\",\"FORMATO CORRECTO\"))","v":""},{"$f":"IF(U690=\"\",\"\",IF(ISERROR(edata(U690)),\"FORMATO INCORRECTO\",\"FORMATO CORRECTO\"))","v":""},{"$f":"IF(N690=\"\",\"\",IF(ISERROR(edata(N690)),\"FORMATO INCORRECTO\",\"FORMATO CORRECTO\"))","v":""}]
["1901-11-17","",null,null,null,null,null,null,"",null,null,null,null,null,null,null,null,"",null,null,null,null,null,null,null,null,"",null,"",null,null,"",null,null,null,null,null,0,0,0,0,0,{"$f":"IF(AO693<>0,SUMIFS($AP$6:$AP$1001,$AN$6:$AN$1001,AN693,$F$6:$F$1001,F693,$AX$6:$AX$1001,AX693),0)","v":0},0,{"$f":"IF(AO693<>0,SUMIFS($AP$6:$AP$1001,$AR$6:$AR$1001,AR693,$F$6:$F$1001,F693,$AX$6:$AX$1001,AX693),0)","v":0},0,0,0,{"$f":"IF(AU693<>0,SUMIFS($AV$6:$AV$1001,$AT$6:$AT$1001,AT693,$F$6:$F$1001,F693,$AY$6:$AY$1001,AY693),0)","v":0},1900,1900,0,0,0,0,0,0,0,0,0,"","",0,0,0,"FORMATO INCORRECTO","FORMATO INCORRECTO","FORMATO INCORRECTO",{"$f":"IF(L693=\"\",\"\",IF(ISERROR(edata(L693)),\"FORMATO INCORRECTO\",\"FORMATO CORRECTO\"))","v":""},{"$f":"IF(U693=\"\",\"\",IF(ISERROR(edata(U693)),\"FORMATO INCORRECTO\",\"FORMATO CORRECTO\"))","v":""},{"$f":"IF(N693=\"\",\"\",IF(ISERROR(edata(N693)),\"FORMATO INCORRECTO\",\"FORMATO CORRECTO\"))","v":""}]
["1901-11-29","",null,null,null,null,null,null,"",null,null,null,null,null,null,null,null,"",null,null,null,null,null,null,null,null,"",null,"",null,null,"",null,null,null,null,null,0,0,0,0,0,{"$f":"IF(AO705<>0,SUMIFS($AP$6:$AP$1001,$AN$6:$AN$1001,AN705,$F$6:$F$1001,F705,$AX$6:$AX$1001,AX705),0)","v":0},0,{"$f":"IF(AO705<>0,SUMIFS($AP$6:$AP$1001,$AR$6:$AR$1001,AR705,$F$6:$F$1001,F705,$AX$6:$AX$1001,AX705),0)","v":0},0,0,0,{"$f":"IF(AU705<>0,SUMIFS($AV$6:$AV$1001,$AT$6:$AT$1001,AT705,$F$6:$F$1001,F705,$AY$6:$AY$1001,AY705),0)","v":0},1900,1900,0,0,0,0,0,0,0,0,0,"","",0,0,0,"FORMATO INCORRECTO","FORMATO INCORRECTO","FORMATO INCORRECTO",{"$f":"IF(L705=\"\",\"\",IF(ISERROR(edata(L705)),\"FORMATO INCORRECTO\",\"FORMATO CORRECTO\"))","v":""},{"$f":"IF(U705=\"\",\"\",IF(ISERROR(edata(U705)),\"FORMATO INCORRECTO\",\"FORMATO CORRECTO\"))","v":""},{"$f":"IF(N705=\"\",\"\",IF(ISERROR(edata(N705)),\"FORMATO INCORRECTO\",\"FORMATO CORRECTO\"))","v":""}]
["1901-12-06",{"$f":"IF(G712<>\"\",+B711+1,\"\")","v":""},null,null,null,null,null,null,"",null,null,null,null,null,null,null,null,"",null,null,null,null,null,null,null,null,"",null,"",null,null,"",null,null,null,null,null,0,0,0,0,0,{"$f":"IF(AO712<>0,SUMIFS($AP$6:$AP$1001,$AN$6:$AN$1001,AN712,$F$6:$F$1001,F712,$AX$6:$AX$1001,AX712),0)","v":0},0,{"$f":"IF(AO712<>0,SUMIFS($AP$6:$AP$1001,$AR$6:$AR$1001,AR712,$F$6:$F$1001,F712,$AX$6:$AX$1001,AX712),0)","v":0},0,0,0,{"$f":"IF(AU712<>0,SUMIFS($AV$6:$AV$1001,$AT$6:$AT$1001,AT712,$F$6:$F$1001,F712,$AY$6:$AY$1001,AY712),0)","v":0},1900,1900,0,0,0,0,0,0,0,0,0,"","",0,0,0,"FORMATO INCORRECTO","FORMATO INCORRECTO","FORMATO INCORRECTO",{"$f":"IF(L712=\"\",\"\",IF(ISERROR(edata(L712)),\"FORMATO INCORRECTO\",\"FORMATO CORRECTO\"))","v":""},{"$f":"IF(U712=\"\",\"\",IF(ISERROR(edata(U712)),\"FORMATO INCORRECTO\",\"FORMATO CORRECTO\"))","v":""},{"$f":"IF(N712=\"\",\"\",IF(ISERROR(edata(N712)),\"FORMATO INCORRECTO\",\"FORMATO CORRECTO\"))","v":""}]
["1901-12-17","",null,null,null,null,null,null,"",null,null,null,null,null,null,null,null,"",null,null,null,null,null,null,null,null,"",null,"",null,null,"",null,null,null,null,null,0,0,0,0,0,{"$f":"IF(AO723<>0,SUMIFS($AP$6:$AP$1001,$AN$6:$AN$1001,AN723,$F$6:$F$1001,F723,$AX$6:$AX$1001,AX723),0)","v":0},0,{"$f":"IF(AO723<>0,SUMIFS($AP$6:$AP$1001,$AR$6:$AR$1001,AR723,$F$6:$F$1001,F723,$AX$6:$AX$1001,AX723),0)","v":0},0,0,0,{"$f":"IF(AU723<>0,SUMIFS($AV$6:$AV$1001,$AT$6:$AT$1001,AT723,$F$6:$F$1001,F723,$AY$6:$AY$1001,AY723),0)","v":0},1900,1900,0,0,0,0,0,0,0,0,0,"","",0,0,0,"FORMATO INCORRECTO","FORMATO INCORRECTO","FORMATO INCORRECTO",{"$f":"IF(L723=\"\",\"\",IF(ISERROR(edata(L723)),\"FORMATO INCORRECTO\",\"FORMATO CORRECTO\"))","v":""},{"$f":"IF(U723=\"\",\"\",IF(ISERROR(edata(U723)),\"FORMATO INCORRECTO\",\"FORMATO CORRECTO\"))","v":""},{"$f":"IF(N723=\"\",\"\",IF(ISERROR(edata(N723)),\"FORMATO INCORRECTO\",\"FORMATO CORRECTO\"))","v":""}]
["1901-12-29","",null,null,null,null,null,null,"",null,null,null,null,null,null,null,null,"",null,null,null,null,null,null,null,null,"",null,"",null,null,"",null,null,null,null,null,0,0,0,0,0,{"$f":"IF(AO735<>0,SUMIFS($AP$6:$AP$1001,$AN$6:$AN$1001,AN735,$F$6:$F$1001,F735,$AX$6:$AX$1001,AX735),0)","v":0},0,{"$f":"IF(AO735<>0,SUMIFS($AP$6:$AP$1001,$AR$6:$AR$1001,AR735,$F$6:$F$1001,F735,$AX$6:$AX$1001,AX735),0)","v":0},0,0,0,{"$f":"IF(AU735<>0,SUMIFS($AV$6:$AV$1001,$AT$6:$AT$1001,AT735,$F$6:$F$1001,F735,$AY$6:$AY$1001,AY735),0)","v":0},1900,1900,0,0,0,0,0,0,0,0,0,"","",0,0,0,"FORMATO INCORRECTO","FORMATO INCORRECTO","FORMATO INCORRECTO",{"$f":"IF(L735=\"\",\"\",IF(ISERROR(edata(L735)),\"FORMATO INCORRECTO\",\"FORMATO CORRECTO\"))","v":""},{"$f":"IF(U735=\"\",\"\",IF(ISERROR(edata(U735)),\"FORMATO INCORRECTO\",\"FORMATO CORRECTO\"))","v":""},{"$f":"IF(N735=\"\",\"\",IF(ISERROR(edata(N735)),\"FORMATO INCORRECTO\",\"FORMATO CORRECTO\"))","v":""}]
["1902-01-05","",null,null,null,null,null,null,"",null,null,null,null,null,null,null,null,"",null,null,null,null,null,null,null,null,"",null,"",null,null,"",null,null,null,null,null,0,0,0,0,0,{"$f":"IF(AO742<>0,SUMIFS($AP$6:$AP$1001,$AN$6:$AN$1001,AN742,$F$6:$F$1001,F742,$AX$6:$AX$1001,AX742),0)","v":0},0,{"$f":"IF(AO742<>0,SUMIFS($AP$6:$AP$1001,$AR$6:$AR$1001,AR742,$F$6:$F$1001,F742,$AX$6:$AX$1001,AX742),0)","v":0},0,0,0,{"$f":"IF(AU742<>0,SUMIFS($AV$6:$AV$1001,$AT$6:$AT$1001,AT742,$F$6:$F$1001,F742,$AY$6:$AY$1001,AY742),0)","v":0},1900,1900,0,0,0,0,0,0,0,0,0,"","",0,0,0,"FORMATO INCORRECTO","FORMATO INCORRECTO","FORMATO INCORRECTO",{"$f":"IF(L742=\"\",\"\",IF(ISERROR(edata(L742)),\"FORMATO INCORRECTO\",\"FORMATO CORRECTO\"))","v":""},{"$f":"IF(U742=\"\",\"\",IF(ISERROR(edata(U742)),\"FORMATO INCORRECTO\",\"FORMATO CORRECTO\"))","v":""},{"$f":"IF(N742=\"\",\"\",IF(ISERROR(edata(N742)),\"FORMATO INCORRECTO\",\"FORMATO CORRECTO\"))","v":""}]
["1902-01-14","",null,null,null,null,null,null,"",null,null,null,null,null,null,null,null,"",null,null,null,null,null,null,null,null,"",null,"",null,null,"",null,null,null,null,null,0,0,0,0,0,{"$f":"IF(AO751<>0,SUMIFS($AP$6:$AP$1001,$AN$6:$AN$1001,AN751,$F$6:$F$1001,F751,$AX$6:$AX$1001,AX751),0)","v":0},0,{"$f":"IF(AO751<>0,SUMIFS($AP$6:$AP$1001,$AR$6:$AR$1001,AR751,$F$6:$F$1001,F751,$AX$6:$AX$1001,AX751),0)","v":0},0,0,0,{"$f":"IF(AU751<>0,SUMIFS($AV$6:$AV$1001,$AT$6:$AT$1001,AT751,$F$6:$F$1001,F751,$AY$6:$AY$1001,AY751),0)","v":0},1900,1900,0,0,0,0,0,0,0,0,0,"","",0,0,0,"FORMATO INCORRECTO","FORMATO INCORRECTO","FORMATO INCORRECTO",{"$f":"IF(L751=\"\",\"\",IF(ISERROR(edata(L751)),\"FORMATO INCORRECTO\",\"FORMATO CORRECTO\"))","v":""},{"$f":"IF(U751=\"\",\"\",IF(ISERROR(edata(U751)),\"FORMATO INCORRECTO\",\"FORMATO CORRECTO\"))","v":""},{"$f":"IF(N751=\"\",\"\",IF(ISERROR(edata(N751)),\"FORMATO INCORRECTO\",\"FORMATO CORRECTO\"))","v":""}]
["1902-01-23","",null,null,null,null,null,null,"",null,null,null,null,null,null,null,null,"",null,null,null,null,null,null,null,null,"",null,"",null,null,"",null,null,null,null,null,0,0,0,0,0,{"$f":"IF(AO760<>0,SUMIFS($AP$6:$AP$1001,$AN$6:$AN$1001,AN760,$F$6:$F$1001,F760,$AX$6:$AX$1001,AX760),0)","v":0},0,{"$f":"IF(AO760<>0,SUMIFS($AP$6:$AP$1001,$AR$6:$AR$1001,AR760,$F$6:$F$1001,F760,$AX$6:$AX$1001,AX760),0)","v":0},0,0,0,{"$f":"IF(AU760<>0,SUMIFS($AV$6:$AV$1001,$AT$6:$AT$1001,AT760,$F$6:$F$1001,F760,$AY$6:$AY$1001,AY760),0)","v":0},1900,1900,0,0,0,0,0,0,0,0,0,"","",0,0,0,"FORMATO INCORRECTO","FORMATO INCORRECTO","FORMATO INCORRECTO",{"$f":"IF(L760=\"\",\"\",IF(ISERROR(edata(L760)),\"FORMATO INCORRECTO\",\"FORMATO CORRECTO\"))","v":""},{"$f":"IF(U760=\"\",\"\",IF(ISERROR(edata(U760)),\"FORMATO INCORRECTO\",\"FORMATO CORRECTO\"))","v":""},{"$f":"IF(N760=\"\",\"\",IF(ISERROR(edata(N760)),\"FORMATO INCORRECTO\",\"FORMATO CORRECTO\"))","v":""}]
["1902-01-26","",null,null,null,null,null,null,"",null,null,null,null,null,null,null,null,"",null,null,null,null,null,null,null,null,"",null,"",null,null,"",null,null,null,null,null,0,0,0,0,0,{"$f":"IF(AO763<>0,SUMIFS($AP$6:$AP$1001,$AN$6:$AN$1001,AN763,$F$6:$F$1001,F763,$AX$6:$AX$1001,AX763),0)","v":0},0,{"$f":"IF(AO763<>0,SUMIFS($AP$6:$AP$1001,$AR$6:$AR$1001,AR763,$F$6:$F$1001,F763,$AX$6:$AX$1001,AX763),0)","v":0},0,0,0,{"$f":"IF(AU763<>0,SUMIFS($AV$6:$AV$1001,$AT$6:$AT$1001,AT763,$F$6:$F$1001,F763,$AY$6:$AY$1001,AY763),0)","v":0},1900,1900,0,0,0,0,0,0,0,0,0,"","",0,0,0,"FORMATO INCORRECTO","FORMATO INCORRECTO","FORMATO INCORRECTO",{"$f":"IF(L763=\"\",\"\",IF(ISERROR(edata(L763)),\"FORMATO INCORRECTO\",\"FORMATO CORRECTO\"))","v":""},{"$f":"IF(U763=\"\",\"\",IF(ISERROR(edata(U763)),\"FORMATO INCORRECTO\",\"FORMATO CORRECTO\"))","v":""},{"$f":"IF(N763=\"\",\"\",IF(ISERROR(edata(N763)),\"FORMATO INCORRECTO\",\"FORMATO CORRECTO\"))","v":""}]
["1902-02-07","",null,null,null,null,null,null,"",null,null,null,null,null,null,null,null,"",null,null,null,null,null,null,null,null,"",null,"",null,null,"",null,null,null,null,null,{"$f":"+O775+P775+Q775-N775","v":0},{"$f":"+O775+P775+Q775-W775","v":0},{"$f":"+D775","v":0},0,0,{"$f":"IF(AO775<>0,SUMIFS($AP$6:$AP$1001,$AN$6:$AN$1001,AN775,$F$6:$F$1001,F775,$AX$6:$AX$1001,AX775),0)","v":0},0,{"$f":"IF(AO775<>0,SUMIFS($AP$6:$AP$1001,$AR$6:$AR$1001,AR775,$F$6:$F$1001,F775,$AX$6:$AX$1001,AX775),0)","v":0},0,0,0,{"$f":"IF(AU775<>0,SUMIFS($AV$6:$AV$1001,$AT$6:$AT$1001,AT775,$F$6:$F$1001,F775,$AY$6:$AY$1001,AY775),0)","v":0},1900,1900,{"$f":"+AN775","v":0},{"$f":"+AQ775","v":0},0,{"$f":"+AR775","v":0},{"$f":"ROUND(AS775,2)","v":0},0,{"$f":"+AT775","v":0},{"$f":"ROUND(AW775,2)","v":0},0,{"$f":"IF(ISERROR(L775<=U775),\"FORMATO INCORRECTO\",IF(AND(L775=0,U775=0),\"\",IF(L775<=U775,\"VALIDADO\",\"NÃO VALIDADO\")))","v":""},{"$f":"IF(AND(L775=\"\",U775=\"\",Y775=\"\"),\"\",IF(OR(ISERROR(BK775),ISERROR(BL775),ISERROR(BM775)),\"ERRO NO FORMATO\",\"FORMATO CORRECTO\"))","v":""},{"$f":"convdata(L775)","v":0},{"$f":"convdata(U775)","v":0},{"$f":"convdata(Y775)","v":0},{"$f":"ENULO(L775)","v":"FORMATO INCORRECTO"},{"$f":"ENULO(U775)","v":"FORMATO INCORRECTO"},{"$f":"ENULO(Y775)","v":"FORMATO INCORRECTO"},{"$f":"IF(L775=\"\",\"\",IF(ISERROR(edata(L775)),\"FORMATO INCORRECTO\",\"FORMATO CORRECTO\"))","v":""},{"$f":"IF(U775=\"\",\"\",IF(ISERROR(edata(U775)),\"FORMATO INCORRECTO\",\"FORMATO CORRECTO\"))","v":""},{"$f":"IF(N775=\"\",\"\",IF(ISERROR(edata(N775)),\"FORMATO INCORRECTO\",\"FORMATO CORRECTO\"))","v":""}]
["1902-02-14","",null,null,null,null,null,null,"",null,null,null,null,null,null,null,null,"",null,null,null,null,null,null,null,null,"",null,"",null,null,"",null,null,null,null,null,0,0,0,0,0,{"$f":"IF(AO782<>0,SUMIFS($AP$6:$AP$1001,$AN$6:$AN$1001,AN782,$F$6:$F$1001,F782,$AX$6:$AX$1001,AX782),0)","v":0},0,{"$f":"IF(AO782<>0,SUMIFS($AP$6:$AP$1001,$AR$6:$AR$1001,AR782,$F$6:$F$1001,F782,$AX$6:$AX$1001,AX782),0)","v":0},0,0,0,{"$f":"IF(AU782<>0,SUMIFS($AV$6:$AV$1001,$AT$6:$AT$1001,AT782,$F$6:$F$1001,F782,$AY$6:$AY$1001,AY782),0)","v":0},1900,1900,0,0,0,0,0,0,0,0,0,"","",0,0,0,"FORMATO INCORRECTO","FORMATO INCORRECTO","FORMATO INCORRECTO",{"$f":"IF(L782=\"\",\"\",IF(ISERROR(edata(L782)),\"FORMATO INCORRECTO\",\"FORMATO CORRECTO\"))","v":""},{"$f":"IF(U782=\"\",\"\",IF(ISERROR(edata(U782)),\"FORMATO INCORRECTO\",\"FORMATO CORRECTO\"))","v":""},{"$f":"IF(N782=\"\",\"\",IF(ISERROR(edata(N782)),\"FORMATO INCORRECTO\",\"FORMATO CORRECTO\"))","v":""}]
["1902-02-25","",null,null,null,null,null,null,"",null,null,null,null,null,null,null,null,"",null,null,null,null,null,null,null,null,"",null,"",null,null,"",null,null,null,null,null,0,0,0,0,0,{"$f":"IF(AO793<>0,SUMIFS($AP$6:$AP$1001,$AN$6:$AN$1001,AN793,$F$6:$F$1001,F793,$AX$6:$AX$1001,AX793),0)","v":0},0,{"$f":"IF(AO793<>0,SUMIFS($AP$6:$AP$1001,$AR$6:$AR$1001,AR793,$F$6:$F$1001,F793,$AX$6:$AX$1001,AX793),0)","v":0},0,0,0,{"$f":"IF(AU793<>0,SUMIFS($AV$6:$AV$1001,$AT$6:$AT$1001,AT793,$F$6:$F$1001,F793,$AY$6:$AY$1001,AY793),0)","v":0},1900,1900,0,0,0,0,0,0,0,0,0,"","",0,0,0,"FORMATO INCORRECTO","FORMATO INCORRECTO","FORMATO INCORRECTO",{"$f":"IF(L793=\"\",\"\",IF(ISERROR(edata(L793)),\"FORMATO INCORRECTO\",\"FORMATO CORRECTO\"))","v":""},{"$f":"IF(U793=\"\",\"\",IF(ISERROR(edata(U793)),\"FORMATO INCORRECTO\",\"FORMATO CORRECTO\"))","v":""},{"$f":"IF(N793=\"\",\"\",IF(ISERROR(edata(N793)),\"FORMATO INCORRECTO\",\"FORMATO CORRECTO\"))","v":""}]
["1902-03-09","",null,null,null,null,null,null,"",null,null,null,null,null,null,null,null,"",null,null,null,null,null,null,null,null,"",null,"",null,null,"",null,null,null,null,null,0,0,0,0,0,{"$f":"IF(AO805<>0,SUMIFS($AP$6:$AP$1001,$AN$6:$AN$1001,AN805,$F$6:$F$1001,F805,$AX$6:$AX$1001,AX805),0)","v":0},0,{"$f":"IF(AO805<>0,SUMIFS($AP$6:$AP$1001,$AR$6:$AR$1001,AR805,$F$6:$F$1001,F805,$AX$6:$AX$1001,AX805),0)","v":0},0,0,0,{"$f":"IF(AU805<>0,SUMIFS($AV$6:$AV$1001,$AT$6:$AT$1001,AT805,$F$6:$F$1001,F805,$AY$6:$AY$1001,AY805),0)","v":0},1900,1900,0,0,0,0,0,0,0,0,0,"","",0,0,0,"FORMATO INCORRECTO","FORMATO INCORRECTO","FORMATO INCORRECTO",{"$f":"IF(L805=\"\",\"\",IF(ISERROR(edata(L805)),\"FORMATO INCORRECTO\",\"FORMATO CORRECTO\"))","v":""},{"$f":"IF(U805=\"\",\"\",IF(ISERROR(edata(U805)),\"FORMATO INCORRECTO\",\"FORMATO CORRECTO\"))","v":""},{"$f":"IF(N805=\"\",\"\",IF(ISERROR(edata(N805)),\"FORMATO INCORRECTO\",\"FORMATO CORRECTO\"))","v":""}]
["1902-03-16","",null,null,null,null,null,null,"",null,null,null,null,null,null,null,null,"",null,null,null,null,null,null,null,null,"",null,"",null,null,"",null,null,null,null,null,0,0,0,0,0,{"$f":"IF(AO812<>0,SUMIFS($AP$6:$AP$1001,$AN$6:$AN$1001,AN812,$F$6:$F$1001,F812,$AX$6:$AX$1001,AX812),0)","v":0},0,{"$f":"IF(AO812<>0,SUMIFS($AP$6:$AP$1001,$AR$6:$AR$1001,AR812,$F$6:$F$1001,F812,$AX$6:$AX$1001,AX812),0)","v":0},0,0,0,{"$f":"IF(AU812<>0,SUMIFS($AV$6:$AV$1001,$AT$6:$AT$1001,AT812,$F$6:$F$1001,F812,$AY$6:$AY$1001,AY812),0)","v":0},1900,1900,0,0,0,0,0,0,0,0,0,"","",0,0,0,"FORMATO INCORRECTO","FORMATO INCORRECTO","FORMATO INCORRECTO",{"$f":"IF(L812=\"\",\"\",IF(ISERROR(edata(L812)),\"FORMATO INCORRECTO\",\"FORMATO CORRECTO\"))","v":""},{"$f":"IF(U812=\"\",\"\",IF(ISERROR(edata(U812)),\"FORMATO INCORRECTO\",\"FORMATO CORRECTO\"))","v":""},{"$f":"IF(N812=\"\",\"\",IF(ISERROR(edata(N812)),\"FORMATO INCORRECTO\",\"FORMATO CORRECTO\"))","v":""}]
["1902-03-25","",null,null,null,null,null,null,"",null,null,null,null,null,null,null,null,"",null,null,null,null,null,null,null,null,"",null,"",null,null,"",null,null,null,null,null,0,0,0,0,0,{"$f":"IF(AO821<>0,SUMIFS($AP$6:$AP$1001,$AN$6:$AN$1001,AN821,$F$6:$F$1001,F821,$AX$6:$AX$1001,AX821),0)","v":0},0,{"$f":"IF(AO821<>0,SUMIFS($AP$6:$AP$1001,$AR$6:$AR$1001,AR821,$F$6:$F$1001,F821,$AX$6:$AX$1001,AX821),0)","v":0},0,0,0,{"$f":"IF(AU821<>0,SUMIFS($AV$6:$AV$1001,$AT$6:$AT$1001,AT821,$F$6:$F$1001,F821,$AY$6:$AY$1001,AY821),0)","v":0},1900,1900,0,0,0,0,0,0,0,0,0,"","",0,0,0,"FORMATO INCORRECTO","FORMATO INCORRECTO","FORMATO INCORRECTO",{"$f":"IF(L821=\"\",\"\",IF(ISERROR(edata(L821)),\"FORMATO INCORRECTO\",\"FORMATO CORRECTO\"))","v":""},{"$f":"IF(U821=\"\",\"\",IF(ISERROR(edata(U821)),\"FORMATO INCORRECTO\",\"FORMATO CORRECTO\"))","v":""},{"$f":"IF(N821=\"\",\"\",IF(ISERROR(edata(N821)),\"FORMATO INCORRECTO\",\"FORMATO CORRECTO\"))","v":""}]
["1902-04-03","",null,null,null,null,null,null,"",null,null,null,null,null,null,null,null,"",null,null,null,null,null,null,null,null,"",null,"",null,null,"",null,null,null,null,null,0,0,0,0,0,{"$f":"IF(AO830<>0,SUMIFS($AP$6:$AP$1001,$AN$6:$AN$1001,AN830,$F$6:$F$1001,F830,$AX$6:$AX$1001,AX830),0)","v":0},0,{"$f":"IF(AO830<>0,SUMIFS($AP$6:$AP$1001,$AR$6:$AR$1001,AR830,$F$6:$F$1001,F830,$AX$6:$AX$1001,AX830),0)","v":0},0,0,0,{"$f":"IF(AU830<>0,SUMIFS($AV$6:$AV$1001,$AT$6:$AT$1001,AT830,$F$6:$F$1001,F830,$AY$6:$AY$1001,AY830),0)","v":0},1900,1900,0,0,0,0,0,0,0,0,0,"","",0,0,0,"FORMATO INCORRECTO","FORMATO INCORRECTO","FORMATO INCORRECTO",{"$f":"IF(L830=\"\",\"\",IF(ISERROR(edata(L830)),\"FORMATO INCORRECTO\",\"FORMATO CORRECTO\"))","v":""},{"$f":"IF(U830=\"\",\"\",IF(ISERROR(edata(U830)),\"FORMATO INCORRECTO\",\"FORMATO CORRECTO\"))","v":""},{"$f":"IF(N830=\"\",\"\",IF(ISERROR(edata(N830)),\"FORMATO INCORRECTO\",\"FORMATO CORRECTO\"))","v":""}]
["1902-04-06","",null,null,null,null,null,null,"",null,null,null,null,null,null,null,null,"",null,null,null,null,null,null,null,null,"",null,"",null,null,"",null,null,null,null,null,0,0,0,0,0,{"$f":"IF(AO833<>0,SUMIFS($AP$6:$AP$1001,$AN$6:$AN$1001,AN833,$F$6:$F$1001,F833,$AX$6:$AX$1001,AX833),0)","v":0},0,{"$f":"IF(AO833<>0,SUMIFS($AP$6:$AP$1001,$AR$6:$AR$1001,AR833,$F$6:$F$1001,F833,$AX$6:$AX$1001,AX833),0)","v":0},0,0,0,{"$f":"IF(AU833<>0,SUMIFS($AV$6:$AV$1001,$AT$6:$AT$1001,AT833,$F$6:$F$1001,F833,$AY$6:$AY$1001,AY833),0)","v":0},1900,1900,0,0,0,0,0,0,0,0,0,"","",0,0,0,"FORMATO INCORRECTO","FORMATO INCORRECTO","FORMATO INCORRECTO",{"$f":"IF(L833=\"\",\"\",IF(ISERROR(edata(L833)),\"FORMATO INCORRECTO\",\"FORMATO CORRECTO\"))","v":""},{"$f":"IF(U833=\"\",\"\",IF(ISERROR(edata(U833)),\"FORMATO INCORRECTO\",\"FORMATO CORRECTO\"))","v":""},{"$f":"IF(N833=\"\",\"\",IF(ISERROR(edata(N833)),\"FORMATO INCORRECTO\",\"FORMATO CORRECTO\"))","v":""}]
["1902-04-18","",null,null,null,null,null,null,"",null,null,null,null,null,null,null,null,"",null,null,null,null,null,null,null,null,"",null,"",null,null,"",null,null,null,null,null,0,0,0,0,0,{"$f":"IF(AO845<>0,SUMIFS($AP$6:$AP$1001,$AN$6:$AN$1001,AN845,$F$6:$F$1001,F845,$AX$6:$AX$1001,AX845),0)","v":0},0,{"$f":"IF(AO845<>0,SUMIFS($AP$6:$AP$1001,$AR$6:$AR$1001,AR845,$F$6:$F$1001,F845,$AX$6:$AX$1001,AX845),0)","v":0},0,0,0,{"$f":"IF(AU845<>0,SUMIFS($AV$6:$AV$1001,$AT$6:$AT$1001,AT845,$F$6:$F$1001,F845,$AY$6:$AY$1001,AY845),0)","v":0},1900,1900,0,0,0,0,0,0,0,0,0,"","",0,0,0,"FORMATO INCORRECTO","FORMATO INCORRECTO","FORMATO INCORRECTO",{"$f":"IF(L845=\"\",\"\",IF(ISERROR(edata(L845)),\"FORMATO INCORRECTO\",\"FORMATO CORRECTO\"))","v":""},{"$f":"IF(U845=\"\",\"\",IF(ISERROR(edata(U845)),\"FORMATO INCORRECTO\",\"FORMATO CORRECTO\"))","v":""},{"$f":"IF(N845=\"\",\"\",IF(ISERROR(edata(N845)),\"FORMATO INCORRECTO\",\"FORMATO CORRECTO\"))","v":""}]
["1902-04-25","",null,null,null,null,null,null,"",null,null,null,null,null,null,null,null,"",null,null,null,null,null,null,null,null,"",null,"",null,null,"",null,null,null,null,null,0,0,0,0,0,{"$f":"IF(AO852<>0,SUMIFS($AP$6:$AP$1001,$AN$6:$AN$1001,AN852,$F$6:$F$1001,F852,$AX$6:$AX$1001,AX852),0)","v":0},0,{"$f":"IF(AO852<>0,SUMIFS($AP$6:$AP$1001,$AR$6:$AR$1001,AR852,$F$6:$F$1001,F852,$AX$6:$AX$1001,AX852),0)","v":0},0,0,0,{"$f":"IF(AU852<>0,SUMIFS($AV$6:$AV$1001,$AT$6:$AT$1001,AT852,$F$6:$F$1001,F852,$AY$6:$AY$1001,AY852),0)","v":0},1900,1900,0,0,0,0,0,0,0,0,0,"","",0,0,0,"FORMATO INCORRECTO","FORMATO INCORRECTO","FORMATO INCORRECTO",{"$f":"IF(L852=\"\",\"\",IF(ISERROR(edata(L852)),\"FORMATO INCORRECTO\",\"FORMATO CORRECTO\"))","v":""},{"$f":"IF(U852=\"\",\"\",IF(ISERROR(edata(U852)),\"FORMATO INCORRECTO\",\"FORMATO CORRECTO\"))","v":""},{"$f":"IF(N852=\"\",\"\",IF(ISERROR(edata(N852)),\"FORMATO INCORRECTO\",\"FORMATO CORRECTO\"))","v":""}]
["1902-05-06","",null,null,null,null,null,null,"",null,null,null,null,null,null,null,null,"",null,null,null,null,null,null,null,null,"",null,"",null,null,"",null,null,null,null,null,0,0,0,0,0,{"$f":"IF(AO863<>0,SUMIFS($AP$6:$AP$1001,$AN$6:$AN$1001,AN863,$F$6:$F$1001,F863,$AX$6:$AX$1001,AX863),0)","v":0},0,{"$f":"IF(AO863<>0,SUMIFS($AP$6:$AP$1001,$AR$6:$AR$1001,AR863,$F$6:$F$1001,F863,$AX$6:$AX$1001,AX863),0)","v":0},0,0,0,{"$f":"IF(AU863<>0,SUMIFS($AV$6:$AV$1001,$AT$6:$AT$1001,AT863,$F$6:$F$1001,F863,$AY$6:$AY$1001,AY863),0)","v":0},1900,1900,0,0,0,0,0,0,0,0,0,"","",0,0,0,"FORMATO INCORRECTO","FORMATO INCORRECTO","FORMATO INCORRECTO",{"$f":"IF(L863=\"\",\"\",IF(ISERROR(edata(L863)),\"FORMATO INCORRECTO\",\"FORMATO CORRECTO\"))","v":""},{"$f":"IF(U863=\"\",\"\",IF(ISERROR(edata(U863)),\"FORMATO INCORRECTO\",\"FORMATO CORRECTO\"))","v":""},{"$f":"IF(N863=\"\",\"\",IF(ISERROR(edata(N863)),\"FORMATO INCORRECTO\",\"FORMATO CORRECTO\"))","v":""}]
["1902-05-13","",null,null,null,null,null,null,"",null,null,null,null,null,null,null,null,"",null,null,null,null,null,null,null,null,"",null,"",null,null,"",null,null,null,null,null,0,0,0,0,0,{"$f":"IF(AO870<>0,SUMIFS($AP$6:$AP$1001,$AN$6:$AN$1001,AN870,$F$6:$F$1001,F870,$AX$6:$AX$1001,AX870),0)","v":0},0,{"$f":"IF(AO870<>0,SUMIFS($AP$6:$AP$1001,$AR$6:$AR$1001,AR870,$F$6:$F$1001,F870,$AX$6:$AX$1001,AX870),0)","v":0},0,0,0,{"$f":"IF(AU870<>0,SUMIFS($AV$6:$AV$1001,$AT$6:$AT$1001,AT870,$F$6:$F$1001,F870,$AY$6:$AY$1001,AY870),0)","v":0},1900,1900,0,0,0,0,0,0,0,0,0,"","",0,0,0,"FORMATO INCORRECTO","FORMATO INCORRECTO","FORMATO INCORRECTO",{"$f":"IF(L870=\"\",\"\",IF(ISERROR(edata(L870)),\"FORMATO INCORRECTO\",\"FORMATO CORRECTO\"))","v":""},{"$f":"IF(U870=\"\",\"\",IF(ISERROR(edata(U870)),\"FORMATO INCORRECTO\",\"FORMATO CORRECTO\"))","v":""},{"$f":"IF(N870=\"\",\"\",IF(ISERROR(edata(N870)),\"FORMATO INCORRECTO\",\"FORMATO CORRECTO\"))","v":""}]
["1902-05-25","",null,null,null,null,null,null,"",null,null,null,null,null,null,null,null,"",null,null,null,null,null,null,null,null,"",null,"",null,null,"",null,null,null,null,null,0,0,0,0,0,{"$f":"IF(AO882<>0,SUMIFS($AP$6:$AP$1001,$AN$6:$AN$1001,AN882,$F$6:$F$1001,F882,$AX$6:$AX$1001,AX882),0)","v":0},0,{"$f":"IF(AO882<>0,SUMIFS($AP$6:$AP$1001,$AR$6:$AR$1001,AR882,$F$6:$F$1001,F882,$AX$6:$AX$1001,AX882),0)","v":0},0,0,0,{"$f":"IF(AU882<>0,SUMIFS($AV$6:$AV$1001,$AT$6:$AT$1001,AT882,$F$6:$F$1001,F882,$AY$6:$AY$1001,AY882),0)","v":0},1900,1900,0,0,0,0,0,0,0,0,0,"","",0,0,0,"FORMATO INCORRECTO","FORMATO INCORRECTO","FORMATO INCORRECTO",{"$f":"IF(L882=\"\",\"\",IF(ISERROR(edata(L882)),\"FORMATO INCORRECTO\",\"FORMATO CORRECTO\"))","v":""},{"$f":"IF(U882=\"\",\"\",IF(ISERROR(edata(U882)),\"FORMATO INCORRECTO\",\"FORMATO CORRECTO\"))","v":""},{"$f":"IF(N882=\"\",\"\",IF(ISERROR(edata(N882)),\"FORMATO INCORRECTO\",\"FORMATO CORRECTO\"))","v":""}]
["1902-06-03","",null,null,null,null,null,null,"",null,null,null,null,null,null,null,null,"",null,null,null,null,null,null,null,null,"",null,"",null,null,"",null,null,null,null,null,0,0,0,0,0,{"$f":"IF(AO891<>0,SUMIFS($AP$6:$AP$1001,$AN$6:$AN$1001,AN891,$F$6:$F$1001,F891,$AX$6:$AX$1001,AX891),0)","v":0},0,{"$f":"IF(AO891<>0,SUMIFS($AP$6:$AP$1001,$AR$6:$AR$1001,AR891,$F$6:$F$1001,F891,$AX$6:$AX$1001,AX891),0)","v":0},0,0,0,{"$f":"IF(AU891<>0,SUMIFS($AV$6:$AV$1001,$AT$6:$AT$1001,AT891,$F$6:$F$1001,F891,$AY$6:$AY$1001,AY891),0)","v":0},1900,1900,0,0,0,0,0,0,0,0,0,"","",0,0,0,"FORMATO INCORRECTO","FORMATO INCORRECTO","FORMATO INCORRECTO",{"$f":"IF(L891=\"\",\"\",IF(ISERROR(edata(L891)),\"FORMATO INCORRECTO\",\"FORMATO CORRECTO\"))","v":""},{"$f":"IF(U891=\"\",\"\",IF(ISERROR(edata(U891)),\"FORMATO INCORRECTO\",\"FORMATO CORRECTO\"))","v":""},{"$f":"IF(N891=\"\",\"\",IF(ISERROR(edata(N891)),\"FORMATO INCORRECTO\",\"FORMATO CORRECTO\"))","v":""}]
["1902-06-12","",null,null,null,null,null,null,"",null,null,null,null,null,null,null,null,"",null,null,null,null,null,null,null,null,"",null,"",null,null,"",null,null,null,null,null,0,0,0,0,0,{"$f":"IF(AO900<>0,SUMIFS($AP$6:$AP$1001,$AN$6:$AN$1001,AN900,$F$6:$F$1001,F900,$AX$6:$AX$1001,AX900),0)","v":0},0,{"$f":"IF(AO900<>0,SUMIFS($AP$6:$AP$1001,$AR$6:$AR$1001,AR900,$F$6:$F$1001,F900,$AX$6:$AX$1001,AX900),0)","v":0},0,0,0,{"$f":"IF(AU900<>0,SUMIFS($AV$6:$AV$1001,$AT$6:$AT$1001,AT900,$F$6:$F$1001,F900,$AY$6:$AY$1001,AY900),0)","v":0},1900,1900,0,0,0,0,0,0,0,0,0,"","",0,0,0,"FORMATO INCORRECTO","FORMATO INCORRECTO","FORMATO INCORRECTO",{"$f":"IF(L900=\"\",\"\",IF(ISERROR(edata(L900)),\"FORMATO INCORRECTO\",\"FORMATO CORRECTO\"))","v":""},{"$f":"IF(U900=\"\",\"\",IF(ISERROR(edata(U900)),\"FORMATO INCORRECTO\",\"FORMATO CORRECTO\"))","v":""},{"$f":"IF(N900=\"\",\"\",IF(ISERROR(edata(N900)),\"FORMATO INCORRECTO\",\"FORMATO CORRECTO\"))","v":""}]
["1902-06-15","",null,null,null,null,null,null,"",null,null,null,null,null,null,null,null,"",null,null,null,null,null,null,null,null,"",null,"",null,null,"",null,null,null,null,null,{"$f":"+O903+P903+Q903-N903","v":0},{"$f":"+O903+P903+Q903-W903","v":0},{"$f":"+D903","v":0},0,0,{"$f":"IF(AO903<>0,SUMIFS($AP$6:$AP$1001,$AN$6:$AN$1001,AN903,$F$6:$F$1001,F903,$AX$6:$AX$1001,AX903),0)","v":0},0,{"$f":"IF(AO903<>0,SUMIFS($AP$6:$AP$1001,$AR$6:$AR$1001,AR903,$F$6:$F$1001,F903,$AX$6:$AX$1001,AX903),0)","v":0},0,0,0,{"$f":"IF(AU903<>0,SUMIFS($AV$6:$AV$1001,$AT$6:$AT$1001,AT903,$F$6:$F$1001,F903,$AY$6:$AY$1001,AY903),0)","v":0},1900,1900,{"$f":"+AN903","v":0},{"$f":"+AQ903","v":0},0,{"$f":"+AR903","v":0},{"$f":"ROUND(AS903,2)","v":0},0,{"$f":"+AT903","v":0},{"$f":"ROUND(AW903,2)","v":0},0,{"$f":"IF(ISERROR(L903<=U903),\"FORMATO INCORRECTO\",IF(AND(L903=0,U903=0),\"\",IF(L903<=U903,\"VALIDADO\",\"NÃO VALIDADO\")))","v":""},{"$f":"IF(AND(L903=\"\",U903=\"\",Y903=\"\"),\"\",IF(OR(ISERROR(BK903),ISERROR(BL903),ISERROR(BM903)),\"ERRO NO FORMATO\",\"FORMATO CORRECTO\"))","v":""},{"$f":"convdata(L903)","v":0},{"$f":"convdata(U903)","v":0},{"$f":"convdata(Y903)","v":0},{"$f":"ENULO(L903)","v":"FORMATO INCORRECTO"},{"$f":"ENULO(U903)","v":"FORMATO INCORRECTO"},{"$f":"ENULO(Y903)","v":"FORMATO INCORRECTO"},{"$f":"IF(L903=\"\",\"\",IF(ISERROR(edata(L903)),\"FORMATO INCORRECTO\",\"FORMATO CORRECTO\"))","v":""},{"$f":"IF(U903=\"\",\"\",IF(ISERROR(edata(U903)),\"FORMATO INCORRECTO\",\"FORMATO CORRECTO\"))","v":""},{"$f":"IF(N903=\"\",\"\",IF(ISERROR(edata(N903)),\"FORMATO INCORRECTO\",\"FORMATO CORRECTO\"))","v":""}]
["1902-06-27","",null,null,null,null,null,null,"",null,null,null,null,null,null,null,null,"",null,null,null,null,null,null,null,null,"",null,"",null,null,"",null,null,null,null,null,0,0,0,0,0,{"$f":"IF(AO915<>0,SUMIFS($AP$6:$AP$1001,$AN$6:$AN$1001,AN915,$F$6:$F$1001,F915,$AX$6:$AX$1001,AX915),0)","v":0},0,{"$f":"IF(AO915<>0,SUMIFS($AP$6:$AP$1001,$AR$6:$AR$1001,AR915,$F$6:$F$1001,F915,$AX$6:$AX$1001,AX915),0)","v":0},0,0,0,{"$f":"IF(AU915<>0,SUMIFS($AV$6:$AV$1001,$AT$6:$AT$1001,AT915,$F$6:$F$1001,F915,$AY$6:$AY$1001,AY915),0)","v":0},1900,1900,0,0,0,0,0,0,0,0,0,"","",0,0,0,"FORMATO INCORRECTO","FORMATO INCORRECTO","FORMATO INCORRECTO",{"$f":"IF(L915=\"\",\"\",IF(ISERROR(edata(L915)),\"FORMATO INCORRECTO\",\"FORMATO CORRECTO\"))","v":""},{"$f":"IF(U915=\"\",\"\",IF(ISERROR(edata(U915)),\"FORMATO INCORRECTO\",\"FORMATO CORRECTO\"))","v":""},{"$f":"IF(N915=\"\",\"\",IF(ISERROR(edata(N915)),\"FORMATO INCORRECTO\",\"FORMATO CORRECTO\"))","v":""}]
["1902-07-04","",null,null,null,null,null,null,"",null,null,null,null,null,null,null,null,"",null,null,null,null,null,null,null,null,"",null,"",null,null,"",null,null,null,null,null,0,0,0,0,0,{"$f":"IF(AO922<>0,SUMIFS($AP$6:$AP$1001,$AN$6:$AN$1001,AN922,$F$6:$F$1001,F922,$AX$6:$AX$1001,AX922),0)","v":0},0,{"$f":"IF(AO922<>0,SUMIFS($AP$6:$AP$1001,$AR$6:$AR$1001,AR922,$F$6:$F$1001,F922,$AX$6:$AX$1001,AX922),0)","v":0},0,0,0,{"$f":"IF(AU922<>0,SUMIFS($AV$6:$AV$1001,$AT$6:$AT$1001,AT922,$F$6:$F$1001,F922,$AY$6:$AY$1001,AY922),0)","v":0},1900,1900,0,0,0,0,0,0,0,0,0,"","",0,0,0,"FORMATO INCORRECTO","FORMATO INCORRECTO","FORMATO INCORRECTO",{"$f":"IF(L922=\"\",\"\",IF(ISERROR(edata(L922)),\"FORMATO INCORRECTO\",\"FORMATO CORRECTO\"))","v":""},{"$f":"IF(U922=\"\",\"\",IF(ISERROR(edata(U922)),\"FORMATO INCORRECTO\",\"FORMATO CORRECTO\"))","v":""},{"$f":"IF(N922=\"\",\"\",IF(ISERROR(edata(N922)),\"FORMATO INCORRECTO\",\"FORMATO CORRECTO\"))","v":""}]
["1902-07-15","",null,null,null,null,null,null,"",null,null,null,null,null,null,null,null,"",null,null,null,null,null,null,null,null,"",null,"",null,null,"",null,null,null,null,null,0,0,0,0,0,{"$f":"IF(AO933<>0,SUMIFS($AP$6:$AP$1001,$AN$6:$AN$1001,AN933,$F$6:$F$1001,F933,$AX$6:$AX$1001,AX933),0)","v":0},0,{"$f":"IF(AO933<>0,SUMIFS($AP$6:$AP$1001,$AR$6:$AR$1001,AR933,$F$6:$F$1001,F933,$AX$6:$AX$1001,AX933),0)","v":0},0,0,0,{"$f":"IF(AU933<>0,SUMIFS($AV$6:$AV$1001,$AT$6:$AT$1001,AT933,$F$6:$F$1001,F933,$AY$6:$AY$1001,AY933),0)","v":0},1900,1900,0,0,0,0,0,0,0,0,0,"","",0,0,0,"FORMATO INCORRECTO","FORMATO INCORRECTO","FORMATO INCORRECTO",{"$f":"IF(L933=\"\",\"\",IF(ISERROR(edata(L933)),\"FORMATO INCORRECTO\",\"FORMATO CORRECTO\"))","v":""},{"$f":"IF(U933=\"\",\"\",IF(ISERROR(edata(U933)),\"FORMATO INCORRECTO\",\"FORMATO CORRECTO\"))","v":""},{"$f":"IF(N933=\"\",\"\",IF(ISERROR(edata(N933)),\"FORMATO INCORRECTO\",\"FORMATO CORRECTO\"))","v":""}]
["1902-07-22","",null,null,null,null,null,null,"",null,null,null,null,null,null,null,null,"",null,null,null,null,null,null,null,null,"",null,"",null,null,"",null,null,null,null,null,0,0,0,0,0,{"$f":"IF(AO940<>0,SUMIFS($AP$6:$AP$1001,$AN$6:$AN$1001,AN940,$F$6:$F$1001,F940,$AX$6:$AX$1001,AX940),0)","v":0},0,{"$f":"IF(AO940<>0,SUMIFS($AP$6:$AP$1001,$AR$6:$AR$1001,AR940,$F$6:$F$1001,F940,$AX$6:$AX$1001,AX940),0)","v":0},0,0,0,{"$f":"IF(AU940<>0,SUMIFS($AV$6:$AV$1001,$AT$6:$AT$1001,AT940,$F$6:$F$1001,F940,$AY$6:$AY$1001,AY940),0)","v":0},1900,1900,0,0,0,0,0,0,0,0,0,"","",0,0,0,"FORMATO INCORRECTO","FORMATO INCORRECTO","FORMATO INCORRECTO",{"$f":"IF(L940=\"\",\"\",IF(ISERROR(edata(L940)),\"FORMATO INCORRECTO\",\"FORMATO CORRECTO\"))","v":""},{"$f":"IF(U940=\"\",\"\",IF(ISERROR(edata(U940)),\"FORMATO INCORRECTO\",\"FORMATO CORRECTO\"))","v":""},{"$f":"IF(N940=\"\",\"\",IF(ISERROR(edata(N940)),\"FORMATO INCORRECTO\",\"FORMATO CORRECTO\"))","v":""}]
["1902-08-03","",null,null,null,null,null,null,"",null,null,null,null,null,null,null,null,"",null,null,null,null,null,null,null,null,"",null,"",null,null,"",null,null,null,null,null,0,0,0,0,0,{"$f":"IF(AO952<>0,SUMIFS($AP$6:$AP$1001,$AN$6:$AN$1001,AN952,$F$6:$F$1001,F952,$AX$6:$AX$1001,AX952),0)","v":0},0,{"$f":"IF(AO952<>0,SUMIFS($AP$6:$AP$1001,$AR$6:$AR$1001,AR952,$F$6:$F$1001,F952,$AX$6:$AX$1001,AX952),0)","v":0},0,0,0,{"$f":"IF(AU952<>0,SUMIFS($AV$6:$AV$1001,$AT$6:$AT$1001,AT952,$F$6:$F$1001,F952,$AY$6:$AY$1001,AY952),0)","v":0},1900,1900,0,0,0,0,0,0,0,0,0,"","",0,0,0,"FORMATO INCORRECTO","FORMATO INCORRECTO","FORMATO INCORRECTO",{"$f":"IF(L952=\"\",\"\",IF(ISERROR(edata(L952)),\"FORMATO INCORRECTO\",\"FORMATO CORRECTO\"))","v":""},{"$f":"IF(U952=\"\",\"\",IF(ISERROR(edata(U952)),\"FORMATO INCORRECTO\",\"FORMATO CORRECTO\"))","v":""},{"$f":"IF(N952=\"\",\"\",IF(ISERROR(edata(N952)),\"FORMATO INCORRECTO\",\"FORMATO CORRECTO\"))","v":""}]
["1902-08-12","",null,null,null,null,null,null,"",null,null,null,null,null,null,null,null,"",null,null,null,null,null,null,null,null,"",null,"",null,null,"",null,null,null,null,null,0,0,0,0,0,{"$f":"IF(AO961<>0,SUMIFS($AP$6:$AP$1001,$AN$6:$AN$1001,AN961,$F$6:$F$1001,F961,$AX$6:$AX$1001,AX961),0)","v":0},0,{"$f":"IF(AO961<>0,SUMIFS($AP$6:$AP$1001,$AR$6:$AR$1001,AR961,$F$6:$F$1001,F961,$AX$6:$AX$1001,AX961),0)","v":0},0,0,0,{"$f":"IF(AU961<>0,SUMIFS($AV$6:$AV$1001,$AT$6:$AT$1001,AT961,$F$6:$F$1001,F961,$AY$6:$AY$1001,AY961),0)","v":0},1900,1900,0,0,0,0,0,0,0,0,0,"","",0,0,0,"FORMATO INCORRECTO","FORMATO INCORRECTO","FORMATO INCORRECTO",{"$f":"IF(L961=\"\",\"\",IF(ISERROR(edata(L961)),\"FORMATO INCORRECTO\",\"FORMATO CORRECTO\"))","v":""},{"$f":"IF(U961=\"\",\"\",IF(ISERROR(edata(U961)),\"FORMATO INCORRECTO\",\"FORMATO CORRECTO\"))","v":""},{"$f":"IF(N961=\"\",\"\",IF(ISERROR(edata(N961)),\"FORMATO INCORRECTO\",\"FORMATO CORRECTO\"))","v":""}]
["1902-08-21","",null,null,null,null,null,null,"",null,null,null,null,null,null,null,null,"",null,null,null,null,null,null,null,null,"",null,"",null,null,"",null,null,null,null,null,0,0,0,0,0,{"$f":"IF(AO970<>0,SUMIFS($AP$6:$AP$1001,$AN$6:$AN$1001,AN970,$F$6:$F$1001,F970,$AX$6:$AX$1001,AX970),0)","v":0},0,{"$f":"IF(AO970<>0,SUMIFS($AP$6:$AP$1001,$AR$6:$AR$1001,AR970,$F$6:$F$1001,F970,$AX$6:$AX$1001,AX970),0)","v":0},0,0,0,{"$f":"IF(AU970<>0,SUMIFS($AV$6:$AV$1001,$AT$6:$AT$1001,AT970,$F$6:$F$1001,F970,$AY$6:$AY$1001,AY970),0)","v":0},1900,1900,0,0,0,0,0,0,0,0,0,"","",0,0,0,"FORMATO INCORRECTO","FORMATO INCORRECTO","FORMATO INCORRECTO",{"$f":"IF(L970=\"\",\"\",IF(ISERROR(edata(L970)),\"FORMATO INCORRECTO\",\"FORMATO CORRECTO\"))","v":""},{"$f":"IF(U970=\"\",\"\",IF(ISERROR(edata(U970)),\"FORMATO INCORRECTO\",\"FORMATO CORRECTO\"))","v":""},{"$f":"IF(N970=\"\",\"\",IF(ISERROR(edata(N970)),\"FORMATO INCORRECTO\",\"FORMATO CORRECTO\"))","v":""}]
["1902-08-24","",null,null,null,null,null,null,"",null,null,null,null,null,null,null,null,"",null,null,null,null,null,null,null,null,"",null,"",null,null,"",null,null,null,null,null,0,0,0,0,0,{"$f":"IF(AO973<>0,SUMIFS($AP$6:$AP$1001,$AN$6:$AN$1001,AN973,$F$6:$F$1001,F973,$AX$6:$AX$1001,AX973),0)","v":0},0,{"$f":"IF(AO973<>0,SUMIFS($AP$6:$AP$1001,$AR$6:$AR$1001,AR973,$F$6:$F$1001,F973,$AX$6:$AX$1001,AX973),0)","v":0},0,0,0,{"$f":"IF(AU973<>0,SUMIFS($AV$6:$AV$1001,$AT$6:$AT$1001,AT973,$F$6:$F$1001,F973,$AY$6:$AY$1001,AY973),0)","v":0},1900,1900,0,0,0,0,0,0,0,0,0,"","",0,0,0,"FORMATO INCORRECTO","FORMATO INCORRECTO","FORMATO INCORRECTO",{"$f":"IF(L973=\"\",\"\",IF(ISERROR(edata(L973)),\"FORMATO INCORRECTO\",\"FORMATO CORRECTO\"))","v":""},{"$f":"IF(U973=\"\",\"\",IF(ISERROR(edata(U973)),\"FORMATO INCORRECTO\",\"FORMATO CORRECTO\"))","v":""},{"$f":"IF(N973=\"\",\"\",IF(ISERROR(edata(N973)),\"FORMATO INCORRECTO\",\"FORMATO CORRECTO\"))","v":""}]
["1902-09-09","",null,null,null,null,null,null,"",null,null,null,null,null,null,null,null,"",null,null,null,null,null,null,null,null,"",null,"",null,null,"",null,null,null,null,null,0,0,0,0,0,{"$f":"IF(AO989<>0,SUMIFS($AP$6:$AP$1001,$AN$6:$AN$1001,AN989,$F$6:$F$1001,F989,$AX$6:$AX$1001,AX989),0)","v":0},0,{"$f":"IF(AO989<>0,SUMIFS($AP$6:$AP$1001,$AR$6:$AR$1001,AR989,$F$6:$F$1001,F989,$AX$6:$AX$1001,AX989),0)","v":0},0,0,0,{"$f":"IF(AU989<>0,SUMIFS($AV$6:$AV$1001,$AT$6:$AT$1001,AT989,$F$6:$F$1001,F989,$AY$6:$AY$1001,AY989),0)","v":0},1900,1900,0,0,0,0,0,0,0,0,0,"","",0,0,0,"FORMATO INCORRECTO","FORMATO INCORRECTO","FORMATO INCORRECTO",{"$f":"IF(L989=\"\",\"\",IF(ISERROR(edata(L989)),\"FORMATO INCORRECTO\",\"FORMATO CORRECTO\"))","v":""},{"$f":"IF(U989=\"\",\"\",IF(ISERROR(edata(U989)),\"FORMATO INCORRECTO\",\"FORMATO CORRECTO\"))","v":""},{"$f":"IF(N989=\"\",\"\",IF(ISERROR(edata(N989)),\"FORMATO INCORRECTO\",\"FORMATO CORRECTO\"))","v":""}]
["1902-09-12","",null,null,null,null,null,null,"",null,null,null,null,null,null,null,null,"",null,null,null,null,null,null,null,null,"",null,"",null,null,"",null,null,null,null,null,0,0,0,0,0,{"$f":"IF(AO992<>0,SUMIFS($AP$6:$AP$1001,$AN$6:$AN$1001,AN992,$F$6:$F$1001,F992,$AX$6:$AX$1001,AX992),0)","v":0},0,{"$f":"IF(AO992<>0,SUMIFS($AP$6:$AP$1001,$AR$6:$AR$1001,AR992,$F$6:$F$1001,F992,$AX$6:$AX$1001,AX992),0)","v":0},0,0,0,{"$f":"IF(AU992<>0,SUMIFS($AV$6:$AV$1001,$AT$6:$AT$1001,AT992,$F$6:$F$1001,F992,$AY$6:$AY$1001,AY992),0)","v":0},1900,1900,0,0,0,0,0,0,0,0,0,"","",0,0,0,"FORMATO INCORRECTO","FORMATO INCORRECTO","FORMATO INCORRECTO",{"$f":"IF(L992=\"\",\"\",IF(ISERROR(edata(L992)),\"FORMATO INCORRECTO\",\"FORMATO CORRECTO\"))","v":""},{"$f":"IF(U992=\"\",\"\",IF(ISERROR(edata(U992)),\"FORMATO INCORRECTO\",\"FORMATO CORRECTO\"))","v":""},{"$f":"IF(N992=\"\",\"\",IF(ISERROR(edata(N992)),\"FORMATO INCORRECTO\",\"FORMATO CORRECTO\"))","v":""}]
["1913-09-09","",null,null,null,null,null,null,"",null,null,null,null,null,null,null,null,"",null,null,null,null,null,null,null,null,"",null,"",null,null,"",null,null,null,null,null,0,0,0,0,0,{"$f":"IF(AO1003<>0,SUMIFS($AP$6:$AP$1001,$AN$6:$AN$1001,AN1003,$F$6:$F$1001,F1003,$AX$6:$AX$1001,AX1003),0)","v":0},0,{"$f":"IF(AO1003<>0,SUMIFS($AP$6:$AP$1001,$AR$6:$AR$1001,AR1003,$F$6:$F$1001,F1003,$AX$6:$AX$1001,AX1003),0)","v":0},0,0,0,{"$f":"IF(AU1003<>0,SUMIFS($AV$6:$AV$1001,$AT$6:$AT$1001,AT1003,$F$6:$F$1001,F1003,$AY$6:$AY$1001,AY1003),0)","v":0},1900,1900,0,0,0,0,0,0,0,0,0,"","",0,0,0,"FORMATO INCORRECTO","FORMATO INCORRECTO","FORMATO INCORRECTO",{"$f":"IF(L1003=\"\",\"\",IF(ISERROR(edata(L1003)),\"FORMATO INCORRECTO\",\"FORMATO CORRECTO\"))","v":""},{"$f":"IF(U1003=\"\",\"\",IF(ISERROR(edata(U1003)),\"FORMATO INCORRECTO\",\"FORMATO CORRECTO\"))","v":""},{"$f":"IF(N1003=\"\",\"\",IF(ISERROR(edata(N1003)),\"FORMATO INCORRECTO\",\"FORMATO CORRECTO\"))","v":""}]
["1913-09-16","",null,null,null,null,null,null,"",null,null,null,null,null,null,null,null,"",null,null,null,null,null,null,null,null,"",null,"",null,null,"",null,null,null,null,null,0,0,0,0,0,{"$f":"IF(AO1010<>0,SUMIFS($AP$6:$AP$1001,$AN$6:$AN$1001,AN1010,$F$6:$F$1001,F1010,$AX$6:$AX$1001,AX1010),0)","v":0},0,{"$f":"IF(AO1010<>0,SUMIFS($AP$6:$AP$1001,$AR$6:$AR$1001,AR1010,$F$6:$F$1001,F1010,$AX$6:$AX$1001,AX1010),0)","v":0},0,0,0,{"$f":"IF(AU1010<>0,SUMIFS($AV$6:$AV$1001,$AT$6:$AT$1001,AT1010,$F$6:$F$1001,F1010,$AY$6:$AY$1001,AY1010),0)","v":0},1900,1900,0,0,0,0,0,0,0,0,0,"","",0,0,0,"FORMATO INCORRECTO","FORMATO INCORRECTO","FORMATO INCORRECTO",{"$f":"IF(L1010=\"\",\"\",IF(ISERROR(edata(L1010)),\"FORMATO INCORRECTO\",\"FORMATO CORRECTO\"))","v":""},{"$f":"IF(U1010=\"\",\"\",IF(ISERROR(edata(U1010)),\"FORMATO INCORRECTO\",\"FORMATO CORRECTO\"))","v":""},{"$f":"IF(N1010=\"\",\"\",IF(ISERROR(edata(N1010)),\"FORMATO INCORRECTO\",\"FORMATO CORRECTO\"))","v":""}]
["1913-09-28","",null,null,null,null,null,null,"",null,null,null,null,null,null,null,null,"",null,null,null,null,null,null,null,null,"",null,"",null,null,"",null,null,null,null,null,0,0,0,0,0,{"$f":"IF(AO1022<>0,SUMIFS($AP$6:$AP$1001,$AN$6:$AN$1001,AN1022,$F$6:$F$1001,F1022,$AX$6:$AX$1001,AX1022),0)","v":0},0,{"$f":"IF(AO1022<>0,SUMIFS($AP$6:$AP$1001,$AR$6:$AR$1001,AR1022,$F$6:$F$1001,F1022,$AX$6:$AX$1001,AX1022),0)","v":0},0,0,0,{"$f":"IF(AU1022<>0,SUMIFS($AV$6:$AV$1001,$AT$6:$AT$1001,AT1022,$F$6:$F$1001,F1022,$AY$6:$AY$1001,AY1022),0)","v":0},1900,1900,0,0,0,0,0,0,0,0,0,"","",0,0,0,"FORMATO INCORRECTO","FORMATO INCORRECTO","FORMATO INCORRECTO",{"$f":"IF(L1022=\"\",\"\",IF(ISERROR(edata(L1022)),\"FORMATO INCORRECTO\",\"FORMATO CORRECTO\"))","v":""},{"$f":"IF(U1022=\"\",\"\",IF(ISERROR(edata(U1022)),\"FORMATO INCORRECTO\",\"FORMATO CORRECTO\"))","v":""},{"$f":"IF(N1022=\"\",\"\",IF(ISERROR(edata(N1022)),\"FORMATO INCORRECTO\",\"FORMATO CORRECTO\"))","v":""}]
["1913-10-07","",null,null,null,null,null,null,"",null,null,null,null,null,null,null,null,"",null,null,null,null,null,null,null,null,"",null,"",null,null,"",null,null,null,null,null,0,0,0,0,0,{"$f":"IF(AO1031<>0,SUMIFS($AP$6:$AP$1001,$AN$6:$AN$1001,AN1031,$F$6:$F$1001,F1031,$AX$6:$AX$1001,AX1031),0)","v":0},0,{"$f":"IF(AO1031<>0,SUMIFS($AP$6:$AP$1001,$AR$6:$AR$1001,AR1031,$F$6:$F$1001,F1031,$AX$6:$AX$1001,AX1031),0)","v":0},0,0,0,{"$f":"IF(AU1031<>0,SUMIFS($AV$6:$AV$1001,$AT$6:$AT$1001,AT1031,$F$6:$F$1001,F1031,$AY$6:$AY$1001,AY1031),0)","v":0},1900,1900,0,0,0,0,0,0,0,0,0,"","",0,0,0,"FORMATO INCORRECTO","FORMATO INCORRECTO","FORMATO INCORRECTO",{"$f":"IF(L1031=\"\",\"\",IF(ISERROR(edata(L1031)),\"FORMATO INCORRECTO\",\"FORMATO CORRECTO\"))","v":""},{"$f":"IF(U1031=\"\",\"\",IF(ISERROR(edata(U1031)),\"FORMATO INCORRECTO\",\"FORMATO CORRECTO\"))","v":""},{"$f":"IF(N1031=\"\",\"\",IF(ISERROR(edata(N1031)),\"FORMATO INCORRECTO\",\"FORMATO CORRECTO\"))","v":""}]
["1913-10-16","",null,null,null,null,null,null,"",null,null,null,null,null,null,null,null,"",null,null,null,null,null,null,null,null,"",null,"",null,null,"",null,null,null,null,null,0,0,0,0,0,{"$f":"IF(AO1040<>0,SUMIFS($AP$6:$AP$1001,$AN$6:$AN$1001,AN1040,$F$6:$F$1001,F1040,$AX$6:$AX$1001,AX1040),0)","v":0},0,{"$f":"IF(AO1040<>0,SUMIFS($AP$6:$AP$1001,$AR$6:$AR$1001,AR1040,$F$6:$F$1001,F1040,$AX$6:$AX$1001,AX1040),0)","v":0},0,0,0,{"$f":"IF(AU1040<>0,SUMIFS($AV$6:$AV$1001,$AT$6:$AT$1001,AT1040,$F$6:$F$1001,F1040,$AY$6:$AY$1001,AY1040),0)","v":0},1900,1900,0,0,0,0,0,0,0,0,0,"","",0,0,0,"FORMATO INCORRECTO","FORMATO INCORRECTO","FORMATO INCORRECTO",{"$f":"IF(L1040=\"\",\"\",IF(ISERROR(edata(L1040)),\"FORMATO INCORRECTO\",\"FORMATO CORRECTO\"))","v":""},{"$f":"IF(U1040=\"\",\"\",IF(ISERROR(edata(U1040)),\"FORMATO INCORRECTO\",\"FORMATO CORRECTO\"))","v":""},{"$f":"IF(N1040=\"\",\"\",IF(ISERROR(edata(N1040)),\"FORMATO INCORRECTO\",\"FORMATO CORRECTO\"))","v":""}]
["1913-10-19","",null,null,null,null,null,null,"",null,null,null,null,null,null,null,null,"",null,null,null,null,null,null,null,null,"",null,"",null,null,"",null,null,null,null,null,0,0,0,0,0,{"$f":"IF(AO1043<>0,SUMIFS($AP$6:$AP$1001,$AN$6:$AN$1001,AN1043,$F$6:$F$1001,F1043,$AX$6:$AX$1001,AX1043),0)","v":0},0,{"$f":"IF(AO1043<>0,SUMIFS($AP$6:$AP$1001,$AR$6:$AR$1001,AR1043,$F$6:$F$1001,F1043,$AX$6:$AX$1001,AX1043),0)","v":0},0,0,0,{"$f":"IF(AU1043<>0,SUMIFS($AV$6:$AV$1001,$AT$6:$AT$1001,AT1043,$F$6:$F$1001,F1043,$AY$6:$AY$1001,AY1043),0)","v":0},1900,1900,0,0,0,0,0,0,0,0,0,"","",0,0,0,"FORMATO INCORRECTO","FORMATO INCORRECTO","FORMATO INCORRECTO",{"$f":"IF(L1043=\"\",\"\",IF(ISERROR(edata(L1043)),\"FORMATO INCORRECTO\",\"FORMATO CORRECTO\"))","v":""},{"$f":"IF(U1043=\"\",\"\",IF(ISERROR(edata(U1043)),\"FORMATO INCORRECTO\",\"FORMATO CORRECTO\"))","v":""},{"$f":"IF(N1043=\"\",\"\",IF(ISERROR(edata(N1043)),\"FORMATO INCORRECTO\",\"FORMATO CORRECTO\"))","v":""}]
["1913-11-04","",null,null,null,null,null,null,"",null,null,null,null,null,null,null,null,"",null,null,null,null,null,null,null,null,"",null,"",null,null,"",null,null,null,null,null,0,0,0,0,0,{"$f":"IF(AO1059<>0,SUMIFS($AP$6:$AP$1001,$AN$6:$AN$1001,AN1059,$F$6:$F$1001,F1059,$AX$6:$AX$1001,AX1059),0)","v":0},0,{"$f":"IF(AO1059<>0,SUMIFS($AP$6:$AP$1001,$AR$6:$AR$1001,AR1059,$F$6:$F$1001,F1059,$AX$6:$AX$1001,AX1059),0)","v":0},0,0,0,{"$f":"IF(AU1059<>0,SUMIFS($AV$6:$AV$1001,$AT$6:$AT$1001,AT1059,$F$6:$F$1001,F1059,$AY$6:$AY$1001,AY1059),0)","v":0},1900,1900,0,0,0,0,0,0,0,0,0,"","",0,0,0,"FORMATO INCORRECTO","FORMATO INCORRECTO","FORMATO INCORRECTO",{"$f":"IF(L1059=\"\",\"\",IF(ISERROR(edata(L1059)),\"FORMATO INCORRECTO\",\"FORMATO CORRECTO\"))","v":""},{"$f":"IF(U1059=\"\",\"\",IF(ISERROR(edata(U1059)),\"FORMATO INCORRECTO\",\"FORMATO CORRECTO\"))","v":""},{"$f":"IF(N1059=\"\",\"\",IF(ISERROR(edata(N1059)),\"FORMATO INCORRECTO\",\"FORMATO CORRECTO\"))","v":""}]
["1913-11-07","",null,null,null,null,null,null,"",null,null,null,null,null,null,null,null,"",null,null,null,null,null,null,null,null,"",null,"",null,null,"",null,null,null,null,null,0,0,0,0,0,{"$f":"IF(AO1062<>0,SUMIFS($AP$6:$AP$1001,$AN$6:$AN$1001,AN1062,$F$6:$F$1001,F1062,$AX$6:$AX$1001,AX1062),0)","v":0},0,{"$f":"IF(AO1062<>0,SUMIFS($AP$6:$AP$1001,$AR$6:$AR$1001,AR1062,$F$6:$F$1001,F1062,$AX$6:$AX$1001,AX1062),0)","v":0},0,0,0,{"$f":"IF(AU1062<>0,SUMIFS($AV$6:$AV$1001,$AT$6:$AT$1001,AT1062,$F$6:$F$1001,F1062,$AY$6:$AY$1001,AY1062),0)","v":0},1900,1900,0,0,0,0,0,0,0,0,0,"","",0,0,0,"FORMATO INCORRECTO","FORMATO INCORRECTO","FORMATO INCORRECTO",{"$f":"IF(L1062=\"\",\"\",IF(ISERROR(edata(L1062)),\"FORMATO INCORRECTO\",\"FORMATO CORRECTO\"))","v":""},{"$f":"IF(U1062=\"\",\"\",IF(ISERROR(edata(U1062)),\"FORMATO INCORRECTO\",\"FORMATO CORRECTO\"))","v":""},{"$f":"IF(N1062=\"\",\"\",IF(ISERROR(edata(N1062)),\"FORMATO INCORRECTO\",\"FORMATO CORRECTO\"))","v":""}]
["1913-11-18","",null,null,null,null,null,null,"",null,null,null,null,null,null,null,null,"",null,null,null,null,null,null,null,null,"",null,"",null,null,"",null,null,null,null,null,0,0,0,0,0,{"$f":"IF(AO1073<>0,SUMIFS($AP$6:$AP$1001,$AN$6:$AN$1001,AN1073,$F$6:$F$1001,F1073,$AX$6:$AX$1001,AX1073),0)","v":0},0,{"$f":"IF(AO1073<>0,SUMIFS($AP$6:$AP$1001,$AR$6:$AR$1001,AR1073,$F$6:$F$1001,F1073,$AX$6:$AX$1001,AX1073),0)","v":0},0,0,0,{"$f":"IF(AU1073<>0,SUMIFS($AV$6:$AV$1001,$AT$6:$AT$1001,AT1073,$F$6:$F$1001,F1073,$AY$6:$AY$1001,AY1073),0)","v":0},1900,1900,0,0,0,0,0,0,0,0,0,"","",0,0,0,"FORMATO INCORRECTO","FORMATO INCORRECTO","FORMATO INCORRECTO",{"$f":"IF(L1073=\"\",\"\",IF(ISERROR(edata(L1073)),\"FORMATO INCORRECTO\",\"FORMATO CORRECTO\"))","v":""},{"$f":"IF(U1073=\"\",\"\",IF(ISERROR(edata(U1073)),\"FORMATO INCORRECTO\",\"FORMATO CORRECTO\"))","v":""},{"$f":"IF(N1073=\"\",\"\",IF(ISERROR(edata(N1073)),\"FORMATO INCORRECTO\",\"FORMATO CORRECTO\"))","v":""}]
["1913-11-25","",null,null,null,null,null,null,"",null,null,null,null,null,null,null,null,"",null,null,null,null,null,null,null,null,"",null,"",null,null,"",null,null,null,null,null,0,0,0,0,0,{"$f":"IF(AO1080<>0,SUMIFS($AP$6:$AP$1001,$AN$6:$AN$1001,AN1080,$F$6:$F$1001,F1080,$AX$6:$AX$1001,AX1080),0)","v":0},0,{"$f":"IF(AO1080<>0,SUMIFS($AP$6:$AP$1001,$AR$6:$AR$1001,AR1080,$F$6:$F$1001,F1080,$AX$6:$AX$1001,AX1080),0)","v":0},0,0,0,{"$f":"IF(AU1080<>0,SUMIFS($AV$6:$AV$1001,$AT$6:$AT$1001,AT1080,$F$6:$F$1001,F1080,$AY$6:$AY$1001,AY1080),0)","v":0},1900,1900,0,0,0,0,0,0,0,0,0,"","",0,0,0,"FORMATO INCORRECTO","FORMATO INCORRECTO","FORMATO INCORRECTO",{"$f":"IF(L1080=\"\",\"\",IF(ISERROR(edata(L1080)),\"FORMATO INCORRECTO\",\"FORMATO CORRECTO\"))","v":""},{"$f":"IF(U1080=\"\",\"\",IF(ISERROR(edata(U1080)),\"FORMATO INCORRECTO\",\"FORMATO CORRECTO\"))","v":""},{"$f":"IF(N1080=\"\",\"\",IF(ISERROR(edata(N1080)),\"FORMATO INCORRECTO\",\"FORMATO CORRECTO\"))","v":""}]
["1913-12-07","",null,null,null,null,null,null,"",null,null,null,null,null,null,null,null,"",null,null,null,null,null,null,null,null,"",null,"",null,null,"",null,null,null,null,null,0,0,0,0,0,{"$f":"IF(AO1092<>0,SUMIFS($AP$6:$AP$1001,$AN$6:$AN$1001,AN1092,$F$6:$F$1001,F1092,$AX$6:$AX$1001,AX1092),0)","v":0},0,{"$f":"IF(AO1092<>0,SUMIFS($AP$6:$AP$1001,$AR$6:$AR$1001,AR1092,$F$6:$F$1001,F1092,$AX$6:$AX$1001,AX1092),0)","v":0},0,0,0,{"$f":"IF(AU1092<>0,SUMIFS($AV$6:$AV$1001,$AT$6:$AT$1001,AT1092,$F$6:$F$1001,F1092,$AY$6:$AY$1001,AY1092),0)","v":0},1900,1900,0,0,0,0,0,0,0,0,0,"","",0,0,0,"FORMATO INCORRECTO","FORMATO INCORRECTO","FORMATO INCORRECTO",{"$f":"IF(L1092=\"\",\"\",IF(ISERROR(edata(L1092)),\"FORMATO INCORRECTO\",\"FORMATO CORRECTO\"))","v":""},{"$f":"IF(U1092=\"\",\"\",IF(ISERROR(edata(U1092)),\"FORMATO INCORRECTO\",\"FORMATO CORRECTO\"))","v":""},{"$f":"IF(N1092=\"\",\"\",IF(ISERROR(edata(N1092)),\"FORMATO INCORRECTO\",\"FORMATO CORRECTO\"))","v":""}]
["1913-12-16","",null,null,null,null,null,null,"",null,null,null,null,null,null,null,null,"",null,null,null,null,null,null,null,null,"",null,"",null,null,"",null,null,null,null,null,0,0,0,0,0,{"$f":"IF(AO1101<>0,SUMIFS($AP$6:$AP$1001,$AN$6:$AN$1001,AN1101,$F$6:$F$1001,F1101,$AX$6:$AX$1001,AX1101),0)","v":0},0,{"$f":"IF(AO1101<>0,SUMIFS($AP$6:$AP$1001,$AR$6:$AR$1001,AR1101,$F$6:$F$1001,F1101,$AX$6:$AX$1001,AX1101),0)","v":0},0,0,0,{"$f":"IF(AU1101<>0,SUMIFS($AV$6:$AV$1001,$AT$6:$AT$1001,AT1101,$F$6:$F$1001,F1101,$AY$6:$AY$1001,AY1101),0)","v":0},1900,1900,0,0,0,0,0,0,0,0,0,"","",0,0,0,"FORMATO INCORRECTO","FORMATO INCORRECTO","FORMATO INCORRECTO",{"$f":"IF(L1101=\"\",\"\",IF(ISERROR(edata(L1101)),\"FORMATO INCORRECTO\",\"FORMATO CORRECTO\"))","v":""},{"$f":"IF(U1101=\"\",\"\",IF(ISERROR(edata(U1101)),\"FORMATO INCORRECTO\",\"FORMATO CORRECTO\"))","v":""},{"$f":"IF(N1101=\"\",\"\",IF(ISERROR(edata(N1101)),\"FORMATO INCORRECTO\",\"FORMATO CORRECTO\"))","v":""}]
["1913-12-25","",null,null,null,null,null,null,"",null,null,null,null,null,null,null,null,"",null,null,null,null,null,null,null,null,"",null,"",null,null,"",null,null,null,null,null,0,0,0,0,0,{"$f":"IF(AO1110<>0,SUMIFS($AP$6:$AP$1001,$AN$6:$AN$1001,AN1110,$F$6:$F$1001,F1110,$AX$6:$AX$1001,AX1110),0)","v":0},0,{"$f":"IF(AO1110<>0,SUMIFS($AP$6:$AP$1001,$AR$6:$AR$1001,AR1110,$F$6:$F$1001,F1110,$AX$6:$AX$1001,AX1110),0)","v":0},0,0,0,{"$f":"IF(AU1110<>0,SUMIFS($AV$6:$AV$1001,$AT$6:$AT$1001,AT1110,$F$6:$F$1001,F1110,$AY$6:$AY$1001,AY1110),0)","v":0},1900,1900,0,0,0,0,0,0,0,0,0,"","",0,0,0,"FORMATO INCORRECTO","FORMATO INCORRECTO","FORMATO INCORRECTO",{"$f":"IF(L1110=\"\",\"\",IF(ISERROR(edata(L1110)),\"FORMATO INCORRECTO\",\"FORMATO CORRECTO\"))","v":""},{"$f":"IF(U1110=\"\",\"\",IF(ISERROR(edata(U1110)),\"FORMATO INCORRECTO\",\"FORMATO CORRECTO\"))","v":""},{"$f":"IF(N1110=\"\",\"\",IF(ISERROR(edata(N1110)),\"FORMATO INCORRECTO\",\"FORMATO CORRECTO\"))","v":""}]
["1913-12-28","",null,null,null,null,null,null,"",null,null,null,null,null,null,null,null,"",null,null,null,null,null,null,null,null,"",null,"",null,null,"",null,null,null,null,null,0,0,0,0,0,{"$f":"IF(AO1113<>0,SUMIFS($AP$6:$AP$1001,$AN$6:$AN$1001,AN1113,$F$6:$F$1001,F1113,$AX$6:$AX$1001,AX1113),0)","v":0},0,{"$f":"IF(AO1113<>0,SUMIFS($AP$6:$AP$1001,$AR$6:$AR$1001,AR1113,$F$6:$F$1001,F1113,$AX$6:$AX$1001,AX1113),0)","v":0},0,0,0,{"$f":"IF(AU1113<>0,SUMIFS($AV$6:$AV$1001,$AT$6:$AT$1001,AT1113,$F$6:$F$1001,F1113,$AY$6:$AY$1001,AY1113),0)","v":0},1900,1900,0,0,0,0,0,0,0,0,0,"","",0,0,0,"FORMATO INCORRECTO","FORMATO INCORRECTO","FORMATO INCORRECTO",{"$f":"IF(L1113=\"\",\"\",IF(ISERROR(edata(L1113)),\"FORMATO INCORRECTO\",\"FORMATO CORRECTO\"))","v":""},{"$f":"IF(U1113=\"\",\"\",IF(ISERROR(edata(U1113)),\"FORMATO INCORRECTO\",\"FORMATO CORRECTO\"))","v":""},{"$f":"IF(N1113=\"\",\"\",IF(ISERROR(edata(N1113)),\"FORMATO INCORRECTO\",\"FORMATO CORRECTO\"))","v":""}]
["1914-01-13","",null,null,null,null,null,null,"",null,null,null,null,null,null,null,null,"",null,null,null,null,null,null,null,null,"",null,"",null,null,"",null,null,null,null,null,0,0,0,0,0,{"$f":"IF(AO1129<>0,SUMIFS($AP$6:$AP$1001,$AN$6:$AN$1001,AN1129,$F$6:$F$1001,F1129,$AX$6:$AX$1001,AX1129),0)","v":0},0,{"$f":"IF(AO1129<>0,SUMIFS($AP$6:$AP$1001,$AR$6:$AR$1001,AR1129,$F$6:$F$1001,F1129,$AX$6:$AX$1001,AX1129),0)","v":0},0,0,0,{"$f":"IF(AU1129<>0,SUMIFS($AV$6:$AV$1001,$AT$6:$AT$1001,AT1129,$F$6:$F$1001,F1129,$AY$6:$AY$1001,AY1129),0)","v":0},1900,1900,0,0,0,0,0,0,0,0,0,"","",0,0,0,"FORMATO INCORRECTO","FORMATO INCORRECTO","FORMATO INCORRECTO",{"$f":"IF(L1129=\"\",\"\",IF(ISERROR(edata(L1129)),\"FORMATO INCORRECTO\",\"FORMATO CORRECTO\"))","v":""},{"$f":"IF(U1129=\"\",\"\",IF(ISERROR(edata(U1129)),\"FORMATO INCORRECTO\",\"FORMATO CORRECTO\"))","v":""},{"$f":"IF(N1129=\"\",\"\",IF(ISERROR(edata(N1129)),\"FORMATO INCORRECTO\",\"FORMATO CORRECTO\"))","v":""}]
["1914-01-16","",null,null,null,null,null,null,"",null,null,null,null,null,null,null,null,"",null,null,null,null,null,null,null,null,"",null,"",null,null,"",null,null,null,null,null,0,0,0,0,0,{"$f":"IF(AO1132<>0,SUMIFS($AP$6:$AP$1001,$AN$6:$AN$1001,AN1132,$F$6:$F$1001,F1132,$AX$6:$AX$1001,AX1132),0)","v":0},0,{"$f":"IF(AO1132<>0,SUMIFS($AP$6:$AP$1001,$AR$6:$AR$1001,AR1132,$F$6:$F$1001,F1132,$AX$6:$AX$1001,AX1132),0)","v":0},0,0,0,{"$f":"IF(AU1132<>0,SUMIFS($AV$6:$AV$1001,$AT$6:$AT$1001,AT1132,$F$6:$F$1001,F1132,$AY$6:$AY$1001,AY1132),0)","v":0},1900,1900,0,0,0,0,0,0,0,0,0,"","",0,0,0,"FORMATO INCORRECTO","FORMATO INCORRECTO","FORMATO INCORRECTO",{"$f":"IF(L1132=\"\",\"\",IF(ISERROR(edata(L1132)),\"FORMATO INCORRECTO\",\"FORMATO CORRECTO\"))","v":""},{"$f":"IF(U1132=\"\",\"\",IF(ISERROR(edata(U1132)),\"FORMATO INCORRECTO\",\"FORMATO CORRECTO\"))","v":""},{"$f":"IF(N1132=\"\",\"\",IF(ISERROR(edata(N1132)),\"FORMATO INCORRECTO\",\"FORMATO CORRECTO\"))","v":""}]
["1914-01-27","",null,null,null,null,null,null,"",null,null,null,null,null,null,null,null,"",null,null,null,null,null,null,null,null,"",null,"",null,null,"",null,null,null,null,null,0,0,0,0,0,{"$f":"IF(AO1143<>0,SUMIFS($AP$6:$AP$1001,$AN$6:$AN$1001,AN1143,$F$6:$F$1001,F1143,$AX$6:$AX$1001,AX1143),0)","v":0},0,{"$f":"IF(AO1143<>0,SUMIFS($AP$6:$AP$1001,$AR$6:$AR$1001,AR1143,$F$6:$F$1001,F1143,$AX$6:$AX$1001,AX1143),0)","v":0},0,0,0,{"$f":"IF(AU1143<>0,SUMIFS($AV$6:$AV$1001,$AT$6:$AT$1001,AT1143,$F$6:$F$1001,F1143,$AY$6:$AY$1001,AY1143),0)","v":0},1900,1900,0,0,0,0,0,0,0,0,0,"","",0,0,0,"FORMATO INCORRECTO","FORMATO INCORRECTO","FORMATO INCORRECTO",{"$f":"IF(L1143=\"\",\"\",IF(ISERROR(edata(L1143)),\"FORMATO INCORRECTO\",\"FORMATO CORRECTO\"))","v":""},{"$f":"IF(U1143=\"\",\"\",IF(ISERROR(edata(U1143)),\"FORMATO INCORRECTO\",\"FORMATO CORRECTO\"))","v":""},{"$f":"IF(N1143=\"\",\"\",IF(ISERROR(edata(N1143)),\"FORMATO INCORRECTO\",\"FORMATO CORRECTO\"))","v":""}]
["1914-02-03","",null,null,null,null,null,null,"",null,null,null,null,null,null,null,null,"",null,null,null,null,null,null,null,null,"",null,"",null,null,"",null,null,null,null,null,0,0,0,0,0,{"$f":"IF(AO1150<>0,SUMIFS($AP$6:$AP$1001,$AN$6:$AN$1001,AN1150,$F$6:$F$1001,F1150,$AX$6:$AX$1001,AX1150),0)","v":0},0,{"$f":"IF(AO1150<>0,SUMIFS($AP$6:$AP$1001,$AR$6:$AR$1001,AR1150,$F$6:$F$1001,F1150,$AX$6:$AX$1001,AX1150),0)","v":0},0,0,0,{"$f":"IF(AU1150<>0,SUMIFS($AV$6:$AV$1001,$AT$6:$AT$1001,AT1150,$F$6:$F$1001,F1150,$AY$6:$AY$1001,AY1150),0)","v":0},1900,1900,0,0,0,0,0,0,0,0,0,"","",0,0,0,"FORMATO INCORRECTO","FORMATO INCORRECTO","FORMATO INCORRECTO",{"$f":"IF(L1150=\"\",\"\",IF(ISERROR(edata(L1150)),\"FORMATO INCORRECTO\",\"FORMATO CORRECTO\"))","v":""},{"$f":"IF(U1150=\"\",\"\",IF(ISERROR(edata(U1150)),\"FORMATO INCORRECTO\",\"FORMATO CORRECTO\"))","v":""},{"$f":"IF(N1150=\"\",\"\",IF(ISERROR(edata(N1150)),\"FORMATO INCORRECTO\",\"FORMATO CORRECTO\"))","v":""}]
["1914-02-15","",null,null,null,null,null,null,"",null,null,null,null,null,null,null,null,"",null,null,null,null,null,null,null,null,"",null,"",null,null,"",null,null,null,null,null,0,0,0,0,0,{"$f":"IF(AO1162<>0,SUMIFS($AP$6:$AP$1001,$AN$6:$AN$1001,AN1162,$F$6:$F$1001,F1162,$AX$6:$AX$1001,AX1162),0)","v":0},0,{"$f":"IF(AO1162<>0,SUMIFS($AP$6:$AP$1001,$AR$6:$AR$1001,AR1162,$F$6:$F$1001,F1162,$AX$6:$AX$1001,AX1162),0)","v":0},0,0,0,{"$f":"IF(AU1162<>0,SUMIFS($AV$6:$AV$1001,$AT$6:$AT$1001,AT1162,$F$6:$F$1001,F1162,$AY$6:$AY$1001,AY1162),0)","v":0},1900,1900,0,0,0,0,0,0,0,0,0,"","",0,0,0,"FORMATO INCORRECTO","FORMATO INCORRECTO","FORMATO INCORRECTO",{"$f":"IF(L1162=\"\",\"\",IF(ISERROR(edata(L1162)),\"FORMATO INCORRECTO\",\"FORMATO CORRECTO\"))","v":""},{"$f":"IF(U1162=\"\",\"\",IF(ISERROR(edata(U1162)),\"FORMATO INCORRECTO\",\"FORMATO CORRECTO\"))","v":""},{"$f":"IF(N1162=\"\",\"\",IF(ISERROR(edata(N1162)),\"FORMATO INCORRECTO\",\"FORMATO CORRECTO\"))","v":""}]
["1914-02-24","",null,null,null,null,null,null,"",null,null,null,null,null,null,null,null,"",null,null,null,null,null,null,null,null,"",null,"",null,null,"",null,null,null,null,null,0,0,0,0,0,{"$f":"IF(AO1171<>0,SUMIFS($AP$6:$AP$1001,$AN$6:$AN$1001,AN1171,$F$6:$F$1001,F1171,$AX$6:$AX$1001,AX1171),0)","v":0},0,{"$f":"IF(AO1171<>0,SUMIFS($AP$6:$AP$1001,$AR$6:$AR$1001,AR1171,$F$6:$F$1001,F1171,$AX$6:$AX$1001,AX1171),0)","v":0},0,0,0,{"$f":"IF(AU1171<>0,SUMIFS($AV$6:$AV$1001,$AT$6:$AT$1001,AT1171,$F$6:$F$1001,F1171,$AY$6:$AY$1001,AY1171),0)","v":0},1900,1900,0,0,0,0,0,0,0,0,0,"","",0,0,0,"FORMATO INCORRECTO","FORMATO INCORRECTO","FORMATO INCORRECTO",{"$f":"IF(L1171=\"\",\"\",IF(ISERROR(edata(L1171)),\"FORMATO INCORRECTO\",\"FORMATO CORRECTO\"))","v":""},{"$f":"IF(U1171=\"\",\"\",IF(ISERROR(edata(U1171)),\"FORMATO INCORRECTO\",\"FORMATO CORRECTO\"))","v":""},{"$f":"IF(N1171=\"\",\"\",IF(ISERROR(edata(N1171)),\"FORMATO INCORRECTO\",\"FORMATO CORRECTO\"))","v":""}]
["1914-03-05","",null,null,null,null,null,null,"",null,null,null,null,null,null,null,null,"",null,null,null,null,null,null,null,null,"",null,"",null,null,"",null,null,null,null,null,0,0,0,0,0,{"$f":"IF(AO1180<>0,SUMIFS($AP$6:$AP$1001,$AN$6:$AN$1001,AN1180,$F$6:$F$1001,F1180,$AX$6:$AX$1001,AX1180),0)","v":0},0,{"$f":"IF(AO1180<>0,SUMIFS($AP$6:$AP$1001,$AR$6:$AR$1001,AR1180,$F$6:$F$1001,F1180,$AX$6:$AX$1001,AX1180),0)","v":0},0,0,0,{"$f":"IF(AU1180<>0,SUMIFS($AV$6:$AV$1001,$AT$6:$AT$1001,AT1180,$F$6:$F$1001,F1180,$AY$6:$AY$1001,AY1180),0)","v":0},1900,1900,0,0,0,0,0,0,0,0,0,"","",0,0,0,"FORMATO INCORRECTO","FORMATO INCORRECTO","FORMATO INCORRECTO",{"$f":"IF(L1180=\"\",\"\",IF(ISERROR(edata(L1180)),\"FORMATO INCORRECTO\",\"FORMATO CORRECTO\"))","v":""},{"$f":"IF(U1180=\"\",\"\",IF(ISERROR(edata(U1180)),\"FORMATO INCORRECTO\",\"FORMATO CORRECTO\"))","v":""},{"$f":"IF(N1180=\"\",\"\",IF(ISERROR(edata(N1180)),\"FORMATO INCORRECTO\",\"FORMATO CORRECTO\"))","v":""}]
["1914-03-08","",null,null,null,null,null,null,"",null,null,null,null,null,null,null,null,"",null,null,null,null,null,null,null,null,"",null,"",null,null,"",null,null,null,null,null,0,0,0,0,0,{"$f":"IF(AO1183<>0,SUMIFS($AP$6:$AP$1001,$AN$6:$AN$1001,AN1183,$F$6:$F$1001,F1183,$AX$6:$AX$1001,AX1183),0)","v":0},0,{"$f":"IF(AO1183<>0,SUMIFS($AP$6:$AP$1001,$AR$6:$AR$1001,AR1183,$F$6:$F$1001,F1183,$AX$6:$AX$1001,AX1183),0)","v":0},0,0,0,{"$f":"IF(AU1183<>0,SUMIFS($AV$6:$AV$1001,$AT$6:$AT$1001,AT1183,$F$6:$F$1001,F1183,$AY$6:$AY$1001,AY1183),0)","v":0},1900,1900,0,0,0,0,0,0,0,0,0,"","",0,0,0,"FORMATO INCORRECTO","FORMATO INCORRECTO","FORMATO INCORRECTO",{"$f":"IF(L1183=\"\",\"\",IF(ISERROR(edata(L1183)),\"FORMATO INCORRECTO\",\"FORMATO CORRECTO\"))","v":""},{"$f":"IF(U1183=\"\",\"\",IF(ISERROR(edata(U1183)),\"FORMATO INCORRECTO\",\"FORMATO CORRECTO\"))","v":""},{"$f":"IF(N1183=\"\",\"\",IF(ISERROR(edata(N1183)),\"FORMATO INCORRECTO\",\"FORMATO CORRECTO\"))","v":""}]
["1914-03-24","",null,null,null,null,null,null,"",null,null,null,null,null,null,null,null,"",null,null,null,null,null,null,null,null,"",null,"",null,null,"",null,null,null,null,null,0,0,0,0,0,{"$f":"IF(AO1199<>0,SUMIFS($AP$6:$AP$1001,$AN$6:$AN$1001,AN1199,$F$6:$F$1001,F1199,$AX$6:$AX$1001,AX1199),0)","v":0},0,{"$f":"IF(AO1199<>0,SUMIFS($AP$6:$AP$1001,$AR$6:$AR$1001,AR1199,$F$6:$F$1001,F1199,$AX$6:$AX$1001,AX1199),0)","v":0},0,0,0,{"$f":"IF(AU1199<>0,SUMIFS($AV$6:$AV$1001,$AT$6:$AT$1001,AT1199,$F$6:$F$1001,F1199,$AY$6:$AY$1001,AY1199),0)","v":0},1900,1900,0,0,0,0,0,0,0,0,0,"","",0,0,0,"FORMATO INCORRECTO","FORMATO INCORRECTO","FORMATO INCORRECTO",{"$f":"IF(L1199=\"\",\"\",IF(ISERROR(edata(L1199)),\"FORMATO INCORRECTO\",\"FORMATO CORRECTO\"))","v":""},{"$f":"IF(U1199=\"\",\"\",IF(ISERROR(edata(U1199)),\"FORMATO INCORRECTO\",\"FORMATO CORRECTO\"))","v":""},{"$f":"IF(N1199=\"\",\"\",IF(ISERROR(edata(N1199)),\"FORMATO INCORRECTO\",\"FORMATO CORRECTO\"))","v":""}]
["1914-03-27","",null,null,null,null,null,null,"",null,null,null,null,null,null,null,null,"",null,null,null,null,null,null,null,null,"",null,"",null,null,"",null,null,null,null,null,0,0,0,0,0,{"$f":"IF(AO1202<>0,SUMIFS($AP$6:$AP$1001,$AN$6:$AN$1001,AN1202,$F$6:$F$1001,F1202,$AX$6:$AX$1001,AX1202),0)","v":0},0,{"$f":"IF(AO1202<>0,SUMIFS($AP$6:$AP$1001,$AR$6:$AR$1001,AR1202,$F$6:$F$1001,F1202,$AX$6:$AX$1001,AX1202),0)","v":0},0,0,0,{"$f":"IF(AU1202<>0,SUMIFS($AV$6:$AV$1001,$AT$6:$AT$1001,AT1202,$F$6:$F$1001,F1202,$AY$6:$AY$1001,AY1202),0)","v":0},1900,1900,0,0,0,0,0,0,0,0,0,"","",0,0,0,"FORMATO INCORRECTO","FORMATO INCORRECTO","FORMATO INCORRECTO",{"$f":"IF(L1202=\"\",\"\",IF(ISERROR(edata(L1202)),\"FORMATO INCORRECTO\",\"FORMATO CORRECTO\"))","v":""},{"$f":"IF(U1202=\"\",\"\",IF(ISERROR(edata(U1202)),\"FORMATO INCORRECTO\",\"FORMATO CORRECTO\"))","v":""},{"$f":"IF(N1202=\"\",\"\",IF(ISERROR(edata(N1202)),\"FORMATO INCORRECTO\",\"FORMATO CORRECTO\"))","v":""}]
["1914-04-07","",null,null,null,null,null,null,"",null,null,null,null,null,null,null,null,"",null,null,null,null,null,null,null,null,"",null,"",null,null,"",null,null,null,null,null,0,0,0,0,0,{"$f":"IF(AO1213<>0,SUMIFS($AP$6:$AP$1001,$AN$6:$AN$1001,AN1213,$F$6:$F$1001,F1213,$AX$6:$AX$1001,AX1213),0)","v":0},0,{"$f":"IF(AO1213<>0,SUMIFS($AP$6:$AP$1001,$AR$6:$AR$1001,AR1213,$F$6:$F$1001,F1213,$AX$6:$AX$1001,AX1213),0)","v":0},0,0,0,{"$f":"IF(AU1213<>0,SUMIFS($AV$6:$AV$1001,$AT$6:$AT$1001,AT1213,$F$6:$F$1001,F1213,$AY$6:$AY$1001,AY1213),0)","v":0},1900,1900,0,0,0,0,0,0,0,0,0,"","",0,0,0,"FORMATO INCORRECTO","FORMATO INCORRECTO","FORMATO INCORRECTO",{"$f":"IF(L1213=\"\",\"\",IF(ISERROR(edata(L1213)),\"FORMATO INCORRECTO\",\"FORMATO CORRECTO\"))","v":""},{"$f":"IF(U1213=\"\",\"\",IF(ISERROR(edata(U1213)),\"FORMATO INCORRECTO\",\"FORMATO CORRECTO\"))","v":""},{"$f":"IF(N1213=\"\",\"\",IF(ISERROR(edata(N1213)),\"FORMATO INCORRECTO\",\"FORMATO CORRECTO\"))","v":""}]
["1914-04-14","",null,null,null,null,null,null,"",null,null,null,null,null,null,null,null,"",null,null,null,null,null,null,null,null,"",null,"",null,null,"",null,null,null,null,null,0,0,0,0,0,{"$f":"IF(AO1220<>0,SUMIFS($AP$6:$AP$1001,$AN$6:$AN$1001,AN1220,$F$6:$F$1001,F1220,$AX$6:$AX$1001,AX1220),0)","v":0},0,{"$f":"IF(AO1220<>0,SUMIFS($AP$6:$AP$1001,$AR$6:$AR$1001,AR1220,$F$6:$F$1001,F1220,$AX$6:$AX$1001,AX1220),0)","v":0},0,0,0,{"$f":"IF(AU1220<>0,SUMIFS($AV$6:$AV$1001,$AT$6:$AT$1001,AT1220,$F$6:$F$1001,F1220,$AY$6:$AY$1001,AY1220),0)","v":0},1900,1900,0,0,0,0,0,0,0,0,0,"","",0,0,0,"FORMATO INCORRECTO","FORMATO INCORRECTO","FORMATO INCORRECTO",{"$f":"IF(L1220=\"\",\"\",IF(ISERROR(edata(L1220)),\"FORMATO INCORRECTO\",\"FORMATO CORRECTO\"))","v":""},{"$f":"IF(U1220=\"\",\"\",IF(ISERROR(edata(U1220)),\"FORMATO INCORRECTO\",\"FORMATO CORRECTO\"))","v":""},{"$f":"IF(N1220=\"\",\"\",IF(ISERROR(edata(N1220)),\"FORMATO INCORRECTO\",\"FORMATO CORRECTO\"))","v":""}]
["1914-04-26","",null,null,null,null,null,null,"",null,null,null,null,null,null,null,null,"",null,null,null,null,null,null,null,null,"",null,"",null,null,"",null,null,null,null,null,0,0,0,0,0,{"$f":"IF(AO1232<>0,SUMIFS($AP$6:$AP$1001,$AN$6:$AN$1001,AN1232,$F$6:$F$1001,F1232,$AX$6:$AX$1001,AX1232),0)","v":0},0,{"$f":"IF(AO1232<>0,SUMIFS($AP$6:$AP$1001,$AR$6:$AR$1001,AR1232,$F$6:$F$1001,F1232,$AX$6:$AX$1001,AX1232),0)","v":0},0,0,0,{"$f":"IF(AU1232<>0,SUMIFS($AV$6:$AV$1001,$AT$6:$AT$1001,AT1232,$F$6:$F$1001,F1232,$AY$6:$AY$1001,AY1232),0)","v":0},1900,1900,0,0,0,0,0,0,0,0,0,"","",0,0,0,"FORMATO INCORRECTO","FORMATO INCORRECTO","FORMATO INCORRECTO",{"$f":"IF(L1232=\"\",\"\",IF(ISERROR(edata(L1232)),\"FORMATO INCORRECTO\",\"FORMATO CORRECTO\"))","v":""},{"$f":"IF(U1232=\"\",\"\",IF(ISERROR(edata(U1232)),\"FORMATO INCORRECTO\",\"FORMATO CORRECTO\"))","v":""},{"$f":"IF(N1232=\"\",\"\",IF(ISERROR(edata(N1232)),\"FORMATO INCORRECTO\",\"FORMATO CORRECTO\"))","v":""}]
["1914-05-05","",null,null,null,null,null,null,"",null,null,null,null,null,null,null,null,"",null,null,null,null,null,null,null,null,"",null,"",null,null,"",null,null,null,null,null,0,0,0,0,0,{"$f":"IF(AO1241<>0,SUMIFS($AP$6:$AP$1001,$AN$6:$AN$1001,AN1241,$F$6:$F$1001,F1241,$AX$6:$AX$1001,AX1241),0)","v":0},0,{"$f":"IF(AO1241<>0,SUMIFS($AP$6:$AP$1001,$AR$6:$AR$1001,AR1241,$F$6:$F$1001,F1241,$AX$6:$AX$1001,AX1241),0)","v":0},0,0,0,{"$f":"IF(AU1241<>0,SUMIFS($AV$6:$AV$1001,$AT$6:$AT$1001,AT1241,$F$6:$F$1001,F1241,$AY$6:$AY$1001,AY1241),0)","v":0},1900,1900,0,0,0,0,0,0,0,0,0,"","",0,0,0,"FORMATO INCORRECTO","FORMATO INCORRECTO","FORMATO INCORRECTO",{"$f":"IF(L1241=\"\",\"\",IF(ISERROR(edata(L1241)),\"FORMATO INCORRECTO\",\"FORMATO CORRECTO\"))","v":""},{"$f":"IF(U1241=\"\",\"\",IF(ISERROR(edata(U1241)),\"FORMATO INCORRECTO\",\"FORMATO CORRECTO\"))","v":""},{"$f":"IF(N1241=\"\",\"\",IF(ISERROR(edata(N1241)),\"FORMATO INCORRECTO\",\"FORMATO CORRECTO\"))","v":""}]
["1914-05-14","",null,null,null,null,null,null,"",null,null,null,null,null,null,null,null,"",null,null,null,null,null,null,null,null,"",null,"",null,null,"",null,null,null,null,null,0,0,0,0,0,{"$f":"IF(AO1250<>0,SUMIFS($AP$6:$AP$1001,$AN$6:$AN$1001,AN1250,$F$6:$F$1001,F1250,$AX$6:$AX$1001,AX1250),0)","v":0},0,{"$f":"IF(AO1250<>0,SUMIFS($AP$6:$AP$1001,$AR$6:$AR$1001,AR1250,$F$6:$F$1001,F1250,$AX$6:$AX$1001,AX1250),0)","v":0},0,0,0,{"$f":"IF(AU1250<>0,SUMIFS($AV$6:$AV$1001,$AT$6:$AT$1001,AT1250,$F$6:$F$1001,F1250,$AY$6:$AY$1001,AY1250),0)","v":0},1900,1900,0,0,0,0,0,0,0,0,0,"","",0,0,0,"FORMATO INCORRECTO","FORMATO INCORRECTO","FORMATO INCORRECTO",{"$f":"IF(L1250=\"\",\"\",IF(ISERROR(edata(L1250)),\"FORMATO INCORRECTO\",\"FORMATO CORRECTO\"))","v":""},{"$f":"IF(U1250=\"\",\"\",IF(ISERROR(edata(U1250)),\"FORMATO INCORRECTO\",\"FORMATO CORRECTO\"))","v":""},{"$f":"IF(N1250=\"\",\"\",IF(ISERROR(edata(N1250)),\"FORMATO INCORRECTO\",\"FORMATO CORRECTO\"))","v":""}]
["1914-05-17","",null,null,null,null,null,null,"",null,null,null,null,null,null,null,null,"",null,null,null,null,null,null,null,null,"",null,"",null,null,"",null,null,null,null,null,0,0,0,0,0,{"$f":"IF(AO1253<>0,SUMIFS($AP$6:$AP$1001,$AN$6:$AN$1001,AN1253,$F$6:$F$1001,F1253,$AX$6:$AX$1001,AX1253),0)","v":0},0,{"$f":"IF(AO1253<>0,SUMIFS($AP$6:$AP$1001,$AR$6:$AR$1001,AR1253,$F$6:$F$1001,F1253,$AX$6:$AX$1001,AX1253),0)","v":0},0,0,0,{"$f":"IF(AU1253<>0,SUMIFS($AV$6:$AV$1001,$AT$6:$AT$1001,AT1253,$F$6:$F$1001,F1253,$AY$6:$AY$1001,AY1253),0)","v":0},1900,1900,0,0,0,0,0,0,0,0,0,"","",0,0,0,"FORMATO INCORRECTO","FORMATO INCORRECTO","FORMATO INCORRECTO",{"$f":"IF(L1253=\"\",\"\",IF(ISERROR(edata(L1253)),\"FORMATO INCORRECTO\",\"FORMATO CORRECTO\"))","v":""},{"$f":"IF(U1253=\"\",\"\",IF(ISERROR(edata(U1253)),\"FORMATO INCORRECTO\",\"FORMATO CORRECTO\"))","v":""},{"$f":"IF(N1253=\"\",\"\",IF(ISERROR(edata(N1253)),\"FORMATO INCORRECTO\",\"FORMATO CORRECTO\"))","v":""}]
["1914-06-02","",null,null,null,null,null,null,"",null,null,null,null,null,null,null,null,"",null,null,null,null,null,null,null,null,"",null,"",null,null,"",null,null,null,null,null,0,0,0,0,0,{"$f":"IF(AO1269<>0,SUMIFS($AP$6:$AP$1001,$AN$6:$AN$1001,AN1269,$F$6:$F$1001,F1269,$AX$6:$AX$1001,AX1269),0)","v":0},0,{"$f":"IF(AO1269<>0,SUMIFS($AP$6:$AP$1001,$AR$6:$AR$1001,AR1269,$F$6:$F$1001,F1269,$AX$6:$AX$1001,AX1269),0)","v":0},0,0,0,{"$f":"IF(AU1269<>0,SUMIFS($AV$6:$AV$1001,$AT$6:$AT$1001,AT1269,$F$6:$F$1001,F1269,$AY$6:$AY$1001,AY1269),0)","v":0},1900,1900,0,0,0,0,0,0,0,0,0,"","",0,0,0,"FORMATO INCORRECTO","FORMATO INCORRECTO","FORMATO INCORRECTO",{"$f":"IF(L1269=\"\",\"\",IF(ISERROR(edata(L1269)),\"FORMATO INCORRECTO\",\"FORMATO CORRECTO\"))","v":""},{"$f":"IF(U1269=\"\",\"\",IF(ISERROR(edata(U1269)),\"FORMATO INCORRECTO\",\"FORMATO CORRECTO\"))","v":""},{"$f":"IF(N1269=\"\",\"\",IF(ISERROR(edata(N1269)),\"FORMATO INCORRECTO\",\"FORMATO CORRECTO\"))","v":""}]
["1914-06-05","",null,null,null,null,null,null,"",null,null,null,null,null,null,null,null,"",null,null,null,null,null,null,null,null,"",null,"",null,null,"",null,null,null,null,null,0,0,0,0,0,{"$f":"IF(AO1272<>0,SUMIFS($AP$6:$AP$1001,$AN$6:$AN$1001,AN1272,$F$6:$F$1001,F1272,$AX$6:$AX$1001,AX1272),0)","v":0},0,{"$f":"IF(AO1272<>0,SUMIFS($AP$6:$AP$1001,$AR$6:$AR$1001,AR1272,$F$6:$F$1001,F1272,$AX$6:$AX$1001,AX1272),0)","v":0},0,0,0,{"$f":"IF(AU1272<>0,SUMIFS($AV$6:$AV$1001,$AT$6:$AT$1001,AT1272,$F$6:$F$1001,F1272,$AY$6:$AY$1001,AY1272),0)","v":0},1900,1900,0,0,0,0,0,0,0,0,0,"","",0,0,0,"FORMATO INCORRECTO","FORMATO INCORRECTO","FORMATO INCORRECTO",{"$f":"IF(L1272=\"\",\"\",IF(ISERROR(edata(L1272)),\"FORMATO INCORRECTO\",\"FORMATO CORRECTO\"))","v":""},{"$f":"IF(U1272=\"\",\"\",IF(ISERROR(edata(U1272)),\"FORMATO INCORRECTO\",\"FORMATO CORRECTO\"))","v":""},{"$f":"IF(N1272=\"\",\"\",IF(ISERROR(edata(N1272)),\"FORMATO INCORRECTO\",\"FORMATO CORRECTO\"))","v":""}]
["1914-06-16","",null,null,null,null,null,null,"",null,null,null,null,null,null,null,null,"",null,null,null,null,null,null,null,null,"",null,"",null,null,"",null,null,null,null,null,0,0,0,0,0,{"$f":"IF(AO1283<>0,SUMIFS($AP$6:$AP$1001,$AN$6:$AN$1001,AN1283,$F$6:$F$1001,F1283,$AX$6:$AX$1001,AX1283),0)","v":0},0,{"$f":"IF(AO1283<>0,SUMIFS($AP$6:$AP$1001,$AR$6:$AR$1001,AR1283,$F$6:$F$1001,F1283,$AX$6:$AX$1001,AX1283),0)","v":0},0,0,0,{"$f":"IF(AU1283<>0,SUMIFS($AV$6:$AV$1001,$AT$6:$AT$1001,AT1283,$F$6:$F$1001,F1283,$AY$6:$AY$1001,AY1283),0)","v":0},1900,1900,0,0,0,0,0,0,0,0,0,"","",0,0,0,"FORMATO INCORRECTO","FORMATO INCORRECTO","FORMATO INCORRECTO",{"$f":"IF(L1283=\"\",\"\",IF(ISERROR(edata(L1283)),\"FORMATO INCORRECTO\",\"FORMATO CORRECTO\"))","v":""},{"$f":"IF(U1283=\"\",\"\",IF(ISERROR(edata(U1283)),\"FORMATO INCORRECTO\",\"FORMATO CORRECTO\"))","v":""},{"$f":"IF(N1283=\"\",\"\",IF(ISERROR(edata(N1283)),\"FORMATO INCORRECTO\",\"FORMATO CORRECTO\"))","v":""}]
["1914-06-23","",null,null,null,null,null,null,"",null,null,null,null,null,null,null,null,"",null,null,null,null,null,null,null,null,"",null,"",null,null,"",null,null,null,null,null,0,0,0,0,0,{"$f":"IF(AO1290<>0,SUMIFS($AP$6:$AP$1001,$AN$6:$AN$1001,AN1290,$F$6:$F$1001,F1290,$AX$6:$AX$1001,AX1290),0)","v":0},0,{"$f":"IF(AO1290<>0,SUMIFS($AP$6:$AP$1001,$AR$6:$AR$1001,AR1290,$F$6:$F$1001,F1290,$AX$6:$AX$1001,AX1290),0)","v":0},0,0,0,{"$f":"IF(AU1290<>0,SUMIFS($AV$6:$AV$1001,$AT$6:$AT$1001,AT1290,$F$6:$F$1001,F1290,$AY$6:$AY$1001,AY1290),0)","v":0},1900,1900,0,0,0,0,0,0,0,0,0,"","",0,0,0,"FORMATO INCORRECTO","FORMATO INCORRECTO","FORMATO INCORRECTO",{"$f":"IF(L1290=\"\",\"\",IF(ISERROR(edata(L1290)),\"FORMATO INCORRECTO\",\"FORMATO CORRECTO\"))","v":""},{"$f":"IF(U1290=\"\",\"\",IF(ISERROR(edata(U1290)),\"FORMATO INCORRECTO\",\"FORMATO CORRECTO\"))","v":""},{"$f":"IF(N1290=\"\",\"\",IF(ISERROR(edata(N1290)),\"FORMATO INCORRECTO\",\"FORMATO CORRECTO\"))","v":""}]
["1914-07-05","",null,null,null,null,null,null,"",null,null,null,null,null,null,null,null,"",null,null,null,null,null,null,null,null,"",null,"",null,null,"",null,null,null,null,null,0,0,0,0,0,{"$f":"IF(AO1302<>0,SUMIFS($AP$6:$AP$1001,$AN$6:$AN$1001,AN1302,$F$6:$F$1001,F1302,$AX$6:$AX$1001,AX1302),0)","v":0},0,{"$f":"IF(AO1302<>0,SUMIFS($AP$6:$AP$1001,$AR$6:$AR$1001,AR1302,$F$6:$F$1001,F1302,$AX$6:$AX$1001,AX1302),0)","v":0},0,0,0,{"$f":"IF(AU1302<>0,SUMIFS($AV$6:$AV$1001,$AT$6:$AT$1001,AT1302,$F$6:$F$1001,F1302,$AY$6:$AY$1001,AY1302),0)","v":0},1900,1900,0,0,0,0,0,0,0,0,0,"","",0,0,0,"FORMATO INCORRECTO","FORMATO INCORRECTO","FORMATO INCORRECTO",{"$f":"IF(L1302=\"\",\"\",IF(ISERROR(edata(L1302)),\"FORMATO INCORRECTO\",\"FORMATO CORRECTO\"))","v":""},{"$f":"IF(U1302=\"\",\"\",IF(ISERROR(edata(U1302)),\"FORMATO INCORRECTO\",\"FORMATO CORRECTO\"))","v":""},{"$f":"IF(N1302=\"\",\"\",IF(ISERROR(edata(N1302)),\"FORMATO INCORRECTO\",\"FORMATO CORRECTO\"))","v":""}]
["1914-07-14","",null,null,null,null,null,null,"",null,null,null,null,null,null,null,null,"",null,null,null,null,null,null,null,null,"",null,"",null,null,"",null,null,null,null,null,0,0,0,0,0,{"$f":"IF(AO1311<>0,SUMIFS($AP$6:$AP$1001,$AN$6:$AN$1001,AN1311,$F$6:$F$1001,F1311,$AX$6:$AX$1001,AX1311),0)","v":0},0,{"$f":"IF(AO1311<>0,SUMIFS($AP$6:$AP$1001,$AR$6:$AR$1001,AR1311,$F$6:$F$1001,F1311,$AX$6:$AX$1001,AX1311),0)","v":0},0,0,0,{"$f":"IF(AU1311<>0,SUMIFS($AV$6:$AV$1001,$AT$6:$AT$1001,AT1311,$F$6:$F$1001,F1311,$AY$6:$AY$1001,AY1311),0)","v":0},1900,1900,0,0,0,0,0,0,0,0,0,"","",0,0,0,"FORMATO INCORRECTO","FORMATO INCORRECTO","FORMATO INCORRECTO",{"$f":"IF(L1311=\"\",\"\",IF(ISERROR(edata(L1311)),\"FORMATO INCORRECTO\",\"FORMATO CORRECTO\"))","v":""},{"$f":"IF(U1311=\"\",\"\",IF(ISERROR(edata(U1311)),\"FORMATO INCORRECTO\",\"FORMATO CORRECTO\"))","v":""},{"$f":"IF(N1311=\"\",\"\",IF(ISERROR(edata(N1311)),\"FORMATO INCORRECTO\",\"FORMATO CORRECTO\"))","v":""}]
["1914-07-23","",null,null,null,null,null,null,"",null,null,null,null,null,null,null,null,"",null,null,null,null,null,null,null,null,"",null,"",null,null,"",null,null,null,null,null,0,0,0,0,0,{"$f":"IF(AO1320<>0,SUMIFS($AP$6:$AP$1001,$AN$6:$AN$1001,AN1320,$F$6:$F$1001,F1320,$AX$6:$AX$1001,AX1320),0)","v":0},0,{"$f":"IF(AO1320<>0,SUMIFS($AP$6:$AP$1001,$AR$6:$AR$1001,AR1320,$F$6:$F$1001,F1320,$AX$6:$AX$1001,AX1320),0)","v":0},0,0,0,{"$f":"IF(AU1320<>0,SUMIFS($AV$6:$AV$1001,$AT$6:$AT$1001,AT1320,$F$6:$F$1001,F1320,$AY$6:$AY$1001,AY1320),0)","v":0},1900,1900,0,0,0,0,0,0,0,0,0,"","",0,0,0,"FORMATO INCORRECTO","FORMATO INCORRECTO","FORMATO INCORRECTO",{"$f":"IF(L1320=\"\",\"\",IF(ISERROR(edata(L1320)),\"FORMATO INCORRECTO\",\"FORMATO CORRECTO\"))","v":""},{"$f":"IF(U1320=\"\",\"\",IF(ISERROR(edata(U1320)),\"FORMATO INCORRECTO\",\"FORMATO CORRECTO\"))","v":""},{"$f":"IF(N1320=\"\",\"\",IF(ISERROR(edata(N1320)),\"FORMATO INCORRECTO\",\"FORMATO CORRECTO\"))","v":""}]
["1914-07-26","",null,null,null,null,null,null,"",null,null,null,null,null,null,null,null,"",null,null,null,null,null,null,null,null,"",null,"",null,null,"",null,null,null,null,null,0,0,0,0,0,{"$f":"IF(AO1323<>0,SUMIFS($AP$6:$AP$1001,$AN$6:$AN$1001,AN1323,$F$6:$F$1001,F1323,$AX$6:$AX$1001,AX1323),0)","v":0},0,{"$f":"IF(AO1323<>0,SUMIFS($AP$6:$AP$1001,$AR$6:$AR$1001,AR1323,$F$6:$F$1001,F1323,$AX$6:$AX$1001,AX1323),0)","v":0},0,0,0,{"$f":"IF(AU1323<>0,SUMIFS($AV$6:$AV$1001,$AT$6:$AT$1001,AT1323,$F$6:$F$1001,F1323,$AY$6:$AY$1001,AY1323),0)","v":0},1900,1900,0,0,0,0,0,0,0,0,0,"","",0,0,0,"FORMATO INCORRECTO","FORMATO INCORRECTO","FORMATO INCORRECTO",{"$f":"IF(L1323=\"\",\"\",IF(ISERROR(edata(L1323)),\"FORMATO INCORRECTO\",\"FORMATO CORRECTO\"))","v":""},{"$f":"IF(U1323=\"\",\"\",IF(ISERROR(edata(U1323)),\"FORMATO INCORRECTO\",\"FORMATO CORRECTO\"))","v":""},{"$f":"IF(N1323=\"\",\"\",IF(ISERROR(edata(N1323)),\"FORMATO INCORRECTO\",\"FORMATO CORRECTO\"))","v":""}]
["1914-08-11","",null,null,null,null,null,null,"",null,null,null,null,null,null,null,null,"",null,null,null,null,null,null,null,null,"",null,"",null,null,"",null,null,null,null,null,0,0,0,0,0,{"$f":"IF(AO1339<>0,SUMIFS($AP$6:$AP$1001,$AN$6:$AN$1001,AN1339,$F$6:$F$1001,F1339,$AX$6:$AX$1001,AX1339),0)","v":0},0,{"$f":"IF(AO1339<>0,SUMIFS($AP$6:$AP$1001,$AR$6:$AR$1001,AR1339,$F$6:$F$1001,F1339,$AX$6:$AX$1001,AX1339),0)","v":0},0,0,0,{"$f":"IF(AU1339<>0,SUMIFS($AV$6:$AV$1001,$AT$6:$AT$1001,AT1339,$F$6:$F$1001,F1339,$AY$6:$AY$1001,AY1339),0)","v":0},1900,1900,0,0,0,0,0,0,0,0,0,"","",0,0,0,"FORMATO INCORRECTO","FORMATO INCORRECTO","FORMATO INCORRECTO",{"$f":"IF(L1339=\"\",\"\",IF(ISERROR(edata(L1339)),\"FORMATO INCORRECTO\",\"FORMATO CORRECTO\"))","v":""},{"$f":"IF(U1339=\"\",\"\",IF(ISERROR(edata(U1339)),\"FORMATO INCORRECTO\",\"FORMATO CORRECTO\"))","v":""},{"$f":"IF(N1339=\"\",\"\",IF(ISERROR(edata(N1339)),\"FORMATO INCORRECTO\",\"FORMATO CORRECTO\"))","v":""}]
["1914-08-14","",null,null,null,null,null,null,"",null,null,null,null,null,null,null,null,"",null,null,null,null,null,null,null,null,"",null,"",null,null,"",null,null,null,null,null,0,0,0,0,0,{"$f":"IF(AO1342<>0,SUMIFS($AP$6:$AP$1001,$AN$6:$AN$1001,AN1342,$F$6:$F$1001,F1342,$AX$6:$AX$1001,AX1342),0)","v":0},0,{"$f":"IF(AO1342<>0,SUMIFS($AP$6:$AP$1001,$AR$6:$AR$1001,AR1342,$F$6:$F$1001,F1342,$AX$6:$AX$1001,AX1342),0)","v":0},0,0,0,{"$f":"IF(AU1342<>0,SUMIFS($AV$6:$AV$1001,$AT$6:$AT$1001,AT1342,$F$6:$F$1001,F1342,$AY$6:$AY$1001,AY1342),0)","v":0},1900,1900,0,0,0,0,0,0,0,0,0,"","",0,0,0,"FORMATO INCORRECTO","FORMATO INCORRECTO","FORMATO INCORRECTO",{"$f":"IF(L1342=\"\",\"\",IF(ISERROR(edata(L1342)),\"FORMATO INCORRECTO\",\"FORMATO CORRECTO\"))","v":""},{"$f":"IF(U1342=\"\",\"\",IF(ISERROR(edata(U1342)),\"FORMATO INCORRECTO\",\"FORMATO CORRECTO\"))","v":""},{"$f":"IF(N1342=\"\",\"\",IF(ISERROR(edata(N1342)),\"FORMATO INCORRECTO\",\"FORMATO CORRECTO\"))","v":""}]
["1914-08-29","",null,null,null,null,null,null,"",null,null,null,null,null,null,null,null,"",null,null,null,null,null,null,null,null,"",null,"",null,null,"",null,null,null,null,null,0,0,0,0,0,{"$f":"IF(AO1357<>0,SUMIFS($AP$6:$AP$1001,$AN$6:$AN$1001,AN1357,$F$6:$F$1001,F1357,$AX$6:$AX$1001,AX1357),0)","v":0},0,{"$f":"IF(AO1357<>0,SUMIFS($AP$6:$AP$1001,$AR$6:$AR$1001,AR1357,$F$6:$F$1001,F1357,$AX$6:$AX$1001,AX1357),0)","v":0},0,0,0,{"$f":"IF(AU1357<>0,SUMIFS($AV$6:$AV$1001,$AT$6:$AT$1001,AT1357,$F$6:$F$1001,F1357,$AY$6:$AY$1001,AY1357),0)","v":0},1900,1900,0,0,0,0,0,0,0,0,0,"","",0,0,0,"FORMATO INCORRECTO","FORMATO INCORRECTO","FORMATO INCORRECTO",{"$f":"IF(L1357=\"\",\"\",IF(ISERROR(edata(L1357)),\"FORMATO INCORRECTO\",\"FORMATO CORRECTO\"))","v":""},{"$f":"IF(U1357=\"\",\"\",IF(ISERROR(edata(U1357)),\"FORMATO INCORRECTO\",\"FORMATO CORRECTO\"))","v":""},{"$f":"IF(N1357=\"\",\"\",IF(ISERROR(edata(N1357)),\"FORMATO INCORRECTO\",\"FORMATO CORRECTO\"))","v":""}]
["1914-09-01","",null,null,null,null,null,null,"",null,null,null,null,null,null,null,null,"",null,null,null,null,null,null,null,null,"",null,"",null,null,"",null,null,null,null,null,0,0,0,0,0,{"$f":"IF(AO1360<>0,SUMIFS($AP$6:$AP$1001,$AN$6:$AN$1001,AN1360,$F$6:$F$1001,F1360,$AX$6:$AX$1001,AX1360),0)","v":0},0,{"$f":"IF(AO1360<>0,SUMIFS($AP$6:$AP$1001,$AR$6:$AR$1001,AR1360,$F$6:$F$1001,F1360,$AX$6:$AX$1001,AX1360),0)","v":0},0,0,0,{"$f":"IF(AU1360<>0,SUMIFS($AV$6:$AV$1001,$AT$6:$AT$1001,AT1360,$F$6:$F$1001,F1360,$AY$6:$AY$1001,AY1360),0)","v":0},1900,1900,0,0,0,0,0,0,0,0,0,"","",0,0,0,"FORMATO INCORRECTO","FORMATO INCORRECTO","FORMATO INCORRECTO",{"$f":"IF(L1360=\"\",\"\",IF(ISERROR(edata(L1360)),\"FORMATO INCORRECTO\",\"FORMATO CORRECTO\"))","v":""},{"$f":"IF(U1360=\"\",\"\",IF(ISERROR(edata(U1360)),\"FORMATO INCORRECTO\",\"FORMATO CORRECTO\"))","v":""},{"$f":"IF(N1360=\"\",\"\",IF(ISERROR(edata(N1360)),\"FORMATO INCORRECTO\",\"FORMATO CORRECTO\"))","v":""}]
["1914-09-13","",null,null,null,null,null,null,"",null,null,null,null,null,null,null,null,"",null,null,null,null,null,null,null,null,"",null,"",null,null,"",null,null,null,null,null,0,0,0,0,0,{"$f":"IF(AO1372<>0,SUMIFS($AP$6:$AP$1001,$AN$6:$AN$1001,AN1372,$F$6:$F$1001,F1372,$AX$6:$AX$1001,AX1372),0)","v":0},0,{"$f":"IF(AO1372<>0,SUMIFS($AP$6:$AP$1001,$AR$6:$AR$1001,AR1372,$F$6:$F$1001,F1372,$AX$6:$AX$1001,AX1372),0)","v":0},0,0,0,{"$f":"IF(AU1372<>0,SUMIFS($AV$6:$AV$1001,$AT$6:$AT$1001,AT1372,$F$6:$F$1001,F1372,$AY$6:$AY$1001,AY1372),0)","v":0},1900,1900,0,0,0,0,0,0,0,0,0,"","",0,0,0,"FORMATO INCORRECTO","FORMATO INCORRECTO","FORMATO INCORRECTO",{"$f":"IF(L1372=\"\",\"\",IF(ISERROR(edata(L1372)),\"FORMATO INCORRECTO\",\"FORMATO CORRECTO\"))","v":""},{"$f":"IF(U1372=\"\",\"\",IF(ISERROR(edata(U1372)),\"FORMATO INCORRECTO\",\"FORMATO CORRECTO\"))","v":""},{"$f":"IF(N1372=\"\",\"\",IF(ISERROR(edata(N1372)),\"FORMATO INCORRECTO\",\"FORMATO CORRECTO\"))","v":""}]
["1914-09-22","",null,null,null,null,null,null,"",null,null,null,null,null,null,null,null,"",null,null,null,null,null,null,null,null,"",null,"",null,null,"",null,null,null,null,null,0,0,0,0,0,{"$f":"IF(AO1381<>0,SUMIFS($AP$6:$AP$1001,$AN$6:$AN$1001,AN1381,$F$6:$F$1001,F1381,$AX$6:$AX$1001,AX1381),0)","v":0},0,{"$f":"IF(AO1381<>0,SUMIFS($AP$6:$AP$1001,$AR$6:$AR$1001,AR1381,$F$6:$F$1001,F1381,$AX$6:$AX$1001,AX1381),0)","v":0},0,0,0,{"$f":"IF(AU1381<>0,SUMIFS($AV$6:$AV$1001,$AT$6:$AT$1001,AT1381,$F$6:$F$1001,F1381,$AY$6:$AY$1001,AY1381),0)","v":0},1900,1900,0,0,0,0,0,0,0,0,0,"","",0,0,0,"FORMATO INCORRECTO","FORMATO INCORRECTO","FORMATO INCORRECTO",{"$f":"IF(L1381=\"\",\"\",IF(ISERROR(edata(L1381)),\"FORMATO INCORRECTO\",\"FORMATO CORRECTO\"))","v":""},{"$f":"IF(U1381=\"\",\"\",IF(ISERROR(edata(U1381)),\"FORMATO INCORRECTO\",\"FORMATO CORRECTO\"))","v":""},{"$f":"IF(N1381=\"\",\"\",IF(ISERROR(edata(N1381)),\"FORMATO INCORRECTO\",\"FORMATO CORRECTO\"))","v":""}]
["1914-10-01","",null,null,null,null,null,null,"",null,null,null,null,null,null,null,null,"",null,null,null,null,null,null,null,null,"",null,"",null,null,"",null,null,null,null,null,0,0,0,0,0,{"$f":"IF(AO1390<>0,SUMIFS($AP$6:$AP$1001,$AN$6:$AN$1001,AN1390,$F$6:$F$1001,F1390,$AX$6:$AX$1001,AX1390),0)","v":0},0,{"$f":"IF(AO1390<>0,SUMIFS($AP$6:$AP$1001,$AR$6:$AR$1001,AR1390,$F$6:$F$1001,F1390,$AX$6:$AX$1001,AX1390),0)","v":0},0,0,0,{"$f":"IF(AU1390<>0,SUMIFS($AV$6:$AV$1001,$AT$6:$AT$1001,AT1390,$F$6:$F$1001,F1390,$AY$6:$AY$1001,AY1390),0)","v":0},1900,1900,0,0,0,0,0,0,0,0,0,"","",0,0,0,"FORMATO INCORRECTO","FORMATO INCORRECTO","FORMATO INCORRECTO",{"$f":"IF(L1390=\"\",\"\",IF(ISERROR(edata(L1390)),\"FORMATO INCORRECTO\",\"FORMATO CORRECTO\"))","v":""},{"$f":"IF(U1390=\"\",\"\",IF(ISERROR(edata(U1390)),\"FORMATO INCORRECTO\",\"FORMATO CORRECTO\"))","v":""},{"$f":"IF(N1390=\"\",\"\",IF(ISERROR(edata(N1390)),\"FORMATO INCORRECTO\",\"FORMATO CORRECTO\"))","v":""}]
["1914-10-04","",null,null,null,null,null,null,"",null,null,null,null,null,null,null,null,"",null,null,null,null,null,null,null,null,"",null,"",null,null,"",null,null,null,null,null,0,0,0,0,0,{"$f":"IF(AO1393<>0,SUMIFS($AP$6:$AP$1001,$AN$6:$AN$1001,AN1393,$F$6:$F$1001,F1393,$AX$6:$AX$1001,AX1393),0)","v":0},0,{"$f":"IF(AO1393<>0,SUMIFS($AP$6:$AP$1001,$AR$6:$AR$1001,AR1393,$F$6:$F$1001,F1393,$AX$6:$AX$1001,AX1393),0)","v":0},0,0,0,{"$f":"IF(AU1393<>0,SUMIFS($AV$6:$AV$1001,$AT$6:$AT$1001,AT1393,$F$6:$F$1001,F1393,$AY$6:$AY$1001,AY1393),0)","v":0},1900,1900,0,0,0,0,0,0,0,0,0,"","",0,0,0,"FORMATO INCORRECTO","FORMATO INCORRECTO","FORMATO INCORRECTO",{"$f":"IF(L1393=\"\",\"\",IF(ISERROR(edata(L1393)),\"FORMATO INCORRECTO\",\"FORMATO CORRECTO\"))","v":""},{"$f":"IF(U1393=\"\",\"\",IF(ISERROR(edata(U1393)),\"FORMATO INCORRECTO\",\"FORMATO CORRECTO\"))","v":""},{"$f":"IF(N1393=\"\",\"\",IF(ISERROR(edata(N1393)),\"FORMATO INCORRECTO\",\"FORMATO CORRECTO\"))","v":""}]
["1914-10-20","",null,null,null,null,null,null,"",null,null,null,null,null,null,null,null,"",null,null,null,null,null,null,null,null,"",null,"",null,null,"",null,null,null,null,null,0,0,0,0,0,{"$f":"IF(AO1409<>0,SUMIFS($AP$6:$AP$1001,$AN$6:$AN$1001,AN1409,$F$6:$F$1001,F1409,$AX$6:$AX$1001,AX1409),0)","v":0},0,{"$f":"IF(AO1409<>0,SUMIFS($AP$6:$AP$1001,$AR$6:$AR$1001,AR1409,$F$6:$F$1001,F1409,$AX$6:$AX$1001,AX1409),0)","v":0},0,0,0,{"$f":"IF(AU1409<>0,SUMIFS($AV$6:$AV$1001,$AT$6:$AT$1001,AT1409,$F$6:$F$1001,F1409,$AY$6:$AY$1001,AY1409),0)","v":0},1900,1900,0,0,0,0,0,0,0,0,0,"","",0,0,0,"FORMATO INCORRECTO","FORMATO INCORRECTO","FORMATO INCORRECTO",{"$f":"IF(L1409=\"\",\"\",IF(ISERROR(edata(L1409)),\"FORMATO INCORRECTO\",\"FORMATO CORRECTO\"))","v":""},{"$f":"IF(U1409=\"\",\"\",IF(ISERROR(edata(U1409)),\"FORMATO INCORRECTO\",\"FORMATO CORRECTO\"))","v":""},{"$f":"IF(N1409=\"\",\"\",IF(ISERROR(edata(N1409)),\"FORMATO INCORRECTO\",\"FORMATO CORRECTO\"))","v":""}]
["1914-10-23","",null,null,null,null,null,null,"",null,null,null,null,null,null,null,null,"",null,null,null,null,null,null,null,null,"",null,"",null,null,"",null,null,null,null,null,0,0,0,0,0,{"$f":"IF(AO1412<>0,SUMIFS($AP$6:$AP$1001,$AN$6:$AN$1001,AN1412,$F$6:$F$1001,F1412,$AX$6:$AX$1001,AX1412),0)","v":0},0,{"$f":"IF(AO1412<>0,SUMIFS($AP$6:$AP$1001,$AR$6:$AR$1001,AR1412,$F$6:$F$1001,F1412,$AX$6:$AX$1001,AX1412),0)","v":0},0,0,0,{"$f":"IF(AU1412<>0,SUMIFS($AV$6:$AV$1001,$AT$6:$AT$1001,AT1412,$F$6:$F$1001,F1412,$AY$6:$AY$1001,AY1412),0)","v":0},1900,1900,0,0,0,0,0,0,0,0,0,"","",0,0,0,"FORMATO INCORRECTO","FORMATO INCORRECTO","FORMATO INCORRECTO",{"$f":"IF(L1412=\"\",\"\",IF(ISERROR(edata(L1412)),\"FORMATO INCORRECTO\",\"FORMATO CORRECTO\"))","v":""},{"$f":"IF(U1412=\"\",\"\",IF(ISERROR(edata(U1412)),\"FORMATO INCORRECTO\",\"FORMATO CORRECTO\"))","v":""},{"$f":"IF(N1412=\"\",\"\",IF(ISERROR(edata(N1412)),\"FORMATO INCORRECTO\",\"FORMATO CORRECTO\"))","v":""}]
["1914-11-07","",null,null,null,null,null,null,"",null,null,null,null,null,null,null,null,"",null,null,null,null,null,null,null,null,"",null,"",null,null,"",null,null,null,null,null,0,0,0,0,0,{"$f":"IF(AO1427<>0,SUMIFS($AP$6:$AP$1001,$AN$6:$AN$1001,AN1427,$F$6:$F$1001,F1427,$AX$6:$AX$1001,AX1427),0)","v":0},0,{"$f":"IF(AO1427<>0,SUMIFS($AP$6:$AP$1001,$AR$6:$AR$1001,AR1427,$F$6:$F$1001,F1427,$AX$6:$AX$1001,AX1427),0)","v":0},0,0,0,{"$f":"IF(AU1427<>0,SUMIFS($AV$6:$AV$1001,$AT$6:$AT$1001,AT1427,$F$6:$F$1001,F1427,$AY$6:$AY$1001,AY1427),0)","v":0},1900,1900,0,0,0,0,0,0,0,0,0,"","",0,0,0,"FORMATO INCORRECTO","FORMATO INCORRECTO","FORMATO INCORRECTO",{"$f":"IF(L1427=\"\",\"\",IF(ISERROR(edata(L1427)),\"FORMATO INCORRECTO\",\"FORMATO CORRECTO\"))","v":""},{"$f":"IF(U1427=\"\",\"\",IF(ISERROR(edata(U1427)),\"FORMATO INCORRECTO\",\"FORMATO CORRECTO\"))","v":""},{"$f":"IF(N1427=\"\",\"\",IF(ISERROR(edata(N1427)),\"FORMATO INCORRECTO\",\"FORMATO CORRECTO\"))","v":""}]
["1914-11-10","",null,null,null,null,null,null,"",null,null,null,null,null,null,null,null,"",null,null,null,null,null,null,null,null,"",null,"",null,null,"",null,null,null,null,null,0,0,0,0,0,{"$f":"IF(AO1430<>0,SUMIFS($AP$6:$AP$1001,$AN$6:$AN$1001,AN1430,$F$6:$F$1001,F1430,$AX$6:$AX$1001,AX1430),0)","v":0},0,{"$f":"IF(AO1430<>0,SUMIFS($AP$6:$AP$1001,$AR$6:$AR$1001,AR1430,$F$6:$F$1001,F1430,$AX$6:$AX$1001,AX1430),0)","v":0},0,0,0,{"$f":"IF(AU1430<>0,SUMIFS($AV$6:$AV$1001,$AT$6:$AT$1001,AT1430,$F$6:$F$1001,F1430,$AY$6:$AY$1001,AY1430),0)","v":0},1900,1900,0,0,0,0,0,0,0,0,0,"","",0,0,0,"FORMATO INCORRECTO","FORMATO INCORRECTO","FORMATO INCORRECTO",{"$f":"IF(L1430=\"\",\"\",IF(ISERROR(edata(L1430)),\"FORMATO INCORRECTO\",\"FORMATO CORRECTO\"))","v":""},{"$f":"IF(U1430=\"\",\"\",IF(ISERROR(edata(U1430)),\"FORMATO INCORRECTO\",\"FORMATO CORRECTO\"))","v":""},{"$f":"IF(N1430=\"\",\"\",IF(ISERROR(edata(N1430)),\"FORMATO INCORRECTO\",\"FORMATO CORRECTO\"))","v":""}]
["1914-11-22","",null,null,null,null,null,null,"",null,null,null,null,null,null,null,null,"",null,null,null,null,null,null,null,null,"",null,"",null,null,"",null,null,null,null,null,0,0,0,0,0,{"$f":"IF(AO1442<>0,SUMIFS($AP$6:$AP$1001,$AN$6:$AN$1001,AN1442,$F$6:$F$1001,F1442,$AX$6:$AX$1001,AX1442),0)","v":0},0,{"$f":"IF(AO1442<>0,SUMIFS($AP$6:$AP$1001,$AR$6:$AR$1001,AR1442,$F$6:$F$1001,F1442,$AX$6:$AX$1001,AX1442),0)","v":0},0,0,0,{"$f":"IF(AU1442<>0,SUMIFS($AV$6:$AV$1001,$AT$6:$AT$1001,AT1442,$F$6:$F$1001,F1442,$AY$6:$AY$1001,AY1442),0)","v":0},1900,1900,0,0,0,0,0,0,0,0,0,"","",0,0,0,"FORMATO INCORRECTO","FORMATO INCORRECTO","FORMATO INCORRECTO",{"$f":"IF(L1442=\"\",\"\",IF(ISERROR(edata(L1442)),\"FORMATO INCORRECTO\",\"FORMATO CORRECTO\"))","v":""},{"$f":"IF(U1442=\"\",\"\",IF(ISERROR(edata(U1442)),\"FORMATO INCORRECTO\",\"FORMATO CORRECTO\"))","v":""},{"$f":"IF(N1442=\"\",\"\",IF(ISERROR(edata(N1442)),\"FORMATO INCORRECTO\",\"FORMATO CORRECTO\"))","v":""}]
["1914-12-01","",null,null,null,null,null,null,"",null,null,null,null,null,null,null,null,"",null,null,null,null,null,null,null,null,"",null,"",null,null,"",null,null,null,null,null,0,0,0,0,0,{"$f":"IF(AO1451<>0,SUMIFS($AP$6:$AP$1001,$AN$6:$AN$1001,AN1451,$F$6:$F$1001,F1451,$AX$6:$AX$1001,AX1451),0)","v":0},0,{"$f":"IF(AO1451<>0,SUMIFS($AP$6:$AP$1001,$AR$6:$AR$1001,AR1451,$F$6:$F$1001,F1451,$AX$6:$AX$1001,AX1451),0)","v":0},0,0,0,{"$f":"IF(AU1451<>0,SUMIFS($AV$6:$AV$1001,$AT$6:$AT$1001,AT1451,$F$6:$F$1001,F1451,$AY$6:$AY$1001,AY1451),0)","v":0},1900,1900,0,0,0,0,0,0,0,0,0,"","",0,0,0,"FORMATO INCORRECTO","FORMATO INCORRECTO","FORMATO INCORRECTO",{"$f":"IF(L1451=\"\",\"\",IF(ISERROR(edata(L1451)),\"FORMATO INCORRECTO\",\"FORMATO CORRECTO\"))","v":""},{"$f":"IF(U1451=\"\",\"\",IF(ISERROR(edata(U1451)),\"FORMATO INCORRECTO\",\"FORMATO CORRECTO\"))","v":""},{"$f":"IF(N1451=\"\",\"\",IF(ISERROR(edata(N1451)),\"FORMATO INCORRECTO\",\"FORMATO CORRECTO\"))","v":""}]
["1914-12-10","",null,null,null,null,null,null,"",null,null,null,null,null,null,null,null,"",null,null,null,null,null,null,null,null,"",null,"",null,null,"",null,null,null,null,null,0,0,0,0,0,{"$f":"IF(AO1460<>0,SUMIFS($AP$6:$AP$1001,$AN$6:$AN$1001,AN1460,$F$6:$F$1001,F1460,$AX$6:$AX$1001,AX1460),0)","v":0},0,{"$f":"IF(AO1460<>0,SUMIFS($AP$6:$AP$1001,$AR$6:$AR$1001,AR1460,$F$6:$F$1001,F1460,$AX$6:$AX$1001,AX1460),0)","v":0},0,0,0,{"$f":"IF(AU1460<>0,SUMIFS($AV$6:$AV$1001,$AT$6:$AT$1001,AT1460,$F$6:$F$1001,F1460,$AY$6:$AY$1001,AY1460),0)","v":0},1900,1900,0,0,0,0,0,0,0,0,0,"","",0,0,0,"FORMATO INCORRECTO","FORMATO INCORRECTO","FORMATO INCORRECTO",{"$f":"IF(L1460=\"\",\"\",IF(ISERROR(edata(L1460)),\"FORMATO INCORRECTO\",\"FORMATO CORRECTO\"))","v":""},{"$f":"IF(U1460=\"\",\"\",IF(ISERROR(edata(U1460)),\"FORMATO INCORRECTO\",\"FORMATO CORRECTO\"))","v":""},{"$f":"IF(N1460=\"\",\"\",IF(ISERROR(edata(N1460)),\"FORMATO INCORRECTO\",\"FORMATO CORRECTO\"))","v":""}]
["1914-12-17","",null,null,null,null,null,null,"",null,null,null,null,null,null,null,null,"",null,null,null,null,null,null,null,null,"",null,"",null,null,"",null,null,null,null,null,0,0,0,0,0,{"$f":"IF(AO1467<>0,SUMIFS($AP$6:$AP$1001,$AN$6:$AN$1001,AN1467,$F$6:$F$1001,F1467,$AX$6:$AX$1001,AX1467),0)","v":0},0,{"$f":"IF(AO1467<>0,SUMIFS($AP$6:$AP$1001,$AR$6:$AR$1001,AR1467,$F$6:$F$1001,F1467,$AX$6:$AX$1001,AX1467),0)","v":0},0,0,0,{"$f":"IF(AU1467<>0,SUMIFS($AV$6:$AV$1001,$AT$6:$AT$1001,AT1467,$F$6:$F$1001,F1467,$AY$6:$AY$1001,AY1467),0)","v":0},1900,1900,0,0,0,0,0,0,0,0,0,"","",0,0,0,"FORMATO INCORRECTO","FORMATO INCORRECTO","FORMATO INCORRECTO",{"$f":"IF(L1467=\"\",\"\",IF(ISERROR(edata(L1467)),\"FORMATO INCORRECTO\",\"FORMATO CORRECTO\"))","v":""},{"$f":"IF(U1467=\"\",\"\",IF(ISERROR(edata(U1467)),\"FORMATO INCORRECTO\",\"FORMATO CORRECTO\"))","v":""},{"$f":"IF(N1467=\"\",\"\",IF(ISERROR(edata(N1467)),\"FORMATO INCORRECTO\",\"FORMATO CORRECTO\"))","v":""}]
["1914-12-29","",null,null,null,null,null,null,"",null,null,null,null,null,null,null,null,"",null,null,null,null,null,null,null,null,"",null,"",null,null,"",null,null,null,null,null,0,0,0,0,0,{"$f":"IF(AO1479<>0,SUMIFS($AP$6:$AP$1001,$AN$6:$AN$1001,AN1479,$F$6:$F$1001,F1479,$AX$6:$AX$1001,AX1479),0)","v":0},0,{"$f":"IF(AO1479<>0,SUMIFS($AP$6:$AP$1001,$AR$6:$AR$1001,AR1479,$F$6:$F$1001,F1479,$AX$6:$AX$1001,AX1479),0)","v":0},0,0,0,{"$f":"IF(AU1479<>0,SUMIFS($AV$6:$AV$1001,$AT$6:$AT$1001,AT1479,$F$6:$F$1001,F1479,$AY$6:$AY$1001,AY1479),0)","v":0},1900,1900,0,0,0,0,0,0,0,0,0,"","",0,0,0,"FORMATO INCORRECTO","FORMATO INCORRECTO","FORMATO INCORRECTO",{"$f":"IF(L1479=\"\",\"\",IF(ISERROR(edata(L1479)),\"FORMATO INCORRECTO\",\"FORMATO CORRECTO\"))","v":""},{"$f":"IF(U1479=\"\",\"\",IF(ISERROR(edata(U1479)),\"FORMATO INCORRECTO\",\"FORMATO CORRECTO\"))","v":""},{"$f":"IF(N1479=\"\",\"\",IF(ISERROR(edata(N1479)),\"FORMATO INCORRECTO\",\"FORMATO CORRECTO\"))","v":""}]
["1915-01-01","",null,null,null,null,null,null,"",null,null,null,null,null,null,null,null,"",null,null,null,null,null,null,null,null,"",null,"",null,null,"",null,null,null,null,null,0,0,0,0,0,{"$f":"IF(AO1482<>0,SUMIFS($AP$6:$AP$1001,$AN$6:$AN$1001,AN1482,$F$6:$F$1001,F1482,$AX$6:$AX$1001,AX1482),0)","v":0},0,{"$f":"IF(AO1482<>0,SUMIFS($AP$6:$AP$1001,$AR$6:$AR$1001,AR1482,$F$6:$F$1001,F1482,$AX$6:$AX$1001,AX1482),0)","v":0},0,0,0,{"$f":"IF(AU1482<>0,SUMIFS($AV$6:$AV$1001,$AT$6:$AT$1001,AT1482,$F$6:$F$1001,F1482,$AY$6:$AY$1001,AY1482),0)","v":0},1900,1900,0,0,0,0,0,0,0,0,0,"","",0,0,0,"FORMATO INCORRECTO","FORMATO INCORRECTO","FORMATO INCORRECTO",{"$f":"IF(L1482=\"\",\"\",IF(ISERROR(edata(L1482)),\"FORMATO INCORRECTO\",\"FORMATO CORRECTO\"))","v":""},{"$f":"IF(U1482=\"\",\"\",IF(ISERROR(edata(U1482)),\"FORMATO INCORRECTO\",\"FORMATO CORRECTO\"))","v":""},{"$f":"IF(N1482=\"\",\"\",IF(ISERROR(edata(N1482)),\"FORMATO INCORRECTO\",\"FORMATO CORRECTO\"))","v":""}]
["1915-01-16","",null,null,null,null,null,null,"",null,null,null,null,null,null,null,null,"",null,null,null,null,null,null,null,null,"",null,"",null,null,"",null,null,null,null,null,0,0,0,0,0,{"$f":"IF(AO1497<>0,SUMIFS($AP$6:$AP$1001,$AN$6:$AN$1001,AN1497,$F$6:$F$1001,F1497,$AX$6:$AX$1001,AX1497),0)","v":0},0,{"$f":"IF(AO1497<>0,SUMIFS($AP$6:$AP$1001,$AR$6:$AR$1001,AR1497,$F$6:$F$1001,F1497,$AX$6:$AX$1001,AX1497),0)","v":0},0,0,0,{"$f":"IF(AU1497<>0,SUMIFS($AV$6:$AV$1001,$AT$6:$AT$1001,AT1497,$F$6:$F$1001,F1497,$AY$6:$AY$1001,AY1497),0)","v":0},1900,1900,0,0,0,0,0,0,0,0,0,"","",0,0,0,"FORMATO INCORRECTO","FORMATO INCORRECTO","FORMATO INCORRECTO",{"$f":"IF(L1497=\"\",\"\",IF(ISERROR(edata(L1497)),\"FORMATO INCORRECTO\",\"FORMATO CORRECTO\"))","v":""},{"$f":"IF(U1497=\"\",\"\",IF(ISERROR(edata(U1497)),\"FORMATO INCORRECTO\",\"FORMATO CORRECTO\"))","v":""},{"$f":"IF(N1497=\"\",\"\",IF(ISERROR(edata(N1497)),\"FORMATO INCORRECTO\",\"FORMATO CORRECTO\"))","v":""}]
["1915-01-19","",null,null,null,null,null,null,"",null,null,null,null,null,null,null,null,"",null,null,null,null,null,null,null,null,"",null,"",null,null,"",null,null,null,null,null,0,0,0,0,0,{"$f":"IF(AO1500<>0,SUMIFS($AP$6:$AP$1001,$AN$6:$AN$1001,AN1500,$F$6:$F$1001,F1500,$AX$6:$AX$1001,AX1500),0)","v":0},0,{"$f":"IF(AO1500<>0,SUMIFS($AP$6:$AP$1001,$AR$6:$AR$1001,AR1500,$F$6:$F$1001,F1500,$AX$6:$AX$1001,AX1500),0)","v":0},0,0,0,{"$f":"IF(AU1500<>0,SUMIFS($AV$6:$AV$1001,$AT$6:$AT$1001,AT1500,$F$6:$F$1001,F1500,$AY$6:$AY$1001,AY1500),0)","v":0},1900,1900,0,0,0,0,0,0,0,0,0,"","",0,0,0,"FORMATO INCORRECTO","FORMATO INCORRECTO","FORMATO INCORRECTO",{"$f":"IF(L1500=\"\",\"\",IF(ISERROR(edata(L1500)),\"FORMATO INCORRECTO\",\"FORMATO CORRECTO\"))","v":""},{"$f":"IF(U1500=\"\",\"\",IF(ISERROR(edata(U1500)),\"FORMATO INCORRECTO\",\"FORMATO CORRECTO\"))","v":""},{"$f":"IF(N1500=\"\",\"\",IF(ISERROR(edata(N1500)),\"FORMATO INCORRECTO\",\"FORMATO CORRECTO\"))","v":""}]
["1915-01-31","",null,null,null,null,null,null,"",null,null,null,null,null,null,null,null,"",null,null,null,null,null,null,null,null,"",null,"",null,null,"",null,null,null,null,null,0,0,0,0,0,{"$f":"IF(AO1512<>0,SUMIFS($AP$6:$AP$1001,$AN$6:$AN$1001,AN1512,$F$6:$F$1001,F1512,$AX$6:$AX$1001,AX1512),0)","v":0},0,{"$f":"IF(AO1512<>0,SUMIFS($AP$6:$AP$1001,$AR$6:$AR$1001,AR1512,$F$6:$F$1001,F1512,$AX$6:$AX$1001,AX1512),0)","v":0},0,0,0,{"$f":"IF(AU1512<>0,SUMIFS($AV$6:$AV$1001,$AT$6:$AT$1001,AT1512,$F$6:$F$1001,F1512,$AY$6:$AY$1001,AY1512),0)","v":0},1900,1900,0,0,0,0,0,0,0,0,0,"","",0,0,0,"FORMATO INCORRECTO","FORMATO INCORRECTO","FORMATO INCORRECTO",{"$f":"IF(L1512=\"\",\"\",IF(ISERROR(edata(L1512)),\"FORMATO INCORRECTO\",\"FORMATO CORRECTO\"))","v":""},{"$f":"IF(U1512=\"\",\"\",IF(ISERROR(edata(U1512)),\"FORMATO INCORRECTO\",\"FORMATO CORRECTO\"))","v":""},{"$f":"IF(N1512=\"\",\"\",IF(ISERROR(edata(N1512)),\"FORMATO INCORRECTO\",\"FORMATO CORRECTO\"))","v":""}]
["1915-02-09","",null,null,null,null,null,null,"",null,null,null,null,null,null,null,null,"",null,null,null,null,null,null,null,null,"",null,"",null,null,"",null,null,null,null,null,0,0,0,0,0,{"$f":"IF(AO1521<>0,SUMIFS($AP$6:$AP$1001,$AN$6:$AN$1001,AN1521,$F$6:$F$1001,F1521,$AX$6:$AX$1001,AX1521),0)","v":0},0,{"$f":"IF(AO1521<>0,SUMIFS($AP$6:$AP$1001,$AR$6:$AR$1001,AR1521,$F$6:$F$1001,F1521,$AX$6:$AX$1001,AX1521),0)","v":0},0,0,0,{"$f":"IF(AU1521<>0,SUMIFS($AV$6:$AV$1001,$AT$6:$AT$1001,AT1521,$F$6:$F$1001,F1521,$AY$6:$AY$1001,AY1521),0)","v":0},1900,1900,0,0,0,0,0,0,0,0,0,"","",0,0,0,"FORMATO INCORRECTO","FORMATO INCORRECTO","FORMATO INCORRECTO",{"$f":"IF(L1521=\"\",\"\",IF(ISERROR(edata(L1521)),\"FORMATO INCORRECTO\",\"FORMATO CORRECTO\"))","v":""},{"$f":"IF(U1521=\"\",\"\",IF(ISERROR(edata(U1521)),\"FORMATO INCORRECTO\",\"FORMATO CORRECTO\"))","v":""},{"$f":"IF(N1521=\"\",\"\",IF(ISERROR(edata(N1521)),\"FORMATO INCORRECTO\",\"FORMATO CORRECTO\"))","v":""}]
["1915-02-18","",null,null,null,null,null,null,"",null,null,null,null,null,null,null,null,"",null,null,null,null,null,null,null,null,"",null,"",null,null,"",null,null,null,null,null,0,0,0,0,0,{"$f":"IF(AO1530<>0,SUMIFS($AP$6:$AP$1001,$AN$6:$AN$1001,AN1530,$F$6:$F$1001,F1530,$AX$6:$AX$1001,AX1530),0)","v":0},0,{"$f":"IF(AO1530<>0,SUMIFS($AP$6:$AP$1001,$AR$6:$AR$1001,AR1530,$F$6:$F$1001,F1530,$AX$6:$AX$1001,AX1530),0)","v":0},0,0,0,{"$f":"IF(AU1530<>0,SUMIFS($AV$6:$AV$1001,$AT$6:$AT$1001,AT1530,$F$6:$F$1001,F1530,$AY$6:$AY$1001,AY1530),0)","v":0},1900,1900,0,0,0,0,0,0,0,0,0,"","",0,0,0,"FORMATO INCORRECTO","FORMATO INCORRECTO","FORMATO INCORRECTO",{"$f":"IF(L1530=\"\",\"\",IF(ISERROR(edata(L1530)),\"FORMATO INCORRECTO\",\"FORMATO CORRECTO\"))","v":""},{"$f":"IF(U1530=\"\",\"\",IF(ISERROR(edata(U1530)),\"FORMATO INCORRECTO\",\"FORMATO CORRECTO\"))","v":""},{"$f":"IF(N1530=\"\",\"\",IF(ISERROR(edata(N1530)),\"FORMATO INCORRECTO\",\"FORMATO CORRECTO\"))","v":""}]
["1915-02-25","",null,null,null,null,null,null,"",null,null,null,null,null,null,null,null,"",null,null,null,null,null,null,null,null,"",null,"",null,null,"",null,null,null,null,null,0,0,0,0,0,{"$f":"IF(AO1537<>0,SUMIFS($AP$6:$AP$1001,$AN$6:$AN$1001,AN1537,$F$6:$F$1001,F1537,$AX$6:$AX$1001,AX1537),0)","v":0},0,{"$f":"IF(AO1537<>0,SUMIFS($AP$6:$AP$1001,$AR$6:$AR$1001,AR1537,$F$6:$F$1001,F1537,$AX$6:$AX$1001,AX1537),0)","v":0},0,0,0,{"$f":"IF(AU1537<>0,SUMIFS($AV$6:$AV$1001,$AT$6:$AT$1001,AT1537,$F$6:$F$1001,F1537,$AY$6:$AY$1001,AY1537),0)","v":0},1900,1900,0,0,0,0,0,0,0,0,0,"","",0,0,0,"FORMATO INCORRECTO","FORMATO INCORRECTO","FORMATO INCORRECTO",{"$f":"IF(L1537=\"\",\"\",IF(ISERROR(edata(L1537)),\"FORMATO INCORRECTO\",\"FORMATO CORRECTO\"))","v":""},{"$f":"IF(U1537=\"\",\"\",IF(ISERROR(edata(U1537)),\"FORMATO INCORRECTO\",\"FORMATO CORRECTO\"))","v":""},{"$f":"IF(N1537=\"\",\"\",IF(ISERROR(edata(N1537)),\"FORMATO INCORRECTO\",\"FORMATO CORRECTO\"))","v":""}]
["1915-03-09","",null,null,null,null,null,null,"",null,null,null,null,null,null,null,null,"",null,null,null,null,null,null,null,null,"",null,"",null,null,"",null,null,null,null,null,0,0,0,0,0,{"$f":"IF(AO1549<>0,SUMIFS($AP$6:$AP$1001,$AN$6:$AN$1001,AN1549,$F$6:$F$1001,F1549,$AX$6:$AX$1001,AX1549),0)","v":0},0,{"$f":"IF(AO1549<>0,SUMIFS($AP$6:$AP$1001,$AR$6:$AR$1001,AR1549,$F$6:$F$1001,F1549,$AX$6:$AX$1001,AX1549),0)","v":0},0,0,0,{"$f":"IF(AU1549<>0,SUMIFS($AV$6:$AV$1001,$AT$6:$AT$1001,AT1549,$F$6:$F$1001,F1549,$AY$6:$AY$1001,AY1549),0)","v":0},1900,1900,0,0,0,0,0,0,0,0,0,"","",0,0,0,"FORMATO INCORRECTO","FORMATO INCORRECTO","FORMATO INCORRECTO",{"$f":"IF(L1549=\"\",\"\",IF(ISERROR(edata(L1549)),\"FORMATO INCORRECTO\",\"FORMATO CORRECTO\"))","v":""},{"$f":"IF(U1549=\"\",\"\",IF(ISERROR(edata(U1549)),\"FORMATO INCORRECTO\",\"FORMATO CORRECTO\"))","v":""},{"$f":"IF(N1549=\"\",\"\",IF(ISERROR(edata(N1549)),\"FORMATO INCORRECTO\",\"FORMATO CORRECTO\"))","v":""}]
["1915-03-12","",null,null,null,null,null,null,"",null,null,null,null,null,null,null,null,"",null,null,null,null,null,null,null,null,"",null,"",null,null,"",null,null,null,null,null,0,0,0,0,0,{"$f":"IF(AO1552<>0,SUMIFS($AP$6:$AP$1001,$AN$6:$AN$1001,AN1552,$F$6:$F$1001,F1552,$AX$6:$AX$1001,AX1552),0)","v":0},0,{"$f":"IF(AO1552<>0,SUMIFS($AP$6:$AP$1001,$AR$6:$AR$1001,AR1552,$F$6:$F$1001,F1552,$AX$6:$AX$1001,AX1552),0)","v":0},0,0,0,{"$f":"IF(AU1552<>0,SUMIFS($AV$6:$AV$1001,$AT$6:$AT$1001,AT1552,$F$6:$F$1001,F1552,$AY$6:$AY$1001,AY1552),0)","v":0},1900,1900,0,0,0,0,0,0,0,0,0,"","",0,0,0,"FORMATO INCORRECTO","FORMATO INCORRECTO","FORMATO INCORRECTO",{"$f":"IF(L1552=\"\",\"\",IF(ISERROR(edata(L1552)),\"FORMATO INCORRECTO\",\"FORMATO CORRECTO\"))","v":""},{"$f":"IF(U1552=\"\",\"\",IF(ISERROR(edata(U1552)),\"FORMATO INCORRECTO\",\"FORMATO CORRECTO\"))","v":""},{"$f":"IF(N1552=\"\",\"\",IF(ISERROR(edata(N1552)),\"FORMATO INCORRECTO\",\"FORMATO CORRECTO\"))","v":""}]
["1915-03-27","",null,null,null,null,null,null,"",null,null,null,null,null,null,null,null,"",null,null,null,null,null,null,null,null,"",null,"",null,null,"",null,null,null,null,null,0,0,0,0,0,{"$f":"IF(AO1567<>0,SUMIFS($AP$6:$AP$1001,$AN$6:$AN$1001,AN1567,$F$6:$F$1001,F1567,$AX$6:$AX$1001,AX1567),0)","v":0},0,{"$f":"IF(AO1567<>0,SUMIFS($AP$6:$AP$1001,$AR$6:$AR$1001,AR1567,$F$6:$F$1001,F1567,$AX$6:$AX$1001,AX1567),0)","v":0},0,0,0,{"$f":"IF(AU1567<>0,SUMIFS($AV$6:$AV$1001,$AT$6:$AT$1001,AT1567,$F$6:$F$1001,F1567,$AY$6:$AY$1001,AY1567),0)","v":0},1900,1900,0,0,0,0,0,0,0,0,0,"","",0,0,0,"FORMATO INCORRECTO","FORMATO INCORRECTO","FORMATO INCORRECTO",{"$f":"IF(L1567=\"\",\"\",IF(ISERROR(edata(L1567)),\"FORMATO INCORRECTO\",\"FORMATO CORRECTO\"))","v":""},{"$f":"IF(U1567=\"\",\"\",IF(ISERROR(edata(U1567)),\"FORMATO INCORRECTO\",\"FORMATO CORRECTO\"))","v":""},{"$f":"IF(N1567=\"\",\"\",IF(ISERROR(edata(N1567)),\"FORMATO INCORRECTO\",\"FORMATO CORRECTO\"))","v":""}]
["1915-03-30","",null,null,null,null,null,null,"",null,null,null,null,null,null,null,null,"",null,null,null,null,null,null,null,null,"",null,"",null,null,"",null,null,null,null,null,0,0,0,0,0,{"$f":"IF(AO1570<>0,SUMIFS($AP$6:$AP$1001,$AN$6:$AN$1001,AN1570,$F$6:$F$1001,F1570,$AX$6:$AX$1001,AX1570),0)","v":0},0,{"$f":"IF(AO1570<>0,SUMIFS($AP$6:$AP$1001,$AR$6:$AR$1001,AR1570,$F$6:$F$1001,F1570,$AX$6:$AX$1001,AX1570),0)","v":0},0,0,0,{"$f":"IF(AU1570<>0,SUMIFS($AV$6:$AV$1001,$AT$6:$AT$1001,AT1570,$F$6:$F$1001,F1570,$AY$6:$AY$1001,AY1570),0)","v":0},1900,1900,0,0,0,0,0,0,0,0,0,"","",0,0,0,"FORMATO INCORRECTO","FORMATO INCORRECTO","FORMATO INCORRECTO",{"$f":"IF(L1570=\"\",\"\",IF(ISERROR(edata(L1570)),\"FORMATO INCORRECTO\",\"FORMATO CORRECTO\"))","v":""},{"$f":"IF(U1570=\"\",\"\",IF(ISERROR(edata(U1570)),\"FORMATO INCORRECTO\",\"FORMATO CORRECTO\"))","v":""},{"$f":"IF(N1570=\"\",\"\",IF(ISERROR(edata(N1570)),\"FORMATO INCORRECTO\",\"FORMATO CORRECTO\"))","v":""}]
["1915-04-11","",null,null,null,null,null,null,"",null,null,null,null,null,null,null,null,"",null,null,null,null,null,null,null,null,"",null,"",null,null,"",null,null,null,null,null,0,0,0,0,0,{"$f":"IF(AO1582<>0,SUMIFS($AP$6:$AP$1001,$AN$6:$AN$1001,AN1582,$F$6:$F$1001,F1582,$AX$6:$AX$1001,AX1582),0)","v":0},0,{"$f":"IF(AO1582<>0,SUMIFS($AP$6:$AP$1001,$AR$6:$AR$1001,AR1582,$F$6:$F$1001,F1582,$AX$6:$AX$1001,AX1582),0)","v":0},0,0,0,{"$f":"IF(AU1582<>0,SUMIFS($AV$6:$AV$1001,$AT$6:$AT$1001,AT1582,$F$6:$F$1001,F1582,$AY$6:$AY$1001,AY1582),0)","v":0},1900,1900,0,0,0,0,0,0,0,0,0,"","",0,0,0,"FORMATO INCORRECTO","FORMATO INCORRECTO","FORMATO INCORRECTO",{"$f":"IF(L1582=\"\",\"\",IF(ISERROR(edata(L1582)),\"FORMATO INCORRECTO\",\"FORMATO CORRECTO\"))","v":""},{"$f":"IF(U1582=\"\",\"\",IF(ISERROR(edata(U1582)),\"FORMATO INCORRECTO\",\"FORMATO CORRECTO\"))","v":""},{"$f":"IF(N1582=\"\",\"\",IF(ISERROR(edata(N1582)),\"FORMATO INCORRECTO\",\"FORMATO CORRECTO\"))","v":""}]
["1915-04-18","",null,null,null,null,null,null,"",null,null,null,null,null,null,null,null,"",null,null,null,null,null,null,null,null,"",null,"",null,null,"",null,null,null,null,null,0,0,0,0,0,{"$f":"IF(AO1589<>0,SUMIFS($AP$6:$AP$1001,$AN$6:$AN$1001,AN1589,$F$6:$F$1001,F1589,$AX$6:$AX$1001,AX1589),0)","v":0},0,{"$f":"IF(AO1589<>0,SUMIFS($AP$6:$AP$1001,$AR$6:$AR$1001,AR1589,$F$6:$F$1001,F1589,$AX$6:$AX$1001,AX1589),0)","v":0},0,0,0,{"$f":"IF(AU1589<>0,SUMIFS($AV$6:$AV$1001,$AT$6:$AT$1001,AT1589,$F$6:$F$1001,F1589,$AY$6:$AY$1001,AY1589),0)","v":0},1900,1900,0,0,0,0,0,0,0,0,0,"","",0,0,0,"FORMATO INCORRECTO","FORMATO INCORRECTO","FORMATO INCORRECTO",{"$f":"IF(L1589=\"\",\"\",IF(ISERROR(edata(L1589)),\"FORMATO INCORRECTO\",\"FORMATO CORRECTO\"))","v":""},{"$f":"IF(U1589=\"\",\"\",IF(ISERROR(edata(U1589)),\"FORMATO INCORRECTO\",\"FORMATO CORRECTO\"))","v":""},{"$f":"IF(N1589=\"\",\"\",IF(ISERROR(edata(N1589)),\"FORMATO INCORRECTO\",\"FORMATO CORRECTO\"))","v":""}]
["1915-04-30","",null,null,null,null,null,null,"",null,null,null,null,null,null,null,null,"",null,null,null,null,null,null,null,null,"",null,"",null,null,"",null,null,null,null,null,0,0,0,0,0,{"$f":"IF(AO1601<>0,SUMIFS($AP$6:$AP$1001,$AN$6:$AN$1001,AN1601,$F$6:$F$1001,F1601,$AX$6:$AX$1001,AX1601),0)","v":0},0,{"$f":"IF(AO1601<>0,SUMIFS($AP$6:$AP$1001,$AR$6:$AR$1001,AR1601,$F$6:$F$1001,F1601,$AX$6:$AX$1001,AX1601),0)","v":0},0,0,0,{"$f":"IF(AU1601<>0,SUMIFS($AV$6:$AV$1001,$AT$6:$AT$1001,AT1601,$F$6:$F$1001,F1601,$AY$6:$AY$1001,AY1601),0)","v":0},1900,1900,0,0,0,0,0,0,0,0,0,"","",0,0,0,"FORMATO INCORRECTO","FORMATO INCORRECTO","FORMATO INCORRECTO",{"$f":"IF(L1601=\"\",\"\",IF(ISERROR(edata(L1601)),\"FORMATO INCORRECTO\",\"FORMATO CORRECTO\"))","v":""},{"$f":"IF(U1601=\"\",\"\",IF(ISERROR(edata(U1601)),\"FORMATO INCORRECTO\",\"FORMATO CORRECTO\"))","v":""},{"$f":"IF(N1601=\"\",\"\",IF(ISERROR(edata(N1601)),\"FORMATO INCORRECTO\",\"FORMATO CORRECTO\"))","v":""}]
["1915-05-06","",null,null,null,null,null,null,"",null,null,null,null,null,null,null,null,"",null,null,null,null,null,null,null,null,"",null,"",null,null,"",null,null,null,null,null,0,0,0,0,0,{"$f":"IF(AO1607<>0,SUMIFS($AP$6:$AP$1001,$AN$6:$AN$1001,AN1607,$F$6:$F$1001,F1607,$AX$6:$AX$1001,AX1607),0)","v":0},0,{"$f":"IF(AO1607<>0,SUMIFS($AP$6:$AP$1001,$AR$6:$AR$1001,AR1607,$F$6:$F$1001,F1607,$AX$6:$AX$1001,AX1607),0)","v":0},0,0,0,{"$f":"IF(AU1607<>0,SUMIFS($AV$6:$AV$1001,$AT$6:$AT$1001,AT1607,$F$6:$F$1001,F1607,$AY$6:$AY$1001,AY1607),0)","v":0},1900,1900,0,0,0,0,0,0,0,0,0,"","",0,0,0,"FORMATO INCORRECTO","FORMATO INCORRECTO","FORMATO INCORRECTO",{"$f":"IF(L1607=\"\",\"\",IF(ISERROR(edata(L1607)),\"FORMATO INCORRECTO\",\"FORMATO CORRECTO\"))","v":""},{"$f":"IF(U1607=\"\",\"\",IF(ISERROR(edata(U1607)),\"FORMATO INCORRECTO\",\"FORMATO CORRECTO\"))","v":""},{"$f":"IF(N1607=\"\",\"\",IF(ISERROR(edata(N1607)),\"FORMATO INCORRECTO\",\"FORMATO CORRECTO\"))","v":""}]
["1915-05-18","",null,null,null,null,null,null,"",null,null,null,null,null,null,null,null,"",null,null,null,null,null,null,null,null,"",null,"",null,null,"",null,null,null,null,null,0,0,0,0,0,{"$f":"IF(AO1619<>0,SUMIFS($AP$6:$AP$1001,$AN$6:$AN$1001,AN1619,$F$6:$F$1001,F1619,$AX$6:$AX$1001,AX1619),0)","v":0},0,{"$f":"IF(AO1619<>0,SUMIFS($AP$6:$AP$1001,$AR$6:$AR$1001,AR1619,$F$6:$F$1001,F1619,$AX$6:$AX$1001,AX1619),0)","v":0},0,0,0,{"$f":"IF(AU1619<>0,SUMIFS($AV$6:$AV$1001,$AT$6:$AT$1001,AT1619,$F$6:$F$1001,F1619,$AY$6:$AY$1001,AY1619),0)","v":0},1900,1900,0,0,0,0,0,0,0,0,0,"","",0,0,0,"FORMATO INCORRECTO","FORMATO INCORRECTO","FORMATO INCORRECTO",{"$f":"IF(L1619=\"\",\"\",IF(ISERROR(edata(L1619)),\"FORMATO INCORRECTO\",\"FORMATO CORRECTO\"))","v":""},{"$f":"IF(U1619=\"\",\"\",IF(ISERROR(edata(U1619)),\"FORMATO INCORRECTO\",\"FORMATO CORRECTO\"))","v":""},{"$f":"IF(N1619=\"\",\"\",IF(ISERROR(edata(N1619)),\"FORMATO INCORRECTO\",\"FORMATO CORRECTO\"))","v":""}]
["1915-05-21","",null,null,null,null,null,null,"",null,null,null,null,null,null,null,null,"",null,null,null,null,null,null,null,null,"",null,"",null,null,"",null,null,null,null,null,0,0,0,0,0,{"$f":"IF(AO1622<>0,SUMIFS($AP$6:$AP$1001,$AN$6:$AN$1001,AN1622,$F$6:$F$1001,F1622,$AX$6:$AX$1001,AX1622),0)","v":0},0,{"$f":"IF(AO1622<>0,SUMIFS($AP$6:$AP$1001,$AR$6:$AR$1001,AR1622,$F$6:$F$1001,F1622,$AX$6:$AX$1001,AX1622),0)","v":0},0,0,0,{"$f":"IF(AU1622<>0,SUMIFS($AV$6:$AV$1001,$AT$6:$AT$1001,AT1622,$F$6:$F$1001,F1622,$AY$6:$AY$1001,AY1622),0)","v":0},1900,1900,0,0,0,0,0,0,0,0,0,"","",0,0,0,"FORMATO INCORRECTO","FORMATO INCORRECTO","FORMATO INCORRECTO",{"$f":"IF(L1622=\"\",\"\",IF(ISERROR(edata(L1622)),\"FORMATO INCORRECTO\",\"FORMATO CORRECTO\"))","v":""},{"$f":"IF(U1622=\"\",\"\",IF(ISERROR(edata(U1622)),\"FORMATO INCORRECTO\",\"FORMATO CORRECTO\"))","v":""},{"$f":"IF(N1622=\"\",\"\",IF(ISERROR(edata(N1622)),\"FORMATO INCORRECTO\",\"FORMATO CORRECTO\"))","v":""}]
["1915-05-31","",null,null,null,null,null,null,"",null,null,null,null,null,null,null,null,"",null,null,null,null,null,null,null,null,"",null,"",null,null,"",null,null,null,null,null,0,0,0,0,0,{"$f":"IF(AO1632<>0,SUMIFS($AP$6:$AP$1001,$AN$6:$AN$1001,AN1632,$F$6:$F$1001,F1632,$AX$6:$AX$1001,AX1632),0)","v":0},0,{"$f":"IF(AO1632<>0,SUMIFS($AP$6:$AP$1001,$AR$6:$AR$1001,AR1632,$F$6:$F$1001,F1632,$AX$6:$AX$1001,AX1632),0)","v":0},0,0,0,{"$f":"IF(AU1632<>0,SUMIFS($AV$6:$AV$1001,$AT$6:$AT$1001,AT1632,$F$6:$F$1001,F1632,$AY$6:$AY$1001,AY1632),0)","v":0},1900,1900,0,0,0,0,0,0,0,0,0,"","",0,0,0,"FORMATO INCORRECTO","FORMATO INCORRECTO","FORMATO INCORRECTO",{"$f":"IF(L1632=\"\",\"\",IF(ISERROR(edata(L1632)),\"FORMATO INCORRECTO\",\"FORMATO CORRECTO\"))","v":""},{"$f":"IF(U1632=\"\",\"\",IF(ISERROR(edata(U1632)),\"FORMATO INCORRECTO\",\"FORMATO CORRECTO\"))","v":""},{"$f":"IF(N1632=\"\",\"\",IF(ISERROR(edata(N1632)),\"FORMATO INCORRECTO\",\"FORMATO CORRECTO\"))","v":""}]
["1915-06-08","",null,null,null,null,null,null,"",null,null,null,null,null,null,null,null,"",null,null,null,null,null,null,null,null,"",null,"",null,null,"",null,null,null,null,null,0,0,0,0,0,{"$f":"IF(AO1640<>0,SUMIFS($AP$6:$AP$1001,$AN$6:$AN$1001,AN1640,$F$6:$F$1001,F1640,$AX$6:$AX$1001,AX1640),0)","v":0},0,{"$f":"IF(AO1640<>0,SUMIFS($AP$6:$AP$1001,$AR$6:$AR$1001,AR1640,$F$6:$F$1001,F1640,$AX$6:$AX$1001,AX1640),0)","v":0},0,0,0,{"$f":"IF(AU1640<>0,SUMIFS($AV$6:$AV$1001,$AT$6:$AT$1001,AT1640,$F$6:$F$1001,F1640,$AY$6:$AY$1001,AY1640),0)","v":0},1900,1900,0,0,0,0,0,0,0,0,0,"","",0,0,0,"FORMATO INCORRECTO","FORMATO INCORRECTO","FORMATO INCORRECTO",{"$f":"IF(L1640=\"\",\"\",IF(ISERROR(edata(L1640)),\"FORMATO INCORRECTO\",\"FORMATO CORRECTO\"))","v":""},{"$f":"IF(U1640=\"\",\"\",IF(ISERROR(edata(U1640)),\"FORMATO INCORRECTO\",\"FORMATO CORRECTO\"))","v":""},{"$f":"IF(N1640=\"\",\"\",IF(ISERROR(edata(N1640)),\"FORMATO INCORRECTO\",\"FORMATO CORRECTO\"))","v":""}]
["1915-06-15","",null,null,null,null,null,null,"",null,null,null,null,null,null,null,null,"",null,null,null,null,null,null,null,null,"",null,"",null,null,"",null,null,null,null,null,0,0,0,0,0,{"$f":"IF(AO1647<>0,SUMIFS($AP$6:$AP$1001,$AN$6:$AN$1001,AN1647,$F$6:$F$1001,F1647,$AX$6:$AX$1001,AX1647),0)","v":0},0,{"$f":"IF(AO1647<>0,SUMIFS($AP$6:$AP$1001,$AR$6:$AR$1001,AR1647,$F$6:$F$1001,F1647,$AX$6:$AX$1001,AX1647),0)","v":0},0,0,0,{"$f":"IF(AU1647<>0,SUMIFS($AV$6:$AV$1001,$AT$6:$AT$1001,AT1647,$F$6:$F$1001,F1647,$AY$6:$AY$1001,AY1647),0)","v":0},1900,1900,0,0,0,0,0,0,0,0,0,"","",0,0,0,"FORMATO INCORRECTO","FORMATO INCORRECTO","FORMATO INCORRECTO",{"$f":"IF(L1647=\"\",\"\",IF(ISERROR(edata(L1647)),\"FORMATO INCORRECTO\",\"FORMATO CORRECTO\"))","v":""},{"$f":"IF(U1647=\"\",\"\",IF(ISERROR(edata(U1647)),\"FORMATO INCORRECTO\",\"FORMATO CORRECTO\"))","v":""},{"$f":"IF(N1647=\"\",\"\",IF(ISERROR(edata(N1647)),\"FORMATO INCORRECTO\",\"FORMATO CORRECTO\"))","v":""}]
["1915-06-27","",null,null,null,null,null,null,"",null,null,null,null,null,null,null,null,"",null,null,null,null,null,null,null,null,"",null,"",null,null,"",null,null,null,null,null,0,0,0,0,0,{"$f":"IF(AO1659<>0,SUMIFS($AP$6:$AP$1001,$AN$6:$AN$1001,AN1659,$F$6:$F$1001,F1659,$AX$6:$AX$1001,AX1659),0)","v":0},0,{"$f":"IF(AO1659<>0,SUMIFS($AP$6:$AP$1001,$AR$6:$AR$1001,AR1659,$F$6:$F$1001,F1659,$AX$6:$AX$1001,AX1659),0)","v":0},0,0,0,{"$f":"IF(AU1659<>0,SUMIFS($AV$6:$AV$1001,$AT$6:$AT$1001,AT1659,$F$6:$F$1001,F1659,$AY$6:$AY$1001,AY1659),0)","v":0},1900,1900,0,0,0,0,0,0,0,0,0,"","",0,0,0,"FORMATO INCORRECTO","FORMATO INCORRECTO","FORMATO INCORRECTO",{"$f":"IF(L1659=\"\",\"\",IF(ISERROR(edata(L1659)),\"FORMATO INCORRECTO\",\"FORMATO CORRECTO\"))","v":""},{"$f":"IF(U1659=\"\",\"\",IF(ISERROR(edata(U1659)),\"FORMATO INCORRECTO\",\"FORMATO CORRECTO\"))","v":""},{"$f":"IF(N1659=\"\",\"\",IF(ISERROR(edata(N1659)),\"FORMATO INCORRECTO\",\"FORMATO CORRECTO\"))","v":""}]
["1915-07-09","",null,null,null,null,null,null,"",null,null,null,null,null,null,null,null,"",null,null,null,null,null,null,null,null,"",null,"",null,null,"",null,null,null,null,null,0,0,0,0,0,{"$f":"IF(AO1671<>0,SUMIFS($AP$6:$AP$1001,$AN$6:$AN$1001,AN1671,$F$6:$F$1001,F1671,$AX$6:$AX$1001,AX1671),0)","v":0},0,{"$f":"IF(AO1671<>0,SUMIFS($AP$6:$AP$1001,$AR$6:$AR$1001,AR1671,$F$6:$F$1001,F1671,$AX$6:$AX$1001,AX1671),0)","v":0},0,0,0,{"$f":"IF(AU1671<>0,SUMIFS($AV$6:$AV$1001,$AT$6:$AT$1001,AT1671,$F$6:$F$1001,F1671,$AY$6:$AY$1001,AY1671),0)","v":0},1900,1900,0,0,0,0,0,0,0,0,0,"","",0,0,0,"FORMATO INCORRECTO","FORMATO INCORRECTO","FORMATO INCORRECTO",{"$f":"IF(L1671=\"\",\"\",IF(ISERROR(edata(L1671)),\"FORMATO INCORRECTO\",\"FORMATO CORRECTO\"))","v":""},{"$f":"IF(U1671=\"\",\"\",IF(ISERROR(edata(U1671)),\"FORMATO INCORRECTO\",\"FORMATO CORRECTO\"))","v":""},{"$f":"IF(N1671=\"\",\"\",IF(ISERROR(edata(N1671)),\"FORMATO INCORRECTO\",\"FORMATO CORRECTO\"))","v":""}]
["1915-07-15","",null,null,null,null,null,null,"",null,null,null,null,null,null,null,null,"",null,null,null,null,null,null,null,null,"",null,"",null,null,"",null,null,null,null,null,0,0,0,0,0,{"$f":"IF(AO1677<>0,SUMIFS($AP$6:$AP$1001,$AN$6:$AN$1001,AN1677,$F$6:$F$1001,F1677,$AX$6:$AX$1001,AX1677),0)","v":0},0,{"$f":"IF(AO1677<>0,SUMIFS($AP$6:$AP$1001,$AR$6:$AR$1001,AR1677,$F$6:$F$1001,F1677,$AX$6:$AX$1001,AX1677),0)","v":0},0,0,0,{"$f":"IF(AU1677<>0,SUMIFS($AV$6:$AV$1001,$AT$6:$AT$1001,AT1677,$F$6:$F$1001,F1677,$AY$6:$AY$1001,AY1677),0)","v":0},1900,1900,0,0,0,0,0,0,0,0,0,"","",0,0,0,"FORMATO INCORRECTO","FORMATO INCORRECTO","FORMATO INCORRECTO",{"$f":"IF(L1677=\"\",\"\",IF(ISERROR(edata(L1677)),\"FORMATO INCORRECTO\",\"FORMATO CORRECTO\"))","v":""},{"$f":"IF(U1677=\"\",\"\",IF(ISERROR(edata(U1677)),\"FORMATO INCORRECTO\",\"FORMATO CORRECTO\"))","v":""},{"$f":"IF(N1677=\"\",\"\",IF(ISERROR(edata(N1677)),\"FORMATO INCORRECTO\",\"FORMATO CORRECTO\"))","v":""}]
["1915-07-27","",null,null,null,null,null,null,"",null,null,null,null,null,null,null,null,"",null,null,null,null,null,null,null,null,"",null,"",null,null,"",null,null,null,null,null,0,0,0,0,0,{"$f":"IF(AO1689<>0,SUMIFS($AP$6:$AP$1001,$AN$6:$AN$1001,AN1689,$F$6:$F$1001,F1689,$AX$6:$AX$1001,AX1689),0)","v":0},0,{"$f":"IF(AO1689<>0,SUMIFS($AP$6:$AP$1001,$AR$6:$AR$1001,AR1689,$F$6:$F$1001,F1689,$AX$6:$AX$1001,AX1689),0)","v":0},0,0,0,{"$f":"IF(AU1689<>0,SUMIFS($AV$6:$AV$1001,$AT$6:$AT$1001,AT1689,$F$6:$F$1001,F1689,$AY$6:$AY$1001,AY1689),0)","v":0},1900,1900,0,0,0,0,0,0,0,0,0,"","",0,0,0,"FORMATO INCORRECTO","FORMATO INCORRECTO","FORMATO INCORRECTO",{"$f":"IF(L1689=\"\",\"\",IF(ISERROR(edata(L1689)),\"FORMATO INCORRECTO\",\"FORMATO CORRECTO\"))","v":""},{"$f":"IF(U1689=\"\",\"\",IF(ISERROR(edata(U1689)),\"FORMATO INCORRECTO\",\"FORMATO CORRECTO\"))","v":""},{"$f":"IF(N1689=\"\",\"\",IF(ISERROR(edata(N1689)),\"FORMATO INCORRECTO\",\"FORMATO CORRECTO\"))","v":""}]
["1915-07-30","",null,null,null,null,null,null,"",null,null,null,null,null,null,null,null,"",null,null,null,null,null,null,null,null,"",null,"",null,null,"",null,null,null,null,null,0,0,0,0,0,{"$f":"IF(AO1692<>0,SUMIFS($AP$6:$AP$1001,$AN$6:$AN$1001,AN1692,$F$6:$F$1001,F1692,$AX$6:$AX$1001,AX1692),0)","v":0},0,{"$f":"IF(AO1692<>0,SUMIFS($AP$6:$AP$1001,$AR$6:$AR$1001,AR1692,$F$6:$F$1001,F1692,$AX$6:$AX$1001,AX1692),0)","v":0},0,0,0,{"$f":"IF(AU1692<>0,SUMIFS($AV$6:$AV$1001,$AT$6:$AT$1001,AT1692,$F$6:$F$1001,F1692,$AY$6:$AY$1001,AY1692),0)","v":0},1900,1900,0,0,0,0,0,0,0,0,0,"","",0,0,0,"FORMATO INCORRECTO","FORMATO INCORRECTO","FORMATO INCORRECTO",{"$f":"IF(L1692=\"\",\"\",IF(ISERROR(edata(L1692)),\"FORMATO INCORRECTO\",\"FORMATO CORRECTO\"))","v":""},{"$f":"IF(U1692=\"\",\"\",IF(ISERROR(edata(U1692)),\"FORMATO INCORRECTO\",\"FORMATO CORRECTO\"))","v":""},{"$f":"IF(N1692=\"\",\"\",IF(ISERROR(edata(N1692)),\"FORMATO INCORRECTO\",\"FORMATO CORRECTO\"))","v":""}]
["1915-08-09","",null,null,null,null,null,null,"",null,null,null,null,null,null,null,null,"",null,null,null,null,null,null,null,null,"",null,"",null,null,"",null,null,null,null,null,0,0,0,0,0,{"$f":"IF(AO1702<>0,SUMIFS($AP$6:$AP$1001,$AN$6:$AN$1001,AN1702,$F$6:$F$1001,F1702,$AX$6:$AX$1001,AX1702),0)","v":0},0,{"$f":"IF(AO1702<>0,SUMIFS($AP$6:$AP$1001,$AR$6:$AR$1001,AR1702,$F$6:$F$1001,F1702,$AX$6:$AX$1001,AX1702),0)","v":0},0,0,0,{"$f":"IF(AU1702<>0,SUMIFS($AV$6:$AV$1001,$AT$6:$AT$1001,AT1702,$F$6:$F$1001,F1702,$AY$6:$AY$1001,AY1702),0)","v":0},1900,1900,0,0,0,0,0,0,0,0,0,"","",0,0,0,"FORMATO INCORRECTO","FORMATO INCORRECTO","FORMATO INCORRECTO",{"$f":"IF(L1702=\"\",\"\",IF(ISERROR(edata(L1702)),\"FORMATO INCORRECTO\",\"FORMATO CORRECTO\"))","v":""},{"$f":"IF(U1702=\"\",\"\",IF(ISERROR(edata(U1702)),\"FORMATO INCORRECTO\",\"FORMATO CORRECTO\"))","v":""},{"$f":"IF(N1702=\"\",\"\",IF(ISERROR(edata(N1702)),\"FORMATO INCORRECTO\",\"FORMATO CORRECTO\"))","v":""}]
["1915-08-17","",null,null,null,null,null,null,"",null,null,null,null,null,null,null,null,"",null,null,null,null,null,null,null,null,"",null,"",null,null,"",null,null,null,null,null,0,0,0,0,0,{"$f":"IF(AO1710<>0,SUMIFS($AP$6:$AP$1001,$AN$6:$AN$1001,AN1710,$F$6:$F$1001,F1710,$AX$6:$AX$1001,AX1710),0)","v":0},0,{"$f":"IF(AO1710<>0,SUMIFS($AP$6:$AP$1001,$AR$6:$AR$1001,AR1710,$F$6:$F$1001,F1710,$AX$6:$AX$1001,AX1710),0)","v":0},0,0,0,{"$f":"IF(AU1710<>0,SUMIFS($AV$6:$AV$1001,$AT$6:$AT$1001,AT1710,$F$6:$F$1001,F1710,$AY$6:$AY$1001,AY1710),0)","v":0},1900,1900,0,0,0,0,0,0,0,0,0,"","",0,0,0,"FORMATO INCORRECTO","FORMATO INCORRECTO","FORMATO INCORRECTO",{"$f":"IF(L1710=\"\",\"\",IF(ISERROR(edata(L1710)),\"FORMATO INCORRECTO\",\"FORMATO CORRECTO\"))","v":""},{"$f":"IF(U1710=\"\",\"\",IF(ISERROR(edata(U1710)),\"FORMATO INCORRECTO\",\"FORMATO CORRECTO\"))","v":""},{"$f":"IF(N1710=\"\",\"\",IF(ISERROR(edata(N1710)),\"FORMATO INCORRECTO\",\"FORMATO CORRECTO\"))","v":""}]
["1915-08-24","",null,null,null,null,null,null,"",null,null,null,null,null,null,null,null,"",null,null,null,null,null,null,null,null,"",null,"",null,null,"",null,null,null,null,null,0,0,0,0,0,{"$f":"IF(AO1717<>0,SUMIFS($AP$6:$AP$1001,$AN$6:$AN$1001,AN1717,$F$6:$F$1001,F1717,$AX$6:$AX$1001,AX1717),0)","v":0},0,{"$f":"IF(AO1717<>0,SUMIFS($AP$6:$AP$1001,$AR$6:$AR$1001,AR1717,$F$6:$F$1001,F1717,$AX$6:$AX$1001,AX1717),0)","v":0},0,0,0,{"$f":"IF(AU1717<>0,SUMIFS($AV$6:$AV$1001,$AT$6:$AT$1001,AT1717,$F$6:$F$1001,F1717,$AY$6:$AY$1001,AY1717),0)","v":0},1900,1900,0,0,0,0,0,0,0,0,0,"","",0,0,0,"FORMATO INCORRECTO","FORMATO INCORRECTO","FORMATO INCORRECTO",{"$f":"IF(L1717=\"\",\"\",IF(ISERROR(edata(L1717)),\"FORMATO INCORRECTO\",\"FORMATO CORRECTO\"))","v":""},{"$f":"IF(U1717=\"\",\"\",IF(ISERROR(edata(U1717)),\"FORMATO INCORRECTO\",\"FORMATO CORRECTO\"))","v":""},{"$f":"IF(N1717=\"\",\"\",IF(ISERROR(edata(N1717)),\"FORMATO INCORRECTO\",\"FORMATO CORRECTO\"))","v":""}]
["1915-09-05","",null,null,null,null,null,null,"",null,null,null,null,null,null,null,null,"",null,null,null,null,null,null,null,null,"",null,"",null,null,"",null,null,null,null,null,0,0,0,0,0,{"$f":"IF(AO1729<>0,SUMIFS($AP$6:$AP$1001,$AN$6:$AN$1001,AN1729,$F$6:$F$1001,F1729,$AX$6:$AX$1001,AX1729),0)","v":0},0,{"$f":"IF(AO1729<>0,SUMIFS($AP$6:$AP$1001,$AR$6:$AR$1001,AR1729,$F$6:$F$1001,F1729,$AX$6:$AX$1001,AX1729),0)","v":0},0,0,0,{"$f":"IF(AU1729<>0,SUMIFS($AV$6:$AV$1001,$AT$6:$AT$1001,AT1729,$F$6:$F$1001,F1729,$AY$6:$AY$1001,AY1729),0)","v":0},1900,1900,0,0,0,0,0,0,0,0,0,"","",0,0,0,"FORMATO INCORRECTO","FORMATO INCORRECTO","FORMATO INCORRECTO",{"$f":"IF(L1729=\"\",\"\",IF(ISERROR(edata(L1729)),\"FORMATO INCORRECTO\",\"FORMATO CORRECTO\"))","v":""},{"$f":"IF(U1729=\"\",\"\",IF(ISERROR(edata(U1729)),\"FORMATO INCORRECTO\",\"FORMATO CORRECTO\"))","v":""},{"$f":"IF(N1729=\"\",\"\",IF(ISERROR(edata(N1729)),\"FORMATO INCORRECTO\",\"FORMATO CORRECTO\"))","v":""}]
["1915-09-17","",null,null,null,null,null,null,"",null,null,null,null,null,null,null,null,"",null,null,null,null,null,null,null,null,"",null,"",null,null,"",null,null,null,null,null,0,0,0,0,0,{"$f":"IF(AO1741<>0,SUMIFS($AP$6:$AP$1001,$AN$6:$AN$1001,AN1741,$F$6:$F$1001,F1741,$AX$6:$AX$1001,AX1741),0)","v":0},0,{"$f":"IF(AO1741<>0,SUMIFS($AP$6:$AP$1001,$AR$6:$AR$1001,AR1741,$F$6:$F$1001,F1741,$AX$6:$AX$1001,AX1741),0)","v":0},0,0,0,{"$f":"IF(AU1741<>0,SUMIFS($AV$6:$AV$1001,$AT$6:$AT$1001,AT1741,$F$6:$F$1001,F1741,$AY$6:$AY$1001,AY1741),0)","v":0},1900,1900,0,0,0,0,0,0,0,0,0,"","",0,0,0,"FORMATO INCORRECTO","FORMATO INCORRECTO","FORMATO INCORRECTO",{"$f":"IF(L1741=\"\",\"\",IF(ISERROR(edata(L1741)),\"FORMATO INCORRECTO\",\"FORMATO CORRECTO\"))","v":""},{"$f":"IF(U1741=\"\",\"\",IF(ISERROR(edata(U1741)),\"FORMATO INCORRECTO\",\"FORMATO CORRECTO\"))","v":""},{"$f":"IF(N1741=\"\",\"\",IF(ISERROR(edata(N1741)),\"FORMATO INCORRECTO\",\"FORMATO CORRECTO\"))","v":""}]
["1915-09-23","",null,null,null,null,null,null,"",null,null,null,null,null,null,null,null,"",null,null,null,null,null,null,null,null,"",null,"",null,null,"",null,null,null,null,null,0,0,0,0,0,{"$f":"IF(AO1747<>0,SUMIFS($AP$6:$AP$1001,$AN$6:$AN$1001,AN1747,$F$6:$F$1001,F1747,$AX$6:$AX$1001,AX1747),0)","v":0},0,{"$f":"IF(AO1747<>0,SUMIFS($AP$6:$AP$1001,$AR$6:$AR$1001,AR1747,$F$6:$F$1001,F1747,$AX$6:$AX$1001,AX1747),0)","v":0},0,0,0,{"$f":"IF(AU1747<>0,SUMIFS($AV$6:$AV$1001,$AT$6:$AT$1001,AT1747,$F$6:$F$1001,F1747,$AY$6:$AY$1001,AY1747),0)","v":0},1900,1900,0,0,0,0,0,0,0,0,0,"","",0,0,0,"FORMATO INCORRECTO","FORMATO INCORRECTO","FORMATO INCORRECTO",{"$f":"IF(L1747=\"\",\"\",IF(ISERROR(edata(L1747)),\"FORMATO INCORRECTO\",\"FORMATO CORRECTO\"))","v":""},{"$f":"IF(U1747=\"\",\"\",IF(ISERROR(edata(U1747)),\"FORMATO INCORRECTO\",\"FORMATO CORRECTO\"))","v":""},{"$f":"IF(N1747=\"\",\"\",IF(ISERROR(edata(N1747)),\"FORMATO INCORRECTO\",\"FORMATO CORRECTO\"))","v":""}]
["1915-10-05","",null,null,null,null,null,null,"",null,null,null,null,null,null,null,null,"",null,null,null,null,null,null,null,null,"",null,"",null,null,"",null,null,null,null,null,0,0,0,0,0,{"$f":"IF(AO1759<>0,SUMIFS($AP$6:$AP$1001,$AN$6:$AN$1001,AN1759,$F$6:$F$1001,F1759,$AX$6:$AX$1001,AX1759),0)","v":0},0,{"$f":"IF(AO1759<>0,SUMIFS($AP$6:$AP$1001,$AR$6:$AR$1001,AR1759,$F$6:$F$1001,F1759,$AX$6:$AX$1001,AX1759),0)","v":0},0,0,0,{"$f":"IF(AU1759<>0,SUMIFS($AV$6:$AV$1001,$AT$6:$AT$1001,AT1759,$F$6:$F$1001,F1759,$AY$6:$AY$1001,AY1759),0)","v":0},1900,1900,0,0,0,0,0,0,0,0,0,"","",0,0,0,"FORMATO INCORRECTO","FORMATO INCORRECTO","FORMATO INCORRECTO",{"$f":"IF(L1759=\"\",\"\",IF(ISERROR(edata(L1759)),\"FORMATO INCORRECTO\",\"FORMATO CORRECTO\"))","v":""},{"$f":"IF(U1759=\"\",\"\",IF(ISERROR(edata(U1759)),\"FORMATO INCORRECTO\",\"FORMATO CORRECTO\"))","v":""},{"$f":"IF(N1759=\"\",\"\",IF(ISERROR(edata(N1759)),\"FORMATO INCORRECTO\",\"FORMATO CORRECTO\"))","v":""}]
["1915-10-12","",null,null,null,null,null,null,"",null,null,null,null,null,null,null,null,"",null,null,null,null,null,null,null,null,"",null,"",null,null,"",null,null,null,null,null,0,0,0,0,0,{"$f":"IF(AO1766<>0,SUMIFS($AP$6:$AP$1001,$AN$6:$AN$1001,AN1766,$F$6:$F$1001,F1766,$AX$6:$AX$1001,AX1766),0)","v":0},0,{"$f":"IF(AO1766<>0,SUMIFS($AP$6:$AP$1001,$AR$6:$AR$1001,AR1766,$F$6:$F$1001,F1766,$AX$6:$AX$1001,AX1766),0)","v":0},0,0,0,{"$f":"IF(AU1766<>0,SUMIFS($AV$6:$AV$1001,$AT$6:$AT$1001,AT1766,$F$6:$F$1001,F1766,$AY$6:$AY$1001,AY1766),0)","v":0},1900,1900,0,0,0,0,0,0,0,0,0,"","",0,0,0,"FORMATO INCORRECTO","FORMATO INCORRECTO","FORMATO INCORRECTO",{"$f":"IF(L1766=\"\",\"\",IF(ISERROR(edata(L1766)),\"FORMATO INCORRECTO\",\"FORMATO CORRECTO\"))","v":""},{"$f":"IF(U1766=\"\",\"\",IF(ISERROR(edata(U1766)),\"FORMATO INCORRECTO\",\"FORMATO CORRECTO\"))","v":""},{"$f":"IF(N1766=\"\",\"\",IF(ISERROR(edata(N1766)),\"FORMATO INCORRECTO\",\"FORMATO CORRECTO\"))","v":""}]
["1915-10-18","",null,null,null,null,null,null,"",null,null,null,null,null,null,null,null,"",null,null,null,null,null,null,null,null,"",null,"",null,null,"",null,null,null,null,null,0,0,0,0,0,{"$f":"IF(AO1772<>0,SUMIFS($AP$6:$AP$1001,$AN$6:$AN$1001,AN1772,$F$6:$F$1001,F1772,$AX$6:$AX$1001,AX1772),0)","v":0},0,{"$f":"IF(AO1772<>0,SUMIFS($AP$6:$AP$1001,$AR$6:$AR$1001,AR1772,$F$6:$F$1001,F1772,$AX$6:$AX$1001,AX1772),0)","v":0},0,0,0,{"$f":"IF(AU1772<>0,SUMIFS($AV$6:$AV$1001,$AT$6:$AT$1001,AT1772,$F$6:$F$1001,F1772,$AY$6:$AY$1001,AY1772),0)","v":0},1900,1900,0,0,0,0,0,0,0,0,0,"","",0,0,0,"FORMATO INCORRECTO","FORMATO INCORRECTO","FORMATO INCORRECTO",{"$f":"IF(L1772=\"\",\"\",IF(ISERROR(edata(L1772)),\"FORMATO INCORRECTO\",\"FORMATO CORRECTO\"))","v":""},{"$f":"IF(U1772=\"\",\"\",IF(ISERROR(edata(U1772)),\"FORMATO INCORRECTO\",\"FORMATO CORRECTO\"))","v":""},{"$f":"IF(N1772=\"\",\"\",IF(ISERROR(edata(N1772)),\"FORMATO INCORRECTO\",\"FORMATO CORRECTO\"))","v":""}]
["1915-10-26","",null,null,null,null,null,null,"",null,null,null,null,null,null,null,null,"",null,null,null,null,null,null,null,null,"",null,"",null,null,"",null,null,null,null,null,0,0,0,0,0,{"$f":"IF(AO1780<>0,SUMIFS($AP$6:$AP$1001,$AN$6:$AN$1001,AN1780,$F$6:$F$1001,F1780,$AX$6:$AX$1001,AX1780),0)","v":0},0,{"$f":"IF(AO1780<>0,SUMIFS($AP$6:$AP$1001,$AR$6:$AR$1001,AR1780,$F$6:$F$1001,F1780,$AX$6:$AX$1001,AX1780),0)","v":0},0,0,0,{"$f":"IF(AU1780<>0,SUMIFS($AV$6:$AV$1001,$AT$6:$AT$1001,AT1780,$F$6:$F$1001,F1780,$AY$6:$AY$1001,AY1780),0)","v":0},1900,1900,0,0,0,0,0,0,0,0,0,"","",0,0,0,"FORMATO INCORRECTO","FORMATO INCORRECTO","FORMATO INCORRECTO",{"$f":"IF(L1780=\"\",\"\",IF(ISERROR(edata(L1780)),\"FORMATO INCORRECTO\",\"FORMATO CORRECTO\"))","v":""},{"$f":"IF(U1780=\"\",\"\",IF(ISERROR(edata(U1780)),\"FORMATO INCORRECTO\",\"FORMATO CORRECTO\"))","v":""},{"$f":"IF(N1780=\"\",\"\",IF(ISERROR(edata(N1780)),\"FORMATO INCORRECTO\",\"FORMATO CORRECTO\"))","v":""}]
["1915-11-02","",null,null,null,null,null,null,"",null,null,null,null,null,null,null,null,"",null,null,null,null,null,null,null,null,"",null,"",null,null,"",null,null,null,null,null,0,0,0,0,0,{"$f":"IF(AO1787<>0,SUMIFS($AP$6:$AP$1001,$AN$6:$AN$1001,AN1787,$F$6:$F$1001,F1787,$AX$6:$AX$1001,AX1787),0)","v":0},0,{"$f":"IF(AO1787<>0,SUMIFS($AP$6:$AP$1001,$AR$6:$AR$1001,AR1787,$F$6:$F$1001,F1787,$AX$6:$AX$1001,AX1787),0)","v":0},0,0,0,{"$f":"IF(AU1787<>0,SUMIFS($AV$6:$AV$1001,$AT$6:$AT$1001,AT1787,$F$6:$F$1001,F1787,$AY$6:$AY$1001,AY1787),0)","v":0},1900,1900,0,0,0,0,0,0,0,0,0,"","",0,0,0,"FORMATO INCORRECTO","FORMATO INCORRECTO","FORMATO INCORRECTO",{"$f":"IF(L1787=\"\",\"\",IF(ISERROR(edata(L1787)),\"FORMATO INCORRECTO\",\"FORMATO CORRECTO\"))","v":""},{"$f":"IF(U1787=\"\",\"\",IF(ISERROR(edata(U1787)),\"FORMATO INCORRECTO\",\"FORMATO CORRECTO\"))","v":""},{"$f":"IF(N1787=\"\",\"\",IF(ISERROR(edata(N1787)),\"FORMATO INCORRECTO\",\"FORMATO CORRECTO\"))","v":""}]
["1915-11-14","",null,null,null,null,null,null,"",null,null,null,null,null,null,null,null,"",null,null,null,null,null,null,null,null,"",null,"",null,null,"",null,null,null,null,null,0,0,0,0,0,{"$f":"IF(AO1799<>0,SUMIFS($AP$6:$AP$1001,$AN$6:$AN$1001,AN1799,$F$6:$F$1001,F1799,$AX$6:$AX$1001,AX1799),0)","v":0},0,{"$f":"IF(AO1799<>0,SUMIFS($AP$6:$AP$1001,$AR$6:$AR$1001,AR1799,$F$6:$F$1001,F1799,$AX$6:$AX$1001,AX1799),0)","v":0},0,0,0,{"$f":"IF(AU1799<>0,SUMIFS($AV$6:$AV$1001,$AT$6:$AT$1001,AT1799,$F$6:$F$1001,F1799,$AY$6:$AY$1001,AY1799),0)","v":0},1900,1900,0,0,0,0,0,0,0,0,0,"","",0,0,0,"FORMATO INCORRECTO","FORMATO INCORRECTO","FORMATO INCORRECTO",{"$f":"IF(L1799=\"\",\"\",IF(ISERROR(edata(L1799)),\"FORMATO INCORRECTO\",\"FORMATO CORRECTO\"))","v":""},{"$f":"IF(U1799=\"\",\"\",IF(ISERROR(edata(U1799)),\"FORMATO INCORRECTO\",\"FORMATO CORRECTO\"))","v":""},{"$f":"IF(N1799=\"\",\"\",IF(ISERROR(edata(N1799)),\"FORMATO INCORRECTO\",\"FORMATO CORRECTO\"))","v":""}]
["1915-11-26","",null,null,null,null,null,null,"",null,null,null,null,null,null,null,null,"",null,null,null,null,null,null,null,null,"",null,"",null,null,"",null,null,null,null,null,0,0,0,0,0,{"$f":"IF(AO1811<>0,SUMIFS($AP$6:$AP$1001,$AN$6:$AN$1001,AN1811,$F$6:$F$1001,F1811,$AX$6:$AX$1001,AX1811),0)","v":0},0,{"$f":"IF(AO1811<>0,SUMIFS($AP$6:$AP$1001,$AR$6:$AR$1001,AR1811,$F$6:$F$1001,F1811,$AX$6:$AX$1001,AX1811),0)","v":0},0,0,0,{"$f":"IF(AU1811<>0,SUMIFS($AV$6:$AV$1001,$AT$6:$AT$1001,AT1811,$F$6:$F$1001,F1811,$AY$6:$AY$1001,AY1811),0)","v":0},1900,1900,0,0,0,0,0,0,0,0,0,"","",0,0,0,"FORMATO INCORRECTO","FORMATO INCORRECTO","FORMATO INCORRECTO",{"$f":"IF(L1811=\"\",\"\",IF(ISERROR(edata(L1811)),\"FORMATO INCORRECTO\",\"FORMATO CORRECTO\"))","v":""},{"$f":"IF(U1811=\"\",\"\",IF(ISERROR(edata(U1811)),\"FORMATO INCORRECTO\",\"FORMATO CORRECTO\"))","v":""},{"$f":"IF(N1811=\"\",\"\",IF(ISERROR(edata(N1811)),\"FORMATO INCORRECTO\",\"FORMATO CORRECTO\"))","v":""}]
["1915-12-02","",null,null,null,null,null,null,"",null,null,null,null,null,null,null,null,"",null,null,null,null,null,null,null,null,"",null,"",null,null,"",null,null,null,null,null,0,0,0,0,0,{"$f":"IF(AO1817<>0,SUMIFS($AP$6:$AP$1001,$AN$6:$AN$1001,AN1817,$F$6:$F$1001,F1817,$AX$6:$AX$1001,AX1817),0)","v":0},0,{"$f":"IF(AO1817<>0,SUMIFS($AP$6:$AP$1001,$AR$6:$AR$1001,AR1817,$F$6:$F$1001,F1817,$AX$6:$AX$1001,AX1817),0)","v":0},0,0,0,{"$f":"IF(AU1817<>0,SUMIFS($AV$6:$AV$1001,$AT$6:$AT$1001,AT1817,$F$6:$F$1001,F1817,$AY$6:$AY$1001,AY1817),0)","v":0},1900,1900,0,0,0,0,0,0,0,0,0,"","",0,0,0,"FORMATO INCORRECTO","FORMATO INCORRECTO","FORMATO INCORRECTO",{"$f":"IF(L1817=\"\",\"\",IF(ISERROR(edata(L1817)),\"FORMATO INCORRECTO\",\"FORMATO CORRECTO\"))","v":""},{"$f":"IF(U1817=\"\",\"\",IF(ISERROR(edata(U1817)),\"FORMATO INCORRECTO\",\"FORMATO CORRECTO\"))","v":""},{"$f":"IF(N1817=\"\",\"\",IF(ISERROR(edata(N1817)),\"FORMATO INCORRECTO\",\"FORMATO CORRECTO\"))","v":""}]
["1915-12-14","",null,null,null,null,null,null,"",null,null,null,null,null,null,null,null,"",null,null,null,null,null,null,null,null,"",null,"",null,null,"",null,null,null,null,null,0,0,0,0,0,{"$f":"IF(AO1829<>0,SUMIFS($AP$6:$AP$1001,$AN$6:$AN$1001,AN1829,$F$6:$F$1001,F1829,$AX$6:$AX$1001,AX1829),0)","v":0},0,{"$f":"IF(AO1829<>0,SUMIFS($AP$6:$AP$1001,$AR$6:$AR$1001,AR1829,$F$6:$F$1001,F1829,$AX$6:$AX$1001,AX1829),0)","v":0},0,0,0,{"$f":"IF(AU1829<>0,SUMIFS($AV$6:$AV$1001,$AT$6:$AT$1001,AT1829,$F$6:$F$1001,F1829,$AY$6:$AY$1001,AY1829),0)","v":0},1900,1900,0,0,0,0,0,0,0,0,0,"","",0,0,0,"FORMATO INCORRECTO","FORMATO INCORRECTO","FORMATO INCORRECTO",{"$f":"IF(L1829=\"\",\"\",IF(ISERROR(edata(L1829)),\"FORMATO INCORRECTO\",\"FORMATO CORRECTO\"))","v":""},{"$f":"IF(U1829=\"\",\"\",IF(ISERROR(edata(U1829)),\"FORMATO INCORRECTO\",\"FORMATO CORRECTO\"))","v":""},{"$f":"IF(N1829=\"\",\"\",IF(ISERROR(edata(N1829)),\"FORMATO INCORRECTO\",\"FORMATO CORRECTO\"))","v":""}]
["1915-12-21","",null,null,null,null,null,null,"",null,null,null,null,null,null,null,null,"",null,null,null,null,null,null,null,null,"",null,"",null,null,"",null,null,null,null,null,0,0,0,0,0,{"$f":"IF(AO1836<>0,SUMIFS($AP$6:$AP$1001,$AN$6:$AN$1001,AN1836,$F$6:$F$1001,F1836,$AX$6:$AX$1001,AX1836),0)","v":0},0,{"$f":"IF(AO1836<>0,SUMIFS($AP$6:$AP$1001,$AR$6:$AR$1001,AR1836,$F$6:$F$1001,F1836,$AX$6:$AX$1001,AX1836),0)","v":0},0,0,0,{"$f":"IF(AU1836<>0,SUMIFS($AV$6:$AV$1001,$AT$6:$AT$1001,AT1836,$F$6:$F$1001,F1836,$AY$6:$AY$1001,AY1836),0)","v":0},1900,1900,0,0,0,0,0,0,0,0,0,"","",0,0,0,"FORMATO INCORRECTO","FORMATO INCORRECTO","FORMATO INCORRECTO",{"$f":"IF(L1836=\"\",\"\",IF(ISERROR(edata(L1836)),\"FORMATO INCORRECTO\",\"FORMATO CORRECTO\"))","v":""},{"$f":"IF(U1836=\"\",\"\",IF(ISERROR(edata(U1836)),\"FORMATO INCORRECTO\",\"FORMATO CORRECTO\"))","v":""},{"$f":"IF(N1836=\"\",\"\",IF(ISERROR(edata(N1836)),\"FORMATO INCORRECTO\",\"FORMATO CORRECTO\"))","v":""}]
["1915-12-27","",null,null,null,null,null,null,"",null,null,null,null,null,null,null,null,"",null,null,null,null,null,null,null,null,"",null,"",null,null,"",null,null,null,null,null,0,0,0,0,0,{"$f":"IF(AO1842<>0,SUMIFS($AP$6:$AP$1001,$AN$6:$AN$1001,AN1842,$F$6:$F$1001,F1842,$AX$6:$AX$1001,AX1842),0)","v":0},0,{"$f":"IF(AO1842<>0,SUMIFS($AP$6:$AP$1001,$AR$6:$AR$1001,AR1842,$F$6:$F$1001,F1842,$AX$6:$AX$1001,AX1842),0)","v":0},0,0,0,{"$f":"IF(AU1842<>0,SUMIFS($AV$6:$AV$1001,$AT$6:$AT$1001,AT1842,$F$6:$F$1001,F1842,$AY$6:$AY$1001,AY1842),0)","v":0},1900,1900,0,0,0,0,0,0,0,0,0,"","",0,0,0,"FORMATO INCORRECTO","FORMATO INCORRECTO","FORMATO INCORRECTO",{"$f":"IF(L1842=\"\",\"\",IF(ISERROR(edata(L1842)),\"FORMATO INCORRECTO\",\"FORMATO CORRECTO\"))","v":""},{"$f":"IF(U1842=\"\",\"\",IF(ISERROR(edata(U1842)),\"FORMATO INCORRECTO\",\"FORMATO CORRECTO\"))","v":""},{"$f":"IF(N1842=\"\",\"\",IF(ISERROR(edata(N1842)),\"FORMATO INCORRECTO\",\"FORMATO CORRECTO\"))","v":""}]
["1916-01-04","",null,null,null,null,null,null,"",null,null,null,null,null,null,null,null,"",null,null,null,null,null,null,null,null,"",null,"",null,null,"",null,null,null,null,null,0,0,0,0,0,{"$f":"IF(AO1850<>0,SUMIFS($AP$6:$AP$1001,$AN$6:$AN$1001,AN1850,$F$6:$F$1001,F1850,$AX$6:$AX$1001,AX1850),0)","v":0},0,{"$f":"IF(AO1850<>0,SUMIFS($AP$6:$AP$1001,$AR$6:$AR$1001,AR1850,$F$6:$F$1001,F1850,$AX$6:$AX$1001,AX1850),0)","v":0},0,0,0,{"$f":"IF(AU1850<>0,SUMIFS($AV$6:$AV$1001,$AT$6:$AT$1001,AT1850,$F$6:$F$1001,F1850,$AY$6:$AY$1001,AY1850),0)","v":0},1900,1900,0,0,0,0,0,0,0,0,0,"","",0,0,0,"FORMATO INCORRECTO","FORMATO INCORRECTO","FORMATO INCORRECTO",{"$f":"IF(L1850=\"\",\"\",IF(ISERROR(edata(L1850)),\"FORMATO INCORRECTO\",\"FORMATO CORRECTO\"))","v":""},{"$f":"IF(U1850=\"\",\"\",IF(ISERROR(edata(U1850)),\"FORMATO INCORRECTO\",\"FORMATO CORRECTO\"))","v":""},{"$f":"IF(N1850=\"\",\"\",IF(ISERROR(edata(N1850)),\"FORMATO INCORRECTO\",\"FORMATO CORRECTO\"))","v":""}]
["1916-01-11","",null,null,null,null,null,null,"",null,null,null,null,null,null,null,null,"",null,null,null,null,null,null,null,null,"",null,"",null,null,"",null,null,null,null,null,0,0,0,0,0,{"$f":"IF(AO1857<>0,SUMIFS($AP$6:$AP$1001,$AN$6:$AN$1001,AN1857,$F$6:$F$1001,F1857,$AX$6:$AX$1001,AX1857),0)","v":0},0,{"$f":"IF(AO1857<>0,SUMIFS($AP$6:$AP$1001,$AR$6:$AR$1001,AR1857,$F$6:$F$1001,F1857,$AX$6:$AX$1001,AX1857),0)","v":0},0,0,0,{"$f":"IF(AU1857<>0,SUMIFS($AV$6:$AV$1001,$AT$6:$AT$1001,AT1857,$F$6:$F$1001,F1857,$AY$6:$AY$1001,AY1857),0)","v":0},1900,1900,0,0,0,0,0,0,0,0,0,"","",0,0,0,"FORMATO INCORRECTO","FORMATO INCORRECTO","FORMATO INCORRECTO",{"$f":"IF(L1857=\"\",\"\",IF(ISERROR(edata(L1857)),\"FORMATO INCORRECTO\",\"FORMATO CORRECTO\"))","v":""},{"$f":"IF(U1857=\"\",\"\",IF(ISERROR(edata(U1857)),\"FORMATO INCORRECTO\",\"FORMATO CORRECTO\"))","v":""},{"$f":"IF(N1857=\"\",\"\",IF(ISERROR(edata(N1857)),\"FORMATO INCORRECTO\",\"FORMATO CORRECTO\"))","v":""}]
["1916-01-23","",null,null,null,null,null,null,"",null,null,null,null,null,null,null,null,"",null,null,null,null,null,null,null,null,"",null,"",null,null,"",null,null,null,null,null,0,0,0,0,0,{"$f":"IF(AO1869<>0,SUMIFS($AP$6:$AP$1001,$AN$6:$AN$1001,AN1869,$F$6:$F$1001,F1869,$AX$6:$AX$1001,AX1869),0)","v":0},0,{"$f":"IF(AO1869<>0,SUMIFS($AP$6:$AP$1001,$AR$6:$AR$1001,AR1869,$F$6:$F$1001,F1869,$AX$6:$AX$1001,AX1869),0)","v":0},0,0,0,{"$f":"IF(AU1869<>0,SUMIFS($AV$6:$AV$1001,$AT$6:$AT$1001,AT1869,$F$6:$F$1001,F1869,$AY$6:$AY$1001,AY1869),0)","v":0},1900,1900,0,0,0,0,0,0,0,0,0,"","",0,0,0,"FORMATO INCORRECTO","FORMATO INCORRECTO","FORMATO INCORRECTO",{"$f":"IF(L1869=\"\",\"\",IF(ISERROR(edata(L1869)),\"FORMATO INCORRECTO\",\"FORMATO CORRECTO\"))","v":""},{"$f":"IF(U1869=\"\",\"\",IF(ISERROR(edata(U1869)),\"FORMATO INCORRECTO\",\"FORMATO CORRECTO\"))","v":""},{"$f":"IF(N1869=\"\",\"\",IF(ISERROR(edata(N1869)),\"FORMATO INCORRECTO\",\"FORMATO CORRECTO\"))","v":""}]
["1916-02-04","",null,null,null,null,null,null,"",null,null,null,null,null,null,null,null,"",null,null,null,null,null,null,null,null,"",null,"",null,null,"",null,null,null,null,null,0,0,0,0,0,{"$f":"IF(AO1881<>0,SUMIFS($AP$6:$AP$1001,$AN$6:$AN$1001,AN1881,$F$6:$F$1001,F1881,$AX$6:$AX$1001,AX1881),0)","v":0},0,{"$f":"IF(AO1881<>0,SUMIFS($AP$6:$AP$1001,$AR$6:$AR$1001,AR1881,$F$6:$F$1001,F1881,$AX$6:$AX$1001,AX1881),0)","v":0},0,0,0,{"$f":"IF(AU1881<>0,SUMIFS($AV$6:$AV$1001,$AT$6:$AT$1001,AT1881,$F$6:$F$1001,F1881,$AY$6:$AY$1001,AY1881),0)","v":0},1900,1900,0,0,0,0,0,0,0,0,0,"","",0,0,0,"FORMATO INCORRECTO","FORMATO INCORRECTO","FORMATO INCORRECTO",{"$f":"IF(L1881=\"\",\"\",IF(ISERROR(edata(L1881)),\"FORMATO INCORRECTO\",\"FORMATO CORRECTO\"))","v":""},{"$f":"IF(U1881=\"\",\"\",IF(ISERROR(edata(U1881)),\"FORMATO INCORRECTO\",\"FORMATO CORRECTO\"))","v":""},{"$f":"IF(N1881=\"\",\"\",IF(ISERROR(edata(N1881)),\"FORMATO INCORRECTO\",\"FORMATO CORRECTO\"))","v":""}]
["1916-02-10","",null,null,null,null,null,null,"",null,null,null,null,null,null,null,null,"",null,null,null,null,null,null,null,null,"",null,"",null,null,"",null,null,null,null,null,0,0,0,0,0,{"$f":"IF(AO1887<>0,SUMIFS($AP$6:$AP$1001,$AN$6:$AN$1001,AN1887,$F$6:$F$1001,F1887,$AX$6:$AX$1001,AX1887),0)","v":0},0,{"$f":"IF(AO1887<>0,SUMIFS($AP$6:$AP$1001,$AR$6:$AR$1001,AR1887,$F$6:$F$1001,F1887,$AX$6:$AX$1001,AX1887),0)","v":0},0,0,0,{"$f":"IF(AU1887<>0,SUMIFS($AV$6:$AV$1001,$AT$6:$AT$1001,AT1887,$F$6:$F$1001,F1887,$AY$6:$AY$1001,AY1887),0)","v":0},1900,1900,0,0,0,0,0,0,0,0,0,"","",0,0,0,"FORMATO INCORRECTO","FORMATO INCORRECTO","FORMATO INCORRECTO",{"$f":"IF(L1887=\"\",\"\",IF(ISERROR(edata(L1887)),\"FORMATO INCORRECTO\",\"FORMATO CORRECTO\"))","v":""},{"$f":"IF(U1887=\"\",\"\",IF(ISERROR(edata(U1887)),\"FORMATO INCORRECTO\",\"FORMATO CORRECTO\"))","v":""},{"$f":"IF(N1887=\"\",\"\",IF(ISERROR(edata(N1887)),\"FORMATO INCORRECTO\",\"FORMATO CORRECTO\"))","v":""}]
["1916-02-22","",null,null,null,null,null,null,"",null,null,null,null,null,null,null,null,"",null,null,null,null,null,null,null,null,"",null,"",null,null,"",null,null,null,null,null,0,0,0,0,0,{"$f":"IF(AO1899<>0,SUMIFS($AP$6:$AP$1001,$AN$6:$AN$1001,AN1899,$F$6:$F$1001,F1899,$AX$6:$AX$1001,AX1899),0)","v":0},0,{"$f":"IF(AO1899<>0,SUMIFS($AP$6:$AP$1001,$AR$6:$AR$1001,AR1899,$F$6:$F$1001,F1899,$AX$6:$AX$1001,AX1899),0)","v":0},0,0,0,{"$f":"IF(AU1899<>0,SUMIFS($AV$6:$AV$1001,$AT$6:$AT$1001,AT1899,$F$6:$F$1001,F1899,$AY$6:$AY$1001,AY1899),0)","v":0},1900,1900,0,0,0,0,0,0,0,0,0,"","",0,0,0,"FORMATO INCORRECTO","FORMATO INCORRECTO","FORMATO INCORRECTO",{"$f":"IF(L1899=\"\",\"\",IF(ISERROR(edata(L1899)),\"FORMATO INCORRECTO\",\"FORMATO CORRECTO\"))","v":""},{"$f":"IF(U1899=\"\",\"\",IF(ISERROR(edata(U1899)),\"FORMATO INCORRECTO\",\"FORMATO CORRECTO\"))","v":""},{"$f":"IF(N1899=\"\",\"\",IF(ISERROR(edata(N1899)),\"FORMATO INCORRECTO\",\"FORMATO CORRECTO\"))","v":""}]
["1916-02-29","",null,null,null,null,null,null,"",null,null,null,null,null,null,null,null,"",null,null,null,null,null,null,null,null,"",null,"",null,null,"",null,null,null,null,null,0,0,0,0,0,{"$f":"IF(AO1906<>0,SUMIFS($AP$6:$AP$1001,$AN$6:$AN$1001,AN1906,$F$6:$F$1001,F1906,$AX$6:$AX$1001,AX1906),0)","v":0},0,{"$f":"IF(AO1906<>0,SUMIFS($AP$6:$AP$1001,$AR$6:$AR$1001,AR1906,$F$6:$F$1001,F1906,$AX$6:$AX$1001,AX1906),0)","v":0},0,0,0,{"$f":"IF(AU1906<>0,SUMIFS($AV$6:$AV$1001,$AT$6:$AT$1001,AT1906,$F$6:$F$1001,F1906,$AY$6:$AY$1001,AY1906),0)","v":0},1900,1900,0,0,0,0,0,0,0,0,0,"","",0,0,0,"FORMATO INCORRECTO","FORMATO INCORRECTO","FORMATO INCORRECTO",{"$f":"IF(L1906=\"\",\"\",IF(ISERROR(edata(L1906)),\"FORMATO INCORRECTO\",\"FORMATO CORRECTO\"))","v":""},{"$f":"IF(U1906=\"\",\"\",IF(ISERROR(edata(U1906)),\"FORMATO INCORRECTO\",\"FORMATO CORRECTO\"))","v":""},{"$f":"IF(N1906=\"\",\"\",IF(ISERROR(edata(N1906)),\"FORMATO INCORRECTO\",\"FORMATO CORRECTO\"))","v":""}]
["1916-03-06","",null,null,null,null,null,null,"",null,null,null,null,null,null,null,null,"",null,null,null,null,null,null,null,null,"",null,"",null,null,"",null,null,null,null,null,0,0,0,0,0,{"$f":"IF(AO1912<>0,SUMIFS($AP$6:$AP$1001,$AN$6:$AN$1001,AN1912,$F$6:$F$1001,F1912,$AX$6:$AX$1001,AX1912),0)","v":0},0,{"$f":"IF(AO1912<>0,SUMIFS($AP$6:$AP$1001,$AR$6:$AR$1001,AR1912,$F$6:$F$1001,F1912,$AX$6:$AX$1001,AX1912),0)","v":0},0,0,0,{"$f":"IF(AU1912<>0,SUMIFS($AV$6:$AV$1001,$AT$6:$AT$1001,AT1912,$F$6:$F$1001,F1912,$AY$6:$AY$1001,AY1912),0)","v":0},1900,1900,0,0,0,0,0,0,0,0,0,"","",0,0,0,"FORMATO INCORRECTO","FORMATO INCORRECTO","FORMATO INCORRECTO",{"$f":"IF(L1912=\"\",\"\",IF(ISERROR(edata(L1912)),\"FORMATO INCORRECTO\",\"FORMATO CORRECTO\"))","v":""},{"$f":"IF(U1912=\"\",\"\",IF(ISERROR(edata(U1912)),\"FORMATO INCORRECTO\",\"FORMATO CORRECTO\"))","v":""},{"$f":"IF(N1912=\"\",\"\",IF(ISERROR(edata(N1912)),\"FORMATO INCORRECTO\",\"FORMATO CORRECTO\"))","v":""}]
["1916-03-14","",null,null,null,null,null,null,"",null,null,null,null,null,null,null,null,"",null,null,null,null,null,null,null,null,"",null,"",null,null,"",null,null,null,null,null,0,0,0,0,0,{"$f":"IF(AO1920<>0,SUMIFS($AP$6:$AP$1001,$AN$6:$AN$1001,AN1920,$F$6:$F$1001,F1920,$AX$6:$AX$1001,AX1920),0)","v":0},0,{"$f":"IF(AO1920<>0,SUMIFS($AP$6:$AP$1001,$AR$6:$AR$1001,AR1920,$F$6:$F$1001,F1920,$AX$6:$AX$1001,AX1920),0)","v":0},0,0,0,{"$f":"IF(AU1920<>0,SUMIFS($AV$6:$AV$1001,$AT$6:$AT$1001,AT1920,$F$6:$F$1001,F1920,$AY$6:$AY$1001,AY1920),0)","v":0},1900,1900,0,0,0,0,0,0,0,0,0,"","",0,0,0,"FORMATO INCORRECTO","FORMATO INCORRECTO","FORMATO INCORRECTO",{"$f":"IF(L1920=\"\",\"\",IF(ISERROR(edata(L1920)),\"FORMATO INCORRECTO\",\"FORMATO CORRECTO\"))","v":""},{"$f":"IF(U1920=\"\",\"\",IF(ISERROR(edata(U1920)),\"FORMATO INCORRECTO\",\"FORMATO CORRECTO\"))","v":""},{"$f":"IF(N1920=\"\",\"\",IF(ISERROR(edata(N1920)),\"FORMATO INCORRECTO\",\"FORMATO CORRECTO\"))","v":""}]
["1916-03-21","",null,null,null,null,null,null,"",null,null,null,null,null,null,null,null,"",null,null,null,null,null,null,null,null,"",null,"",null,null,"",null,null,null,null,null,0,0,0,0,0,{"$f":"IF(AO1927<>0,SUMIFS($AP$6:$AP$1001,$AN$6:$AN$1001,AN1927,$F$6:$F$1001,F1927,$AX$6:$AX$1001,AX1927),0)","v":0},0,{"$f":"IF(AO1927<>0,SUMIFS($AP$6:$AP$1001,$AR$6:$AR$1001,AR1927,$F$6:$F$1001,F1927,$AX$6:$AX$1001,AX1927),0)","v":0},0,0,0,{"$f":"IF(AU1927<>0,SUMIFS($AV$6:$AV$1001,$AT$6:$AT$1001,AT1927,$F$6:$F$1001,F1927,$AY$6:$AY$1001,AY1927),0)","v":0},1900,1900,0,0,0,0,0,0,0,0,0,"","",0,0,0,"FORMATO INCORRECTO","FORMATO INCORRECTO","FORMATO INCORRECTO",{"$f":"IF(L1927=\"\",\"\",IF(ISERROR(edata(L1927)),\"FORMATO INCORRECTO\",\"FORMATO CORRECTO\"))","v":""},{"$f":"IF(U1927=\"\",\"\",IF(ISERROR(edata(U1927)),\"FORMATO INCORRECTO\",\"FORMATO CORRECTO\"))","v":""},{"$f":"IF(N1927=\"\",\"\",IF(ISERROR(edata(N1927)),\"FORMATO INCORRECTO\",\"FORMATO CORRECTO\"))","v":""}]
["1916-04-02","",null,null,null,null,null,null,"",null,null,null,null,null,null,null,null,"",null,null,null,null,null,null,null,null,"",null,"",null,null,"",null,null,null,null,null,0,0,0,0,0,{"$f":"IF(AO1939<>0,SUMIFS($AP$6:$AP$1001,$AN$6:$AN$1001,AN1939,$F$6:$F$1001,F1939,$AX$6:$AX$1001,AX1939),0)","v":0},0,{"$f":"IF(AO1939<>0,SUMIFS($AP$6:$AP$1001,$AR$6:$AR$1001,AR1939,$F$6:$F$1001,F1939,$AX$6:$AX$1001,AX1939),0)","v":0},0,0,0,{"$f":"IF(AU1939<>0,SUMIFS($AV$6:$AV$1001,$AT$6:$AT$1001,AT1939,$F$6:$F$1001,F1939,$AY$6:$AY$1001,AY1939),0)","v":0},1900,1900,0,0,0,0,0,0,0,0,0,"","",0,0,0,"FORMATO INCORRECTO","FORMATO INCORRECTO","FORMATO INCORRECTO",{"$f":"IF(L1939=\"\",\"\",IF(ISERROR(edata(L1939)),\"FORMATO INCORRECTO\",\"FORMATO CORRECTO\"))","v":""},{"$f":"IF(U1939=\"\",\"\",IF(ISERROR(edata(U1939)),\"FORMATO INCORRECTO\",\"FORMATO CORRECTO\"))","v":""},{"$f":"IF(N1939=\"\",\"\",IF(ISERROR(edata(N1939)),\"FORMATO INCORRECTO\",\"FORMATO CORRECTO\"))","v":""}]
["1916-04-14","",null,null,null,null,null,null,"",null,null,null,null,null,null,null,null,"",null,null,null,null,null,null,null,null,"",null,"",null,null,"",null,null,null,null,null,0,0,0,0,0,{"$f":"IF(AO1951<>0,SUMIFS($AP$6:$AP$1001,$AN$6:$AN$1001,AN1951,$F$6:$F$1001,F1951,$AX$6:$AX$1001,AX1951),0)","v":0},0,{"$f":"IF(AO1951<>0,SUMIFS($AP$6:$AP$1001,$AR$6:$AR$1001,AR1951,$F$6:$F$1001,F1951,$AX$6:$AX$1001,AX1951),0)","v":0},0,0,0,{"$f":"IF(AU1951<>0,SUMIFS($AV$6:$AV$1001,$AT$6:$AT$1001,AT1951,$F$6:$F$1001,F1951,$AY$6:$AY$1001,AY1951),0)","v":0},1900,1900,0,0,0,0,0,0,0,0,0,"","",0,0,0,"FORMATO INCORRECTO","FORMATO INCORRECTO","FORMATO INCORRECTO",{"$f":"IF(L1951=\"\",\"\",IF(ISERROR(edata(L1951)),\"FORMATO INCORRECTO\",\"FORMATO CORRECTO\"))","v":""},{"$f":"IF(U1951=\"\",\"\",IF(ISERROR(edata(U1951)),\"FORMATO INCORRECTO\",\"FORMATO CORRECTO\"))","v":""},{"$f":"IF(N1951=\"\",\"\",IF(ISERROR(edata(N1951)),\"FORMATO INCORRECTO\",\"FORMATO CORRECTO\"))","v":""}]
["1916-04-20","",null,null,null,null,null,null,"",null,null,null,null,null,null,null,null,"",null,null,null,null,null,null,null,null,"",null,"",null,null,"",null,null,null,null,null,0,0,0,0,0,{"$f":"IF(AO1957<>0,SUMIFS($AP$6:$AP$1001,$AN$6:$AN$1001,AN1957,$F$6:$F$1001,F1957,$AX$6:$AX$1001,AX1957),0)","v":0},0,{"$f":"IF(AO1957<>0,SUMIFS($AP$6:$AP$1001,$AR$6:$AR$1001,AR1957,$F$6:$F$1001,F1957,$AX$6:$AX$1001,AX1957),0)","v":0},0,0,0,{"$f":"IF(AU1957<>0,SUMIFS($AV$6:$AV$1001,$AT$6:$AT$1001,AT1957,$F$6:$F$1001,F1957,$AY$6:$AY$1001,AY1957),0)","v":0},1900,1900,0,0,0,0,0,0,0,0,0,"","",0,0,0,"FORMATO INCORRECTO","FORMATO INCORRECTO","FORMATO INCORRECTO",{"$f":"IF(L1957=\"\",\"\",IF(ISERROR(edata(L1957)),\"FORMATO INCORRECTO\",\"FORMATO CORRECTO\"))","v":""},{"$f":"IF(U1957=\"\",\"\",IF(ISERROR(edata(U1957)),\"FORMATO INCORRECTO\",\"FORMATO CORRECTO\"))","v":""},{"$f":"IF(N1957=\"\",\"\",IF(ISERROR(edata(N1957)),\"FORMATO INCORRECTO\",\"FORMATO CORRECTO\"))","v":""}]
["1916-05-02","",null,null,null,null,null,null,"",null,null,null,null,null,null,null,null,"",null,null,null,null,null,null,null,null,"",null,"",null,null,"",null,null,null,null,null,0,0,0,0,0,{"$f":"IF(AO1969<>0,SUMIFS($AP$6:$AP$1001,$AN$6:$AN$1001,AN1969,$F$6:$F$1001,F1969,$AX$6:$AX$1001,AX1969),0)","v":0},0,{"$f":"IF(AO1969<>0,SUMIFS($AP$6:$AP$1001,$AR$6:$AR$1001,AR1969,$F$6:$F$1001,F1969,$AX$6:$AX$1001,AX1969),0)","v":0},0,0,0,{"$f":"IF(AU1969<>0,SUMIFS($AV$6:$AV$1001,$AT$6:$AT$1001,AT1969,$F$6:$F$1001,F1969,$AY$6:$AY$1001,AY1969),0)","v":0},1900,1900,0,0,0,0,0,0,0,0,0,"","",0,0,0,"FORMATO INCORRECTO","FORMATO INCORRECTO","FORMATO INCORRECTO",{"$f":"IF(L1969=\"\",\"\",IF(ISERROR(edata(L1969)),\"FORMATO INCORRECTO\",\"FORMATO CORRECTO\"))","v":""},{"$f":"IF(U1969=\"\",\"\",IF(ISERROR(edata(U1969)),\"FORMATO INCORRECTO\",\"FORMATO CORRECTO\"))","v":""},{"$f":"IF(N1969=\"\",\"\",IF(ISERROR(edata(N1969)),\"FORMATO INCORRECTO\",\"FORMATO CORRECTO\"))","v":""}]
["1916-05-09","",null,null,null,null,null,null,"",null,null,null,null,null,null,null,null,"",null,null,null,null,null,null,null,null,"",null,"",null,null,"",null,null,null,null,null,0,0,0,0,0,{"$f":"IF(AO1976<>0,SUMIFS($AP$6:$AP$1001,$AN$6:$AN$1001,AN1976,$F$6:$F$1001,F1976,$AX$6:$AX$1001,AX1976),0)","v":0},0,{"$f":"IF(AO1976<>0,SUMIFS($AP$6:$AP$1001,$AR$6:$AR$1001,AR1976,$F$6:$F$1001,F1976,$AX$6:$AX$1001,AX1976),0)","v":0},0,0,0,{"$f":"IF(AU1976<>0,SUMIFS($AV$6:$AV$1001,$AT$6:$AT$1001,AT1976,$F$6:$F$1001,F1976,$AY$6:$AY$1001,AY1976),0)","v":0},1900,1900,0,0,0,0,0,0,0,0,0,"","",0,0,0,"FORMATO INCORRECTO","FORMATO INCORRECTO","FORMATO INCORRECTO",{"$f":"IF(L1976=\"\",\"\",IF(ISERROR(edata(L1976)),\"FORMATO INCORRECTO\",\"FORMATO CORRECTO\"))","v":""},{"$f":"IF(U1976=\"\",\"\",IF(ISERROR(edata(U1976)),\"FORMATO INCORRECTO\",\"FORMATO CORRECTO\"))","v":""},{"$f":"IF(N1976=\"\",\"\",IF(ISERROR(edata(N1976)),\"FORMATO INCORRECTO\",\"FORMATO CORRECTO\"))","v":""}]
["1916-05-15","",null,null,null,null,null,null,"",null,null,null,null,null,null,null,null,"",null,null,null,null,null,null,null,null,"",null,"",null,null,"",null,null,null,null,null,0,0,0,0,0,{"$f":"IF(AO1982<>0,SUMIFS($AP$6:$AP$1001,$AN$6:$AN$1001,AN1982,$F$6:$F$1001,F1982,$AX$6:$AX$1001,AX1982),0)","v":0},0,{"$f":"IF(AO1982<>0,SUMIFS($AP$6:$AP$1001,$AR$6:$AR$1001,AR1982,$F$6:$F$1001,F1982,$AX$6:$AX$1001,AX1982),0)","v":0},0,0,0,{"$f":"IF(AU1982<>0,SUMIFS($AV$6:$AV$1001,$AT$6:$AT$1001,AT1982,$F$6:$F$1001,F1982,$AY$6:$AY$1001,AY1982),0)","v":0},1900,1900,0,0,0,0,0,0,0,0,0,"","",0,0,0,"FORMATO INCORRECTO","FORMATO INCORRECTO","FORMATO INCORRECTO",{"$f":"IF(L1982=\"\",\"\",IF(ISERROR(edata(L1982)),\"FORMATO INCORRECTO\",\"FORMATO CORRECTO\"))","v":""},{"$f":"IF(U1982=\"\",\"\",IF(ISERROR(edata(U1982)),\"FORMATO INCORRECTO\",\"FORMATO CORRECTO\"))","v":""},{"$f":"IF(N1982=\"\",\"\",IF(ISERROR(edata(N1982)),\"FORMATO INCORRECTO\",\"FORMATO CORRECTO\"))","v":""}]
["1916-05-23","",null,null,null,null,null,null,"",null,null,null,null,null,null,null,null,"",null,null,null,null,null,null,null,null,"",null,"",null,null,"",null,null,null,null,null,0,0,0,0,0,{"$f":"IF(AO1990<>0,SUMIFS($AP$6:$AP$1001,$AN$6:$AN$1001,AN1990,$F$6:$F$1001,F1990,$AX$6:$AX$1001,AX1990),0)","v":0},0,{"$f":"IF(AO1990<>0,SUMIFS($AP$6:$AP$1001,$AR$6:$AR$1001,AR1990,$F$6:$F$1001,F1990,$AX$6:$AX$1001,AX1990),0)","v":0},0,0,0,{"$f":"IF(AU1990<>0,SUMIFS($AV$6:$AV$1001,$AT$6:$AT$1001,AT1990,$F$6:$F$1001,F1990,$AY$6:$AY$1001,AY1990),0)","v":0},1900,1900,0,0,0,0,0,0,0,0,0,"","",0,0,0,"FORMATO INCORRECTO","FORMATO INCORRECTO","FORMATO INCORRECTO",{"$f":"IF(L1990=\"\",\"\",IF(ISERROR(edata(L1990)),\"FORMATO INCORRECTO\",\"FORMATO CORRECTO\"))","v":""},{"$f":"IF(U1990=\"\",\"\",IF(ISERROR(edata(U1990)),\"FORMATO INCORRECTO\",\"FORMATO CORRECTO\"))","v":""},{"$f":"IF(N1990=\"\",\"\",IF(ISERROR(edata(N1990)),\"FORMATO INCORRECTO\",\"FORMATO CORRECTO\"))","v":""}]
["1916-05-30","",null,null,null,null,null,null,"",null,null,null,null,null,null,null,null,"",null,null,null,null,null,null,null,null,"",null,"",null,null,"",null,null,null,null,null,0,0,0,0,0,{"$f":"IF(AO1997<>0,SUMIFS($AP$6:$AP$1001,$AN$6:$AN$1001,AN1997,$F$6:$F$1001,F1997,$AX$6:$AX$1001,AX1997),0)","v":0},0,{"$f":"IF(AO1997<>0,SUMIFS($AP$6:$AP$1001,$AR$6:$AR$1001,AR1997,$F$6:$F$1001,F1997,$AX$6:$AX$1001,AX1997),0)","v":0},0,0,0,{"$f":"IF(AU1997<>0,SUMIFS($AV$6:$AV$1001,$AT$6:$AT$1001,AT1997,$F$6:$F$1001,F1997,$AY$6:$AY$1001,AY1997),0)","v":0},1900,1900,0,0,0,0,0,0,0,0,0,"","",0,0,0,"FORMATO INCORRECTO","FORMATO INCORRECTO","FORMATO INCORRECTO",{"$f":"IF(L1997=\"\",\"\",IF(ISERROR(edata(L1997)),\"FORMATO INCORRECTO\",\"FORMATO CORRECTO\"))","v":""},{"$f":"IF(U1997=\"\",\"\",IF(ISERROR(edata(U1997)),\"FORMATO INCORRECTO\",\"FORMATO CORRECTO\"))","v":""},{"$f":"IF(N1997=\"\",\"\",IF(ISERROR(edata(N1997)),\"FORMATO INCORRECTO\",\"FORMATO CORRECTO\"))","v":""}]
["1916-06-11","",null,null,null,null,null,null,"",null,null,null,null,null,null,null,null,"",null,null,null,null,null,null,null,null,"",null,"",null,null,"",null,null,null,null,null,0,0,0,0,0,{"$f":"IF(AO2009<>0,SUMIFS($AP$6:$AP$1001,$AN$6:$AN$1001,AN2009,$F$6:$F$1001,F2009,$AX$6:$AX$1001,AX2009),0)","v":0},0,{"$f":"IF(AO2009<>0,SUMIFS($AP$6:$AP$1001,$AR$6:$AR$1001,AR2009,$F$6:$F$1001,F2009,$AX$6:$AX$1001,AX2009),0)","v":0},0,0,0,{"$f":"IF(AU2009<>0,SUMIFS($AV$6:$AV$1001,$AT$6:$AT$1001,AT2009,$F$6:$F$1001,F2009,$AY$6:$AY$1001,AY2009),0)","v":0},1900,1900,0,0,0,0,0,0,0,0,0,"","",0,0,0,"FORMATO INCORRECTO","FORMATO INCORRECTO","FORMATO INCORRECTO",{"$f":"IF(L2009=\"\",\"\",IF(ISERROR(edata(L2009)),\"FORMATO INCORRECTO\",\"FORMATO CORRECTO\"))","v":""},{"$f":"IF(U2009=\"\",\"\",IF(ISERROR(edata(U2009)),\"FORMATO INCORRECTO\",\"FORMATO CORRECTO\"))","v":""},{"$f":"IF(N2009=\"\",\"\",IF(ISERROR(edata(N2009)),\"FORMATO INCORRECTO\",\"FORMATO CORRECTO\"))","v":""}]
["1916-06-23","",null,null,null,null,null,null,"",null,null,null,null,null,null,null,null,"",null,null,null,null,null,null,null,null,"",null,"",null,null,"",null,null,null,null,null,0,0,0,0,0,{"$f":"IF(AO2021<>0,SUMIFS($AP$6:$AP$1001,$AN$6:$AN$1001,AN2021,$F$6:$F$1001,F2021,$AX$6:$AX$1001,AX2021),0)","v":0},0,{"$f":"IF(AO2021<>0,SUMIFS($AP$6:$AP$1001,$AR$6:$AR$1001,AR2021,$F$6:$F$1001,F2021,$AX$6:$AX$1001,AX2021),0)","v":0},0,0,0,{"$f":"IF(AU2021<>0,SUMIFS($AV$6:$AV$1001,$AT$6:$AT$1001,AT2021,$F$6:$F$1001,F2021,$AY$6:$AY$1001,AY2021),0)","v":0},1900,1900,0,0,0,0,0,0,0,0,0,"","",0,0,0,"FORMATO INCORRECTO","FORMATO INCORRECTO","FORMATO INCORRECTO",{"$f":"IF(L2021=\"\",\"\",IF(ISERROR(edata(L2021)),\"FORMATO INCORRECTO\",\"FORMATO CORRECTO\"))","v":""},{"$f":"IF(U2021=\"\",\"\",IF(ISERROR(edata(U2021)),\"FORMATO INCORRECTO\",\"FORMATO CORRECTO\"))","v":""},{"$f":"IF(N2021=\"\",\"\",IF(ISERROR(edata(N2021)),\"FORMATO INCORRECTO\",\"FORMATO CORRECTO\"))","v":""}]
["1916-06-29","",null,null,null,null,null,null,"",null,null,null,null,null,null,null,null,"",null,null,null,null,null,null,null,null,"",null,"",null,null,"",null,null,null,null,null,0,0,0,0,0,{"$f":"IF(AO2027<>0,SUMIFS($AP$6:$AP$1001,$AN$6:$AN$1001,AN2027,$F$6:$F$1001,F2027,$AX$6:$AX$1001,AX2027),0)","v":0},0,{"$f":"IF(AO2027<>0,SUMIFS($AP$6:$AP$1001,$AR$6:$AR$1001,AR2027,$F$6:$F$1001,F2027,$AX$6:$AX$1001,AX2027),0)","v":0},0,0,0,{"$f":"IF(AU2027<>0,SUMIFS($AV$6:$AV$1001,$AT$6:$AT$1001,AT2027,$F$6:$F$1001,F2027,$AY$6:$AY$1001,AY2027),0)","v":0},1900,1900,0,0,0,0,0,0,0,0,0,"","",0,0,0,"FORMATO INCORRECTO","FORMATO INCORRECTO","FORMATO INCORRECTO",{"$f":"IF(L2027=\"\",\"\",IF(ISERROR(edata(L2027)),\"FORMATO INCORRECTO\",\"FORMATO CORRECTO\"))","v":""},{"$f":"IF(U2027=\"\",\"\",IF(ISERROR(edata(U2027)),\"FORMATO INCORRECTO\",\"FORMATO CORRECTO\"))","v":""},{"$f":"IF(N2027=\"\",\"\",IF(ISERROR(edata(N2027)),\"FORMATO INCORRECTO\",\"FORMATO CORRECTO\"))","v":""}]
["1916-07-11","",null,null,null,null,null,null,"",null,null,null,null,null,null,null,null,"",null,null,null,null,null,null,null,null,"",null,"",null,null,"",null,null,null,null,null,0,0,0,0,0,{"$f":"IF(AO2039<>0,SUMIFS($AP$6:$AP$1001,$AN$6:$AN$1001,AN2039,$F$6:$F$1001,F2039,$AX$6:$AX$1001,AX2039),0)","v":0},0,{"$f":"IF(AO2039<>0,SUMIFS($AP$6:$AP$1001,$AR$6:$AR$1001,AR2039,$F$6:$F$1001,F2039,$AX$6:$AX$1001,AX2039),0)","v":0},0,0,0,{"$f":"IF(AU2039<>0,SUMIFS($AV$6:$AV$1001,$AT$6:$AT$1001,AT2039,$F$6:$F$1001,F2039,$AY$6:$AY$1001,AY2039),0)","v":0},1900,1900,0,0,0,0,0,0,0,0,0,"","",0,0,0,"FORMATO INCORRECTO","FORMATO INCORRECTO","FORMATO INCORRECTO",{"$f":"IF(L2039=\"\",\"\",IF(ISERROR(edata(L2039)),\"FORMATO INCORRECTO\",\"FORMATO CORRECTO\"))","v":""},{"$f":"IF(U2039=\"\",\"\",IF(ISERROR(edata(U2039)),\"FORMATO INCORRECTO\",\"FORMATO CORRECTO\"))","v":""},{"$f":"IF(N2039=\"\",\"\",IF(ISERROR(edata(N2039)),\"FORMATO INCORRECTO\",\"FORMATO CORRECTO\"))","v":""}]
["1916-07-18","",null,null,null,null,null,null,"",null,null,null,null,null,null,null,null,"",null,null,null,null,null,null,null,null,"",null,"",null,null,"",null,null,null,null,null,0,0,0,0,0,{"$f":"IF(AO2046<>0,SUMIFS($AP$6:$AP$1001,$AN$6:$AN$1001,AN2046,$F$6:$F$1001,F2046,$AX$6:$AX$1001,AX2046),0)","v":0},0,{"$f":"IF(AO2046<>0,SUMIFS($AP$6:$AP$1001,$AR$6:$AR$1001,AR2046,$F$6:$F$1001,F2046,$AX$6:$AX$1001,AX2046),0)","v":0},0,0,0,{"$f":"IF(AU2046<>0,SUMIFS($AV$6:$AV$1001,$AT$6:$AT$1001,AT2046,$F$6:$F$1001,F2046,$AY$6:$AY$1001,AY2046),0)","v":0},1900,1900,0,0,0,0,0,0,0,0,0,"","",0,0,0,"FORMATO INCORRECTO","FORMATO INCORRECTO","FORMATO INCORRECTO",{"$f":"IF(L2046=\"\",\"\",IF(ISERROR(edata(L2046)),\"FORMATO INCORRECTO\",\"FORMATO CORRECTO\"))","v":""},{"$f":"IF(U2046=\"\",\"\",IF(ISERROR(edata(U2046)),\"FORMATO INCORRECTO\",\"FORMATO CORRECTO\"))","v":""},{"$f":"IF(N2046=\"\",\"\",IF(ISERROR(edata(N2046)),\"FORMATO INCORRECTO\",\"FORMATO CORRECTO\"))","v":""}]
["1916-07-24","",null,null,null,null,null,null,"",null,null,null,null,null,null,null,null,"",null,null,null,null,null,null,null,null,"",null,"",null,null,"",null,null,null,null,null,0,0,0,0,0,{"$f":"IF(AO2052<>0,SUMIFS($AP$6:$AP$1001,$AN$6:$AN$1001,AN2052,$F$6:$F$1001,F2052,$AX$6:$AX$1001,AX2052),0)","v":0},0,{"$f":"IF(AO2052<>0,SUMIFS($AP$6:$AP$1001,$AR$6:$AR$1001,AR2052,$F$6:$F$1001,F2052,$AX$6:$AX$1001,AX2052),0)","v":0},0,0,0,{"$f":"IF(AU2052<>0,SUMIFS($AV$6:$AV$1001,$AT$6:$AT$1001,AT2052,$F$6:$F$1001,F2052,$AY$6:$AY$1001,AY2052),0)","v":0},1900,1900,0,0,0,0,0,0,0,0,0,"","",0,0,0,"FORMATO INCORRECTO","FORMATO INCORRECTO","FORMATO INCORRECTO",{"$f":"IF(L2052=\"\",\"\",IF(ISERROR(edata(L2052)),\"FORMATO INCORRECTO\",\"FORMATO CORRECTO\"))","v":""},{"$f":"IF(U2052=\"\",\"\",IF(ISERROR(edata(U2052)),\"FORMATO INCORRECTO\",\"FORMATO CORRECTO\"))","v":""},{"$f":"IF(N2052=\"\",\"\",IF(ISERROR(edata(N2052)),\"FORMATO INCORRECTO\",\"FORMATO CORRECTO\"))","v":""}]
["1916-08-01","",null,null,null,null,null,null,"",null,null,null,null,null,null,null,null,"",null,null,null,null,null,null,null,null,"",null,"",null,null,"",null,null,null,null,null,0,0,0,0,0,{"$f":"IF(AO2060<>0,SUMIFS($AP$6:$AP$1001,$AN$6:$AN$1001,AN2060,$F$6:$F$1001,F2060,$AX$6:$AX$1001,AX2060),0)","v":0},0,{"$f":"IF(AO2060<>0,SUMIFS($AP$6:$AP$1001,$AR$6:$AR$1001,AR2060,$F$6:$F$1001,F2060,$AX$6:$AX$1001,AX2060),0)","v":0},0,0,0,{"$f":"IF(AU2060<>0,SUMIFS($AV$6:$AV$1001,$AT$6:$AT$1001,AT2060,$F$6:$F$1001,F2060,$AY$6:$AY$1001,AY2060),0)","v":0},1900,1900,0,0,0,0,0,0,0,0,0,"","",0,0,0,"FORMATO INCORRECTO","FORMATO INCORRECTO","FORMATO INCORRECTO",{"$f":"IF(L2060=\"\",\"\",IF(ISERROR(edata(L2060)),\"FORMATO INCORRECTO\",\"FORMATO CORRECTO\"))","v":""},{"$f":"IF(U2060=\"\",\"\",IF(ISERROR(edata(U2060)),\"FORMATO INCORRECTO\",\"FORMATO CORRECTO\"))","v":""},{"$f":"IF(N2060=\"\",\"\",IF(ISERROR(edata(N2060)),\"FORMATO INCORRECTO\",\"FORMATO CORRECTO\"))","v":""}]
["1916-08-08","",null,null,null,null,null,null,"",null,null,null,null,null,null,null,null,"",null,null,null,null,null,null,null,null,"",null,"",null,null,"",null,null,null,null,null,0,0,0,0,0,{"$f":"IF(AO2067<>0,SUMIFS($AP$6:$AP$1001,$AN$6:$AN$1001,AN2067,$F$6:$F$1001,F2067,$AX$6:$AX$1001,AX2067),0)","v":0},0,{"$f":"IF(AO2067<>0,SUMIFS($AP$6:$AP$1001,$AR$6:$AR$1001,AR2067,$F$6:$F$1001,F2067,$AX$6:$AX$1001,AX2067),0)","v":0},0,0,0,{"$f":"IF(AU2067<>0,SUMIFS($AV$6:$AV$1001,$AT$6:$AT$1001,AT2067,$F$6:$F$1001,F2067,$AY$6:$AY$1001,AY2067),0)","v":0},1900,1900,0,0,0,0,0,0,0,0,0,"","",0,0,0,"FORMATO INCORRECTO","FORMATO INCORRECTO","FORMATO INCORRECTO",{"$f":"IF(L2067=\"\",\"\",IF(ISERROR(edata(L2067)),\"FORMATO INCORRECTO\",\"FORMATO CORRECTO\"))","v":""},{"$f":"IF(U2067=\"\",\"\",IF(ISERROR(edata(U2067)),\"FORMATO INCORRECTO\",\"FORMATO CORRECTO\"))","v":""},{"$f":"IF(N2067=\"\",\"\",IF(ISERROR(edata(N2067)),\"FORMATO INCORRECTO\",\"FORMATO CORRECTO\"))","v":""}]
["1916-08-20","",null,null,null,null,null,null,"",null,null,null,null,null,null,null,null,"",null,null,null,null,null,null,null,null,"",null,"",null,null,"",null,null,null,null,null,0,0,0,0,0,{"$f":"IF(AO2079<>0,SUMIFS($AP$6:$AP$1001,$AN$6:$AN$1001,AN2079,$F$6:$F$1001,F2079,$AX$6:$AX$1001,AX2079),0)","v":0},0,{"$f":"IF(AO2079<>0,SUMIFS($AP$6:$AP$1001,$AR$6:$AR$1001,AR2079,$F$6:$F$1001,F2079,$AX$6:$AX$1001,AX2079),0)","v":0},0,0,0,{"$f":"IF(AU2079<>0,SUMIFS($AV$6:$AV$1001,$AT$6:$AT$1001,AT2079,$F$6:$F$1001,F2079,$AY$6:$AY$1001,AY2079),0)","v":0},1900,1900,0,0,0,0,0,0,0,0,0,"","",0,0,0,"FORMATO INCORRECTO","FORMATO INCORRECTO","FORMATO INCORRECTO",{"$f":"IF(L2079=\"\",\"\",IF(ISERROR(edata(L2079)),\"FORMATO INCORRECTO\",\"FORMATO CORRECTO\"))","v":""},{"$f":"IF(U2079=\"\",\"\",IF(ISERROR(edata(U2079)),\"FORMATO INCORRECTO\",\"FORMATO CORRECTO\"))","v":""},{"$f":"IF(N2079=\"\",\"\",IF(ISERROR(edata(N2079)),\"FORMATO INCORRECTO\",\"FORMATO CORRECTO\"))","v":""}]
["1916-09-01","",null,null,null,null,null,null,"",null,null,null,null,null,null,null,null,"",null,null,null,null,null,null,null,null,"",null,"",null,null,"",null,null,null,null,null,0,0,0,0,0,{"$f":"IF(AO2091<>0,SUMIFS($AP$6:$AP$1001,$AN$6:$AN$1001,AN2091,$F$6:$F$1001,F2091,$AX$6:$AX$1001,AX2091),0)","v":0},0,{"$f":"IF(AO2091<>0,SUMIFS($AP$6:$AP$1001,$AR$6:$AR$1001,AR2091,$F$6:$F$1001,F2091,$AX$6:$AX$1001,AX2091),0)","v":0},0,0,0,{"$f":"IF(AU2091<>0,SUMIFS($AV$6:$AV$1001,$AT$6:$AT$1001,AT2091,$F$6:$F$1001,F2091,$AY$6:$AY$1001,AY2091),0)","v":0},1900,1900,0,0,0,0,0,0,0,0,0,"","",0,0,0,"FORMATO INCORRECTO","FORMATO INCORRECTO","FORMATO INCORRECTO",{"$f":"IF(L2091=\"\",\"\",IF(ISERROR(edata(L2091)),\"FORMATO INCORRECTO\",\"FORMATO CORRECTO\"))","v":""},{"$f":"IF(U2091=\"\",\"\",IF(ISERROR(edata(U2091)),\"FORMATO INCORRECTO\",\"FORMATO CORRECTO\"))","v":""},{"$f":"IF(N2091=\"\",\"\",IF(ISERROR(edata(N2091)),\"FORMATO INCORRECTO\",\"FORMATO CORRECTO\"))","v":""}]
["1916-09-07","",null,null,null,null,null,null,"",null,null,null,null,null,null,null,null,"",null,null,null,null,null,null,null,null,"",null,"",null,null,"",null,null,null,null,null,0,0,0,0,0,{"$f":"IF(AO2097<>0,SUMIFS($AP$6:$AP$1001,$AN$6:$AN$1001,AN2097,$F$6:$F$1001,F2097,$AX$6:$AX$1001,AX2097),0)","v":0},0,{"$f":"IF(AO2097<>0,SUMIFS($AP$6:$AP$1001,$AR$6:$AR$1001,AR2097,$F$6:$F$1001,F2097,$AX$6:$AX$1001,AX2097),0)","v":0},0,0,0,{"$f":"IF(AU2097<>0,SUMIFS($AV$6:$AV$1001,$AT$6:$AT$1001,AT2097,$F$6:$F$1001,F2097,$AY$6:$AY$1001,AY2097),0)","v":0},1900,1900,0,0,0,0,0,0,0,0,0,"","",0,0,0,"FORMATO INCORRECTO","FORMATO INCORRECTO","FORMATO INCORRECTO",{"$f":"IF(L2097=\"\",\"\",IF(ISERROR(edata(L2097)),\"FORMATO INCORRECTO\",\"FORMATO CORRECTO\"))","v":""},{"$f":"IF(U2097=\"\",\"\",IF(ISERROR(edata(U2097)),\"FORMATO INCORRECTO\",\"FORMATO CORRECTO\"))","v":""},{"$f":"IF(N2097=\"\",\"\",IF(ISERROR(edata(N2097)),\"FORMATO INCORRECTO\",\"FORMATO CORRECTO\"))","v":""}]
["1916-09-19","",null,null,null,null,null,null,"",null,null,null,null,null,null,null,null,"",null,null,null,null,null,null,null,null,"",null,"",null,null,"",null,null,null,null,null,0,0,0,0,0,{"$f":"IF(AO2109<>0,SUMIFS($AP$6:$AP$1001,$AN$6:$AN$1001,AN2109,$F$6:$F$1001,F2109,$AX$6:$AX$1001,AX2109),0)","v":0},0,{"$f":"IF(AO2109<>0,SUMIFS($AP$6:$AP$1001,$AR$6:$AR$1001,AR2109,$F$6:$F$1001,F2109,$AX$6:$AX$1001,AX2109),0)","v":0},0,0,0,{"$f":"IF(AU2109<>0,SUMIFS($AV$6:$AV$1001,$AT$6:$AT$1001,AT2109,$F$6:$F$1001,F2109,$AY$6:$AY$1001,AY2109),0)","v":0},1900,1900,0,0,0,0,0,0,0,0,0,"","",0,0,0,"FORMATO INCORRECTO","FORMATO INCORRECTO","FORMATO INCORRECTO",{"$f":"IF(L2109=\"\",\"\",IF(ISERROR(edata(L2109)),\"FORMATO INCORRECTO\",\"FORMATO CORRECTO\"))","v":""},{"$f":"IF(U2109=\"\",\"\",IF(ISERROR(edata(U2109)),\"FORMATO INCORRECTO\",\"FORMATO CORRECTO\"))","v":""},{"$f":"IF(N2109=\"\",\"\",IF(ISERROR(edata(N2109)),\"FORMATO INCORRECTO\",\"FORMATO CORRECTO\"))","v":""}]
["1916-09-26","",null,null,null,null,null,null,"",null,null,null,null,null,null,null,null,"",null,null,null,null,null,null,null,null,"",null,"",null,null,"",null,null,null,null,null,0,0,0,0,0,{"$f":"IF(AO2116<>0,SUMIFS($AP$6:$AP$1001,$AN$6:$AN$1001,AN2116,$F$6:$F$1001,F2116,$AX$6:$AX$1001,AX2116),0)","v":0},0,{"$f":"IF(AO2116<>0,SUMIFS($AP$6:$AP$1001,$AR$6:$AR$1001,AR2116,$F$6:$F$1001,F2116,$AX$6:$AX$1001,AX2116),0)","v":0},0,0,0,{"$f":"IF(AU2116<>0,SUMIFS($AV$6:$AV$1001,$AT$6:$AT$1001,AT2116,$F$6:$F$1001,F2116,$AY$6:$AY$1001,AY2116),0)","v":0},1900,1900,0,0,0,0,0,0,0,0,0,"","",0,0,0,"FORMATO INCORRECTO","FORMATO INCORRECTO","FORMATO INCORRECTO",{"$f":"IF(L2116=\"\",\"\",IF(ISERROR(edata(L2116)),\"FORMATO INCORRECTO\",\"FORMATO CORRECTO\"))","v":""},{"$f":"IF(U2116=\"\",\"\",IF(ISERROR(edata(U2116)),\"FORMATO INCORRECTO\",\"FORMATO CORRECTO\"))","v":""},{"$f":"IF(N2116=\"\",\"\",IF(ISERROR(edata(N2116)),\"FORMATO INCORRECTO\",\"FORMATO CORRECTO\"))","v":""}]
["1916-10-02","",null,null,null,null,null,null,"",null,null,null,null,null,null,null,null,"",null,null,null,null,null,null,null,null,"",null,"",null,null,"",null,null,null,null,null,0,0,0,0,0,{"$f":"IF(AO2122<>0,SUMIFS($AP$6:$AP$1001,$AN$6:$AN$1001,AN2122,$F$6:$F$1001,F2122,$AX$6:$AX$1001,AX2122),0)","v":0},0,{"$f":"IF(AO2122<>0,SUMIFS($AP$6:$AP$1001,$AR$6:$AR$1001,AR2122,$F$6:$F$1001,F2122,$AX$6:$AX$1001,AX2122),0)","v":0},0,0,0,{"$f":"IF(AU2122<>0,SUMIFS($AV$6:$AV$1001,$AT$6:$AT$1001,AT2122,$F$6:$F$1001,F2122,$AY$6:$AY$1001,AY2122),0)","v":0},1900,1900,0,0,0,0,0,0,0,0,0,"","",0,0,0,"FORMATO INCORRECTO","FORMATO INCORRECTO","FORMATO INCORRECTO",{"$f":"IF(L2122=\"\",\"\",IF(ISERROR(edata(L2122)),\"FORMATO INCORRECTO\",\"FORMATO CORRECTO\"))","v":""},{"$f":"IF(U2122=\"\",\"\",IF(ISERROR(edata(U2122)),\"FORMATO INCORRECTO\",\"FORMATO CORRECTO\"))","v":""},{"$f":"IF(N2122=\"\",\"\",IF(ISERROR(edata(N2122)),\"FORMATO INCORRECTO\",\"FORMATO CORRECTO\"))","v":""}]
["1916-10-14","",null,null,null,null,null,null,"",null,null,null,null,null,null,null,null,"",null,null,null,null,null,null,null,null,"",null,"",null,null,"",null,null,null,null,null,0,0,0,0,0,{"$f":"IF(AO2134<>0,SUMIFS($AP$6:$AP$1001,$AN$6:$AN$1001,AN2134,$F$6:$F$1001,F2134,$AX$6:$AX$1001,AX2134),0)","v":0},0,{"$f":"IF(AO2134<>0,SUMIFS($AP$6:$AP$1001,$AR$6:$AR$1001,AR2134,$F$6:$F$1001,F2134,$AX$6:$AX$1001,AX2134),0)","v":0},0,0,0,{"$f":"IF(AU2134<>0,SUMIFS($AV$6:$AV$1001,$AT$6:$AT$1001,AT2134,$F$6:$F$1001,F2134,$AY$6:$AY$1001,AY2134),0)","v":0},1900,1900,0,0,0,0,0,0,0,0,0,"","",0,0,0,"FORMATO INCORRECTO","FORMATO INCORRECTO","FORMATO INCORRECTO",{"$f":"IF(L2134=\"\",\"\",IF(ISERROR(edata(L2134)),\"FORMATO INCORRECTO\",\"FORMATO CORRECTO\"))","v":""},{"$f":"IF(U2134=\"\",\"\",IF(ISERROR(edata(U2134)),\"FORMATO INCORRECTO\",\"FORMATO CORRECTO\"))","v":""},{"$f":"IF(N2134=\"\",\"\",IF(ISERROR(edata(N2134)),\"FORMATO INCORRECTO\",\"FORMATO CORRECTO\"))","v":""}]
["1916-10-17","",null,null,null,null,null,null,"",null,null,null,null,null,null,null,null,"",null,null,null,null,null,null,null,null,"",null,"",null,null,"",null,null,null,null,null,0,0,0,0,0,{"$f":"IF(AO2137<>0,SUMIFS($AP$6:$AP$1001,$AN$6:$AN$1001,AN2137,$F$6:$F$1001,F2137,$AX$6:$AX$1001,AX2137),0)","v":0},0,{"$f":"IF(AO2137<>0,SUMIFS($AP$6:$AP$1001,$AR$6:$AR$1001,AR2137,$F$6:$F$1001,F2137,$AX$6:$AX$1001,AX2137),0)","v":0},0,0,0,{"$f":"IF(AU2137<>0,SUMIFS($AV$6:$AV$1001,$AT$6:$AT$1001,AT2137,$F$6:$F$1001,F2137,$AY$6:$AY$1001,AY2137),0)","v":0},1900,1900,0,0,0,0,0,0,0,0,0,"","",0,0,0,"FORMATO INCORRECTO","FORMATO INCORRECTO","FORMATO INCORRECTO",{"$f":"IF(L2137=\"\",\"\",IF(ISERROR(edata(L2137)),\"FORMATO INCORRECTO\",\"FORMATO CORRECTO\"))","v":""},{"$f":"IF(U2137=\"\",\"\",IF(ISERROR(edata(U2137)),\"FORMATO INCORRECTO\",\"FORMATO CORRECTO\"))","v":""},{"$f":"IF(N2137=\"\",\"\",IF(ISERROR(edata(N2137)),\"FORMATO INCORRECTO\",\"FORMATO CORRECTO\"))","v":""}]
["1916-10-29","",null,null,null,null,null,null,"",null,null,null,null,null,null,null,null,"",null,null,null,null,null,null,null,null,"",null,"",null,null,"",null,null,null,null,null,0,0,0,0,0,{"$f":"IF(AO2149<>0,SUMIFS($AP$6:$AP$1001,$AN$6:$AN$1001,AN2149,$F$6:$F$1001,F2149,$AX$6:$AX$1001,AX2149),0)","v":0},0,{"$f":"IF(AO2149<>0,SUMIFS($AP$6:$AP$1001,$AR$6:$AR$1001,AR2149,$F$6:$F$1001,F2149,$AX$6:$AX$1001,AX2149),0)","v":0},0,0,0,{"$f":"IF(AU2149<>0,SUMIFS($AV$6:$AV$1001,$AT$6:$AT$1001,AT2149,$F$6:$F$1001,F2149,$AY$6:$AY$1001,AY2149),0)","v":0},1900,1900,0,0,0,0,0,0,0,0,0,"","",0,0,0,"FORMATO INCORRECTO","FORMATO INCORRECTO","FORMATO INCORRECTO",{"$f":"IF(L2149=\"\",\"\",IF(ISERROR(edata(L2149)),\"FORMATO INCORRECTO\",\"FORMATO CORRECTO\"))","v":""},{"$f":"IF(U2149=\"\",\"\",IF(ISERROR(edata(U2149)),\"FORMATO INCORRECTO\",\"FORMATO CORRECTO\"))","v":""},{"$f":"IF(N2149=\"\",\"\",IF(ISERROR(edata(N2149)),\"FORMATO INCORRECTO\",\"FORMATO CORRECTO\"))","v":""}]
["1916-11-10","",null,null,null,null,null,null,"",null,null,null,null,null,null,null,null,"",null,null,null,null,null,null,null,null,"",null,"",null,null,"",null,null,null,null,null,0,0,0,0,0,{"$f":"IF(AO2161<>0,SUMIFS($AP$6:$AP$1001,$AN$6:$AN$1001,AN2161,$F$6:$F$1001,F2161,$AX$6:$AX$1001,AX2161),0)","v":0},0,{"$f":"IF(AO2161<>0,SUMIFS($AP$6:$AP$1001,$AR$6:$AR$1001,AR2161,$F$6:$F$1001,F2161,$AX$6:$AX$1001,AX2161),0)","v":0},0,0,0,{"$f":"IF(AU2161<>0,SUMIFS($AV$6:$AV$1001,$AT$6:$AT$1001,AT2161,$F$6:$F$1001,F2161,$AY$6:$AY$1001,AY2161),0)","v":0},1900,1900,0,0,0,0,0,0,0,0,0,"","",0,0,0,"FORMATO INCORRECTO","FORMATO INCORRECTO","FORMATO INCORRECTO",{"$f":"IF(L2161=\"\",\"\",IF(ISERROR(edata(L2161)),\"FORMATO INCORRECTO\",\"FORMATO CORRECTO\"))","v":""},{"$f":"IF(U2161=\"\",\"\",IF(ISERROR(edata(U2161)),\"FORMATO INCORRECTO\",\"FORMATO CORRECTO\"))","v":""},{"$f":"IF(N2161=\"\",\"\",IF(ISERROR(edata(N2161)),\"FORMATO INCORRECTO\",\"FORMATO CORRECTO\"))","v":""}]
["1916-11-16","",null,null,null,null,null,null,"",null,null,null,null,null,null,null,null,"",null,null,null,null,null,null,null,null,"",null,"",null,null,"",null,null,null,null,null,0,0,0,0,0,{"$f":"IF(AO2167<>0,SUMIFS($AP$6:$AP$1001,$AN$6:$AN$1001,AN2167,$F$6:$F$1001,F2167,$AX$6:$AX$1001,AX2167),0)","v":0},0,{"$f":"IF(AO2167<>0,SUMIFS($AP$6:$AP$1001,$AR$6:$AR$1001,AR2167,$F$6:$F$1001,F2167,$AX$6:$AX$1001,AX2167),0)","v":0},0,0,0,{"$f":"IF(AU2167<>0,SUMIFS($AV$6:$AV$1001,$AT$6:$AT$1001,AT2167,$F$6:$F$1001,F2167,$AY$6:$AY$1001,AY2167),0)","v":0},1900,1900,0,0,0,0,0,0,0,0,0,"","",0,0,0,"FORMATO INCORRECTO","FORMATO INCORRECTO","FORMATO INCORRECTO",{"$f":"IF(L2167=\"\",\"\",IF(ISERROR(edata(L2167)),\"FORMATO INCORRECTO\",\"FORMATO CORRECTO\"))","v":""},{"$f":"IF(U2167=\"\",\"\",IF(ISERROR(edata(U2167)),\"FORMATO INCORRECTO\",\"FORMATO CORRECTO\"))","v":""},{"$f":"IF(N2167=\"\",\"\",IF(ISERROR(edata(N2167)),\"FORMATO INCORRECTO\",\"FORMATO CORRECTO\"))","v":""}]
["1916-11-28","",null,null,null,null,null,null,"",null,null,null,null,null,null,null,null,"",null,null,null,null,null,null,null,null,"",null,"",null,null,"",null,null,null,null,null,0,0,0,0,0,{"$f":"IF(AO2179<>0,SUMIFS($AP$6:$AP$1001,$AN$6:$AN$1001,AN2179,$F$6:$F$1001,F2179,$AX$6:$AX$1001,AX2179),0)","v":0},0,{"$f":"IF(AO2179<>0,SUMIFS($AP$6:$AP$1001,$AR$6:$AR$1001,AR2179,$F$6:$F$1001,F2179,$AX$6:$AX$1001,AX2179),0)","v":0},0,0,0,{"$f":"IF(AU2179<>0,SUMIFS($AV$6:$AV$1001,$AT$6:$AT$1001,AT2179,$F$6:$F$1001,F2179,$AY$6:$AY$1001,AY2179),0)","v":0},1900,1900,0,0,0,0,0,0,0,0,0,"","",0,0,0,"FORMATO INCORRECTO","FORMATO INCORRECTO","FORMATO INCORRECTO",{"$f":"IF(L2179=\"\",\"\",IF(ISERROR(edata(L2179)),\"FORMATO INCORRECTO\",\"FORMATO CORRECTO\"))","v":""},{"$f":"IF(U2179=\"\",\"\",IF(ISERROR(edata(U2179)),\"FORMATO INCORRECTO\",\"FORMATO CORRECTO\"))","v":""},{"$f":"IF(N2179=\"\",\"\",IF(ISERROR(edata(N2179)),\"FORMATO INCORRECTO\",\"FORMATO CORRECTO\"))","v":""}]
["1916-12-05","",null,null,null,null,null,null,"",null,null,null,null,null,null,null,null,"",null,null,null,null,null,null,null,null,"",null,"",null,null,"",null,null,null,null,null,0,0,0,0,0,{"$f":"IF(AO2186<>0,SUMIFS($AP$6:$AP$1001,$AN$6:$AN$1001,AN2186,$F$6:$F$1001,F2186,$AX$6:$AX$1001,AX2186),0)","v":0},0,{"$f":"IF(AO2186<>0,SUMIFS($AP$6:$AP$1001,$AR$6:$AR$1001,AR2186,$F$6:$F$1001,F2186,$AX$6:$AX$1001,AX2186),0)","v":0},0,0,0,{"$f":"IF(AU2186<>0,SUMIFS($AV$6:$AV$1001,$AT$6:$AT$1001,AT2186,$F$6:$F$1001,F2186,$AY$6:$AY$1001,AY2186),0)","v":0},1900,1900,0,0,0,0,0,0,0,0,0,"","",0,0,0,"FORMATO INCORRECTO","FORMATO INCORRECTO","FORMATO INCORRECTO",{"$f":"IF(L2186=\"\",\"\",IF(ISERROR(edata(L2186)),\"FORMATO INCORRECTO\",\"FORMATO CORRECTO\"))","v":""},{"$f":"IF(U2186=\"\",\"\",IF(ISERROR(edata(U2186)),\"FORMATO INCORRECTO\",\"FORMATO CORRECTO\"))","v":""},{"$f":"IF(N2186=\"\",\"\",IF(ISERROR(edata(N2186)),\"FORMATO INCORRECTO\",\"FORMATO CORRECTO\"))","v":""}]
["1916-12-11","",null,null,null,null,null,null,"",null,null,null,null,null,null,null,null,"",null,null,null,null,null,null,null,null,"",null,"",null,null,"",null,null,null,null,null,0,0,0,0,0,{"$f":"IF(AO2192<>0,SUMIFS($AP$6:$AP$1001,$AN$6:$AN$1001,AN2192,$F$6:$F$1001,F2192,$AX$6:$AX$1001,AX2192),0)","v":0},0,{"$f":"IF(AO2192<>0,SUMIFS($AP$6:$AP$1001,$AR$6:$AR$1001,AR2192,$F$6:$F$1001,F2192,$AX$6:$AX$1001,AX2192),0)","v":0},0,0,0,{"$f":"IF(AU2192<>0,SUMIFS($AV$6:$AV$1001,$AT$6:$AT$1001,AT2192,$F$6:$F$1001,F2192,$AY$6:$AY$1001,AY2192),0)","v":0},1900,1900,0,0,0,0,0,0,0,0,0,"","",0,0,0,"FORMATO INCORRECTO","FORMATO INCORRECTO","FORMATO INCORRECTO",{"$f":"IF(L2192=\"\",\"\",IF(ISERROR(edata(L2192)),\"FORMATO INCORRECTO\",\"FORMATO CORRECTO\"))","v":""},{"$f":"IF(U2192=\"\",\"\",IF(ISERROR(edata(U2192)),\"FORMATO INCORRECTO\",\"FORMATO CORRECTO\"))","v":""},{"$f":"IF(N2192=\"\",\"\",IF(ISERROR(edata(N2192)),\"FORMATO INCORRECTO\",\"FORMATO CORRECTO\"))","v":""}]
["1916-12-23","",null,null,null,null,null,null,"",null,null,null,null,null,null,null,null,"",null,null,null,null,null,null,null,null,"",null,"",null,null,"",null,null,null,null,null,0,0,0,0,0,{"$f":"IF(AO2204<>0,SUMIFS($AP$6:$AP$1001,$AN$6:$AN$1001,AN2204,$F$6:$F$1001,F2204,$AX$6:$AX$1001,AX2204),0)","v":0},0,{"$f":"IF(AO2204<>0,SUMIFS($AP$6:$AP$1001,$AR$6:$AR$1001,AR2204,$F$6:$F$1001,F2204,$AX$6:$AX$1001,AX2204),0)","v":0},0,0,0,{"$f":"IF(AU2204<>0,SUMIFS($AV$6:$AV$1001,$AT$6:$AT$1001,AT2204,$F$6:$F$1001,F2204,$AY$6:$AY$1001,AY2204),0)","v":0},1900,1900,0,0,0,0,0,0,0,0,0,"","",0,0,0,"FORMATO INCORRECTO","FORMATO INCORRECTO","FORMATO INCORRECTO",{"$f":"IF(L2204=\"\",\"\",IF(ISERROR(edata(L2204)),\"FORMATO INCORRECTO\",\"FORMATO CORRECTO\"))","v":""},{"$f":"IF(U2204=\"\",\"\",IF(ISERROR(edata(U2204)),\"FORMATO INCORRECTO\",\"FORMATO CORRECTO\"))","v":""},{"$f":"IF(N2204=\"\",\"\",IF(ISERROR(edata(N2204)),\"FORMATO INCORRECTO\",\"FORMATO CORRECTO\"))","v":""}]
["1916-12-26","",null,null,null,null,null,null,"",null,null,null,null,null,null,null,null,"",null,null,null,null,null,null,null,null,"",null,"",null,null,"",null,null,null,null,null,0,0,0,0,0,{"$f":"IF(AO2207<>0,SUMIFS($AP$6:$AP$1001,$AN$6:$AN$1001,AN2207,$F$6:$F$1001,F2207,$AX$6:$AX$1001,AX2207),0)","v":0},0,{"$f":"IF(AO2207<>0,SUMIFS($AP$6:$AP$1001,$AR$6:$AR$1001,AR2207,$F$6:$F$1001,F2207,$AX$6:$AX$1001,AX2207),0)","v":0},0,0,0,{"$f":"IF(AU2207<>0,SUMIFS($AV$6:$AV$1001,$AT$6:$AT$1001,AT2207,$F$6:$F$1001,F2207,$AY$6:$AY$1001,AY2207),0)","v":0},1900,1900,0,0,0,0,0,0,0,0,0,"","",0,0,0,"FORMATO INCORRECTO","FORMATO INCORRECTO","FORMATO INCORRECTO",{"$f":"IF(L2207=\"\",\"\",IF(ISERROR(edata(L2207)),\"FORMATO INCORRECTO\",\"FORMATO CORRECTO\"))","v":""},{"$f":"IF(U2207=\"\",\"\",IF(ISERROR(edata(U2207)),\"FORMATO INCORRECTO\",\"FORMATO CORRECTO\"))","v":""},{"$f":"IF(N2207=\"\",\"\",IF(ISERROR(edata(N2207)),\"FORMATO INCORRECTO\",\"FORMATO CORRECTO\"))","v":""}]
["1917-01-07","",null,null,null,null,null,null,"",null,null,null,null,null,null,null,null,"",null,null,null,null,null,null,null,null,"",null,"",null,null,"",null,null,null,null,null,0,0,0,0,0,{"$f":"IF(AO2219<>0,SUMIFS($AP$6:$AP$1001,$AN$6:$AN$1001,AN2219,$F$6:$F$1001,F2219,$AX$6:$AX$1001,AX2219),0)","v":0},0,{"$f":"IF(AO2219<>0,SUMIFS($AP$6:$AP$1001,$AR$6:$AR$1001,AR2219,$F$6:$F$1001,F2219,$AX$6:$AX$1001,AX2219),0)","v":0},0,0,0,{"$f":"IF(AU2219<>0,SUMIFS($AV$6:$AV$1001,$AT$6:$AT$1001,AT2219,$F$6:$F$1001,F2219,$AY$6:$AY$1001,AY2219),0)","v":0},1900,1900,0,0,0,0,0,0,0,0,0,"","",0,0,0,"FORMATO INCORRECTO","FORMATO INCORRECTO","FORMATO INCORRECTO",{"$f":"IF(L2219=\"\",\"\",IF(ISERROR(edata(L2219)),\"FORMATO INCORRECTO\",\"FORMATO CORRECTO\"))","v":""},{"$f":"IF(U2219=\"\",\"\",IF(ISERROR(edata(U2219)),\"FORMATO INCORRECTO\",\"FORMATO CORRECTO\"))","v":""},{"$f":"IF(N2219=\"\",\"\",IF(ISERROR(edata(N2219)),\"FORMATO INCORRECTO\",\"FORMATO CORRECTO\"))","v":""}]
["1917-01-19","",null,null,null,null,null,null,"",null,null,null,null,null,null,null,null,"",null,null,null,null,null,null,null,null,"",null,"",null,null,"",null,null,null,null,null,0,0,0,0,0,{"$f":"IF(AO2231<>0,SUMIFS($AP$6:$AP$1001,$AN$6:$AN$1001,AN2231,$F$6:$F$1001,F2231,$AX$6:$AX$1001,AX2231),0)","v":0},0,{"$f":"IF(AO2231<>0,SUMIFS($AP$6:$AP$1001,$AR$6:$AR$1001,AR2231,$F$6:$F$1001,F2231,$AX$6:$AX$1001,AX2231),0)","v":0},0,0,0,{"$f":"IF(AU2231<>0,SUMIFS($AV$6:$AV$1001,$AT$6:$AT$1001,AT2231,$F$6:$F$1001,F2231,$AY$6:$AY$1001,AY2231),0)","v":0},1900,1900,0,0,0,0,0,0,0,0,0,"","",0,0,0,"FORMATO INCORRECTO","FORMATO INCORRECTO","FORMATO INCORRECTO",{"$f":"IF(L2231=\"\",\"\",IF(ISERROR(edata(L2231)),\"FORMATO INCORRECTO\",\"FORMATO CORRECTO\"))","v":""},{"$f":"IF(U2231=\"\",\"\",IF(ISERROR(edata(U2231)),\"FORMATO INCORRECTO\",\"FORMATO CORRECTO\"))","v":""},{"$f":"IF(N2231=\"\",\"\",IF(ISERROR(edata(N2231)),\"FORMATO INCORRECTO\",\"FORMATO CORRECTO\"))","v":""}]
["1917-01-25","",null,null,null,null,null,null,"",null,null,null,null,null,null,null,null,"",null,null,null,null,null,null,null,null,"",null,"",null,null,"",null,null,null,null,null,0,0,0,0,0,{"$f":"IF(AO2237<>0,SUMIFS($AP$6:$AP$1001,$AN$6:$AN$1001,AN2237,$F$6:$F$1001,F2237,$AX$6:$AX$1001,AX2237),0)","v":0},0,{"$f":"IF(AO2237<>0,SUMIFS($AP$6:$AP$1001,$AR$6:$AR$1001,AR2237,$F$6:$F$1001,F2237,$AX$6:$AX$1001,AX2237),0)","v":0},0,0,0,{"$f":"IF(AU2237<>0,SUMIFS($AV$6:$AV$1001,$AT$6:$AT$1001,AT2237,$F$6:$F$1001,F2237,$AY$6:$AY$1001,AY2237),0)","v":0},1900,1900,0,0,0,0,0,0,0,0,0,"","",0,0,0,"FORMATO INCORRECTO","FORMATO INCORRECTO","FORMATO INCORRECTO",{"$f":"IF(L2237=\"\",\"\",IF(ISERROR(edata(L2237)),\"FORMATO INCORRECTO\",\"FORMATO CORRECTO\"))","v":""},{"$f":"IF(U2237=\"\",\"\",IF(ISERROR(edata(U2237)),\"FORMATO INCORRECTO\",\"FORMATO CORRECTO\"))","v":""},{"$f":"IF(N2237=\"\",\"\",IF(ISERROR(edata(N2237)),\"FORMATO INCORRECTO\",\"FORMATO CORRECTO\"))","v":""}]
["1917-02-01","",null,null,null,null,null,null,"",null,null,null,null,null,null,null,null,"",null,null,null,null,null,null,null,null,"",null,"",null,null,"",null,null,null,null,null,0,0,0,0,0,{"$f":"IF(AO2244<>0,SUMIFS($AP$6:$AP$1001,$AN$6:$AN$1001,AN2244,$F$6:$F$1001,F2244,$AX$6:$AX$1001,AX2244),0)","v":0},0,{"$f":"IF(AO2244<>0,SUMIFS($AP$6:$AP$1001,$AR$6:$AR$1001,AR2244,$F$6:$F$1001,F2244,$AX$6:$AX$1001,AX2244),0)","v":0},0,0,0,{"$f":"IF(AU2244<>0,SUMIFS($AV$6:$AV$1001,$AT$6:$AT$1001,AT2244,$F$6:$F$1001,F2244,$AY$6:$AY$1001,AY2244),0)","v":0},1900,1900,0,0,0,0,0,0,0,0,0,"","",0,0,0,"FORMATO INCORRECTO","FORMATO INCORRECTO","FORMATO INCORRECTO",{"$f":"IF(L2244=\"\",\"\",IF(ISERROR(edata(L2244)),\"FORMATO INCORRECTO\",\"FORMATO CORRECTO\"))","v":""},{"$f":"IF(U2244=\"\",\"\",IF(ISERROR(edata(U2244)),\"FORMATO INCORRECTO\",\"FORMATO CORRECTO\"))","v":""},{"$f":"IF(N2244=\"\",\"\",IF(ISERROR(edata(N2244)),\"FORMATO INCORRECTO\",\"FORMATO CORRECTO\"))","v":""}]
["1917-02-13","",null,null,null,null,null,null,"",null,null,null,null,null,null,null,null,"",null,null,null,null,null,null,null,null,"",null,"",null,null,"",null,null,null,null,null,0,0,0,0,0,{"$f":"IF(AO2256<>0,SUMIFS($AP$6:$AP$1001,$AN$6:$AN$1001,AN2256,$F$6:$F$1001,F2256,$AX$6:$AX$1001,AX2256),0)","v":0},0,{"$f":"IF(AO2256<>0,SUMIFS($AP$6:$AP$1001,$AR$6:$AR$1001,AR2256,$F$6:$F$1001,F2256,$AX$6:$AX$1001,AX2256),0)","v":0},0,0,0,{"$f":"IF(AU2256<>0,SUMIFS($AV$6:$AV$1001,$AT$6:$AT$1001,AT2256,$F$6:$F$1001,F2256,$AY$6:$AY$1001,AY2256),0)","v":0},1900,1900,0,0,0,0,0,0,0,0,0,"","",0,0,0,"FORMATO INCORRECTO","FORMATO INCORRECTO","FORMATO INCORRECTO",{"$f":"IF(L2256=\"\",\"\",IF(ISERROR(edata(L2256)),\"FORMATO INCORRECTO\",\"FORMATO CORRECTO\"))","v":""},{"$f":"IF(U2256=\"\",\"\",IF(ISERROR(edata(U2256)),\"FORMATO INCORRECTO\",\"FORMATO CORRECTO\"))","v":""},{"$f":"IF(N2256=\"\",\"\",IF(ISERROR(edata(N2256)),\"FORMATO INCORRECTO\",\"FORMATO CORRECTO\"))","v":""}]
["1917-02-19","",null,null,null,null,null,null,"",null,null,null,null,null,null,null,null,"",null,null,null,null,null,null,null,null,"",null,"",null,null,"",null,null,null,null,null,0,0,0,0,0,{"$f":"IF(AO2262<>0,SUMIFS($AP$6:$AP$1001,$AN$6:$AN$1001,AN2262,$F$6:$F$1001,F2262,$AX$6:$AX$1001,AX2262),0)","v":0},0,{"$f":"IF(AO2262<>0,SUMIFS($AP$6:$AP$1001,$AR$6:$AR$1001,AR2262,$F$6:$F$1001,F2262,$AX$6:$AX$1001,AX2262),0)","v":0},0,0,0,{"$f":"IF(AU2262<>0,SUMIFS($AV$6:$AV$1001,$AT$6:$AT$1001,AT2262,$F$6:$F$1001,F2262,$AY$6:$AY$1001,AY2262),0)","v":0},1900,1900,0,0,0,0,0,0,0,0,0,"","",0,0,0,"FORMATO INCORRECTO","FORMATO INCORRECTO","FORMATO INCORRECTO",{"$f":"IF(L2262=\"\",\"\",IF(ISERROR(edata(L2262)),\"FORMATO INCORRECTO\",\"FORMATO CORRECTO\"))","v":""},{"$f":"IF(U2262=\"\",\"\",IF(ISERROR(edata(U2262)),\"FORMATO INCORRECTO\",\"FORMATO CORRECTO\"))","v":""},{"$f":"IF(N2262=\"\",\"\",IF(ISERROR(edata(N2262)),\"FORMATO INCORRECTO\",\"FORMATO CORRECTO\"))","v":""}]
["1917-03-03","",null,null,null,null,null,null,"",null,null,null,null,null,null,null,null,"",null,null,null,null,null,null,null,null,"",null,"",null,null,"",null,null,null,null,null,0,0,0,0,0,{"$f":"IF(AO2274<>0,SUMIFS($AP$6:$AP$1001,$AN$6:$AN$1001,AN2274,$F$6:$F$1001,F2274,$AX$6:$AX$1001,AX2274),0)","v":0},0,{"$f":"IF(AO2274<>0,SUMIFS($AP$6:$AP$1001,$AR$6:$AR$1001,AR2274,$F$6:$F$1001,F2274,$AX$6:$AX$1001,AX2274),0)","v":0},0,0,0,{"$f":"IF(AU2274<>0,SUMIFS($AV$6:$AV$1001,$AT$6:$AT$1001,AT2274,$F$6:$F$1001,F2274,$AY$6:$AY$1001,AY2274),0)","v":0},1900,1900,0,0,0,0,0,0,0,0,0,"","",0,0,0,"FORMATO INCORRECTO","FORMATO INCORRECTO","FORMATO INCORRECTO",{"$f":"IF(L2274=\"\",\"\",IF(ISERROR(edata(L2274)),\"FORMATO INCORRECTO\",\"FORMATO CORRECTO\"))","v":""},{"$f":"IF(U2274=\"\",\"\",IF(ISERROR(edata(U2274)),\"FORMATO INCORRECTO\",\"FORMATO CORRECTO\"))","v":""},{"$f":"IF(N2274=\"\",\"\",IF(ISERROR(edata(N2274)),\"FORMATO INCORRECTO\",\"FORMATO CORRECTO\"))","v":""}]
["1917-03-06","",null,null,null,null,null,null,"",null,null,null,null,null,null,null,null,"",null,null,null,null,null,null,null,null,"",null,"",null,null,"",null,null,null,null,null,0,0,0,0,0,{"$f":"IF(AO2277<>0,SUMIFS($AP$6:$AP$1001,$AN$6:$AN$1001,AN2277,$F$6:$F$1001,F2277,$AX$6:$AX$1001,AX2277),0)","v":0},0,{"$f":"IF(AO2277<>0,SUMIFS($AP$6:$AP$1001,$AR$6:$AR$1001,AR2277,$F$6:$F$1001,F2277,$AX$6:$AX$1001,AX2277),0)","v":0},0,0,0,{"$f":"IF(AU2277<>0,SUMIFS($AV$6:$AV$1001,$AT$6:$AT$1001,AT2277,$F$6:$F$1001,F2277,$AY$6:$AY$1001,AY2277),0)","v":0},1900,1900,0,0,0,0,0,0,0,0,0,"","",0,0,0,"FORMATO INCORRECTO","FORMATO INCORRECTO","FORMATO INCORRECTO",{"$f":"IF(L2277=\"\",\"\",IF(ISERROR(edata(L2277)),\"FORMATO INCORRECTO\",\"FORMATO CORRECTO\"))","v":""},{"$f":"IF(U2277=\"\",\"\",IF(ISERROR(edata(U2277)),\"FORMATO INCORRECTO\",\"FORMATO CORRECTO\"))","v":""},{"$f":"IF(N2277=\"\",\"\",IF(ISERROR(edata(N2277)),\"FORMATO INCORRECTO\",\"FORMATO CORRECTO\"))","v":""}]
["1917-03-18","",null,null,null,null,null,null,"",null,null,null,null,null,null,null,null,"",null,null,null,null,null,null,null,null,"",null,"",null,null,"",null,null,null,null,null,0,0,0,0,0,{"$f":"IF(AO2289<>0,SUMIFS($AP$6:$AP$1001,$AN$6:$AN$1001,AN2289,$F$6:$F$1001,F2289,$AX$6:$AX$1001,AX2289),0)","v":0},0,{"$f":"IF(AO2289<>0,SUMIFS($AP$6:$AP$1001,$AR$6:$AR$1001,AR2289,$F$6:$F$1001,F2289,$AX$6:$AX$1001,AX2289),0)","v":0},0,0,0,{"$f":"IF(AU2289<>0,SUMIFS($AV$6:$AV$1001,$AT$6:$AT$1001,AT2289,$F$6:$F$1001,F2289,$AY$6:$AY$1001,AY2289),0)","v":0},1900,1900,0,0,0,0,0,0,0,0,0,"","",0,0,0,"FORMATO INCORRECTO","FORMATO INCORRECTO","FORMATO INCORRECTO",{"$f":"IF(L2289=\"\",\"\",IF(ISERROR(edata(L2289)),\"FORMATO INCORRECTO\",\"FORMATO CORRECTO\"))","v":""},{"$f":"IF(U2289=\"\",\"\",IF(ISERROR(edata(U2289)),\"FORMATO INCORRECTO\",\"FORMATO CORRECTO\"))","v":""},{"$f":"IF(N2289=\"\",\"\",IF(ISERROR(edata(N2289)),\"FORMATO INCORRECTO\",\"FORMATO CORRECTO\"))","v":""}]
["1917-03-30","",null,null,null,null,null,null,"",null,null,null,null,null,null,null,null,"",null,null,null,null,null,null,null,null,"",null,"",null,null,"",null,null,null,null,null,0,0,0,0,0,{"$f":"IF(AO2301<>0,SUMIFS($AP$6:$AP$1001,$AN$6:$AN$1001,AN2301,$F$6:$F$1001,F2301,$AX$6:$AX$1001,AX2301),0)","v":0},0,{"$f":"IF(AO2301<>0,SUMIFS($AP$6:$AP$1001,$AR$6:$AR$1001,AR2301,$F$6:$F$1001,F2301,$AX$6:$AX$1001,AX2301),0)","v":0},0,0,0,{"$f":"IF(AU2301<>0,SUMIFS($AV$6:$AV$1001,$AT$6:$AT$1001,AT2301,$F$6:$F$1001,F2301,$AY$6:$AY$1001,AY2301),0)","v":0},1900,1900,0,0,0,0,0,0,0,0,0,"","",0,0,0,"FORMATO INCORRECTO","FORMATO INCORRECTO","FORMATO INCORRECTO",{"$f":"IF(L2301=\"\",\"\",IF(ISERROR(edata(L2301)),\"FORMATO INCORRECTO\",\"FORMATO CORRECTO\"))","v":""},{"$f":"IF(U2301=\"\",\"\",IF(ISERROR(edata(U2301)),\"FORMATO INCORRECTO\",\"FORMATO CORRECTO\"))","v":""},{"$f":"IF(N2301=\"\",\"\",IF(ISERROR(edata(N2301)),\"FORMATO INCORRECTO\",\"FORMATO CORRECTO\"))","v":""}]
["1917-04-05","",null,null,null,null,null,null,"",null,null,null,null,null,null,null,null,"",null,null,null,null,null,null,null,null,"",null,"",null,null,"",null,null,null,null,null,0,0,0,0,0,{"$f":"IF(AO2307<>0,SUMIFS($AP$6:$AP$1001,$AN$6:$AN$1001,AN2307,$F$6:$F$1001,F2307,$AX$6:$AX$1001,AX2307),0)","v":0},0,{"$f":"IF(AO2307<>0,SUMIFS($AP$6:$AP$1001,$AR$6:$AR$1001,AR2307,$F$6:$F$1001,F2307,$AX$6:$AX$1001,AX2307),0)","v":0},0,0,0,{"$f":"IF(AU2307<>0,SUMIFS($AV$6:$AV$1001,$AT$6:$AT$1001,AT2307,$F$6:$F$1001,F2307,$AY$6:$AY$1001,AY2307),0)","v":0},1900,1900,0,0,0,0,0,0,0,0,0,"","",0,0,0,"FORMATO INCORRECTO","FORMATO INCORRECTO","FORMATO INCORRECTO",{"$f":"IF(L2307=\"\",\"\",IF(ISERROR(edata(L2307)),\"FORMATO INCORRECTO\",\"FORMATO CORRECTO\"))","v":""},{"$f":"IF(U2307=\"\",\"\",IF(ISERROR(edata(U2307)),\"FORMATO INCORRECTO\",\"FORMATO CORRECTO\"))","v":""},{"$f":"IF(N2307=\"\",\"\",IF(ISERROR(edata(N2307)),\"FORMATO INCORRECTO\",\"FORMATO CORRECTO\"))","v":""}]
["1917-04-12","",null,null,null,null,null,null,"",null,null,null,null,null,null,null,null,"",null,null,null,null,null,null,null,null,"",null,"",null,null,"",null,null,null,null,null,0,0,0,0,0,{"$f":"IF(AO2314<>0,SUMIFS($AP$6:$AP$1001,$AN$6:$AN$1001,AN2314,$F$6:$F$1001,F2314,$AX$6:$AX$1001,AX2314),0)","v":0},0,{"$f":"IF(AO2314<>0,SUMIFS($AP$6:$AP$1001,$AR$6:$AR$1001,AR2314,$F$6:$F$1001,F2314,$AX$6:$AX$1001,AX2314),0)","v":0},0,0,0,{"$f":"IF(AU2314<>0,SUMIFS($AV$6:$AV$1001,$AT$6:$AT$1001,AT2314,$F$6:$F$1001,F2314,$AY$6:$AY$1001,AY2314),0)","v":0},1900,1900,0,0,0,0,0,0,0,0,0,"","",0,0,0,"FORMATO INCORRECTO","FORMATO INCORRECTO","FORMATO INCORRECTO",{"$f":"IF(L2314=\"\",\"\",IF(ISERROR(edata(L2314)),\"FORMATO INCORRECTO\",\"FORMATO CORRECTO\"))","v":""},{"$f":"IF(U2314=\"\",\"\",IF(ISERROR(edata(U2314)),\"FORMATO INCORRECTO\",\"FORMATO CORRECTO\"))","v":""},{"$f":"IF(N2314=\"\",\"\",IF(ISERROR(edata(N2314)),\"FORMATO INCORRECTO\",\"FORMATO CORRECTO\"))","v":""}]
["1917-04-24","",null,null,null,null,null,null,"",null,null,null,null,null,null,null,null,"",null,null,null,null,null,null,null,null,"",null,"",null,null,"",null,null,null,null,null,0,0,0,0,0,{"$f":"IF(AO2326<>0,SUMIFS($AP$6:$AP$1001,$AN$6:$AN$1001,AN2326,$F$6:$F$1001,F2326,$AX$6:$AX$1001,AX2326),0)","v":0},0,{"$f":"IF(AO2326<>0,SUMIFS($AP$6:$AP$1001,$AR$6:$AR$1001,AR2326,$F$6:$F$1001,F2326,$AX$6:$AX$1001,AX2326),0)","v":0},0,0,0,{"$f":"IF(AU2326<>0,SUMIFS($AV$6:$AV$1001,$AT$6:$AT$1001,AT2326,$F$6:$F$1001,F2326,$AY$6:$AY$1001,AY2326),0)","v":0},1900,1900,0,0,0,0,0,0,0,0,0,"","",0,0,0,"FORMATO INCORRECTO","FORMATO INCORRECTO","FORMATO INCORRECTO",{"$f":"IF(L2326=\"\",\"\",IF(ISERROR(edata(L2326)),\"FORMATO INCORRECTO\",\"FORMATO CORRECTO\"))","v":""},{"$f":"IF(U2326=\"\",\"\",IF(ISERROR(edata(U2326)),\"FORMATO INCORRECTO\",\"FORMATO CORRECTO\"))","v":""},{"$f":"IF(N2326=\"\",\"\",IF(ISERROR(edata(N2326)),\"FORMATO INCORRECTO\",\"FORMATO CORRECTO\"))","v":""}]
["1917-04-30","",null,null,null,null,null,null,"",null,null,null,null,null,null,null,null,"",null,null,null,null,null,null,null,null,"",null,"",null,null,"",null,null,null,null,null,0,0,0,0,0,{"$f":"IF(AO2332<>0,SUMIFS($AP$6:$AP$1001,$AN$6:$AN$1001,AN2332,$F$6:$F$1001,F2332,$AX$6:$AX$1001,AX2332),0)","v":0},0,{"$f":"IF(AO2332<>0,SUMIFS($AP$6:$AP$1001,$AR$6:$AR$1001,AR2332,$F$6:$F$1001,F2332,$AX$6:$AX$1001,AX2332),0)","v":0},0,0,0,{"$f":"IF(AU2332<>0,SUMIFS($AV$6:$AV$1001,$AT$6:$AT$1001,AT2332,$F$6:$F$1001,F2332,$AY$6:$AY$1001,AY2332),0)","v":0},1900,1900,0,0,0,0,0,0,0,0,0,"","",0,0,0,"FORMATO INCORRECTO","FORMATO INCORRECTO","FORMATO INCORRECTO",{"$f":"IF(L2332=\"\",\"\",IF(ISERROR(edata(L2332)),\"FORMATO INCORRECTO\",\"FORMATO CORRECTO\"))","v":""},{"$f":"IF(U2332=\"\",\"\",IF(ISERROR(edata(U2332)),\"FORMATO INCORRECTO\",\"FORMATO CORRECTO\"))","v":""},{"$f":"IF(N2332=\"\",\"\",IF(ISERROR(edata(N2332)),\"FORMATO INCORRECTO\",\"FORMATO CORRECTO\"))","v":""}]
["1917-05-12","",null,null,null,null,null,null,"",null,null,null,null,null,null,null,null,"",null,null,null,null,null,null,null,null,"",null,"",null,null,"",null,null,null,null,null,0,0,0,0,0,{"$f":"IF(AO2344<>0,SUMIFS($AP$6:$AP$1001,$AN$6:$AN$1001,AN2344,$F$6:$F$1001,F2344,$AX$6:$AX$1001,AX2344),0)","v":0},0,{"$f":"IF(AO2344<>0,SUMIFS($AP$6:$AP$1001,$AR$6:$AR$1001,AR2344,$F$6:$F$1001,F2344,$AX$6:$AX$1001,AX2344),0)","v":0},0,0,0,{"$f":"IF(AU2344<>0,SUMIFS($AV$6:$AV$1001,$AT$6:$AT$1001,AT2344,$F$6:$F$1001,F2344,$AY$6:$AY$1001,AY2344),0)","v":0},1900,1900,0,0,0,0,0,0,0,0,0,"","",0,0,0,"FORMATO INCORRECTO","FORMATO INCORRECTO","FORMATO INCORRECTO",{"$f":"IF(L2344=\"\",\"\",IF(ISERROR(edata(L2344)),\"FORMATO INCORRECTO\",\"FORMATO CORRECTO\"))","v":""},{"$f":"IF(U2344=\"\",\"\",IF(ISERROR(edata(U2344)),\"FORMATO INCORRECTO\",\"FORMATO CORRECTO\"))","v":""},{"$f":"IF(N2344=\"\",\"\",IF(ISERROR(edata(N2344)),\"FORMATO INCORRECTO\",\"FORMATO CORRECTO\"))","v":""}]
["1917-05-15","",null,null,null,null,null,null,"",null,null,null,null,null,null,null,null,"",null,null,null,null,null,null,null,null,"",null,"",null,null,"",null,null,null,null,null,0,0,0,0,0,{"$f":"IF(AO2347<>0,SUMIFS($AP$6:$AP$1001,$AN$6:$AN$1001,AN2347,$F$6:$F$1001,F2347,$AX$6:$AX$1001,AX2347),0)","v":0},0,{"$f":"IF(AO2347<>0,SUMIFS($AP$6:$AP$1001,$AR$6:$AR$1001,AR2347,$F$6:$F$1001,F2347,$AX$6:$AX$1001,AX2347),0)","v":0},0,0,0,{"$f":"IF(AU2347<>0,SUMIFS($AV$6:$AV$1001,$AT$6:$AT$1001,AT2347,$F$6:$F$1001,F2347,$AY$6:$AY$1001,AY2347),0)","v":0},1900,1900,0,0,0,0,0,0,0,0,0,"","",0,0,0,"FORMATO INCORRECTO","FORMATO INCORRECTO","FORMATO INCORRECTO",{"$f":"IF(L2347=\"\",\"\",IF(ISERROR(edata(L2347)),\"FORMATO INCORRECTO\",\"FORMATO CORRECTO\"))","v":""},{"$f":"IF(U2347=\"\",\"\",IF(ISERROR(edata(U2347)),\"FORMATO INCORRECTO\",\"FORMATO CORRECTO\"))","v":""},{"$f":"IF(N2347=\"\",\"\",IF(ISERROR(edata(N2347)),\"FORMATO INCORRECTO\",\"FORMATO CORRECTO\"))","v":""}]
["1917-05-27","",null,null,null,null,null,null,"",null,null,null,null,null,null,null,null,"",null,null,null,null,null,null,null,null,"",null,"",null,null,"",null,null,null,null,null,0,0,0,0,0,{"$f":"IF(AO2359<>0,SUMIFS($AP$6:$AP$1001,$AN$6:$AN$1001,AN2359,$F$6:$F$1001,F2359,$AX$6:$AX$1001,AX2359),0)","v":0},0,{"$f":"IF(AO2359<>0,SUMIFS($AP$6:$AP$1001,$AR$6:$AR$1001,AR2359,$F$6:$F$1001,F2359,$AX$6:$AX$1001,AX2359),0)","v":0},0,0,0,{"$f":"IF(AU2359<>0,SUMIFS($AV$6:$AV$1001,$AT$6:$AT$1001,AT2359,$F$6:$F$1001,F2359,$AY$6:$AY$1001,AY2359),0)","v":0},1900,1900,0,0,0,0,0,0,0,0,0,"","",0,0,0,"FORMATO INCORRECTO","FORMATO INCORRECTO","FORMATO INCORRECTO",{"$f":"IF(L2359=\"\",\"\",IF(ISERROR(edata(L2359)),\"FORMATO INCORRECTO\",\"FORMATO CORRECTO\"))","v":""},{"$f":"IF(U2359=\"\",\"\",IF(ISERROR(edata(U2359)),\"FORMATO INCORRECTO\",\"FORMATO CORRECTO\"))","v":""},{"$f":"IF(N2359=\"\",\"\",IF(ISERROR(edata(N2359)),\"FORMATO INCORRECTO\",\"FORMATO CORRECTO\"))","v":""}]
["1917-06-08","",null,null,null,null,null,null,"",null,null,null,null,null,null,null,null,"",null,null,null,null,null,null,null,null,"",null,"",null,null,"",null,null,null,null,null,0,0,0,0,0,{"$f":"IF(AO2371<>0,SUMIFS($AP$6:$AP$1001,$AN$6:$AN$1001,AN2371,$F$6:$F$1001,F2371,$AX$6:$AX$1001,AX2371),0)","v":0},0,{"$f":"IF(AO2371<>0,SUMIFS($AP$6:$AP$1001,$AR$6:$AR$1001,AR2371,$F$6:$F$1001,F2371,$AX$6:$AX$1001,AX2371),0)","v":0},0,0,0,{"$f":"IF(AU2371<>0,SUMIFS($AV$6:$AV$1001,$AT$6:$AT$1001,AT2371,$F$6:$F$1001,F2371,$AY$6:$AY$1001,AY2371),0)","v":0},1900,1900,0,0,0,0,0,0,0,0,0,"","",0,0,0,"FORMATO INCORRECTO","FORMATO INCORRECTO","FORMATO INCORRECTO",{"$f":"IF(L2371=\"\",\"\",IF(ISERROR(edata(L2371)),\"FORMATO INCORRECTO\",\"FORMATO CORRECTO\"))","v":""},{"$f":"IF(U2371=\"\",\"\",IF(ISERROR(edata(U2371)),\"FORMATO INCORRECTO\",\"FORMATO CORRECTO\"))","v":""},{"$f":"IF(N2371=\"\",\"\",IF(ISERROR(edata(N2371)),\"FORMATO INCORRECTO\",\"FORMATO CORRECTO\"))","v":""}]
["1917-06-14","",null,null,null,null,null,null,"",null,null,null,null,null,null,null,null,"",null,null,null,null,null,null,null,null,"",null,"",null,null,"",null,null,null,null,null,0,0,0,0,0,{"$f":"IF(AO2377<>0,SUMIFS($AP$6:$AP$1001,$AN$6:$AN$1001,AN2377,$F$6:$F$1001,F2377,$AX$6:$AX$1001,AX2377),0)","v":0},0,{"$f":"IF(AO2377<>0,SUMIFS($AP$6:$AP$1001,$AR$6:$AR$1001,AR2377,$F$6:$F$1001,F2377,$AX$6:$AX$1001,AX2377),0)","v":0},0,0,0,{"$f":"IF(AU2377<>0,SUMIFS($AV$6:$AV$1001,$AT$6:$AT$1001,AT2377,$F$6:$F$1001,F2377,$AY$6:$AY$1001,AY2377),0)","v":0},1900,1900,0,0,0,0,0,0,0,0,0,"","",0,0,0,"FORMATO INCORRECTO","FORMATO INCORRECTO","FORMATO INCORRECTO",{"$f":"IF(L2377=\"\",\"\",IF(ISERROR(edata(L2377)),\"FORMATO INCORRECTO\",\"FORMATO CORRECTO\"))","v":""},{"$f":"IF(U2377=\"\",\"\",IF(ISERROR(edata(U2377)),\"FORMATO INCORRECTO\",\"FORMATO CORRECTO\"))","v":""},{"$f":"IF(N2377=\"\",\"\",IF(ISERROR(edata(N2377)),\"FORMATO INCORRECTO\",\"FORMATO CORRECTO\"))","v":""}]
["1917-06-21","",null,null,null,null,null,null,"",null,null,null,null,null,null,null,null,"",null,null,null,null,null,null,null,null,"",null,"",null,null,"",null,null,null,null,null,0,0,0,0,0,{"$f":"IF(AO2384<>0,SUMIFS($AP$6:$AP$1001,$AN$6:$AN$1001,AN2384,$F$6:$F$1001,F2384,$AX$6:$AX$1001,AX2384),0)","v":0},0,{"$f":"IF(AO2384<>0,SUMIFS($AP$6:$AP$1001,$AR$6:$AR$1001,AR2384,$F$6:$F$1001,F2384,$AX$6:$AX$1001,AX2384),0)","v":0},0,0,0,{"$f":"IF(AU2384<>0,SUMIFS($AV$6:$AV$1001,$AT$6:$AT$1001,AT2384,$F$6:$F$1001,F2384,$AY$6:$AY$1001,AY2384),0)","v":0},1900,1900,0,0,0,0,0,0,0,0,0,"","",0,0,0,"FORMATO INCORRECTO","FORMATO INCORRECTO","FORMATO INCORRECTO",{"$f":"IF(L2384=\"\",\"\",IF(ISERROR(edata(L2384)),\"FORMATO INCORRECTO\",\"FORMATO CORRECTO\"))","v":""},{"$f":"IF(U2384=\"\",\"\",IF(ISERROR(edata(U2384)),\"FORMATO INCORRECTO\",\"FORMATO CORRECTO\"))","v":""},{"$f":"IF(N2384=\"\",\"\",IF(ISERROR(edata(N2384)),\"FORMATO INCORRECTO\",\"FORMATO CORRECTO\"))","v":""}]
["1917-07-03","",null,null,null,null,null,null,"",null,null,null,null,null,null,null,null,"",null,null,null,null,null,null,null,null,"",null,"",null,null,"",null,null,null,null,null,0,0,0,0,0,{"$f":"IF(AO2396<>0,SUMIFS($AP$6:$AP$1001,$AN$6:$AN$1001,AN2396,$F$6:$F$1001,F2396,$AX$6:$AX$1001,AX2396),0)","v":0},0,{"$f":"IF(AO2396<>0,SUMIFS($AP$6:$AP$1001,$AR$6:$AR$1001,AR2396,$F$6:$F$1001,F2396,$AX$6:$AX$1001,AX2396),0)","v":0},0,0,0,{"$f":"IF(AU2396<>0,SUMIFS($AV$6:$AV$1001,$AT$6:$AT$1001,AT2396,$F$6:$F$1001,F2396,$AY$6:$AY$1001,AY2396),0)","v":0},1900,1900,0,0,0,0,0,0,0,0,0,"","",0,0,0,"FORMATO INCORRECTO","FORMATO INCORRECTO","FORMATO INCORRECTO",{"$f":"IF(L2396=\"\",\"\",IF(ISERROR(edata(L2396)),\"FORMATO INCORRECTO\",\"FORMATO CORRECTO\"))","v":""},{"$f":"IF(U2396=\"\",\"\",IF(ISERROR(edata(U2396)),\"FORMATO INCORRECTO\",\"FORMATO CORRECTO\"))","v":""},{"$f":"IF(N2396=\"\",\"\",IF(ISERROR(edata(N2396)),\"FORMATO INCORRECTO\",\"FORMATO CORRECTO\"))","v":""}]
["1917-07-09","",null,null,null,null,null,null,"",null,null,null,null,null,null,null,null,"",null,null,null,null,null,null,null,null,"",null,"",null,null,"",null,null,null,null,null,0,0,0,0,0,{"$f":"IF(AO2402<>0,SUMIFS($AP$6:$AP$1001,$AN$6:$AN$1001,AN2402,$F$6:$F$1001,F2402,$AX$6:$AX$1001,AX2402),0)","v":0},0,{"$f":"IF(AO2402<>0,SUMIFS($AP$6:$AP$1001,$AR$6:$AR$1001,AR2402,$F$6:$F$1001,F2402,$AX$6:$AX$1001,AX2402),0)","v":0},0,0,0,{"$f":"IF(AU2402<>0,SUMIFS($AV$6:$AV$1001,$AT$6:$AT$1001,AT2402,$F$6:$F$1001,F2402,$AY$6:$AY$1001,AY2402),0)","v":0},1900,1900,0,0,0,0,0,0,0,0,0,"","",0,0,0,"FORMATO INCORRECTO","FORMATO INCORRECTO","FORMATO INCORRECTO",{"$f":"IF(L2402=\"\",\"\",IF(ISERROR(edata(L2402)),\"FORMATO INCORRECTO\",\"FORMATO CORRECTO\"))","v":""},{"$f":"IF(U2402=\"\",\"\",IF(ISERROR(edata(U2402)),\"FORMATO INCORRECTO\",\"FORMATO CORRECTO\"))","v":""},{"$f":"IF(N2402=\"\",\"\",IF(ISERROR(edata(N2402)),\"FORMATO INCORRECTO\",\"FORMATO CORRECTO\"))","v":""}]
["1917-07-21","",null,null,null,null,null,null,"",null,null,null,null,null,null,null,null,"",null,null,null,null,null,null,null,null,"",null,"",null,null,"",null,null,null,null,null,0,0,0,0,0,{"$f":"IF(AO2414<>0,SUMIFS($AP$6:$AP$1001,$AN$6:$AN$1001,AN2414,$F$6:$F$1001,F2414,$AX$6:$AX$1001,AX2414),0)","v":0},0,{"$f":"IF(AO2414<>0,SUMIFS($AP$6:$AP$1001,$AR$6:$AR$1001,AR2414,$F$6:$F$1001,F2414,$AX$6:$AX$1001,AX2414),0)","v":0},0,0,0,{"$f":"IF(AU2414<>0,SUMIFS($AV$6:$AV$1001,$AT$6:$AT$1001,AT2414,$F$6:$F$1001,F2414,$AY$6:$AY$1001,AY2414),0)","v":0},1900,1900,0,0,0,0,0,0,0,0,0,"","",0,0,0,"FORMATO INCORRECTO","FORMATO INCORRECTO","FORMATO INCORRECTO",{"$f":"IF(L2414=\"\",\"\",IF(ISERROR(edata(L2414)),\"FORMATO INCORRECTO\",\"FORMATO CORRECTO\"))","v":""},{"$f":"IF(U2414=\"\",\"\",IF(ISERROR(edata(U2414)),\"FORMATO INCORRECTO\",\"FORMATO CORRECTO\"))","v":""},{"$f":"IF(N2414=\"\",\"\",IF(ISERROR(edata(N2414)),\"FORMATO INCORRECTO\",\"FORMATO CORRECTO\"))","v":""}]
["1917-07-24","",null,null,null,null,null,null,"",null,null,null,null,null,null,null,null,"",null,null,null,null,null,null,null,null,"",null,"",null,null,"",null,null,null,null,null,0,0,0,0,0,{"$f":"IF(AO2417<>0,SUMIFS($AP$6:$AP$1001,$AN$6:$AN$1001,AN2417,$F$6:$F$1001,F2417,$AX$6:$AX$1001,AX2417),0)","v":0},0,{"$f":"IF(AO2417<>0,SUMIFS($AP$6:$AP$1001,$AR$6:$AR$1001,AR2417,$F$6:$F$1001,F2417,$AX$6:$AX$1001,AX2417),0)","v":0},0,0,0,{"$f":"IF(AU2417<>0,SUMIFS($AV$6:$AV$1001,$AT$6:$AT$1001,AT2417,$F$6:$F$1001,F2417,$AY$6:$AY$1001,AY2417),0)","v":0},1900,1900,0,0,0,0,0,0,0,0,0,"","",0,0,0,"FORMATO INCORRECTO","FORMATO INCORRECTO","FORMATO INCORRECTO",{"$f":"IF(L2417=\"\",\"\",IF(ISERROR(edata(L2417)),\"FORMATO INCORRECTO\",\"FORMATO CORRECTO\"))","v":""},{"$f":"IF(U2417=\"\",\"\",IF(ISERROR(edata(U2417)),\"FORMATO INCORRECTO\",\"FORMATO CORRECTO\"))","v":""},{"$f":"IF(N2417=\"\",\"\",IF(ISERROR(edata(N2417)),\"FORMATO INCORRECTO\",\"FORMATO CORRECTO\"))","v":""}]
["1917-08-09","",null,null,null,null,null,null,"",null,null,null,null,null,null,null,null,"",null,null,null,null,null,null,null,null,"",null,"",null,null,"",null,null,null,null,null,0,0,0,0,0,{"$f":"IF(AO2433<>0,SUMIFS($AP$6:$AP$1001,$AN$6:$AN$1001,AN2433,$F$6:$F$1001,F2433,$AX$6:$AX$1001,AX2433),0)","v":0},0,{"$f":"IF(AO2433<>0,SUMIFS($AP$6:$AP$1001,$AR$6:$AR$1001,AR2433,$F$6:$F$1001,F2433,$AX$6:$AX$1001,AX2433),0)","v":0},0,0,0,{"$f":"IF(AU2433<>0,SUMIFS($AV$6:$AV$1001,$AT$6:$AT$1001,AT2433,$F$6:$F$1001,F2433,$AY$6:$AY$1001,AY2433),0)","v":0},1900,1900,0,0,0,0,0,0,0,0,0,"","",0,0,0,"FORMATO INCORRECTO","FORMATO INCORRECTO","FORMATO INCORRECTO",{"$f":"IF(L2433=\"\",\"\",IF(ISERROR(edata(L2433)),\"FORMATO INCORRECTO\",\"FORMATO CORRECTO\"))","v":""},{"$f":"IF(U2433=\"\",\"\",IF(ISERROR(edata(U2433)),\"FORMATO INCORRECTO\",\"FORMATO CORRECTO\"))","v":""},{"$f":"IF(N2433=\"\",\"\",IF(ISERROR(edata(N2433)),\"FORMATO INCORRECTO\",\"FORMATO CORRECTO\"))","v":""}]
["1917-08-17","",null,null,null,null,null,null,"",null,null,null,null,null,null,null,null,"",null,null,null,null,null,null,null,null,"",null,"",null,null,"",null,null,null,null,null,0,0,0,0,0,{"$f":"IF(AO2441<>0,SUMIFS($AP$6:$AP$1001,$AN$6:$AN$1001,AN2441,$F$6:$F$1001,F2441,$AX$6:$AX$1001,AX2441),0)","v":0},0,{"$f":"IF(AO2441<>0,SUMIFS($AP$6:$AP$1001,$AR$6:$AR$1001,AR2441,$F$6:$F$1001,F2441,$AX$6:$AX$1001,AX2441),0)","v":0},0,0,0,{"$f":"IF(AU2441<>0,SUMIFS($AV$6:$AV$1001,$AT$6:$AT$1001,AT2441,$F$6:$F$1001,F2441,$AY$6:$AY$1001,AY2441),0)","v":0},1900,1900,0,0,0,0,0,0,0,0,0,"","",0,0,0,"FORMATO INCORRECTO","FORMATO INCORRECTO","FORMATO INCORRECTO",{"$f":"IF(L2441=\"\",\"\",IF(ISERROR(edata(L2441)),\"FORMATO INCORRECTO\",\"FORMATO CORRECTO\"))","v":""},{"$f":"IF(U2441=\"\",\"\",IF(ISERROR(edata(U2441)),\"FORMATO INCORRECTO\",\"FORMATO CORRECTO\"))","v":""},{"$f":"IF(N2441=\"\",\"\",IF(ISERROR(edata(N2441)),\"FORMATO INCORRECTO\",\"FORMATO CORRECTO\"))","v":""}]
["1917-08-23","",null,null,null,null,null,null,"",null,null,null,null,null,null,null,null,"",null,null,null,null,null,null,null,null,"",null,"",null,null,"",null,null,null,null,null,0,0,0,0,0,{"$f":"IF(AO2447<>0,SUMIFS($AP$6:$AP$1001,$AN$6:$AN$1001,AN2447,$F$6:$F$1001,F2447,$AX$6:$AX$1001,AX2447),0)","v":0},0,{"$f":"IF(AO2447<>0,SUMIFS($AP$6:$AP$1001,$AR$6:$AR$1001,AR2447,$F$6:$F$1001,F2447,$AX$6:$AX$1001,AX2447),0)","v":0},0,0,0,{"$f":"IF(AU2447<>0,SUMIFS($AV$6:$AV$1001,$AT$6:$AT$1001,AT2447,$F$6:$F$1001,F2447,$AY$6:$AY$1001,AY2447),0)","v":0},1900,1900,0,0,0,0,0,0,0,0,0,"","",0,0,0,"FORMATO INCORRECTO","FORMATO INCORRECTO","FORMATO INCORRECTO",{"$f":"IF(L2447=\"\",\"\",IF(ISERROR(edata(L2447)),\"FORMATO INCORRECTO\",\"FORMATO CORRECTO\"))","v":""},{"$f":"IF(U2447=\"\",\"\",IF(ISERROR(edata(U2447)),\"FORMATO INCORRECTO\",\"FORMATO CORRECTO\"))","v":""},{"$f":"IF(N2447=\"\",\"\",IF(ISERROR(edata(N2447)),\"FORMATO INCORRECTO\",\"FORMATO CORRECTO\"))","v":""}]
["1917-08-30","",null,null,null,null,null,null,"",null,null,null,null,null,null,null,null,"",null,null,null,null,null,null,null,null,"",null,"",null,null,"",null,null,null,null,null,0,0,0,0,0,{"$f":"IF(AO2454<>0,SUMIFS($AP$6:$AP$1001,$AN$6:$AN$1001,AN2454,$F$6:$F$1001,F2454,$AX$6:$AX$1001,AX2454),0)","v":0},0,{"$f":"IF(AO2454<>0,SUMIFS($AP$6:$AP$1001,$AR$6:$AR$1001,AR2454,$F$6:$F$1001,F2454,$AX$6:$AX$1001,AX2454),0)","v":0},0,0,0,{"$f":"IF(AU2454<>0,SUMIFS($AV$6:$AV$1001,$AT$6:$AT$1001,AT2454,$F$6:$F$1001,F2454,$AY$6:$AY$1001,AY2454),0)","v":0},1900,1900,0,0,0,0,0,0,0,0,0,"","",0,0,0,"FORMATO INCORRECTO","FORMATO INCORRECTO","FORMATO INCORRECTO",{"$f":"IF(L2454=\"\",\"\",IF(ISERROR(edata(L2454)),\"FORMATO INCORRECTO\",\"FORMATO CORRECTO\"))","v":""},{"$f":"IF(U2454=\"\",\"\",IF(ISERROR(edata(U2454)),\"FORMATO INCORRECTO\",\"FORMATO CORRECTO\"))","v":""},{"$f":"IF(N2454=\"\",\"\",IF(ISERROR(edata(N2454)),\"FORMATO INCORRECTO\",\"FORMATO CORRECTO\"))","v":""}]
["1917-09-11","",null,null,null,null,null,null,"",null,null,null,null,null,null,null,null,"",null,null,null,null,null,null,null,null,"",null,"",null,null,"",null,null,null,null,null,0,0,0,0,0,{"$f":"IF(AO2466<>0,SUMIFS($AP$6:$AP$1001,$AN$6:$AN$1001,AN2466,$F$6:$F$1001,F2466,$AX$6:$AX$1001,AX2466),0)","v":0},0,{"$f":"IF(AO2466<>0,SUMIFS($AP$6:$AP$1001,$AR$6:$AR$1001,AR2466,$F$6:$F$1001,F2466,$AX$6:$AX$1001,AX2466),0)","v":0},0,0,0,{"$f":"IF(AU2466<>0,SUMIFS($AV$6:$AV$1001,$AT$6:$AT$1001,AT2466,$F$6:$F$1001,F2466,$AY$6:$AY$1001,AY2466),0)","v":0},1900,1900,0,0,0,0,0,0,0,0,0,"","",0,0,0,"FORMATO INCORRECTO","FORMATO INCORRECTO","FORMATO INCORRECTO",{"$f":"IF(L2466=\"\",\"\",IF(ISERROR(edata(L2466)),\"FORMATO INCORRECTO\",\"FORMATO CORRECTO\"))","v":""},{"$f":"IF(U2466=\"\",\"\",IF(ISERROR(edata(U2466)),\"FORMATO INCORRECTO\",\"FORMATO CORRECTO\"))","v":""},{"$f":"IF(N2466=\"\",\"\",IF(ISERROR(edata(N2466)),\"FORMATO INCORRECTO\",\"FORMATO CORRECTO\"))","v":""}]
["1917-09-17","",null,null,null,null,null,null,"",null,null,null,null,null,null,null,null,"",null,null,null,null,null,null,null,null,"",null,"",null,null,"",null,null,null,null,null,0,0,0,0,0,{"$f":"IF(AO2472<>0,SUMIFS($AP$6:$AP$1001,$AN$6:$AN$1001,AN2472,$F$6:$F$1001,F2472,$AX$6:$AX$1001,AX2472),0)","v":0},0,{"$f":"IF(AO2472<>0,SUMIFS($AP$6:$AP$1001,$AR$6:$AR$1001,AR2472,$F$6:$F$1001,F2472,$AX$6:$AX$1001,AX2472),0)","v":0},0,0,0,{"$f":"IF(AU2472<>0,SUMIFS($AV$6:$AV$1001,$AT$6:$AT$1001,AT2472,$F$6:$F$1001,F2472,$AY$6:$AY$1001,AY2472),0)","v":0},1900,1900,0,0,0,0,0,0,0,0,0,"","",0,0,0,"FORMATO INCORRECTO","FORMATO INCORRECTO","FORMATO INCORRECTO",{"$f":"IF(L2472=\"\",\"\",IF(ISERROR(edata(L2472)),\"FORMATO INCORRECTO\",\"FORMATO CORRECTO\"))","v":""},{"$f":"IF(U2472=\"\",\"\",IF(ISERROR(edata(U2472)),\"FORMATO INCORRECTO\",\"FORMATO CORRECTO\"))","v":""},{"$f":"IF(N2472=\"\",\"\",IF(ISERROR(edata(N2472)),\"FORMATO INCORRECTO\",\"FORMATO CORRECTO\"))","v":""}]
["1917-09-29","",null,null,null,null,null,null,"",null,null,null,null,null,null,null,null,"",null,null,null,null,null,null,null,null,"",null,"",null,null,"",null,null,null,null,null,0,0,0,0,0,{"$f":"IF(AO2484<>0,SUMIFS($AP$6:$AP$1001,$AN$6:$AN$1001,AN2484,$F$6:$F$1001,F2484,$AX$6:$AX$1001,AX2484),0)","v":0},0,{"$f":"IF(AO2484<>0,SUMIFS($AP$6:$AP$1001,$AR$6:$AR$1001,AR2484,$F$6:$F$1001,F2484,$AX$6:$AX$1001,AX2484),0)","v":0},0,0,0,{"$f":"IF(AU2484<>0,SUMIFS($AV$6:$AV$1001,$AT$6:$AT$1001,AT2484,$F$6:$F$1001,F2484,$AY$6:$AY$1001,AY2484),0)","v":0},1900,1900,0,0,0,0,0,0,0,0,0,"","",0,0,0,"FORMATO INCORRECTO","FORMATO INCORRECTO","FORMATO INCORRECTO",{"$f":"IF(L2484=\"\",\"\",IF(ISERROR(edata(L2484)),\"FORMATO INCORRECTO\",\"FORMATO CORRECTO\"))","v":""},{"$f":"IF(U2484=\"\",\"\",IF(ISERROR(edata(U2484)),\"FORMATO INCORRECTO\",\"FORMATO CORRECTO\"))","v":""},{"$f":"IF(N2484=\"\",\"\",IF(ISERROR(edata(N2484)),\"FORMATO INCORRECTO\",\"FORMATO CORRECTO\"))","v":""}]
["1917-10-02","",null,null,null,null,null,null,"",null,null,null,null,null,null,null,null,"",null,null,null,null,null,null,null,null,"",null,"",null,null,"",null,null,null,null,null,0,0,0,0,0,{"$f":"IF(AO2487<>0,SUMIFS($AP$6:$AP$1001,$AN$6:$AN$1001,AN2487,$F$6:$F$1001,F2487,$AX$6:$AX$1001,AX2487),0)","v":0},0,{"$f":"IF(AO2487<>0,SUMIFS($AP$6:$AP$1001,$AR$6:$AR$1001,AR2487,$F$6:$F$1001,F2487,$AX$6:$AX$1001,AX2487),0)","v":0},0,0,0,{"$f":"IF(AU2487<>0,SUMIFS($AV$6:$AV$1001,$AT$6:$AT$1001,AT2487,$F$6:$F$1001,F2487,$AY$6:$AY$1001,AY2487),0)","v":0},1900,1900,0,0,0,0,0,0,0,0,0,"","",0,0,0,"FORMATO INCORRECTO","FORMATO INCORRECTO","FORMATO INCORRECTO",{"$f":"IF(L2487=\"\",\"\",IF(ISERROR(edata(L2487)),\"FORMATO INCORRECTO\",\"FORMATO CORRECTO\"))","v":""},{"$f":"IF(U2487=\"\",\"\",IF(ISERROR(edata(U2487)),\"FORMATO INCORRECTO\",\"FORMATO CORRECTO\"))","v":""},{"$f":"IF(N2487=\"\",\"\",IF(ISERROR(edata(N2487)),\"FORMATO INCORRECTO\",\"FORMATO CORRECTO\"))","v":""}]
["1917-10-18","",null,null,null,null,null,null,"",null,null,null,null,null,null,null,null,"",null,null,null,null,null,null,null,null,"",null,"",null,null,"",null,null,null,null,null,0,0,0,0,0,{"$f":"IF(AO2503<>0,SUMIFS($AP$6:$AP$1001,$AN$6:$AN$1001,AN2503,$F$6:$F$1001,F2503,$AX$6:$AX$1001,AX2503),0)","v":0},0,{"$f":"IF(AO2503<>0,SUMIFS($AP$6:$AP$1001,$AR$6:$AR$1001,AR2503,$F$6:$F$1001,F2503,$AX$6:$AX$1001,AX2503),0)","v":0},0,0,0,{"$f":"IF(AU2503<>0,SUMIFS($AV$6:$AV$1001,$AT$6:$AT$1001,AT2503,$F$6:$F$1001,F2503,$AY$6:$AY$1001,AY2503),0)","v":0},1900,1900,0,0,0,0,0,0,0,0,0,"","",0,0,0,"FORMATO INCORRECTO","FORMATO INCORRECTO","FORMATO INCORRECTO",{"$f":"IF(L2503=\"\",\"\",IF(ISERROR(edata(L2503)),\"FORMATO INCORRECTO\",\"FORMATO CORRECTO\"))","v":""},{"$f":"IF(U2503=\"\",\"\",IF(ISERROR(edata(U2503)),\"FORMATO INCORRECTO\",\"FORMATO CORRECTO\"))","v":""},{"$f":"IF(N2503=\"\",\"\",IF(ISERROR(edata(N2503)),\"FORMATO INCORRECTO\",\"FORMATO CORRECTO\"))","v":""}]
["1917-10-26","",null,null,null,null,null,null,"",null,null,null,null,null,null,null,null,"",null,null,null,null,null,null,null,null,"",null,"",null,null,"",null,null,null,null,null,0,0,0,0,0,{"$f":"IF(AO2511<>0,SUMIFS($AP$6:$AP$1001,$AN$6:$AN$1001,AN2511,$F$6:$F$1001,F2511,$AX$6:$AX$1001,AX2511),0)","v":0},0,{"$f":"IF(AO2511<>0,SUMIFS($AP$6:$AP$1001,$AR$6:$AR$1001,AR2511,$F$6:$F$1001,F2511,$AX$6:$AX$1001,AX2511),0)","v":0},0,0,0,{"$f":"IF(AU2511<>0,SUMIFS($AV$6:$AV$1001,$AT$6:$AT$1001,AT2511,$F$6:$F$1001,F2511,$AY$6:$AY$1001,AY2511),0)","v":0},1900,1900,0,0,0,0,0,0,0,0,0,"","",0,0,0,"FORMATO INCORRECTO","FORMATO INCORRECTO","FORMATO INCORRECTO",{"$f":"IF(L2511=\"\",\"\",IF(ISERROR(edata(L2511)),\"FORMATO INCORRECTO\",\"FORMATO CORRECTO\"))","v":""},{"$f":"IF(U2511=\"\",\"\",IF(ISERROR(edata(U2511)),\"FORMATO INCORRECTO\",\"FORMATO CORRECTO\"))","v":""},{"$f":"IF(N2511=\"\",\"\",IF(ISERROR(edata(N2511)),\"FORMATO INCORRECTO\",\"FORMATO CORRECTO\"))","v":""}]
["1917-11-01","",null,null,null,null,null,null,"",null,null,null,null,null,null,null,null,"",null,null,null,null,null,null,null,null,"",null,"",null,null,"",null,null,null,null,null,0,0,0,0,0,{"$f":"IF(AO2517<>0,SUMIFS($AP$6:$AP$1001,$AN$6:$AN$1001,AN2517,$F$6:$F$1001,F2517,$AX$6:$AX$1001,AX2517),0)","v":0},0,{"$f":"IF(AO2517<>0,SUMIFS($AP$6:$AP$1001,$AR$6:$AR$1001,AR2517,$F$6:$F$1001,F2517,$AX$6:$AX$1001,AX2517),0)","v":0},0,0,0,{"$f":"IF(AU2517<>0,SUMIFS($AV$6:$AV$1001,$AT$6:$AT$1001,AT2517,$F$6:$F$1001,F2517,$AY$6:$AY$1001,AY2517),0)","v":0},1900,1900,0,0,0,0,0,0,0,0,0,"","",0,0,0,"FORMATO INCORRECTO","FORMATO INCORRECTO","FORMATO INCORRECTO",{"$f":"IF(L2517=\"\",\"\",IF(ISERROR(edata(L2517)),\"FORMATO INCORRECTO\",\"FORMATO CORRECTO\"))","v":""},{"$f":"IF(U2517=\"\",\"\",IF(ISERROR(edata(U2517)),\"FORMATO INCORRECTO\",\"FORMATO CORRECTO\"))","v":""},{"$f":"IF(N2517=\"\",\"\",IF(ISERROR(edata(N2517)),\"FORMATO INCORRECTO\",\"FORMATO CORRECTO\"))","v":""}]
["1917-11-08","",null,null,null,null,null,null,"",null,null,null,null,null,null,null,null,"",null,null,null,null,null,null,null,null,"",null,"",null,null,"",null,null,null,null,null,0,0,0,0,0,{"$f":"IF(AO2524<>0,SUMIFS($AP$6:$AP$1001,$AN$6:$AN$1001,AN2524,$F$6:$F$1001,F2524,$AX$6:$AX$1001,AX2524),0)","v":0},0,{"$f":"IF(AO2524<>0,SUMIFS($AP$6:$AP$1001,$AR$6:$AR$1001,AR2524,$F$6:$F$1001,F2524,$AX$6:$AX$1001,AX2524),0)","v":0},0,0,0,{"$f":"IF(AU2524<>0,SUMIFS($AV$6:$AV$1001,$AT$6:$AT$1001,AT2524,$F$6:$F$1001,F2524,$AY$6:$AY$1001,AY2524),0)","v":0},1900,1900,0,0,0,0,0,0,0,0,0,"","",0,0,0,"FORMATO INCORRECTO","FORMATO INCORRECTO","FORMATO INCORRECTO",{"$f":"IF(L2524=\"\",\"\",IF(ISERROR(edata(L2524)),\"FORMATO INCORRECTO\",\"FORMATO CORRECTO\"))","v":""},{"$f":"IF(U2524=\"\",\"\",IF(ISERROR(edata(U2524)),\"FORMATO INCORRECTO\",\"FORMATO CORRECTO\"))","v":""},{"$f":"IF(N2524=\"\",\"\",IF(ISERROR(edata(N2524)),\"FORMATO INCORRECTO\",\"FORMATO CORRECTO\"))","v":""}]
["1917-11-20","",null,null,null,null,null,null,"",null,null,null,null,null,null,null,null,"",null,null,null,null,null,null,null,null,"",null,"",null,null,"",null,null,null,null,null,0,0,0,0,0,{"$f":"IF(AO2536<>0,SUMIFS($AP$6:$AP$1001,$AN$6:$AN$1001,AN2536,$F$6:$F$1001,F2536,$AX$6:$AX$1001,AX2536),0)","v":0},0,{"$f":"IF(AO2536<>0,SUMIFS($AP$6:$AP$1001,$AR$6:$AR$1001,AR2536,$F$6:$F$1001,F2536,$AX$6:$AX$1001,AX2536),0)","v":0},0,0,0,{"$f":"IF(AU2536<>0,SUMIFS($AV$6:$AV$1001,$AT$6:$AT$1001,AT2536,$F$6:$F$1001,F2536,$AY$6:$AY$1001,AY2536),0)","v":0},1900,1900,0,0,0,0,0,0,0,0,0,"","",0,0,0,"FORMATO INCORRECTO","FORMATO INCORRECTO","FORMATO INCORRECTO",{"$f":"IF(L2536=\"\",\"\",IF(ISERROR(edata(L2536)),\"FORMATO INCORRECTO\",\"FORMATO CORRECTO\"))","v":""},{"$f":"IF(U2536=\"\",\"\",IF(ISERROR(edata(U2536)),\"FORMATO INCORRECTO\",\"FORMATO CORRECTO\"))","v":""},{"$f":"IF(N2536=\"\",\"\",IF(ISERROR(edata(N2536)),\"FORMATO INCORRECTO\",\"FORMATO CORRECTO\"))","v":""}]
["1917-11-26","",null,null,null,null,null,null,"",null,null,null,null,null,null,null,null,"",null,null,null,null,null,null,null,null,"",null,"",null,null,"",null,null,null,null,null,0,0,0,0,0,{"$f":"IF(AO2542<>0,SUMIFS($AP$6:$AP$1001,$AN$6:$AN$1001,AN2542,$F$6:$F$1001,F2542,$AX$6:$AX$1001,AX2542),0)","v":0},0,{"$f":"IF(AO2542<>0,SUMIFS($AP$6:$AP$1001,$AR$6:$AR$1001,AR2542,$F$6:$F$1001,F2542,$AX$6:$AX$1001,AX2542),0)","v":0},0,0,0,{"$f":"IF(AU2542<>0,SUMIFS($AV$6:$AV$1001,$AT$6:$AT$1001,AT2542,$F$6:$F$1001,F2542,$AY$6:$AY$1001,AY2542),0)","v":0},1900,1900,0,0,0,0,0,0,0,0,0,"","",0,0,0,"FORMATO INCORRECTO","FORMATO INCORRECTO","FORMATO INCORRECTO",{"$f":"IF(L2542=\"\",\"\",IF(ISERROR(edata(L2542)),\"FORMATO INCORRECTO\",\"FORMATO CORRECTO\"))","v":""},{"$f":"IF(U2542=\"\",\"\",IF(ISERROR(edata(U2542)),\"FORMATO INCORRECTO\",\"FORMATO CORRECTO\"))","v":""},{"$f":"IF(N2542=\"\",\"\",IF(ISERROR(edata(N2542)),\"FORMATO INCORRECTO\",\"FORMATO CORRECTO\"))","v":""}]
["1917-12-08","",null,null,null,null,null,null,"",null,null,null,null,null,null,null,null,"",null,null,null,null,null,null,null,null,"",null,"",null,null,"",null,null,null,null,null,0,0,0,0,0,{"$f":"IF(AO2554<>0,SUMIFS($AP$6:$AP$1001,$AN$6:$AN$1001,AN2554,$F$6:$F$1001,F2554,$AX$6:$AX$1001,AX2554),0)","v":0},0,{"$f":"IF(AO2554<>0,SUMIFS($AP$6:$AP$1001,$AR$6:$AR$1001,AR2554,$F$6:$F$1001,F2554,$AX$6:$AX$1001,AX2554),0)","v":0},0,0,0,{"$f":"IF(AU2554<>0,SUMIFS($AV$6:$AV$1001,$AT$6:$AT$1001,AT2554,$F$6:$F$1001,F2554,$AY$6:$AY$1001,AY2554),0)","v":0},1900,1900,0,0,0,0,0,0,0,0,0,"","",0,0,0,"FORMATO INCORRECTO","FORMATO INCORRECTO","FORMATO INCORRECTO",{"$f":"IF(L2554=\"\",\"\",IF(ISERROR(edata(L2554)),\"FORMATO INCORRECTO\",\"FORMATO CORRECTO\"))","v":""},{"$f":"IF(U2554=\"\",\"\",IF(ISERROR(edata(U2554)),\"FORMATO INCORRECTO\",\"FORMATO CORRECTO\"))","v":""},{"$f":"IF(N2554=\"\",\"\",IF(ISERROR(edata(N2554)),\"FORMATO INCORRECTO\",\"FORMATO CORRECTO\"))","v":""}]
["1917-12-11","",null,null,null,null,null,null,"",null,null,null,null,null,null,null,null,"",null,null,null,null,null,null,null,null,"",null,"",null,null,"",null,null,null,null,null,0,0,0,0,0,{"$f":"IF(AO2557<>0,SUMIFS($AP$6:$AP$1001,$AN$6:$AN$1001,AN2557,$F$6:$F$1001,F2557,$AX$6:$AX$1001,AX2557),0)","v":0},0,{"$f":"IF(AO2557<>0,SUMIFS($AP$6:$AP$1001,$AR$6:$AR$1001,AR2557,$F$6:$F$1001,F2557,$AX$6:$AX$1001,AX2557),0)","v":0},0,0,0,{"$f":"IF(AU2557<>0,SUMIFS($AV$6:$AV$1001,$AT$6:$AT$1001,AT2557,$F$6:$F$1001,F2557,$AY$6:$AY$1001,AY2557),0)","v":0},1900,1900,0,0,0,0,0,0,0,0,0,"","",0,0,0,"FORMATO INCORRECTO","FORMATO INCORRECTO","FORMATO INCORRECTO",{"$f":"IF(L2557=\"\",\"\",IF(ISERROR(edata(L2557)),\"FORMATO INCORRECTO\",\"FORMATO CORRECTO\"))","v":""},{"$f":"IF(U2557=\"\",\"\",IF(ISERROR(edata(U2557)),\"FORMATO INCORRECTO\",\"FORMATO CORRECTO\"))","v":""},{"$f":"IF(N2557=\"\",\"\",IF(ISERROR(edata(N2557)),\"FORMATO INCORRECTO\",\"FORMATO CORRECTO\"))","v":""}]
["1917-12-27","",null,null,null,null,null,null,"",null,null,null,null,null,null,null,null,"",null,null,null,null,null,null,null,null,"",null,"",null,null,"",null,null,null,null,null,0,0,0,0,0,{"$f":"IF(AO2573<>0,SUMIFS($AP$6:$AP$1001,$AN$6:$AN$1001,AN2573,$F$6:$F$1001,F2573,$AX$6:$AX$1001,AX2573),0)","v":0},0,{"$f":"IF(AO2573<>0,SUMIFS($AP$6:$AP$1001,$AR$6:$AR$1001,AR2573,$F$6:$F$1001,F2573,$AX$6:$AX$1001,AX2573),0)","v":0},0,0,0,{"$f":"IF(AU2573<>0,SUMIFS($AV$6:$AV$1001,$AT$6:$AT$1001,AT2573,$F$6:$F$1001,F2573,$AY$6:$AY$1001,AY2573),0)","v":0},1900,1900,0,0,0,0,0,0,0,0,0,"","",0,0,0,"FORMATO INCORRECTO","FORMATO INCORRECTO","FORMATO INCORRECTO",{"$f":"IF(L2573=\"\",\"\",IF(ISERROR(edata(L2573)),\"FORMATO INCORRECTO\",\"FORMATO CORRECTO\"))","v":""},{"$f":"IF(U2573=\"\",\"\",IF(ISERROR(edata(U2573)),\"FORMATO INCORRECTO\",\"FORMATO CORRECTO\"))","v":""},{"$f":"IF(N2573=\"\",\"\",IF(ISERROR(edata(N2573)),\"FORMATO INCORRECTO\",\"FORMATO CORRECTO\"))","v":""}]
["1918-01-04","",null,null,null,null,null,null,"",null,null,null,null,null,null,null,null,"",null,null,null,null,null,null,null,null,"",null,"",null,null,"",null,null,null,null,null,0,0,0,0,0,{"$f":"IF(AO2581<>0,SUMIFS($AP$6:$AP$1001,$AN$6:$AN$1001,AN2581,$F$6:$F$1001,F2581,$AX$6:$AX$1001,AX2581),0)","v":0},0,{"$f":"IF(AO2581<>0,SUMIFS($AP$6:$AP$1001,$AR$6:$AR$1001,AR2581,$F$6:$F$1001,F2581,$AX$6:$AX$1001,AX2581),0)","v":0},0,0,0,{"$f":"IF(AU2581<>0,SUMIFS($AV$6:$AV$1001,$AT$6:$AT$1001,AT2581,$F$6:$F$1001,F2581,$AY$6:$AY$1001,AY2581),0)","v":0},1900,1900,0,0,0,0,0,0,0,0,0,"","",0,0,0,"FORMATO INCORRECTO","FORMATO INCORRECTO","FORMATO INCORRECTO",{"$f":"IF(L2581=\"\",\"\",IF(ISERROR(edata(L2581)),\"FORMATO INCORRECTO\",\"FORMATO CORRECTO\"))","v":""},{"$f":"IF(U2581=\"\",\"\",IF(ISERROR(edata(U2581)),\"FORMATO INCORRECTO\",\"FORMATO CORRECTO\"))","v":""},{"$f":"IF(N2581=\"\",\"\",IF(ISERROR(edata(N2581)),\"FORMATO INCORRECTO\",\"FORMATO CORRECTO\"))","v":""}]
["1918-01-10","",null,null,null,null,null,null,"",null,null,null,null,null,null,null,null,"",null,null,null,null,null,null,null,null,"",null,"",null,null,"",null,null,null,null,null,0,0,0,0,0,{"$f":"IF(AO2587<>0,SUMIFS($AP$6:$AP$1001,$AN$6:$AN$1001,AN2587,$F$6:$F$1001,F2587,$AX$6:$AX$1001,AX2587),0)","v":0},0,{"$f":"IF(AO2587<>0,SUMIFS($AP$6:$AP$1001,$AR$6:$AR$1001,AR2587,$F$6:$F$1001,F2587,$AX$6:$AX$1001,AX2587),0)","v":0},0,0,0,{"$f":"IF(AU2587<>0,SUMIFS($AV$6:$AV$1001,$AT$6:$AT$1001,AT2587,$F$6:$F$1001,F2587,$AY$6:$AY$1001,AY2587),0)","v":0},1900,1900,0,0,0,0,0,0,0,0,0,"","",0,0,0,"FORMATO INCORRECTO","FORMATO INCORRECTO","FORMATO INCORRECTO",{"$f":"IF(L2587=\"\",\"\",IF(ISERROR(edata(L2587)),\"FORMATO INCORRECTO\",\"FORMATO CORRECTO\"))","v":""},{"$f":"IF(U2587=\"\",\"\",IF(ISERROR(edata(U2587)),\"FORMATO INCORRECTO\",\"FORMATO CORRECTO\"))","v":""},{"$f":"IF(N2587=\"\",\"\",IF(ISERROR(edata(N2587)),\"FORMATO INCORRECTO\",\"FORMATO CORRECTO\"))","v":""}]
["1918-01-17","",null,null,null,null,null,null,"",null,null,null,null,null,null,null,null,"",null,null,null,null,null,null,null,null,"",null,"",null,null,"",null,null,null,null,null,0,0,0,0,0,{"$f":"IF(AO2594<>0,SUMIFS($AP$6:$AP$1001,$AN$6:$AN$1001,AN2594,$F$6:$F$1001,F2594,$AX$6:$AX$1001,AX2594),0)","v":0},0,{"$f":"IF(AO2594<>0,SUMIFS($AP$6:$AP$1001,$AR$6:$AR$1001,AR2594,$F$6:$F$1001,F2594,$AX$6:$AX$1001,AX2594),0)","v":0},0,0,0,{"$f":"IF(AU2594<>0,SUMIFS($AV$6:$AV$1001,$AT$6:$AT$1001,AT2594,$F$6:$F$1001,F2594,$AY$6:$AY$1001,AY2594),0)","v":0},1900,1900,0,0,0,0,0,0,0,0,0,"","",0,0,0,"FORMATO INCORRECTO","FORMATO INCORRECTO","FORMATO INCORRECTO",{"$f":"IF(L2594=\"\",\"\",IF(ISERROR(edata(L2594)),\"FORMATO INCORRECTO\",\"FORMATO CORRECTO\"))","v":""},{"$f":"IF(U2594=\"\",\"\",IF(ISERROR(edata(U2594)),\"FORMATO INCORRECTO\",\"FORMATO CORRECTO\"))","v":""},{"$f":"IF(N2594=\"\",\"\",IF(ISERROR(edata(N2594)),\"FORMATO INCORRECTO\",\"FORMATO CORRECTO\"))","v":""}]
["1918-01-29","",null,null,null,null,null,null,"",null,null,null,null,null,null,null,null,"",null,null,null,null,null,null,null,null,"",null,"",null,null,"",null,null,null,null,null,0,0,0,0,0,{"$f":"IF(AO2606<>0,SUMIFS($AP$6:$AP$1001,$AN$6:$AN$1001,AN2606,$F$6:$F$1001,F2606,$AX$6:$AX$1001,AX2606),0)","v":0},0,{"$f":"IF(AO2606<>0,SUMIFS($AP$6:$AP$1001,$AR$6:$AR$1001,AR2606,$F$6:$F$1001,F2606,$AX$6:$AX$1001,AX2606),0)","v":0},0,0,0,{"$f":"IF(AU2606<>0,SUMIFS($AV$6:$AV$1001,$AT$6:$AT$1001,AT2606,$F$6:$F$1001,F2606,$AY$6:$AY$1001,AY2606),0)","v":0},1900,1900,0,0,0,0,0,0,0,0,0,"","",0,0,0,"FORMATO INCORRECTO","FORMATO INCORRECTO","FORMATO INCORRECTO",{"$f":"IF(L2606=\"\",\"\",IF(ISERROR(edata(L2606)),\"FORMATO INCORRECTO\",\"FORMATO CORRECTO\"))","v":""},{"$f":"IF(U2606=\"\",\"\",IF(ISERROR(edata(U2606)),\"FORMATO INCORRECTO\",\"FORMATO CORRECTO\"))","v":""},{"$f":"IF(N2606=\"\",\"\",IF(ISERROR(edata(N2606)),\"FORMATO INCORRECTO\",\"FORMATO CORRECTO\"))","v":""}]
["1918-02-04","",null,null,null,null,null,null,"",null,null,null,null,null,null,null,null,"",null,null,null,null,null,null,null,null,"",null,"",null,null,"",null,null,null,null,null,0,0,0,0,0,{"$f":"IF(AO2612<>0,SUMIFS($AP$6:$AP$1001,$AN$6:$AN$1001,AN2612,$F$6:$F$1001,F2612,$AX$6:$AX$1001,AX2612),0)","v":0},0,{"$f":"IF(AO2612<>0,SUMIFS($AP$6:$AP$1001,$AR$6:$AR$1001,AR2612,$F$6:$F$1001,F2612,$AX$6:$AX$1001,AX2612),0)","v":0},0,0,0,{"$f":"IF(AU2612<>0,SUMIFS($AV$6:$AV$1001,$AT$6:$AT$1001,AT2612,$F$6:$F$1001,F2612,$AY$6:$AY$1001,AY2612),0)","v":0},1900,1900,0,0,0,0,0,0,0,0,0,"","",0,0,0,"FORMATO INCORRECTO","FORMATO INCORRECTO","FORMATO INCORRECTO",{"$f":"IF(L2612=\"\",\"\",IF(ISERROR(edata(L2612)),\"FORMATO INCORRECTO\",\"FORMATO CORRECTO\"))","v":""},{"$f":"IF(U2612=\"\",\"\",IF(ISERROR(edata(U2612)),\"FORMATO INCORRECTO\",\"FORMATO CORRECTO\"))","v":""},{"$f":"IF(N2612=\"\",\"\",IF(ISERROR(edata(N2612)),\"FORMATO INCORRECTO\",\"FORMATO CORRECTO\"))","v":""}]
["1918-02-16","",null,null,null,null,null,null,"",null,null,null,null,null,null,null,null,"",null,null,null,null,null,null,null,null,"",null,"",null,null,"",null,null,null,null,null,0,0,0,0,0,{"$f":"IF(AO2624<>0,SUMIFS($AP$6:$AP$1001,$AN$6:$AN$1001,AN2624,$F$6:$F$1001,F2624,$AX$6:$AX$1001,AX2624),0)","v":0},0,{"$f":"IF(AO2624<>0,SUMIFS($AP$6:$AP$1001,$AR$6:$AR$1001,AR2624,$F$6:$F$1001,F2624,$AX$6:$AX$1001,AX2624),0)","v":0},0,0,0,{"$f":"IF(AU2624<>0,SUMIFS($AV$6:$AV$1001,$AT$6:$AT$1001,AT2624,$F$6:$F$1001,F2624,$AY$6:$AY$1001,AY2624),0)","v":0},1900,1900,0,0,0,0,0,0,0,0,0,"","",0,0,0,"FORMATO INCORRECTO","FORMATO INCORRECTO","FORMATO INCORRECTO",{"$f":"IF(L2624=\"\",\"\",IF(ISERROR(edata(L2624)),\"FORMATO INCORRECTO\",\"FORMATO CORRECTO\"))","v":""},{"$f":"IF(U2624=\"\",\"\",IF(ISERROR(edata(U2624)),\"FORMATO INCORRECTO\",\"FORMATO CORRECTO\"))","v":""},{"$f":"IF(N2624=\"\",\"\",IF(ISERROR(edata(N2624)),\"FORMATO INCORRECTO\",\"FORMATO CORRECTO\"))","v":""}]
["1918-02-19","",null,null,null,null,null,null,"",null,null,null,null,null,null,null,null,"",null,null,null,null,null,null,null,null,"",null,"",null,null,"",null,null,null,null,null,0,0,0,0,0,{"$f":"IF(AO2627<>0,SUMIFS($AP$6:$AP$1001,$AN$6:$AN$1001,AN2627,$F$6:$F$1001,F2627,$AX$6:$AX$1001,AX2627),0)","v":0},0,{"$f":"IF(AO2627<>0,SUMIFS($AP$6:$AP$1001,$AR$6:$AR$1001,AR2627,$F$6:$F$1001,F2627,$AX$6:$AX$1001,AX2627),0)","v":0},0,0,0,{"$f":"IF(AU2627<>0,SUMIFS($AV$6:$AV$1001,$AT$6:$AT$1001,AT2627,$F$6:$F$1001,F2627,$AY$6:$AY$1001,AY2627),0)","v":0},1900,1900,0,0,0,0,0,0,0,0,0,"","",0,0,0,"FORMATO INCORRECTO","FORMATO INCORRECTO","FORMATO INCORRECTO",{"$f":"IF(L2627=\"\",\"\",IF(ISERROR(edata(L2627)),\"FORMATO INCORRECTO\",\"FORMATO CORRECTO\"))","v":""},{"$f":"IF(U2627=\"\",\"\",IF(ISERROR(edata(U2627)),\"FORMATO INCORRECTO\",\"FORMATO CORRECTO\"))","v":""},{"$f":"IF(N2627=\"\",\"\",IF(ISERROR(edata(N2627)),\"FORMATO INCORRECTO\",\"FORMATO CORRECTO\"))","v":""}]
["1918-03-07","",null,null,null,null,null,null,"",null,null,null,null,null,null,null,null,"",null,null,null,null,null,null,null,null,"",null,"",null,null,"",null,null,null,null,null,0,0,0,0,0,{"$f":"IF(AO2643<>0,SUMIFS($AP$6:$AP$1001,$AN$6:$AN$1001,AN2643,$F$6:$F$1001,F2643,$AX$6:$AX$1001,AX2643),0)","v":0},0,{"$f":"IF(AO2643<>0,SUMIFS($AP$6:$AP$1001,$AR$6:$AR$1001,AR2643,$F$6:$F$1001,F2643,$AX$6:$AX$1001,AX2643),0)","v":0},0,0,0,{"$f":"IF(AU2643<>0,SUMIFS($AV$6:$AV$1001,$AT$6:$AT$1001,AT2643,$F$6:$F$1001,F2643,$AY$6:$AY$1001,AY2643),0)","v":0},1900,1900,0,0,0,0,0,0,0,0,0,"","",0,0,0,"FORMATO INCORRECTO","FORMATO INCORRECTO","FORMATO INCORRECTO",{"$f":"IF(L2643=\"\",\"\",IF(ISERROR(edata(L2643)),\"FORMATO INCORRECTO\",\"FORMATO CORRECTO\"))","v":""},{"$f":"IF(U2643=\"\",\"\",IF(ISERROR(edata(U2643)),\"FORMATO INCORRECTO\",\"FORMATO CORRECTO\"))","v":""},{"$f":"IF(N2643=\"\",\"\",IF(ISERROR(edata(N2643)),\"FORMATO INCORRECTO\",\"FORMATO CORRECTO\"))","v":""}]
["1918-03-15","",null,null,null,null,null,null,"",null,null,null,null,null,null,null,null,"",null,null,null,null,null,null,null,null,"",null,"",null,null,"",null,null,null,null,null,0,0,0,0,0,{"$f":"IF(AO2651<>0,SUMIFS($AP$6:$AP$1001,$AN$6:$AN$1001,AN2651,$F$6:$F$1001,F2651,$AX$6:$AX$1001,AX2651),0)","v":0},0,{"$f":"IF(AO2651<>0,SUMIFS($AP$6:$AP$1001,$AR$6:$AR$1001,AR2651,$F$6:$F$1001,F2651,$AX$6:$AX$1001,AX2651),0)","v":0},0,0,0,{"$f":"IF(AU2651<>0,SUMIFS($AV$6:$AV$1001,$AT$6:$AT$1001,AT2651,$F$6:$F$1001,F2651,$AY$6:$AY$1001,AY2651),0)","v":0},1900,1900,0,0,0,0,0,0,0,0,0,"","",0,0,0,"FORMATO INCORRECTO","FORMATO INCORRECTO","FORMATO INCORRECTO",{"$f":"IF(L2651=\"\",\"\",IF(ISERROR(edata(L2651)),\"FORMATO INCORRECTO\",\"FORMATO CORRECTO\"))","v":""},{"$f":"IF(U2651=\"\",\"\",IF(ISERROR(edata(U2651)),\"FORMATO INCORRECTO\",\"FORMATO CORRECTO\"))","v":""},{"$f":"IF(N2651=\"\",\"\",IF(ISERROR(edata(N2651)),\"FORMATO INCORRECTO\",\"FORMATO CORRECTO\"))","v":""}]
["1918-03-21","",null,null,null,null,null,null,"",null,null,null,null,null,null,null,null,"",null,null,null,null,null,null,null,null,"",null,"",null,null,"",null,null,null,null,null,0,0,0,0,0,{"$f":"IF(AO2657<>0,SUMIFS($AP$6:$AP$1001,$AN$6:$AN$1001,AN2657,$F$6:$F$1001,F2657,$AX$6:$AX$1001,AX2657),0)","v":0},0,{"$f":"IF(AO2657<>0,SUMIFS($AP$6:$AP$1001,$AR$6:$AR$1001,AR2657,$F$6:$F$1001,F2657,$AX$6:$AX$1001,AX2657),0)","v":0},0,0,0,{"$f":"IF(AU2657<>0,SUMIFS($AV$6:$AV$1001,$AT$6:$AT$1001,AT2657,$F$6:$F$1001,F2657,$AY$6:$AY$1001,AY2657),0)","v":0},1900,1900,0,0,0,0,0,0,0,0,0,"","",0,0,0,"FORMATO INCORRECTO","FORMATO INCORRECTO","FORMATO INCORRECTO",{"$f":"IF(L2657=\"\",\"\",IF(ISERROR(edata(L2657)),\"FORMATO INCORRECTO\",\"FORMATO CORRECTO\"))","v":""},{"$f":"IF(U2657=\"\",\"\",IF(ISERROR(edata(U2657)),\"FORMATO INCORRECTO\",\"FORMATO CORRECTO\"))","v":""},{"$f":"IF(N2657=\"\",\"\",IF(ISERROR(edata(N2657)),\"FORMATO INCORRECTO\",\"FORMATO CORRECTO\"))","v":""}]
["1918-03-28","",null,null,null,null,null,null,"",null,null,null,null,null,null,null,null,"",null,null,null,null,null,null,null,null,"",null,"",null,null,"",null,null,null,null,null,0,0,0,0,0,{"$f":"IF(AO2664<>0,SUMIFS($AP$6:$AP$1001,$AN$6:$AN$1001,AN2664,$F$6:$F$1001,F2664,$AX$6:$AX$1001,AX2664),0)","v":0},0,{"$f":"IF(AO2664<>0,SUMIFS($AP$6:$AP$1001,$AR$6:$AR$1001,AR2664,$F$6:$F$1001,F2664,$AX$6:$AX$1001,AX2664),0)","v":0},0,0,0,{"$f":"IF(AU2664<>0,SUMIFS($AV$6:$AV$1001,$AT$6:$AT$1001,AT2664,$F$6:$F$1001,F2664,$AY$6:$AY$1001,AY2664),0)","v":0},1900,1900,0,0,0,0,0,0,0,0,0,"","",0,0,0,"FORMATO INCORRECTO","FORMATO INCORRECTO","FORMATO INCORRECTO",{"$f":"IF(L2664=\"\",\"\",IF(ISERROR(edata(L2664)),\"FORMATO INCORRECTO\",\"FORMATO CORRECTO\"))","v":""},{"$f":"IF(U2664=\"\",\"\",IF(ISERROR(edata(U2664)),\"FORMATO INCORRECTO\",\"FORMATO CORRECTO\"))","v":""},{"$f":"IF(N2664=\"\",\"\",IF(ISERROR(edata(N2664)),\"FORMATO INCORRECTO\",\"FORMATO CORRECTO\"))","v":""}]
["1918-04-09","",null,null,null,null,null,null,"",null,null,null,null,null,null,null,null,"",null,null,null,null,null,null,null,null,"",null,"",null,null,"",null,null,null,null,null,0,0,0,0,0,{"$f":"IF(AO2676<>0,SUMIFS($AP$6:$AP$1001,$AN$6:$AN$1001,AN2676,$F$6:$F$1001,F2676,$AX$6:$AX$1001,AX2676),0)","v":0},0,{"$f":"IF(AO2676<>0,SUMIFS($AP$6:$AP$1001,$AR$6:$AR$1001,AR2676,$F$6:$F$1001,F2676,$AX$6:$AX$1001,AX2676),0)","v":0},0,0,0,{"$f":"IF(AU2676<>0,SUMIFS($AV$6:$AV$1001,$AT$6:$AT$1001,AT2676,$F$6:$F$1001,F2676,$AY$6:$AY$1001,AY2676),0)","v":0},1900,1900,0,0,0,0,0,0,0,0,0,"","",0,0,0,"FORMATO INCORRECTO","FORMATO INCORRECTO","FORMATO INCORRECTO",{"$f":"IF(L2676=\"\",\"\",IF(ISERROR(edata(L2676)),\"FORMATO INCORRECTO\",\"FORMATO CORRECTO\"))","v":""},{"$f":"IF(U2676=\"\",\"\",IF(ISERROR(edata(U2676)),\"FORMATO INCORRECTO\",\"FORMATO CORRECTO\"))","v":""},{"$f":"IF(N2676=\"\",\"\",IF(ISERROR(edata(N2676)),\"FORMATO INCORRECTO\",\"FORMATO CORRECTO\"))","v":""}]
["1918-04-16","",null,null,null,null,null,null,"",null,null,null,null,null,null,null,null,"",null,null,null,null,null,null,null,null,"",null,"",null,null,"",null,null,null,null,null,0,0,0,0,0,{"$f":"IF(AO2683<>0,SUMIFS($AP$6:$AP$1001,$AN$6:$AN$1001,AN2683,$F$6:$F$1001,F2683,$AX$6:$AX$1001,AX2683),0)","v":0},0,{"$f":"IF(AO2683<>0,SUMIFS($AP$6:$AP$1001,$AR$6:$AR$1001,AR2683,$F$6:$F$1001,F2683,$AX$6:$AX$1001,AX2683),0)","v":0},0,0,0,{"$f":"IF(AU2683<>0,SUMIFS($AV$6:$AV$1001,$AT$6:$AT$1001,AT2683,$F$6:$F$1001,F2683,$AY$6:$AY$1001,AY2683),0)","v":0},1900,1900,0,0,0,0,0,0,0,0,0,"","",0,0,0,"FORMATO INCORRECTO","FORMATO INCORRECTO","FORMATO INCORRECTO",{"$f":"IF(L2683=\"\",\"\",IF(ISERROR(edata(L2683)),\"FORMATO INCORRECTO\",\"FORMATO CORRECTO\"))","v":""},{"$f":"IF(U2683=\"\",\"\",IF(ISERROR(edata(U2683)),\"FORMATO INCORRECTO\",\"FORMATO CORRECTO\"))","v":""},{"$f":"IF(N2683=\"\",\"\",IF(ISERROR(edata(N2683)),\"FORMATO INCORRECTO\",\"FORMATO CORRECTO\"))","v":""}]
["1918-04-25","",null,null,null,null,null,null,"",null,null,null,null,null,null,null,null,"",null,null,null,null,null,null,null,null,"",null,"",null,null,"",null,null,null,null,null,0,0,0,0,0,{"$f":"IF(AO2692<>0,SUMIFS($AP$6:$AP$1001,$AN$6:$AN$1001,AN2692,$F$6:$F$1001,F2692,$AX$6:$AX$1001,AX2692),0)","v":0},0,{"$f":"IF(AO2692<>0,SUMIFS($AP$6:$AP$1001,$AR$6:$AR$1001,AR2692,$F$6:$F$1001,F2692,$AX$6:$AX$1001,AX2692),0)","v":0},0,0,0,{"$f":"IF(AU2692<>0,SUMIFS($AV$6:$AV$1001,$AT$6:$AT$1001,AT2692,$F$6:$F$1001,F2692,$AY$6:$AY$1001,AY2692),0)","v":0},1900,1900,0,0,0,0,0,0,0,0,0,"","",0,0,0,"FORMATO INCORRECTO","FORMATO INCORRECTO","FORMATO INCORRECTO",{"$f":"IF(L2692=\"\",\"\",IF(ISERROR(edata(L2692)),\"FORMATO INCORRECTO\",\"FORMATO CORRECTO\"))","v":""},{"$f":"IF(U2692=\"\",\"\",IF(ISERROR(edata(U2692)),\"FORMATO INCORRECTO\",\"FORMATO CORRECTO\"))","v":""},{"$f":"IF(N2692=\"\",\"\",IF(ISERROR(edata(N2692)),\"FORMATO INCORRECTO\",\"FORMATO CORRECTO\"))","v":""}]
["1918-04-30","",null,null,null,null,null,null,"",null,null,null,null,null,null,null,null,"",null,null,null,null,null,null,null,null,"",null,"",null,null,"",null,null,null,null,null,0,0,0,0,0,{"$f":"IF(AO2697<>0,SUMIFS($AP$6:$AP$1001,$AN$6:$AN$1001,AN2697,$F$6:$F$1001,F2697,$AX$6:$AX$1001,AX2697),0)","v":0},0,{"$f":"IF(AO2697<>0,SUMIFS($AP$6:$AP$1001,$AR$6:$AR$1001,AR2697,$F$6:$F$1001,F2697,$AX$6:$AX$1001,AX2697),0)","v":0},0,0,0,{"$f":"IF(AU2697<>0,SUMIFS($AV$6:$AV$1001,$AT$6:$AT$1001,AT2697,$F$6:$F$1001,F2697,$AY$6:$AY$1001,AY2697),0)","v":0},1900,1900,0,0,0,0,0,0,0,0,0,"","",0,0,0,"FORMATO INCORRECTO","FORMATO INCORRECTO","FORMATO INCORRECTO",{"$f":"IF(L2697=\"\",\"\",IF(ISERROR(edata(L2697)),\"FORMATO INCORRECTO\",\"FORMATO CORRECTO\"))","v":""},{"$f":"IF(U2697=\"\",\"\",IF(ISERROR(edata(U2697)),\"FORMATO INCORRECTO\",\"FORMATO CORRECTO\"))","v":""},{"$f":"IF(N2697=\"\",\"\",IF(ISERROR(edata(N2697)),\"FORMATO INCORRECTO\",\"FORMATO CORRECTO\"))","v":""}]
["1918-05-16","",null,null,null,null,null,null,"",null,null,null,null,null,null,null,null,"",null,null,null,null,null,null,null,null,"",null,"",null,null,"",null,null,null,null,null,0,0,0,0,0,{"$f":"IF(AO2713<>0,SUMIFS($AP$6:$AP$1001,$AN$6:$AN$1001,AN2713,$F$6:$F$1001,F2713,$AX$6:$AX$1001,AX2713),0)","v":0},0,{"$f":"IF(AO2713<>0,SUMIFS($AP$6:$AP$1001,$AR$6:$AR$1001,AR2713,$F$6:$F$1001,F2713,$AX$6:$AX$1001,AX2713),0)","v":0},0,0,0,{"$f":"IF(AU2713<>0,SUMIFS($AV$6:$AV$1001,$AT$6:$AT$1001,AT2713,$F$6:$F$1001,F2713,$AY$6:$AY$1001,AY2713),0)","v":0},1900,1900,0,0,0,0,0,0,0,0,0,"","",0,0,0,"FORMATO INCORRECTO","FORMATO INCORRECTO","FORMATO INCORRECTO",{"$f":"IF(L2713=\"\",\"\",IF(ISERROR(edata(L2713)),\"FORMATO INCORRECTO\",\"FORMATO CORRECTO\"))","v":""},{"$f":"IF(U2713=\"\",\"\",IF(ISERROR(edata(U2713)),\"FORMATO INCORRECTO\",\"FORMATO CORRECTO\"))","v":""},{"$f":"IF(N2713=\"\",\"\",IF(ISERROR(edata(N2713)),\"FORMATO INCORRECTO\",\"FORMATO CORRECTO\"))","v":""}]
["1918-05-19","",null,null,null,null,null,null,"",null,null,null,null,null,null,null,null,"",null,null,null,null,null,null,null,null,"",null,"",null,null,"",null,null,null,null,null,0,0,0,0,0,{"$f":"IF(AO2716<>0,SUMIFS($AP$6:$AP$1001,$AN$6:$AN$1001,AN2716,$F$6:$F$1001,F2716,$AX$6:$AX$1001,AX2716),0)","v":0},0,{"$f":"IF(AO2716<>0,SUMIFS($AP$6:$AP$1001,$AR$6:$AR$1001,AR2716,$F$6:$F$1001,F2716,$AX$6:$AX$1001,AX2716),0)","v":0},0,0,0,{"$f":"IF(AU2716<>0,SUMIFS($AV$6:$AV$1001,$AT$6:$AT$1001,AT2716,$F$6:$F$1001,F2716,$AY$6:$AY$1001,AY2716),0)","v":0},1900,1900,0,0,0,0,0,0,0,0,0,"","",0,0,0,"FORMATO INCORRECTO","FORMATO INCORRECTO","FORMATO INCORRECTO",{"$f":"IF(L2716=\"\",\"\",IF(ISERROR(edata(L2716)),\"FORMATO INCORRECTO\",\"FORMATO CORRECTO\"))","v":""},{"$f":"IF(U2716=\"\",\"\",IF(ISERROR(edata(U2716)),\"FORMATO INCORRECTO\",\"FORMATO CORRECTO\"))","v":""},{"$f":"IF(N2716=\"\",\"\",IF(ISERROR(edata(N2716)),\"FORMATO INCORRECTO\",\"FORMATO CORRECTO\"))","v":""}]
["1918-06-03","",null,null,null,null,null,null,"",null,null,null,null,null,null,null,null,"",null,null,null,null,null,null,null,null,"",null,"",null,null,"",null,null,null,null,null,0,0,0,0,0,{"$f":"IF(AO2731<>0,SUMIFS($AP$6:$AP$1001,$AN$6:$AN$1001,AN2731,$F$6:$F$1001,F2731,$AX$6:$AX$1001,AX2731),0)","v":0},0,{"$f":"IF(AO2731<>0,SUMIFS($AP$6:$AP$1001,$AR$6:$AR$1001,AR2731,$F$6:$F$1001,F2731,$AX$6:$AX$1001,AX2731),0)","v":0},0,0,0,{"$f":"IF(AU2731<>0,SUMIFS($AV$6:$AV$1001,$AT$6:$AT$1001,AT2731,$F$6:$F$1001,F2731,$AY$6:$AY$1001,AY2731),0)","v":0},1900,1900,0,0,0,0,0,0,0,0,0,"","",0,0,0,"FORMATO INCORRECTO","FORMATO INCORRECTO","FORMATO INCORRECTO",{"$f":"IF(L2731=\"\",\"\",IF(ISERROR(edata(L2731)),\"FORMATO INCORRECTO\",\"FORMATO CORRECTO\"))","v":""},{"$f":"IF(U2731=\"\",\"\",IF(ISERROR(edata(U2731)),\"FORMATO INCORRECTO\",\"FORMATO CORRECTO\"))","v":""},{"$f":"IF(N2731=\"\",\"\",IF(ISERROR(edata(N2731)),\"FORMATO INCORRECTO\",\"FORMATO CORRECTO\"))","v":""}]
["1918-06-06","",null,null,null,null,null,null,"",null,null,null,null,null,null,null,null,"",null,null,null,null,null,null,null,null,"",null,"",null,null,"",null,null,null,null,null,0,0,0,0,0,{"$f":"IF(AO2734<>0,SUMIFS($AP$6:$AP$1001,$AN$6:$AN$1001,AN2734,$F$6:$F$1001,F2734,$AX$6:$AX$1001,AX2734),0)","v":0},0,{"$f":"IF(AO2734<>0,SUMIFS($AP$6:$AP$1001,$AR$6:$AR$1001,AR2734,$F$6:$F$1001,F2734,$AX$6:$AX$1001,AX2734),0)","v":0},0,0,0,{"$f":"IF(AU2734<>0,SUMIFS($AV$6:$AV$1001,$AT$6:$AT$1001,AT2734,$F$6:$F$1001,F2734,$AY$6:$AY$1001,AY2734),0)","v":0},1900,1900,0,0,0,0,0,0,0,0,0,"","",0,0,0,"FORMATO INCORRECTO","FORMATO INCORRECTO","FORMATO INCORRECTO",{"$f":"IF(L2734=\"\",\"\",IF(ISERROR(edata(L2734)),\"FORMATO INCORRECTO\",\"FORMATO CORRECTO\"))","v":""},{"$f":"IF(U2734=\"\",\"\",IF(ISERROR(edata(U2734)),\"FORMATO INCORRECTO\",\"FORMATO CORRECTO\"))","v":""},{"$f":"IF(N2734=\"\",\"\",IF(ISERROR(edata(N2734)),\"FORMATO INCORRECTO\",\"FORMATO CORRECTO\"))","v":""}]
["1918-06-18","",null,null,null,null,null,null,"",null,null,null,null,null,null,null,null,"",null,null,null,null,null,null,null,null,"",null,"",null,null,"",null,null,null,null,null,0,0,0,0,0,{"$f":"IF(AO2746<>0,SUMIFS($AP$6:$AP$1001,$AN$6:$AN$1001,AN2746,$F$6:$F$1001,F2746,$AX$6:$AX$1001,AX2746),0)","v":0},0,{"$f":"IF(AO2746<>0,SUMIFS($AP$6:$AP$1001,$AR$6:$AR$1001,AR2746,$F$6:$F$1001,F2746,$AX$6:$AX$1001,AX2746),0)","v":0},0,0,0,{"$f":"IF(AU2746<>0,SUMIFS($AV$6:$AV$1001,$AT$6:$AT$1001,AT2746,$F$6:$F$1001,F2746,$AY$6:$AY$1001,AY2746),0)","v":0},1900,1900,0,0,0,0,0,0,0,0,0,"","",0,0,0,"FORMATO INCORRECTO","FORMATO INCORRECTO","FORMATO INCORRECTO",{"$f":"IF(L2746=\"\",\"\",IF(ISERROR(edata(L2746)),\"FORMATO INCORRECTO\",\"FORMATO CORRECTO\"))","v":""},{"$f":"IF(U2746=\"\",\"\",IF(ISERROR(edata(U2746)),\"FORMATO INCORRECTO\",\"FORMATO CORRECTO\"))","v":""},{"$f":"IF(N2746=\"\",\"\",IF(ISERROR(edata(N2746)),\"FORMATO INCORRECTO\",\"FORMATO CORRECTO\"))","v":""}]
["1918-06-25","",null,null,null,null,null,null,"",null,null,null,null,null,null,null,null,"",null,null,null,null,null,null,null,null,"",null,"",null,null,"",null,null,null,null,null,0,0,0,0,0,{"$f":"IF(AO2753<>0,SUMIFS($AP$6:$AP$1001,$AN$6:$AN$1001,AN2753,$F$6:$F$1001,F2753,$AX$6:$AX$1001,AX2753),0)","v":0},0,{"$f":"IF(AO2753<>0,SUMIFS($AP$6:$AP$1001,$AR$6:$AR$1001,AR2753,$F$6:$F$1001,F2753,$AX$6:$AX$1001,AX2753),0)","v":0},0,0,0,{"$f":"IF(AU2753<>0,SUMIFS($AV$6:$AV$1001,$AT$6:$AT$1001,AT2753,$F$6:$F$1001,F2753,$AY$6:$AY$1001,AY2753),0)","v":0},1900,1900,0,0,0,0,0,0,0,0,0,"","",0,0,0,"FORMATO INCORRECTO","FORMATO INCORRECTO","FORMATO INCORRECTO",{"$f":"IF(L2753=\"\",\"\",IF(ISERROR(edata(L2753)),\"FORMATO INCORRECTO\",\"FORMATO CORRECTO\"))","v":""},{"$f":"IF(U2753=\"\",\"\",IF(ISERROR(edata(U2753)),\"FORMATO INCORRECTO\",\"FORMATO CORRECTO\"))","v":""},{"$f":"IF(N2753=\"\",\"\",IF(ISERROR(edata(N2753)),\"FORMATO INCORRECTO\",\"FORMATO CORRECTO\"))","v":""}]
["1918-07-04","",null,null,null,null,null,null,"",null,null,null,null,null,null,null,null,"",null,null,null,null,null,null,null,null,"",null,"",null,null,"",null,null,null,null,null,0,0,0,0,0,{"$f":"IF(AO2762<>0,SUMIFS($AP$6:$AP$1001,$AN$6:$AN$1001,AN2762,$F$6:$F$1001,F2762,$AX$6:$AX$1001,AX2762),0)","v":0},0,{"$f":"IF(AO2762<>0,SUMIFS($AP$6:$AP$1001,$AR$6:$AR$1001,AR2762,$F$6:$F$1001,F2762,$AX$6:$AX$1001,AX2762),0)","v":0},0,0,0,{"$f":"IF(AU2762<>0,SUMIFS($AV$6:$AV$1001,$AT$6:$AT$1001,AT2762,$F$6:$F$1001,F2762,$AY$6:$AY$1001,AY2762),0)","v":0},1900,1900,0,0,0,0,0,0,0,0,0,"","",0,0,0,"FORMATO INCORRECTO","FORMATO INCORRECTO","FORMATO INCORRECTO",{"$f":"IF(L2762=\"\",\"\",IF(ISERROR(edata(L2762)),\"FORMATO INCORRECTO\",\"FORMATO CORRECTO\"))","v":""},{"$f":"IF(U2762=\"\",\"\",IF(ISERROR(edata(U2762)),\"FORMATO INCORRECTO\",\"FORMATO CORRECTO\"))","v":""},{"$f":"IF(N2762=\"\",\"\",IF(ISERROR(edata(N2762)),\"FORMATO INCORRECTO\",\"FORMATO CORRECTO\"))","v":""}]
["1918-07-09","",null,null,null,null,null,null,"",null,null,null,null,null,null,null,null,"",null,null,null,null,null,null,null,null,"",null,"",null,null,"",null,null,null,null,null,0,0,0,0,0,{"$f":"IF(AO2767<>0,SUMIFS($AP$6:$AP$1001,$AN$6:$AN$1001,AN2767,$F$6:$F$1001,F2767,$AX$6:$AX$1001,AX2767),0)","v":0},0,{"$f":"IF(AO2767<>0,SUMIFS($AP$6:$AP$1001,$AR$6:$AR$1001,AR2767,$F$6:$F$1001,F2767,$AX$6:$AX$1001,AX2767),0)","v":0},0,0,0,{"$f":"IF(AU2767<>0,SUMIFS($AV$6:$AV$1001,$AT$6:$AT$1001,AT2767,$F$6:$F$1001,F2767,$AY$6:$AY$1001,AY2767),0)","v":0},1900,1900,0,0,0,0,0,0,0,0,0,"","",0,0,0,"FORMATO INCORRECTO","FORMATO INCORRECTO","FORMATO INCORRECTO",{"$f":"IF(L2767=\"\",\"\",IF(ISERROR(edata(L2767)),\"FORMATO INCORRECTO\",\"FORMATO CORRECTO\"))","v":""},{"$f":"IF(U2767=\"\",\"\",IF(ISERROR(edata(U2767)),\"FORMATO INCORRECTO\",\"FORMATO CORRECTO\"))","v":""},{"$f":"IF(N2767=\"\",\"\",IF(ISERROR(edata(N2767)),\"FORMATO INCORRECTO\",\"FORMATO CORRECTO\"))","v":""}]
["1918-07-25","",null,null,null,null,null,null,"",null,null,null,null,null,null,null,null,"",null,null,null,null,null,null,null,null,"",null,"",null,null,"",null,null,null,null,null,0,0,0,0,0,{"$f":"IF(AO2783<>0,SUMIFS($AP$6:$AP$1001,$AN$6:$AN$1001,AN2783,$F$6:$F$1001,F2783,$AX$6:$AX$1001,AX2783),0)","v":0},0,{"$f":"IF(AO2783<>0,SUMIFS($AP$6:$AP$1001,$AR$6:$AR$1001,AR2783,$F$6:$F$1001,F2783,$AX$6:$AX$1001,AX2783),0)","v":0},0,0,0,{"$f":"IF(AU2783<>0,SUMIFS($AV$6:$AV$1001,$AT$6:$AT$1001,AT2783,$F$6:$F$1001,F2783,$AY$6:$AY$1001,AY2783),0)","v":0},1900,1900,0,0,0,0,0,0,0,0,0,"","",0,0,0,"FORMATO INCORRECTO","FORMATO INCORRECTO","FORMATO INCORRECTO",{"$f":"IF(L2783=\"\",\"\",IF(ISERROR(edata(L2783)),\"FORMATO INCORRECTO\",\"FORMATO CORRECTO\"))","v":""},{"$f":"IF(U2783=\"\",\"\",IF(ISERROR(edata(U2783)),\"FORMATO INCORRECTO\",\"FORMATO CORRECTO\"))","v":""},{"$f":"IF(N2783=\"\",\"\",IF(ISERROR(edata(N2783)),\"FORMATO INCORRECTO\",\"FORMATO CORRECTO\"))","v":""}]
["1918-07-28","",null,null,null,null,null,null,"",null,null,null,null,null,null,null,null,"",null,null,null,null,null,null,null,null,"",null,"",null,null,"",null,null,null,null,null,0,0,0,0,0,{"$f":"IF(AO2786<>0,SUMIFS($AP$6:$AP$1001,$AN$6:$AN$1001,AN2786,$F$6:$F$1001,F2786,$AX$6:$AX$1001,AX2786),0)","v":0},0,{"$f":"IF(AO2786<>0,SUMIFS($AP$6:$AP$1001,$AR$6:$AR$1001,AR2786,$F$6:$F$1001,F2786,$AX$6:$AX$1001,AX2786),0)","v":0},0,0,0,{"$f":"IF(AU2786<>0,SUMIFS($AV$6:$AV$1001,$AT$6:$AT$1001,AT2786,$F$6:$F$1001,F2786,$AY$6:$AY$1001,AY2786),0)","v":0},1900,1900,0,0,0,0,0,0,0,0,0,"","",0,0,0,"FORMATO INCORRECTO","FORMATO INCORRECTO","FORMATO INCORRECTO",{"$f":"IF(L2786=\"\",\"\",IF(ISERROR(edata(L2786)),\"FORMATO INCORRECTO\",\"FORMATO CORRECTO\"))","v":""},{"$f":"IF(U2786=\"\",\"\",IF(ISERROR(edata(U2786)),\"FORMATO INCORRECTO\",\"FORMATO CORRECTO\"))","v":""},{"$f":"IF(N2786=\"\",\"\",IF(ISERROR(edata(N2786)),\"FORMATO INCORRECTO\",\"FORMATO CORRECTO\"))","v":""}]
["1918-08-12","",null,null,null,null,null,null,"",null,null,null,null,null,null,null,null,"",null,null,null,null,null,null,null,null,"",null,"",null,null,"",null,null,null,null,null,0,0,0,0,0,{"$f":"IF(AO2801<>0,SUMIFS($AP$6:$AP$1001,$AN$6:$AN$1001,AN2801,$F$6:$F$1001,F2801,$AX$6:$AX$1001,AX2801),0)","v":0},0,{"$f":"IF(AO2801<>0,SUMIFS($AP$6:$AP$1001,$AR$6:$AR$1001,AR2801,$F$6:$F$1001,F2801,$AX$6:$AX$1001,AX2801),0)","v":0},0,0,0,{"$f":"IF(AU2801<>0,SUMIFS($AV$6:$AV$1001,$AT$6:$AT$1001,AT2801,$F$6:$F$1001,F2801,$AY$6:$AY$1001,AY2801),0)","v":0},1900,1900,0,0,0,0,0,0,0,0,0,"","",0,0,0,"FORMATO INCORRECTO","FORMATO INCORRECTO","FORMATO INCORRECTO",{"$f":"IF(L2801=\"\",\"\",IF(ISERROR(edata(L2801)),\"FORMATO INCORRECTO\",\"FORMATO CORRECTO\"))","v":""},{"$f":"IF(U2801=\"\",\"\",IF(ISERROR(edata(U2801)),\"FORMATO INCORRECTO\",\"FORMATO CORRECTO\"))","v":""},{"$f":"IF(N2801=\"\",\"\",IF(ISERROR(edata(N2801)),\"FORMATO INCORRECTO\",\"FORMATO CORRECTO\"))","v":""}]
["1918-08-15","",null,null,null,null,null,null,"",null,null,null,null,null,null,null,null,"",null,null,null,null,null,null,null,null,"",null,"",null,null,"",null,null,null,null,null,0,0,0,0,0,{"$f":"IF(AO2804<>0,SUMIFS($AP$6:$AP$1001,$AN$6:$AN$1001,AN2804,$F$6:$F$1001,F2804,$AX$6:$AX$1001,AX2804),0)","v":0},0,{"$f":"IF(AO2804<>0,SUMIFS($AP$6:$AP$1001,$AR$6:$AR$1001,AR2804,$F$6:$F$1001,F2804,$AX$6:$AX$1001,AX2804),0)","v":0},0,0,0,{"$f":"IF(AU2804<>0,SUMIFS($AV$6:$AV$1001,$AT$6:$AT$1001,AT2804,$F$6:$F$1001,F2804,$AY$6:$AY$1001,AY2804),0)","v":0},1900,1900,0,0,0,0,0,0,0,0,0,"","",0,0,0,"FORMATO INCORRECTO","FORMATO INCORRECTO","FORMATO INCORRECTO",{"$f":"IF(L2804=\"\",\"\",IF(ISERROR(edata(L2804)),\"FORMATO INCORRECTO\",\"FORMATO CORRECTO\"))","v":""},{"$f":"IF(U2804=\"\",\"\",IF(ISERROR(edata(U2804)),\"FORMATO INCORRECTO\",\"FORMATO CORRECTO\"))","v":""},{"$f":"IF(N2804=\"\",\"\",IF(ISERROR(edata(N2804)),\"FORMATO INCORRECTO\",\"FORMATO CORRECTO\"))","v":""}]
["1918-08-27","",null,null,null,null,null,null,"",null,null,null,null,null,null,null,null,"",null,null,null,null,null,null,null,null,"",null,"",null,null,"",null,null,null,null,null,0,0,0,0,0,{"$f":"IF(AO2816<>0,SUMIFS($AP$6:$AP$1001,$AN$6:$AN$1001,AN2816,$F$6:$F$1001,F2816,$AX$6:$AX$1001,AX2816),0)","v":0},0,{"$f":"IF(AO2816<>0,SUMIFS($AP$6:$AP$1001,$AR$6:$AR$1001,AR2816,$F$6:$F$1001,F2816,$AX$6:$AX$1001,AX2816),0)","v":0},0,0,0,{"$f":"IF(AU2816<>0,SUMIFS($AV$6:$AV$1001,$AT$6:$AT$1001,AT2816,$F$6:$F$1001,F2816,$AY$6:$AY$1001,AY2816),0)","v":0},1900,1900,0,0,0,0,0,0,0,0,0,"","",0,0,0,"FORMATO INCORRECTO","FORMATO INCORRECTO","FORMATO INCORRECTO",{"$f":"IF(L2816=\"\",\"\",IF(ISERROR(edata(L2816)),\"FORMATO INCORRECTO\",\"FORMATO CORRECTO\"))","v":""},{"$f":"IF(U2816=\"\",\"\",IF(ISERROR(edata(U2816)),\"FORMATO INCORRECTO\",\"FORMATO CORRECTO\"))","v":""},{"$f":"IF(N2816=\"\",\"\",IF(ISERROR(edata(N2816)),\"FORMATO INCORRECTO\",\"FORMATO CORRECTO\"))","v":""}]
["1918-09-03","",null,null,null,null,null,null,"",null,null,null,null,null,null,null,null,"",null,null,null,null,null,null,null,null,"",null,"",null,null,"",null,null,null,null,null,0,0,0,0,0,{"$f":"IF(AO2823<>0,SUMIFS($AP$6:$AP$1001,$AN$6:$AN$1001,AN2823,$F$6:$F$1001,F2823,$AX$6:$AX$1001,AX2823),0)","v":0},0,{"$f":"IF(AO2823<>0,SUMIFS($AP$6:$AP$1001,$AR$6:$AR$1001,AR2823,$F$6:$F$1001,F2823,$AX$6:$AX$1001,AX2823),0)","v":0},0,0,0,{"$f":"IF(AU2823<>0,SUMIFS($AV$6:$AV$1001,$AT$6:$AT$1001,AT2823,$F$6:$F$1001,F2823,$AY$6:$AY$1001,AY2823),0)","v":0},1900,1900,0,0,0,0,0,0,0,0,0,"","",0,0,0,"FORMATO INCORRECTO","FORMATO INCORRECTO","FORMATO INCORRECTO",{"$f":"IF(L2823=\"\",\"\",IF(ISERROR(edata(L2823)),\"FORMATO INCORRECTO\",\"FORMATO CORRECTO\"))","v":""},{"$f":"IF(U2823=\"\",\"\",IF(ISERROR(edata(U2823)),\"FORMATO INCORRECTO\",\"FORMATO CORRECTO\"))","v":""},{"$f":"IF(N2823=\"\",\"\",IF(ISERROR(edata(N2823)),\"FORMATO INCORRECTO\",\"FORMATO CORRECTO\"))","v":""}]
["1918-09-12","",null,null,null,null,null,null,"",null,null,null,null,null,null,null,null,"",null,null,null,null,null,null,null,null,"",null,"",null,null,"",null,null,null,null,null,0,0,0,0,0,{"$f":"IF(AO2832<>0,SUMIFS($AP$6:$AP$1001,$AN$6:$AN$1001,AN2832,$F$6:$F$1001,F2832,$AX$6:$AX$1001,AX2832),0)","v":0},0,{"$f":"IF(AO2832<>0,SUMIFS($AP$6:$AP$1001,$AR$6:$AR$1001,AR2832,$F$6:$F$1001,F2832,$AX$6:$AX$1001,AX2832),0)","v":0},0,0,0,{"$f":"IF(AU2832<>0,SUMIFS($AV$6:$AV$1001,$AT$6:$AT$1001,AT2832,$F$6:$F$1001,F2832,$AY$6:$AY$1001,AY2832),0)","v":0},1900,1900,0,0,0,0,0,0,0,0,0,"","",0,0,0,"FORMATO INCORRECTO","FORMATO INCORRECTO","FORMATO INCORRECTO",{"$f":"IF(L2832=\"\",\"\",IF(ISERROR(edata(L2832)),\"FORMATO INCORRECTO\",\"FORMATO CORRECTO\"))","v":""},{"$f":"IF(U2832=\"\",\"\",IF(ISERROR(edata(U2832)),\"FORMATO INCORRECTO\",\"FORMATO CORRECTO\"))","v":""},{"$f":"IF(N2832=\"\",\"\",IF(ISERROR(edata(N2832)),\"FORMATO INCORRECTO\",\"FORMATO CORRECTO\"))","v":""}]
["1918-09-17","",null,null,null,null,null,null,"",null,null,null,null,null,null,null,null,"",null,null,null,null,null,null,null,null,"",null,"",null,null,"",null,null,null,null,null,0,0,0,0,0,{"$f":"IF(AO2837<>0,SUMIFS($AP$6:$AP$1001,$AN$6:$AN$1001,AN2837,$F$6:$F$1001,F2837,$AX$6:$AX$1001,AX2837),0)","v":0},0,{"$f":"IF(AO2837<>0,SUMIFS($AP$6:$AP$1001,$AR$6:$AR$1001,AR2837,$F$6:$F$1001,F2837,$AX$6:$AX$1001,AX2837),0)","v":0},0,0,0,{"$f":"IF(AU2837<>0,SUMIFS($AV$6:$AV$1001,$AT$6:$AT$1001,AT2837,$F$6:$F$1001,F2837,$AY$6:$AY$1001,AY2837),0)","v":0},1900,1900,0,0,0,0,0,0,0,0,0,"","",0,0,0,"FORMATO INCORRECTO","FORMATO INCORRECTO","FORMATO INCORRECTO",{"$f":"IF(L2837=\"\",\"\",IF(ISERROR(edata(L2837)),\"FORMATO INCORRECTO\",\"FORMATO CORRECTO\"))","v":""},{"$f":"IF(U2837=\"\",\"\",IF(ISERROR(edata(U2837)),\"FORMATO INCORRECTO\",\"FORMATO CORRECTO\"))","v":""},{"$f":"IF(N2837=\"\",\"\",IF(ISERROR(edata(N2837)),\"FORMATO INCORRECTO\",\"FORMATO CORRECTO\"))","v":""}]
["1918-10-03","",null,null,null,null,null,null,"",null,null,null,null,null,null,null,null,"",null,null,null,null,null,null,null,null,"",null,"",null,null,"",null,null,null,null,null,0,0,0,0,0,{"$f":"IF(AO2853<>0,SUMIFS($AP$6:$AP$1001,$AN$6:$AN$1001,AN2853,$F$6:$F$1001,F2853,$AX$6:$AX$1001,AX2853),0)","v":0},0,{"$f":"IF(AO2853<>0,SUMIFS($AP$6:$AP$1001,$AR$6:$AR$1001,AR2853,$F$6:$F$1001,F2853,$AX$6:$AX$1001,AX2853),0)","v":0},0,0,0,{"$f":"IF(AU2853<>0,SUMIFS($AV$6:$AV$1001,$AT$6:$AT$1001,AT2853,$F$6:$F$1001,F2853,$AY$6:$AY$1001,AY2853),0)","v":0},1900,1900,0,0,0,0,0,0,0,0,0,"","",0,0,0,"FORMATO INCORRECTO","FORMATO INCORRECTO","FORMATO INCORRECTO",{"$f":"IF(L2853=\"\",\"\",IF(ISERROR(edata(L2853)),\"FORMATO INCORRECTO\",\"FORMATO CORRECTO\"))","v":""},{"$f":"IF(U2853=\"\",\"\",IF(ISERROR(edata(U2853)),\"FORMATO INCORRECTO\",\"FORMATO CORRECTO\"))","v":""},{"$f":"IF(N2853=\"\",\"\",IF(ISERROR(edata(N2853)),\"FORMATO INCORRECTO\",\"FORMATO CORRECTO\"))","v":""}]
["1918-10-06","",null,null,null,null,null,null,"",null,null,null,null,null,null,null,null,"",null,null,null,null,null,null,null,null,"",null,"",null,null,"",null,null,null,null,null,0,0,0,0,0,{"$f":"IF(AO2856<>0,SUMIFS($AP$6:$AP$1001,$AN$6:$AN$1001,AN2856,$F$6:$F$1001,F2856,$AX$6:$AX$1001,AX2856),0)","v":0},0,{"$f":"IF(AO2856<>0,SUMIFS($AP$6:$AP$1001,$AR$6:$AR$1001,AR2856,$F$6:$F$1001,F2856,$AX$6:$AX$1001,AX2856),0)","v":0},0,0,0,{"$f":"IF(AU2856<>0,SUMIFS($AV$6:$AV$1001,$AT$6:$AT$1001,AT2856,$F$6:$F$1001,F2856,$AY$6:$AY$1001,AY2856),0)","v":0},1900,1900,0,0,0,0,0,0,0,0,0,"","",0,0,0,"FORMATO INCORRECTO","FORMATO INCORRECTO","FORMATO INCORRECTO",{"$f":"IF(L2856=\"\",\"\",IF(ISERROR(edata(L2856)),\"FORMATO INCORRECTO\",\"FORMATO CORRECTO\"))","v":""},{"$f":"IF(U2856=\"\",\"\",IF(ISERROR(edata(U2856)),\"FORMATO INCORRECTO\",\"FORMATO CORRECTO\"))","v":""},{"$f":"IF(N2856=\"\",\"\",IF(ISERROR(edata(N2856)),\"FORMATO INCORRECTO\",\"FORMATO CORRECTO\"))","v":""}]
["1918-10-21","",null,null,null,null,null,null,"",null,null,null,null,null,null,null,null,"",null,null,null,null,null,null,null,null,"",null,"",null,null,"",null,null,null,null,null,0,0,0,0,0,{"$f":"IF(AO2871<>0,SUMIFS($AP$6:$AP$1001,$AN$6:$AN$1001,AN2871,$F$6:$F$1001,F2871,$AX$6:$AX$1001,AX2871),0)","v":0},0,{"$f":"IF(AO2871<>0,SUMIFS($AP$6:$AP$1001,$AR$6:$AR$1001,AR2871,$F$6:$F$1001,F2871,$AX$6:$AX$1001,AX2871),0)","v":0},0,0,0,{"$f":"IF(AU2871<>0,SUMIFS($AV$6:$AV$1001,$AT$6:$AT$1001,AT2871,$F$6:$F$1001,F2871,$AY$6:$AY$1001,AY2871),0)","v":0},1900,1900,0,0,0,0,0,0,0,0,0,"","",0,0,0,"FORMATO INCORRECTO","FORMATO INCORRECTO","FORMATO INCORRECTO",{"$f":"IF(L2871=\"\",\"\",IF(ISERROR(edata(L2871)),\"FORMATO INCORRECTO\",\"FORMATO CORRECTO\"))","v":""},{"$f":"IF(U2871=\"\",\"\",IF(ISERROR(edata(U2871)),\"FORMATO INCORRECTO\",\"FORMATO CORRECTO\"))","v":""},{"$f":"IF(N2871=\"\",\"\",IF(ISERROR(edata(N2871)),\"FORMATO INCORRECTO\",\"FORMATO CORRECTO\"))","v":""}]
["1918-10-24","",null,null,null,null,null,null,"",null,null,null,null,null,null,null,null,"",null,null,null,null,null,null,null,null,"",null,"",null,null,"",null,null,null,null,null,0,0,0,0,0,{"$f":"IF(AO2874<>0,SUMIFS($AP$6:$AP$1001,$AN$6:$AN$1001,AN2874,$F$6:$F$1001,F2874,$AX$6:$AX$1001,AX2874),0)","v":0},0,{"$f":"IF(AO2874<>0,SUMIFS($AP$6:$AP$1001,$AR$6:$AR$1001,AR2874,$F$6:$F$1001,F2874,$AX$6:$AX$1001,AX2874),0)","v":0},0,0,0,{"$f":"IF(AU2874<>0,SUMIFS($AV$6:$AV$1001,$AT$6:$AT$1001,AT2874,$F$6:$F$1001,F2874,$AY$6:$AY$1001,AY2874),0)","v":0},1900,1900,0,0,0,0,0,0,0,0,0,"","",0,0,0,"FORMATO INCORRECTO","FORMATO INCORRECTO","FORMATO INCORRECTO",{"$f":"IF(L2874=\"\",\"\",IF(ISERROR(edata(L2874)),\"FORMATO INCORRECTO\",\"FORMATO CORRECTO\"))","v":""},{"$f":"IF(U2874=\"\",\"\",IF(ISERROR(edata(U2874)),\"FORMATO INCORRECTO\",\"FORMATO CORRECTO\"))","v":""},{"$f":"IF(N2874=\"\",\"\",IF(ISERROR(edata(N2874)),\"FORMATO INCORRECTO\",\"FORMATO CORRECTO\"))","v":""}]
["1918-11-05","",null,null,null,null,null,null,"",null,null,null,null,null,null,null,null,"",null,null,null,null,null,null,null,null,"",null,"",null,null,"",null,null,null,null,null,0,0,0,0,0,{"$f":"IF(AO2886<>0,SUMIFS($AP$6:$AP$1001,$AN$6:$AN$1001,AN2886,$F$6:$F$1001,F2886,$AX$6:$AX$1001,AX2886),0)","v":0},0,{"$f":"IF(AO2886<>0,SUMIFS($AP$6:$AP$1001,$AR$6:$AR$1001,AR2886,$F$6:$F$1001,F2886,$AX$6:$AX$1001,AX2886),0)","v":0},0,0,0,{"$f":"IF(AU2886<>0,SUMIFS($AV$6:$AV$1001,$AT$6:$AT$1001,AT2886,$F$6:$F$1001,F2886,$AY$6:$AY$1001,AY2886),0)","v":0},1900,1900,0,0,0,0,0,0,0,0,0,"","",0,0,0,"FORMATO INCORRECTO","FORMATO INCORRECTO","FORMATO INCORRECTO",{"$f":"IF(L2886=\"\",\"\",IF(ISERROR(edata(L2886)),\"FORMATO INCORRECTO\",\"FORMATO CORRECTO\"))","v":""},{"$f":"IF(U2886=\"\",\"\",IF(ISERROR(edata(U2886)),\"FORMATO INCORRECTO\",\"FORMATO CORRECTO\"))","v":""},{"$f":"IF(N2886=\"\",\"\",IF(ISERROR(edata(N2886)),\"FORMATO INCORRECTO\",\"FORMATO CORRECTO\"))","v":""}]
["1918-11-12","",null,null,null,null,null,null,"",null,null,null,null,null,null,null,null,"",null,null,null,null,null,null,null,null,"",null,"",null,null,"",null,null,null,null,null,0,0,0,0,0,{"$f":"IF(AO2893<>0,SUMIFS($AP$6:$AP$1001,$AN$6:$AN$1001,AN2893,$F$6:$F$1001,F2893,$AX$6:$AX$1001,AX2893),0)","v":0},0,{"$f":"IF(AO2893<>0,SUMIFS($AP$6:$AP$1001,$AR$6:$AR$1001,AR2893,$F$6:$F$1001,F2893,$AX$6:$AX$1001,AX2893),0)","v":0},0,0,0,{"$f":"IF(AU2893<>0,SUMIFS($AV$6:$AV$1001,$AT$6:$AT$1001,AT2893,$F$6:$F$1001,F2893,$AY$6:$AY$1001,AY2893),0)","v":0},1900,1900,0,0,0,0,0,0,0,0,0,"","",0,0,0,"FORMATO INCORRECTO","FORMATO INCORRECTO","FORMATO INCORRECTO",{"$f":"IF(L2893=\"\",\"\",IF(ISERROR(edata(L2893)),\"FORMATO INCORRECTO\",\"FORMATO CORRECTO\"))","v":""},{"$f":"IF(U2893=\"\",\"\",IF(ISERROR(edata(U2893)),\"FORMATO INCORRECTO\",\"FORMATO CORRECTO\"))","v":""},{"$f":"IF(N2893=\"\",\"\",IF(ISERROR(edata(N2893)),\"FORMATO INCORRECTO\",\"FORMATO CORRECTO\"))","v":""}]
["1918-11-21","",null,null,null,null,null,null,"",null,null,null,null,null,null,null,null,"",null,null,null,null,null,null,null,null,"",null,"",null,null,"",null,null,null,null,null,0,0,0,0,0,{"$f":"IF(AO2902<>0,SUMIFS($AP$6:$AP$1001,$AN$6:$AN$1001,AN2902,$F$6:$F$1001,F2902,$AX$6:$AX$1001,AX2902),0)","v":0},0,{"$f":"IF(AO2902<>0,SUMIFS($AP$6:$AP$1001,$AR$6:$AR$1001,AR2902,$F$6:$F$1001,F2902,$AX$6:$AX$1001,AX2902),0)","v":0},0,0,0,{"$f":"IF(AU2902<>0,SUMIFS($AV$6:$AV$1001,$AT$6:$AT$1001,AT2902,$F$6:$F$1001,F2902,$AY$6:$AY$1001,AY2902),0)","v":0},1900,1900,0,0,0,0,0,0,0,0,0,"","",0,0,0,"FORMATO INCORRECTO","FORMATO INCORRECTO","FORMATO INCORRECTO",{"$f":"IF(L2902=\"\",\"\",IF(ISERROR(edata(L2902)),\"FORMATO INCORRECTO\",\"FORMATO CORRECTO\"))","v":""},{"$f":"IF(U2902=\"\",\"\",IF(ISERROR(edata(U2902)),\"FORMATO INCORRECTO\",\"FORMATO CORRECTO\"))","v":""},{"$f":"IF(N2902=\"\",\"\",IF(ISERROR(edata(N2902)),\"FORMATO INCORRECTO\",\"FORMATO CORRECTO\"))","v":""}]
["1918-11-30","",null,null,null,null,null,null,"",null,null,null,null,null,null,null,null,"",null,null,null,null,null,null,null,null,"",null,"",null,null,"",null,null,null,null,null,0,0,0,0,0,{"$f":"IF(AO2911<>0,SUMIFS($AP$6:$AP$1001,$AN$6:$AN$1001,AN2911,$F$6:$F$1001,F2911,$AX$6:$AX$1001,AX2911),0)","v":0},0,{"$f":"IF(AO2911<>0,SUMIFS($AP$6:$AP$1001,$AR$6:$AR$1001,AR2911,$F$6:$F$1001,F2911,$AX$6:$AX$1001,AX2911),0)","v":0},0,0,0,{"$f":"IF(AU2911<>0,SUMIFS($AV$6:$AV$1001,$AT$6:$AT$1001,AT2911,$F$6:$F$1001,F2911,$AY$6:$AY$1001,AY2911),0)","v":0},1900,1900,0,0,0,0,0,0,0,0,0,"","",0,0,0,"FORMATO INCORRECTO","FORMATO INCORRECTO","FORMATO INCORRECTO",{"$f":"IF(L2911=\"\",\"\",IF(ISERROR(edata(L2911)),\"FORMATO INCORRECTO\",\"FORMATO CORRECTO\"))","v":""},{"$f":"IF(U2911=\"\",\"\",IF(ISERROR(edata(U2911)),\"FORMATO INCORRECTO\",\"FORMATO CORRECTO\"))","v":""},{"$f":"IF(N2911=\"\",\"\",IF(ISERROR(edata(N2911)),\"FORMATO INCORRECTO\",\"FORMATO CORRECTO\"))","v":""}]
["1918-12-12","",null,null,null,null,null,null,"",null,null,null,null,null,null,null,null,"",null,null,null,null,null,null,null,null,"",null,"",null,null,"",null,null,null,null,null,0,0,0,0,0,{"$f":"IF(AO2923<>0,SUMIFS($AP$6:$AP$1001,$AN$6:$AN$1001,AN2923,$F$6:$F$1001,F2923,$AX$6:$AX$1001,AX2923),0)","v":0},0,{"$f":"IF(AO2923<>0,SUMIFS($AP$6:$AP$1001,$AR$6:$AR$1001,AR2923,$F$6:$F$1001,F2923,$AX$6:$AX$1001,AX2923),0)","v":0},0,0,0,{"$f":"IF(AU2923<>0,SUMIFS($AV$6:$AV$1001,$AT$6:$AT$1001,AT2923,$F$6:$F$1001,F2923,$AY$6:$AY$1001,AY2923),0)","v":0},1900,1900,0,0,0,0,0,0,0,0,0,"","",0,0,0,"FORMATO INCORRECTO","FORMATO INCORRECTO","FORMATO INCORRECTO",{"$f":"IF(L2923=\"\",\"\",IF(ISERROR(edata(L2923)),\"FORMATO INCORRECTO\",\"FORMATO CORRECTO\"))","v":""},{"$f":"IF(U2923=\"\",\"\",IF(ISERROR(edata(U2923)),\"FORMATO INCORRECTO\",\"FORMATO CORRECTO\"))","v":""},{"$f":"IF(N2923=\"\",\"\",IF(ISERROR(edata(N2923)),\"FORMATO INCORRECTO\",\"FORMATO CORRECTO\"))","v":""}]
["1918-12-15","",null,null,null,null,null,null,"",null,null,null,null,null,null,null,null,"",null,null,null,null,null,null,null,null,"",null,"",null,null,"",null,null,null,null,null,0,0,0,0,0,{"$f":"IF(AO2926<>0,SUMIFS($AP$6:$AP$1001,$AN$6:$AN$1001,AN2926,$F$6:$F$1001,F2926,$AX$6:$AX$1001,AX2926),0)","v":0},0,{"$f":"IF(AO2926<>0,SUMIFS($AP$6:$AP$1001,$AR$6:$AR$1001,AR2926,$F$6:$F$1001,F2926,$AX$6:$AX$1001,AX2926),0)","v":0},0,0,0,{"$f":"IF(AU2926<>0,SUMIFS($AV$6:$AV$1001,$AT$6:$AT$1001,AT2926,$F$6:$F$1001,F2926,$AY$6:$AY$1001,AY2926),0)","v":0},1900,1900,0,0,0,0,0,0,0,0,0,"","",0,0,0,"FORMATO INCORRECTO","FORMATO INCORRECTO","FORMATO INCORRECTO",{"$f":"IF(L2926=\"\",\"\",IF(ISERROR(edata(L2926)),\"FORMATO INCORRECTO\",\"FORMATO CORRECTO\"))","v":""},{"$f":"IF(U2926=\"\",\"\",IF(ISERROR(edata(U2926)),\"FORMATO INCORRECTO\",\"FORMATO CORRECTO\"))","v":""},{"$f":"IF(N2926=\"\",\"\",IF(ISERROR(edata(N2926)),\"FORMATO INCORRECTO\",\"FORMATO CORRECTO\"))","v":""}]
["1918-12-30","",null,null,null,null,null,null,"",null,null,null,null,null,null,null,null,"",null,null,null,null,null,null,null,null,"",null,"",null,null,"",null,null,null,null,null,0,0,0,0,0,{"$f":"IF(AO2941<>0,SUMIFS($AP$6:$AP$1001,$AN$6:$AN$1001,AN2941,$F$6:$F$1001,F2941,$AX$6:$AX$1001,AX2941),0)","v":0},0,{"$f":"IF(AO2941<>0,SUMIFS($AP$6:$AP$1001,$AR$6:$AR$1001,AR2941,$F$6:$F$1001,F2941,$AX$6:$AX$1001,AX2941),0)","v":0},0,0,0,{"$f":"IF(AU2941<>0,SUMIFS($AV$6:$AV$1001,$AT$6:$AT$1001,AT2941,$F$6:$F$1001,F2941,$AY$6:$AY$1001,AY2941),0)","v":0},1900,1900,0,0,0,0,0,0,0,0,0,"","",0,0,0,"FORMATO INCORRECTO","FORMATO INCORRECTO","FORMATO INCORRECTO",{"$f":"IF(L2941=\"\",\"\",IF(ISERROR(edata(L2941)),\"FORMATO INCORRECTO\",\"FORMATO CORRECTO\"))","v":""},{"$f":"IF(U2941=\"\",\"\",IF(ISERROR(edata(U2941)),\"FORMATO INCORRECTO\",\"FORMATO CORRECTO\"))","v":""},{"$f":"IF(N2941=\"\",\"\",IF(ISERROR(edata(N2941)),\"FORMATO INCORRECTO\",\"FORMATO CORRECTO\"))","v":""}]
["1919-01-02","",null,null,null,null,null,null,"",null,null,null,null,null,null,null,null,"",null,null,null,null,null,null,null,null,"",null,"",null,null,"",null,null,null,null,null,0,0,0,0,0,{"$f":"IF(AO2944<>0,SUMIFS($AP$6:$AP$1001,$AN$6:$AN$1001,AN2944,$F$6:$F$1001,F2944,$AX$6:$AX$1001,AX2944),0)","v":0},0,{"$f":"IF(AO2944<>0,SUMIFS($AP$6:$AP$1001,$AR$6:$AR$1001,AR2944,$F$6:$F$1001,F2944,$AX$6:$AX$1001,AX2944),0)","v":0},0,0,0,{"$f":"IF(AU2944<>0,SUMIFS($AV$6:$AV$1001,$AT$6:$AT$1001,AT2944,$F$6:$F$1001,F2944,$AY$6:$AY$1001,AY2944),0)","v":0},1900,1900,0,0,0,0,0,0,0,0,0,"","",0,0,0,"FORMATO INCORRECTO","FORMATO INCORRECTO","FORMATO INCORRECTO",{"$f":"IF(L2944=\"\",\"\",IF(ISERROR(edata(L2944)),\"FORMATO INCORRECTO\",\"FORMATO CORRECTO\"))","v":""},{"$f":"IF(U2944=\"\",\"\",IF(ISERROR(edata(U2944)),\"FORMATO INCORRECTO\",\"FORMATO CORRECTO\"))","v":""},{"$f":"IF(N2944=\"\",\"\",IF(ISERROR(edata(N2944)),\"FORMATO INCORRECTO\",\"FORMATO CORRECTO\"))","v":""}]
["1919-01-14","",null,null,null,null,null,null,"",null,null,null,null,null,null,null,null,"",null,null,null,null,null,null,null,null,"",null,"",null,null,"",null,null,null,null,null,0,0,0,0,0,{"$f":"IF(AO2956<>0,SUMIFS($AP$6:$AP$1001,$AN$6:$AN$1001,AN2956,$F$6:$F$1001,F2956,$AX$6:$AX$1001,AX2956),0)","v":0},0,{"$f":"IF(AO2956<>0,SUMIFS($AP$6:$AP$1001,$AR$6:$AR$1001,AR2956,$F$6:$F$1001,F2956,$AX$6:$AX$1001,AX2956),0)","v":0},0,0,0,{"$f":"IF(AU2956<>0,SUMIFS($AV$6:$AV$1001,$AT$6:$AT$1001,AT2956,$F$6:$F$1001,F2956,$AY$6:$AY$1001,AY2956),0)","v":0},1900,1900,0,0,0,0,0,0,0,0,0,"","",0,0,0,"FORMATO INCORRECTO","FORMATO INCORRECTO","FORMATO INCORRECTO",{"$f":"IF(L2956=\"\",\"\",IF(ISERROR(edata(L2956)),\"FORMATO INCORRECTO\",\"FORMATO CORRECTO\"))","v":""},{"$f":"IF(U2956=\"\",\"\",IF(ISERROR(edata(U2956)),\"FORMATO INCORRECTO\",\"FORMATO CORRECTO\"))","v":""},{"$f":"IF(N2956=\"\",\"\",IF(ISERROR(edata(N2956)),\"FORMATO INCORRECTO\",\"FORMATO CORRECTO\"))","v":""}]
["1919-01-21","",null,null,null,null,null,null,"",null,null,null,null,null,null,null,null,"",null,null,null,null,null,null,null,null,"",null,"",null,null,"",null,null,null,null,null,0,0,0,0,0,{"$f":"IF(AO2963<>0,SUMIFS($AP$6:$AP$1001,$AN$6:$AN$1001,AN2963,$F$6:$F$1001,F2963,$AX$6:$AX$1001,AX2963),0)","v":0},0,{"$f":"IF(AO2963<>0,SUMIFS($AP$6:$AP$1001,$AR$6:$AR$1001,AR2963,$F$6:$F$1001,F2963,$AX$6:$AX$1001,AX2963),0)","v":0},0,0,0,{"$f":"IF(AU2963<>0,SUMIFS($AV$6:$AV$1001,$AT$6:$AT$1001,AT2963,$F$6:$F$1001,F2963,$AY$6:$AY$1001,AY2963),0)","v":0},1900,1900,0,0,0,0,0,0,0,0,0,"","",0,0,0,"FORMATO INCORRECTO","FORMATO INCORRECTO","FORMATO INCORRECTO",{"$f":"IF(L2963=\"\",\"\",IF(ISERROR(edata(L2963)),\"FORMATO INCORRECTO\",\"FORMATO CORRECTO\"))","v":""},{"$f":"IF(U2963=\"\",\"\",IF(ISERROR(edata(U2963)),\"FORMATO INCORRECTO\",\"FORMATO CORRECTO\"))","v":""},{"$f":"IF(N2963=\"\",\"\",IF(ISERROR(edata(N2963)),\"FORMATO INCORRECTO\",\"FORMATO CORRECTO\"))","v":""}]
["1919-01-30","",null,null,null,null,null,null,"",null,null,null,null,null,null,null,null,"",null,null,null,null,null,null,null,null,"",null,"",null,null,"",null,null,null,null,null,0,0,0,0,0,{"$f":"IF(AO2972<>0,SUMIFS($AP$6:$AP$1001,$AN$6:$AN$1001,AN2972,$F$6:$F$1001,F2972,$AX$6:$AX$1001,AX2972),0)","v":0},0,{"$f":"IF(AO2972<>0,SUMIFS($AP$6:$AP$1001,$AR$6:$AR$1001,AR2972,$F$6:$F$1001,F2972,$AX$6:$AX$1001,AX2972),0)","v":0},0,0,0,{"$f":"IF(AU2972<>0,SUMIFS($AV$6:$AV$1001,$AT$6:$AT$1001,AT2972,$F$6:$F$1001,F2972,$AY$6:$AY$1001,AY2972),0)","v":0},1900,1900,0,0,0,0,0,0,0,0,0,"","",0,0,0,"FORMATO INCORRECTO","FORMATO INCORRECTO","FORMATO INCORRECTO",{"$f":"IF(L2972=\"\",\"\",IF(ISERROR(edata(L2972)),\"FORMATO INCORRECTO\",\"FORMATO CORRECTO\"))","v":""},{"$f":"IF(U2972=\"\",\"\",IF(ISERROR(edata(U2972)),\"FORMATO INCORRECTO\",\"FORMATO CORRECTO\"))","v":""},{"$f":"IF(N2972=\"\",\"\",IF(ISERROR(edata(N2972)),\"FORMATO INCORRECTO\",\"FORMATO CORRECTO\"))","v":""}]
["1919-02-08","",null,null,null,null,null,null,"",null,null,null,null,null,null,null,null,"",null,null,null,null,null,null,null,null,"",null,"",null,null,"",null,null,null,null,null,0,0,0,0,0,{"$f":"IF(AO2981<>0,SUMIFS($AP$6:$AP$1001,$AN$6:$AN$1001,AN2981,$F$6:$F$1001,F2981,$AX$6:$AX$1001,AX2981),0)","v":0},0,{"$f":"IF(AO2981<>0,SUMIFS($AP$6:$AP$1001,$AR$6:$AR$1001,AR2981,$F$6:$F$1001,F2981,$AX$6:$AX$1001,AX2981),0)","v":0},0,0,0,{"$f":"IF(AU2981<>0,SUMIFS($AV$6:$AV$1001,$AT$6:$AT$1001,AT2981,$F$6:$F$1001,F2981,$AY$6:$AY$1001,AY2981),0)","v":0},1900,1900,0,0,0,0,0,0,0,0,0,"","",0,0,0,"FORMATO INCORRECTO","FORMATO INCORRECTO","FORMATO INCORRECTO",{"$f":"IF(L2981=\"\",\"\",IF(ISERROR(edata(L2981)),\"FORMATO INCORRECTO\",\"FORMATO CORRECTO\"))","v":""},{"$f":"IF(U2981=\"\",\"\",IF(ISERROR(edata(U2981)),\"FORMATO INCORRECTO\",\"FORMATO CORRECTO\"))","v":""},{"$f":"IF(N2981=\"\",\"\",IF(ISERROR(edata(N2981)),\"FORMATO INCORRECTO\",\"FORMATO CORRECTO\"))","v":""}]
["1919-02-20","",null,null,null,null,null,null,"",null,null,null,null,null,null,null,null,"",null,null,null,null,null,null,null,null,"",null,"",null,null,"",null,null,null,null,null,0,0,0,0,0,{"$f":"IF(AO2993<>0,SUMIFS($AP$6:$AP$1001,$AN$6:$AN$1001,AN2993,$F$6:$F$1001,F2993,$AX$6:$AX$1001,AX2993),0)","v":0},0,{"$f":"IF(AO2993<>0,SUMIFS($AP$6:$AP$1001,$AR$6:$AR$1001,AR2993,$F$6:$F$1001,F2993,$AX$6:$AX$1001,AX2993),0)","v":0},0,0,0,{"$f":"IF(AU2993<>0,SUMIFS($AV$6:$AV$1001,$AT$6:$AT$1001,AT2993,$F$6:$F$1001,F2993,$AY$6:$AY$1001,AY2993),0)","v":0},1900,1900,0,0,0,0,0,0,0,0,0,"","",0,0,0,"FORMATO INCORRECTO","FORMATO INCORRECTO","FORMATO INCORRECTO",{"$f":"IF(L2993=\"\",\"\",IF(ISERROR(edata(L2993)),\"FORMATO INCORRECTO\",\"FORMATO CORRECTO\"))","v":""},{"$f":"IF(U2993=\"\",\"\",IF(ISERROR(edata(U2993)),\"FORMATO INCORRECTO\",\"FORMATO CORRECTO\"))","v":""},{"$f":"IF(N2993=\"\",\"\",IF(ISERROR(edata(N2993)),\"FORMATO INCORRECTO\",\"FORMATO CORRECTO\"))","v":""}]
["1919-02-23","",null,null,null,null,null,null,"",null,null,null,null,null,null,null,null,"",null,null,null,null,null,null,null,null,"",null,"",null,null,"",null,null,null,null,null,0,0,0,0,0,{"$f":"IF(AO2996<>0,SUMIFS($AP$6:$AP$1001,$AN$6:$AN$1001,AN2996,$F$6:$F$1001,F2996,$AX$6:$AX$1001,AX2996),0)","v":0},0,{"$f":"IF(AO2996<>0,SUMIFS($AP$6:$AP$1001,$AR$6:$AR$1001,AR2996,$F$6:$F$1001,F2996,$AX$6:$AX$1001,AX2996),0)","v":0},0,0,0,{"$f":"IF(AU2996<>0,SUMIFS($AV$6:$AV$1001,$AT$6:$AT$1001,AT2996,$F$6:$F$1001,F2996,$AY$6:$AY$1001,AY2996),0)","v":0},1900,1900,0,0,0,0,0,0,0,0,0,"","",0,0,0,"FORMATO INCORRECTO","FORMATO INCORRECTO","FORMATO INCORRECTO",{"$f":"IF(L2996=\"\",\"\",IF(ISERROR(edata(L2996)),\"FORMATO INCORRECTO\",\"FORMATO CORRECTO\"))","v":""},{"$f":"IF(U2996=\"\",\"\",IF(ISERROR(edata(U2996)),\"FORMATO INCORRECTO\",\"FORMATO CORRECTO\"))","v":""},{"$f":"IF(N2996=\"\",\"\",IF(ISERROR(edata(N2996)),\"FORMATO INCORRECTO\",\"FORMATO CORRECTO\"))","v":""}]
["1919-03-10","",null,null,null,null,null,null,"",null,null,null,null,null,null,null,null,"",null,null,null,null,null,null,null,null,"",null,"",null,null,"",null,null,null,null,null,0,0,0,0,0,{"$f":"IF(AO3011<>0,SUMIFS($AP$6:$AP$1001,$AN$6:$AN$1001,AN3011,$F$6:$F$1001,F3011,$AX$6:$AX$1001,AX3011),0)","v":0},0,{"$f":"IF(AO3011<>0,SUMIFS($AP$6:$AP$1001,$AR$6:$AR$1001,AR3011,$F$6:$F$1001,F3011,$AX$6:$AX$1001,AX3011),0)","v":0},0,0,0,{"$f":"IF(AU3011<>0,SUMIFS($AV$6:$AV$1001,$AT$6:$AT$1001,AT3011,$F$6:$F$1001,F3011,$AY$6:$AY$1001,AY3011),0)","v":0},1900,1900,0,0,0,0,0,0,0,0,0,"","",0,0,0,"FORMATO INCORRECTO","FORMATO INCORRECTO","FORMATO INCORRECTO",{"$f":"IF(L3011=\"\",\"\",IF(ISERROR(edata(L3011)),\"FORMATO INCORRECTO\",\"FORMATO CORRECTO\"))","v":""},{"$f":"IF(U3011=\"\",\"\",IF(ISERROR(edata(U3011)),\"FORMATO INCORRECTO\",\"FORMATO CORRECTO\"))","v":""},{"$f":"IF(N3011=\"\",\"\",IF(ISERROR(edata(N3011)),\"FORMATO INCORRECTO\",\"FORMATO CORRECTO\"))","v":""}]
["1919-03-13","",null,null,null,null,null,null,"",null,null,null,null,null,null,null,null,"",null,null,null,null,null,null,null,null,"",null,"",null,null,"",null,null,null,null,null,0,0,0,0,0,{"$f":"IF(AO3014<>0,SUMIFS($AP$6:$AP$1001,$AN$6:$AN$1001,AN3014,$F$6:$F$1001,F3014,$AX$6:$AX$1001,AX3014),0)","v":0},0,{"$f":"IF(AO3014<>0,SUMIFS($AP$6:$AP$1001,$AR$6:$AR$1001,AR3014,$F$6:$F$1001,F3014,$AX$6:$AX$1001,AX3014),0)","v":0},0,0,0,{"$f":"IF(AU3014<>0,SUMIFS($AV$6:$AV$1001,$AT$6:$AT$1001,AT3014,$F$6:$F$1001,F3014,$AY$6:$AY$1001,AY3014),0)","v":0},1900,1900,0,0,0,0,0,0,0,0,0,"","",0,0,0,"FORMATO INCORRECTO","FORMATO INCORRECTO","FORMATO INCORRECTO",{"$f":"IF(L3014=\"\",\"\",IF(ISERROR(edata(L3014)),\"FORMATO INCORRECTO\",\"FORMATO CORRECTO\"))","v":""},{"$f":"IF(U3014=\"\",\"\",IF(ISERROR(edata(U3014)),\"FORMATO INCORRECTO\",\"FORMATO CORRECTO\"))","v":""},{"$f":"IF(N3014=\"\",\"\",IF(ISERROR(edata(N3014)),\"FORMATO INCORRECTO\",\"FORMATO CORRECTO\"))","v":""}]
["1919-03-20","",null,null,null,null,null,null,"",null,null,null,null,null,null,null,null,"",null,null,null,null,null,null,null,null,"",null,"",null,null,"",null,null,null,null,null,0,0,0,0,0,{"$f":"IF(AO3021<>0,SUMIFS($AP$6:$AP$1001,$AN$6:$AN$1001,AN3021,$F$6:$F$1001,F3021,$AX$6:$AX$1001,AX3021),0)","v":0},0,{"$f":"IF(AO3021<>0,SUMIFS($AP$6:$AP$1001,$AR$6:$AR$1001,AR3021,$F$6:$F$1001,F3021,$AX$6:$AX$1001,AX3021),0)","v":0},0,0,0,{"$f":"IF(AU3021<>0,SUMIFS($AV$6:$AV$1001,$AT$6:$AT$1001,AT3021,$F$6:$F$1001,F3021,$AY$6:$AY$1001,AY3021),0)","v":0},1900,1900,0,0,0,0,0,0,0,0,0,"","",0,0,0,"FORMATO INCORRECTO","FORMATO INCORRECTO","FORMATO INCORRECTO",{"$f":"IF(L3021=\"\",\"\",IF(ISERROR(edata(L3021)),\"FORMATO INCORRECTO\",\"FORMATO CORRECTO\"))","v":""},{"$f":"IF(U3021=\"\",\"\",IF(ISERROR(edata(U3021)),\"FORMATO INCORRECTO\",\"FORMATO CORRECTO\"))","v":""},{"$f":"IF(N3021=\"\",\"\",IF(ISERROR(edata(N3021)),\"FORMATO INCORRECTO\",\"FORMATO CORRECTO\"))","v":""}]
["1919-04-01","",null,null,null,null,null,null,"",null,null,null,null,null,null,null,null,"",null,null,null,null,null,null,null,null,"",null,"",null,null,"",null,null,null,null,null,0,0,0,0,0,{"$f":"IF(AO3033<>0,SUMIFS($AP$6:$AP$1001,$AN$6:$AN$1001,AN3033,$F$6:$F$1001,F3033,$AX$6:$AX$1001,AX3033),0)","v":0},0,{"$f":"IF(AO3033<>0,SUMIFS($AP$6:$AP$1001,$AR$6:$AR$1001,AR3033,$F$6:$F$1001,F3033,$AX$6:$AX$1001,AX3033),0)","v":0},0,0,0,{"$f":"IF(AU3033<>0,SUMIFS($AV$6:$AV$1001,$AT$6:$AT$1001,AT3033,$F$6:$F$1001,F3033,$AY$6:$AY$1001,AY3033),0)","v":0},1900,1900,0,0,0,0,0,0,0,0,0,"","",0,0,0,"FORMATO INCORRECTO","FORMATO INCORRECTO","FORMATO INCORRECTO",{"$f":"IF(L3033=\"\",\"\",IF(ISERROR(edata(L3033)),\"FORMATO INCORRECTO\",\"FORMATO CORRECTO\"))","v":""},{"$f":"IF(U3033=\"\",\"\",IF(ISERROR(edata(U3033)),\"FORMATO INCORRECTO\",\"FORMATO CORRECTO\"))","v":""},{"$f":"IF(N3033=\"\",\"\",IF(ISERROR(edata(N3033)),\"FORMATO INCORRECTO\",\"FORMATO CORRECTO\"))","v":""}]
["1919-04-10","",null,null,null,null,null,null,"",null,null,null,null,null,null,null,null,"",null,null,null,null,null,null,null,null,"",null,"",null,null,"",null,null,null,null,null,0,0,0,0,0,{"$f":"IF(AO3042<>0,SUMIFS($AP$6:$AP$1001,$AN$6:$AN$1001,AN3042,$F$6:$F$1001,F3042,$AX$6:$AX$1001,AX3042),0)","v":0},0,{"$f":"IF(AO3042<>0,SUMIFS($AP$6:$AP$1001,$AR$6:$AR$1001,AR3042,$F$6:$F$1001,F3042,$AX$6:$AX$1001,AX3042),0)","v":0},0,0,0,{"$f":"IF(AU3042<>0,SUMIFS($AV$6:$AV$1001,$AT$6:$AT$1001,AT3042,$F$6:$F$1001,F3042,$AY$6:$AY$1001,AY3042),0)","v":0},1900,1900,0,0,0,0,0,0,0,0,0,"","",0,0,0,"FORMATO INCORRECTO","FORMATO INCORRECTO","FORMATO INCORRECTO",{"$f":"IF(L3042=\"\",\"\",IF(ISERROR(edata(L3042)),\"FORMATO INCORRECTO\",\"FORMATO CORRECTO\"))","v":""},{"$f":"IF(U3042=\"\",\"\",IF(ISERROR(edata(U3042)),\"FORMATO INCORRECTO\",\"FORMATO CORRECTO\"))","v":""},{"$f":"IF(N3042=\"\",\"\",IF(ISERROR(edata(N3042)),\"FORMATO INCORRECTO\",\"FORMATO CORRECTO\"))","v":""}]
["1919-04-19","",null,null,null,null,null,null,"",null,null,null,null,null,null,null,null,"",null,null,null,null,null,null,null,null,"",null,"",null,null,"",null,null,null,null,null,0,0,0,0,0,{"$f":"IF(AO3051<>0,SUMIFS($AP$6:$AP$1001,$AN$6:$AN$1001,AN3051,$F$6:$F$1001,F3051,$AX$6:$AX$1001,AX3051),0)","v":0},0,{"$f":"IF(AO3051<>0,SUMIFS($AP$6:$AP$1001,$AR$6:$AR$1001,AR3051,$F$6:$F$1001,F3051,$AX$6:$AX$1001,AX3051),0)","v":0},0,0,0,{"$f":"IF(AU3051<>0,SUMIFS($AV$6:$AV$1001,$AT$6:$AT$1001,AT3051,$F$6:$F$1001,F3051,$AY$6:$AY$1001,AY3051),0)","v":0},1900,1900,0,0,0,0,0,0,0,0,0,"","",0,0,0,"FORMATO INCORRECTO","FORMATO INCORRECTO","FORMATO INCORRECTO",{"$f":"IF(L3051=\"\",\"\",IF(ISERROR(edata(L3051)),\"FORMATO INCORRECTO\",\"FORMATO CORRECTO\"))","v":""},{"$f":"IF(U3051=\"\",\"\",IF(ISERROR(edata(U3051)),\"FORMATO INCORRECTO\",\"FORMATO CORRECTO\"))","v":""},{"$f":"IF(N3051=\"\",\"\",IF(ISERROR(edata(N3051)),\"FORMATO INCORRECTO\",\"FORMATO CORRECTO\"))","v":""}]
["1919-05-01","",null,null,null,null,null,null,"",null,null,null,null,null,null,null,null,"",null,null,null,null,null,null,null,null,"",null,"",null,null,"",null,null,null,null,null,0,0,0,0,0,{"$f":"IF(AO3063<>0,SUMIFS($AP$6:$AP$1001,$AN$6:$AN$1001,AN3063,$F$6:$F$1001,F3063,$AX$6:$AX$1001,AX3063),0)","v":0},0,{"$f":"IF(AO3063<>0,SUMIFS($AP$6:$AP$1001,$AR$6:$AR$1001,AR3063,$F$6:$F$1001,F3063,$AX$6:$AX$1001,AX3063),0)","v":0},0,0,0,{"$f":"IF(AU3063<>0,SUMIFS($AV$6:$AV$1001,$AT$6:$AT$1001,AT3063,$F$6:$F$1001,F3063,$AY$6:$AY$1001,AY3063),0)","v":0},1900,1900,0,0,0,0,0,0,0,0,0,"","",0,0,0,"FORMATO INCORRECTO","FORMATO INCORRECTO","FORMATO INCORRECTO",{"$f":"IF(L3063=\"\",\"\",IF(ISERROR(edata(L3063)),\"FORMATO INCORRECTO\",\"FORMATO CORRECTO\"))","v":""},{"$f":"IF(U3063=\"\",\"\",IF(ISERROR(edata(U3063)),\"FORMATO INCORRECTO\",\"FORMATO CORRECTO\"))","v":""},{"$f":"IF(N3063=\"\",\"\",IF(ISERROR(edata(N3063)),\"FORMATO INCORRECTO\",\"FORMATO CORRECTO\"))","v":""}]
["1919-05-04","",null,null,null,null,null,null,"",null,null,null,null,null,null,null,null,"",null,null,null,null,null,null,null,null,"",null,"",null,null,"",null,null,null,null,null,0,0,0,0,0,{"$f":"IF(AO3066<>0,SUMIFS($AP$6:$AP$1001,$AN$6:$AN$1001,AN3066,$F$6:$F$1001,F3066,$AX$6:$AX$1001,AX3066),0)","v":0},0,{"$f":"IF(AO3066<>0,SUMIFS($AP$6:$AP$1001,$AR$6:$AR$1001,AR3066,$F$6:$F$1001,F3066,$AX$6:$AX$1001,AX3066),0)","v":0},0,0,0,{"$f":"IF(AU3066<>0,SUMIFS($AV$6:$AV$1001,$AT$6:$AT$1001,AT3066,$F$6:$F$1001,F3066,$AY$6:$AY$1001,AY3066),0)","v":0},1900,1900,0,0,0,0,0,0,0,0,0,"","",0,0,0,"FORMATO INCORRECTO","FORMATO INCORRECTO","FORMATO INCORRECTO",{"$f":"IF(L3066=\"\",\"\",IF(ISERROR(edata(L3066)),\"FORMATO INCORRECTO\",\"FORMATO CORRECTO\"))","v":""},{"$f":"IF(U3066=\"\",\"\",IF(ISERROR(edata(U3066)),\"FORMATO INCORRECTO\",\"FORMATO CORRECTO\"))","v":""},{"$f":"IF(N3066=\"\",\"\",IF(ISERROR(edata(N3066)),\"FORMATO INCORRECTO\",\"FORMATO CORRECTO\"))","v":""}]
["1919-05-19","",null,null,null,null,null,null,"",null,null,null,null,null,null,null,null,"",null,null,null,null,null,null,null,null,"",null,"",null,null,"",null,null,null,null,null,0,0,0,0,0,{"$f":"IF(AO3081<>0,SUMIFS($AP$6:$AP$1001,$AN$6:$AN$1001,AN3081,$F$6:$F$1001,F3081,$AX$6:$AX$1001,AX3081),0)","v":0},0,{"$f":"IF(AO3081<>0,SUMIFS($AP$6:$AP$1001,$AR$6:$AR$1001,AR3081,$F$6:$F$1001,F3081,$AX$6:$AX$1001,AX3081),0)","v":0},0,0,0,{"$f":"IF(AU3081<>0,SUMIFS($AV$6:$AV$1001,$AT$6:$AT$1001,AT3081,$F$6:$F$1001,F3081,$AY$6:$AY$1001,AY3081),0)","v":0},1900,1900,0,0,0,0,0,0,0,0,0,"","",0,0,0,"FORMATO INCORRECTO","FORMATO INCORRECTO","FORMATO INCORRECTO",{"$f":"IF(L3081=\"\",\"\",IF(ISERROR(edata(L3081)),\"FORMATO INCORRECTO\",\"FORMATO CORRECTO\"))","v":""},{"$f":"IF(U3081=\"\",\"\",IF(ISERROR(edata(U3081)),\"FORMATO INCORRECTO\",\"FORMATO CORRECTO\"))","v":""},{"$f":"IF(N3081=\"\",\"\",IF(ISERROR(edata(N3081)),\"FORMATO INCORRECTO\",\"FORMATO CORRECTO\"))","v":""}]
["1919-05-22","",null,null,null,null,null,null,"",null,null,null,null,null,null,null,null,"",null,null,null,null,null,null,null,null,"",null,"",null,null,"",null,null,null,null,null,0,0,0,0,0,{"$f":"IF(AO3084<>0,SUMIFS($AP$6:$AP$1001,$AN$6:$AN$1001,AN3084,$F$6:$F$1001,F3084,$AX$6:$AX$1001,AX3084),0)","v":0},0,{"$f":"IF(AO3084<>0,SUMIFS($AP$6:$AP$1001,$AR$6:$AR$1001,AR3084,$F$6:$F$1001,F3084,$AX$6:$AX$1001,AX3084),0)","v":0},0,0,0,{"$f":"IF(AU3084<>0,SUMIFS($AV$6:$AV$1001,$AT$6:$AT$1001,AT3084,$F$6:$F$1001,F3084,$AY$6:$AY$1001,AY3084),0)","v":0},1900,1900,0,0,0,0,0,0,0,0,0,"","",0,0,0,"FORMATO INCORRECTO","FORMATO INCORRECTO","FORMATO INCORRECTO",{"$f":"IF(L3084=\"\",\"\",IF(ISERROR(edata(L3084)),\"FORMATO INCORRECTO\",\"FORMATO CORRECTO\"))","v":""},{"$f":"IF(U3084=\"\",\"\",IF(ISERROR(edata(U3084)),\"FORMATO INCORRECTO\",\"FORMATO CORRECTO\"))","v":""},{"$f":"IF(N3084=\"\",\"\",IF(ISERROR(edata(N3084)),\"FORMATO INCORRECTO\",\"FORMATO CORRECTO\"))","v":""}]
["1919-05-29","",null,null,null,null,null,null,"",null,null,null,null,null,null,null,null,"",null,null,null,null,null,null,null,null,"",null,"",null,null,"",null,null,null,null,null,0,0,0,0,0,{"$f":"IF(AO3091<>0,SUMIFS($AP$6:$AP$1001,$AN$6:$AN$1001,AN3091,$F$6:$F$1001,F3091,$AX$6:$AX$1001,AX3091),0)","v":0},0,{"$f":"IF(AO3091<>0,SUMIFS($AP$6:$AP$1001,$AR$6:$AR$1001,AR3091,$F$6:$F$1001,F3091,$AX$6:$AX$1001,AX3091),0)","v":0},0,0,0,{"$f":"IF(AU3091<>0,SUMIFS($AV$6:$AV$1001,$AT$6:$AT$1001,AT3091,$F$6:$F$1001,F3091,$AY$6:$AY$1001,AY3091),0)","v":0},1900,1900,0,0,0,0,0,0,0,0,0,"","",0,0,0,"FORMATO INCORRECTO","FORMATO INCORRECTO","FORMATO INCORRECTO",{"$f":"IF(L3091=\"\",\"\",IF(ISERROR(edata(L3091)),\"FORMATO INCORRECTO\",\"FORMATO CORRECTO\"))","v":""},{"$f":"IF(U3091=\"\",\"\",IF(ISERROR(edata(U3091)),\"FORMATO INCORRECTO\",\"FORMATO CORRECTO\"))","v":""},{"$f":"IF(N3091=\"\",\"\",IF(ISERROR(edata(N3091)),\"FORMATO INCORRECTO\",\"FORMATO CORRECTO\"))","v":""}]
["1919-06-10","",null,null,null,null,null,null,"",null,null,null,null,null,null,null,null,"",null,null,null,null,null,null,null,null,"",null,"",null,null,"",null,null,null,null,null,0,0,0,0,0,{"$f":"IF(AO3103<>0,SUMIFS($AP$6:$AP$1001,$AN$6:$AN$1001,AN3103,$F$6:$F$1001,F3103,$AX$6:$AX$1001,AX3103),0)","v":0},0,{"$f":"IF(AO3103<>0,SUMIFS($AP$6:$AP$1001,$AR$6:$AR$1001,AR3103,$F$6:$F$1001,F3103,$AX$6:$AX$1001,AX3103),0)","v":0},0,0,0,{"$f":"IF(AU3103<>0,SUMIFS($AV$6:$AV$1001,$AT$6:$AT$1001,AT3103,$F$6:$F$1001,F3103,$AY$6:$AY$1001,AY3103),0)","v":0},1900,1900,0,0,0,0,0,0,0,0,0,"","",0,0,0,"FORMATO INCORRECTO","FORMATO INCORRECTO","FORMATO INCORRECTO",{"$f":"IF(L3103=\"\",\"\",IF(ISERROR(edata(L3103)),\"FORMATO INCORRECTO\",\"FORMATO CORRECTO\"))","v":""},{"$f":"IF(U3103=\"\",\"\",IF(ISERROR(edata(U3103)),\"FORMATO INCORRECTO\",\"FORMATO CORRECTO\"))","v":""},{"$f":"IF(N3103=\"\",\"\",IF(ISERROR(edata(N3103)),\"FORMATO INCORRECTO\",\"FORMATO CORRECTO\"))","v":""}]
["1919-06-19","",null,null,null,null,null,null,"",null,null,null,null,null,null,null,null,"",null,null,null,null,null,null,null,null,"",null,"",null,null,"",null,null,null,null,null,0,0,0,0,0,{"$f":"IF(AO3112<>0,SUMIFS($AP$6:$AP$1001,$AN$6:$AN$1001,AN3112,$F$6:$F$1001,F3112,$AX$6:$AX$1001,AX3112),0)","v":0},0,{"$f":"IF(AO3112<>0,SUMIFS($AP$6:$AP$1001,$AR$6:$AR$1001,AR3112,$F$6:$F$1001,F3112,$AX$6:$AX$1001,AX3112),0)","v":0},0,0,0,{"$f":"IF(AU3112<>0,SUMIFS($AV$6:$AV$1001,$AT$6:$AT$1001,AT3112,$F$6:$F$1001,F3112,$AY$6:$AY$1001,AY3112),0)","v":0},1900,1900,0,0,0,0,0,0,0,0,0,"","",0,0,0,"FORMATO INCORRECTO","FORMATO INCORRECTO","FORMATO INCORRECTO",{"$f":"IF(L3112=\"\",\"\",IF(ISERROR(edata(L3112)),\"FORMATO INCORRECTO\",\"FORMATO CORRECTO\"))","v":""},{"$f":"IF(U3112=\"\",\"\",IF(ISERROR(edata(U3112)),\"FORMATO INCORRECTO\",\"FORMATO CORRECTO\"))","v":""},{"$f":"IF(N3112=\"\",\"\",IF(ISERROR(edata(N3112)),\"FORMATO INCORRECTO\",\"FORMATO CORRECTO\"))","v":""}]
["1919-06-28","",null,null,null,null,null,null,"",null,null,null,null,null,null,null,null,"",null,null,null,null,null,null,null,null,"",null,"",null,null,"",null,null,null,null,null,0,0,0,0,0,{"$f":"IF(AO3121<>0,SUMIFS($AP$6:$AP$1001,$AN$6:$AN$1001,AN3121,$F$6:$F$1001,F3121,$AX$6:$AX$1001,AX3121),0)","v":0},0,{"$f":"IF(AO3121<>0,SUMIFS($AP$6:$AP$1001,$AR$6:$AR$1001,AR3121,$F$6:$F$1001,F3121,$AX$6:$AX$1001,AX3121),0)","v":0},0,0,0,{"$f":"IF(AU3121<>0,SUMIFS($AV$6:$AV$1001,$AT$6:$AT$1001,AT3121,$F$6:$F$1001,F3121,$AY$6:$AY$1001,AY3121),0)","v":0},1900,1900,0,0,0,0,0,0,0,0,0,"","",0,0,0,"FORMATO INCORRECTO","FORMATO INCORRECTO","FORMATO INCORRECTO",{"$f":"IF(L3121=\"\",\"\",IF(ISERROR(edata(L3121)),\"FORMATO INCORRECTO\",\"FORMATO CORRECTO\"))","v":""},{"$f":"IF(U3121=\"\",\"\",IF(ISERROR(edata(U3121)),\"FORMATO INCORRECTO\",\"FORMATO CORRECTO\"))","v":""},{"$f":"IF(N3121=\"\",\"\",IF(ISERROR(edata(N3121)),\"FORMATO INCORRECTO\",\"FORMATO CORRECTO\"))","v":""}]
["1919-07-10","",null,null,null,null,null,null,"",null,null,null,null,null,null,null,null,"",null,null,null,null,null,null,null,null,"",null,"",null,null,"",null,null,null,null,null,0,0,0,0,0,{"$f":"IF(AO3133<>0,SUMIFS($AP$6:$AP$1001,$AN$6:$AN$1001,AN3133,$F$6:$F$1001,F3133,$AX$6:$AX$1001,AX3133),0)","v":0},0,{"$f":"IF(AO3133<>0,SUMIFS($AP$6:$AP$1001,$AR$6:$AR$1001,AR3133,$F$6:$F$1001,F3133,$AX$6:$AX$1001,AX3133),0)","v":0},0,0,0,{"$f":"IF(AU3133<>0,SUMIFS($AV$6:$AV$1001,$AT$6:$AT$1001,AT3133,$F$6:$F$1001,F3133,$AY$6:$AY$1001,AY3133),0)","v":0},1900,1900,0,0,0,0,0,0,0,0,0,"","",0,0,0,"FORMATO INCORRECTO","FORMATO INCORRECTO","FORMATO INCORRECTO",{"$f":"IF(L3133=\"\",\"\",IF(ISERROR(edata(L3133)),\"FORMATO INCORRECTO\",\"FORMATO CORRECTO\"))","v":""},{"$f":"IF(U3133=\"\",\"\",IF(ISERROR(edata(U3133)),\"FORMATO INCORRECTO\",\"FORMATO CORRECTO\"))","v":""},{"$f":"IF(N3133=\"\",\"\",IF(ISERROR(edata(N3133)),\"FORMATO INCORRECTO\",\"FORMATO CORRECTO\"))","v":""}]
["1919-07-13","",null,null,null,null,null,null,"",null,null,null,null,null,null,null,null,"",null,null,null,null,null,null,null,null,"",null,"",null,null,"",null,null,null,null,null,0,0,0,0,0,{"$f":"IF(AO3136<>0,SUMIFS($AP$6:$AP$1001,$AN$6:$AN$1001,AN3136,$F$6:$F$1001,F3136,$AX$6:$AX$1001,AX3136),0)","v":0},0,{"$f":"IF(AO3136<>0,SUMIFS($AP$6:$AP$1001,$AR$6:$AR$1001,AR3136,$F$6:$F$1001,F3136,$AX$6:$AX$1001,AX3136),0)","v":0},0,0,0,{"$f":"IF(AU3136<>0,SUMIFS($AV$6:$AV$1001,$AT$6:$AT$1001,AT3136,$F$6:$F$1001,F3136,$AY$6:$AY$1001,AY3136),0)","v":0},1900,1900,0,0,0,0,0,0,0,0,0,"","",0,0,0,"FORMATO INCORRECTO","FORMATO INCORRECTO","FORMATO INCORRECTO",{"$f":"IF(L3136=\"\",\"\",IF(ISERROR(edata(L3136)),\"FORMATO INCORRECTO\",\"FORMATO CORRECTO\"))","v":""},{"$f":"IF(U3136=\"\",\"\",IF(ISERROR(edata(U3136)),\"FORMATO INCORRECTO\",\"FORMATO CORRECTO\"))","v":""},{"$f":"IF(N3136=\"\",\"\",IF(ISERROR(edata(N3136)),\"FORMATO INCORRECTO\",\"FORMATO CORRECTO\"))","v":""}]
["1919-07-28","",null,null,null,null,null,null,"",null,null,null,null,null,null,null,null,"",null,null,null,null,null,null,null,null,"",null,"",null,null,"",null,null,null,null,null,0,0,0,0,0,{"$f":"IF(AO3151<>0,SUMIFS($AP$6:$AP$1001,$AN$6:$AN$1001,AN3151,$F$6:$F$1001,F3151,$AX$6:$AX$1001,AX3151),0)","v":0},0,{"$f":"IF(AO3151<>0,SUMIFS($AP$6:$AP$1001,$AR$6:$AR$1001,AR3151,$F$6:$F$1001,F3151,$AX$6:$AX$1001,AX3151),0)","v":0},0,0,0,{"$f":"IF(AU3151<>0,SUMIFS($AV$6:$AV$1001,$AT$6:$AT$1001,AT3151,$F$6:$F$1001,F3151,$AY$6:$AY$1001,AY3151),0)","v":0},1900,1900,0,0,0,0,0,0,0,0,0,"","",0,0,0,"FORMATO INCORRECTO","FORMATO INCORRECTO","FORMATO INCORRECTO",{"$f":"IF(L3151=\"\",\"\",IF(ISERROR(edata(L3151)),\"FORMATO INCORRECTO\",\"FORMATO CORRECTO\"))","v":""},{"$f":"IF(U3151=\"\",\"\",IF(ISERROR(edata(U3151)),\"FORMATO INCORRECTO\",\"FORMATO CORRECTO\"))","v":""},{"$f":"IF(N3151=\"\",\"\",IF(ISERROR(edata(N3151)),\"FORMATO INCORRECTO\",\"FORMATO CORRECTO\"))","v":""}]
["1919-07-31","",null,null,null,null,null,null,"",null,null,null,null,null,null,null,null,"",null,null,null,null,null,null,null,null,"",null,"",null,null,"",null,null,null,null,null,0,0,0,0,0,{"$f":"IF(AO3154<>0,SUMIFS($AP$6:$AP$1001,$AN$6:$AN$1001,AN3154,$F$6:$F$1001,F3154,$AX$6:$AX$1001,AX3154),0)","v":0},0,{"$f":"IF(AO3154<>0,SUMIFS($AP$6:$AP$1001,$AR$6:$AR$1001,AR3154,$F$6:$F$1001,F3154,$AX$6:$AX$1001,AX3154),0)","v":0},0,0,0,{"$f":"IF(AU3154<>0,SUMIFS($AV$6:$AV$1001,$AT$6:$AT$1001,AT3154,$F$6:$F$1001,F3154,$AY$6:$AY$1001,AY3154),0)","v":0},1900,1900,0,0,0,0,0,0,0,0,0,"","",0,0,0,"FORMATO INCORRECTO","FORMATO INCORRECTO","FORMATO INCORRECTO",{"$f":"IF(L3154=\"\",\"\",IF(ISERROR(edata(L3154)),\"FORMATO INCORRECTO\",\"FORMATO CORRECTO\"))","v":""},{"$f":"IF(U3154=\"\",\"\",IF(ISERROR(edata(U3154)),\"FORMATO INCORRECTO\",\"FORMATO CORRECTO\"))","v":""},{"$f":"IF(N3154=\"\",\"\",IF(ISERROR(edata(N3154)),\"FORMATO INCORRECTO\",\"FORMATO CORRECTO\"))","v":""}]
["1919-08-07","",null,null,null,null,null,null,"",null,null,null,null,null,null,null,null,"",null,null,null,null,null,null,null,null,"",null,"",null,null,"",null,null,null,null,null,0,0,0,0,0,{"$f":"IF(AO3161<>0,SUMIFS($AP$6:$AP$1001,$AN$6:$AN$1001,AN3161,$F$6:$F$1001,F3161,$AX$6:$AX$1001,AX3161),0)","v":0},0,{"$f":"IF(AO3161<>0,SUMIFS($AP$6:$AP$1001,$AR$6:$AR$1001,AR3161,$F$6:$F$1001,F3161,$AX$6:$AX$1001,AX3161),0)","v":0},0,0,0,{"$f":"IF(AU3161<>0,SUMIFS($AV$6:$AV$1001,$AT$6:$AT$1001,AT3161,$F$6:$F$1001,F3161,$AY$6:$AY$1001,AY3161),0)","v":0},1900,1900,0,0,0,0,0,0,0,0,0,"","",0,0,0,"FORMATO INCORRECTO","FORMATO INCORRECTO","FORMATO INCORRECTO",{"$f":"IF(L3161=\"\",\"\",IF(ISERROR(edata(L3161)),\"FORMATO INCORRECTO\",\"FORMATO CORRECTO\"))","v":""},{"$f":"IF(U3161=\"\",\"\",IF(ISERROR(edata(U3161)),\"FORMATO INCORRECTO\",\"FORMATO CORRECTO\"))","v":""},{"$f":"IF(N3161=\"\",\"\",IF(ISERROR(edata(N3161)),\"FORMATO INCORRECTO\",\"FORMATO CORRECTO\"))","v":""}]
["1919-08-19","",null,null,null,null,null,null,"",null,null,null,null,null,null,null,null,"",null,null,null,null,null,null,null,null,"",null,"",null,null,"",null,null,null,null,null,0,0,0,0,0,{"$f":"IF(AO3173<>0,SUMIFS($AP$6:$AP$1001,$AN$6:$AN$1001,AN3173,$F$6:$F$1001,F3173,$AX$6:$AX$1001,AX3173),0)","v":0},0,{"$f":"IF(AO3173<>0,SUMIFS($AP$6:$AP$1001,$AR$6:$AR$1001,AR3173,$F$6:$F$1001,F3173,$AX$6:$AX$1001,AX3173),0)","v":0},0,0,0,{"$f":"IF(AU3173<>0,SUMIFS($AV$6:$AV$1001,$AT$6:$AT$1001,AT3173,$F$6:$F$1001,F3173,$AY$6:$AY$1001,AY3173),0)","v":0},1900,1900,0,0,0,0,0,0,0,0,0,"","",0,0,0,"FORMATO INCORRECTO","FORMATO INCORRECTO","FORMATO INCORRECTO",{"$f":"IF(L3173=\"\",\"\",IF(ISERROR(edata(L3173)),\"FORMATO INCORRECTO\",\"FORMATO CORRECTO\"))","v":""},{"$f":"IF(U3173=\"\",\"\",IF(ISERROR(edata(U3173)),\"FORMATO INCORRECTO\",\"FORMATO CORRECTO\"))","v":""},{"$f":"IF(N3173=\"\",\"\",IF(ISERROR(edata(N3173)),\"FORMATO INCORRECTO\",\"FORMATO CORRECTO\"))","v":""}]
["1919-08-28","",null,null,null,null,null,null,"",null,null,null,null,null,null,null,null,"",null,null,null,null,null,null,null,null,"",null,"",null,null,"",null,null,null,null,null,0,0,0,0,0,{"$f":"IF(AO3182<>0,SUMIFS($AP$6:$AP$1001,$AN$6:$AN$1001,AN3182,$F$6:$F$1001,F3182,$AX$6:$AX$1001,AX3182),0)","v":0},0,{"$f":"IF(AO3182<>0,SUMIFS($AP$6:$AP$1001,$AR$6:$AR$1001,AR3182,$F$6:$F$1001,F3182,$AX$6:$AX$1001,AX3182),0)","v":0},0,0,0,{"$f":"IF(AU3182<>0,SUMIFS($AV$6:$AV$1001,$AT$6:$AT$1001,AT3182,$F$6:$F$1001,F3182,$AY$6:$AY$1001,AY3182),0)","v":0},1900,1900,0,0,0,0,0,0,0,0,0,"","",0,0,0,"FORMATO INCORRECTO","FORMATO INCORRECTO","FORMATO INCORRECTO",{"$f":"IF(L3182=\"\",\"\",IF(ISERROR(edata(L3182)),\"FORMATO INCORRECTO\",\"FORMATO CORRECTO\"))","v":""},{"$f":"IF(U3182=\"\",\"\",IF(ISERROR(edata(U3182)),\"FORMATO INCORRECTO\",\"FORMATO CORRECTO\"))","v":""},{"$f":"IF(N3182=\"\",\"\",IF(ISERROR(edata(N3182)),\"FORMATO INCORRECTO\",\"FORMATO CORRECTO\"))","v":""}]
["1919-09-06","",null,null,null,null,null,null,"",null,null,null,null,null,null,null,null,"",null,null,null,null,null,null,null,null,"",null,"",null,null,"",null,null,null,null,null,0,0,0,0,0,{"$f":"IF(AO3191<>0,SUMIFS($AP$6:$AP$1001,$AN$6:$AN$1001,AN3191,$F$6:$F$1001,F3191,$AX$6:$AX$1001,AX3191),0)","v":0},0,{"$f":"IF(AO3191<>0,SUMIFS($AP$6:$AP$1001,$AR$6:$AR$1001,AR3191,$F$6:$F$1001,F3191,$AX$6:$AX$1001,AX3191),0)","v":0},0,0,0,{"$f":"IF(AU3191<>0,SUMIFS($AV$6:$AV$1001,$AT$6:$AT$1001,AT3191,$F$6:$F$1001,F3191,$AY$6:$AY$1001,AY3191),0)","v":0},1900,1900,0,0,0,0,0,0,0,0,0,"","",0,0,0,"FORMATO INCORRECTO","FORMATO INCORRECTO","FORMATO INCORRECTO",{"$f":"IF(L3191=\"\",\"\",IF(ISERROR(edata(L3191)),\"FORMATO INCORRECTO\",\"FORMATO CORRECTO\"))","v":""},{"$f":"IF(U3191=\"\",\"\",IF(ISERROR(edata(U3191)),\"FORMATO INCORRECTO\",\"FORMATO CORRECTO\"))","v":""},{"$f":"IF(N3191=\"\",\"\",IF(ISERROR(edata(N3191)),\"FORMATO INCORRECTO\",\"FORMATO CORRECTO\"))","v":""}]
["1919-09-18","",null,null,null,null,null,null,"",null,null,null,null,null,null,null,null,"",null,null,null,null,null,null,null,null,"",null,"",null,null,"",null,null,null,null,null,0,0,0,0,0,{"$f":"IF(AO3203<>0,SUMIFS($AP$6:$AP$1001,$AN$6:$AN$1001,AN3203,$F$6:$F$1001,F3203,$AX$6:$AX$1001,AX3203),0)","v":0},0,{"$f":"IF(AO3203<>0,SUMIFS($AP$6:$AP$1001,$AR$6:$AR$1001,AR3203,$F$6:$F$1001,F3203,$AX$6:$AX$1001,AX3203),0)","v":0},0,0,0,{"$f":"IF(AU3203<>0,SUMIFS($AV$6:$AV$1001,$AT$6:$AT$1001,AT3203,$F$6:$F$1001,F3203,$AY$6:$AY$1001,AY3203),0)","v":0},1900,1900,0,0,0,0,0,0,0,0,0,"","",0,0,0,"FORMATO INCORRECTO","FORMATO INCORRECTO","FORMATO INCORRECTO",{"$f":"IF(L3203=\"\",\"\",IF(ISERROR(edata(L3203)),\"FORMATO INCORRECTO\",\"FORMATO CORRECTO\"))","v":""},{"$f":"IF(U3203=\"\",\"\",IF(ISERROR(edata(U3203)),\"FORMATO INCORRECTO\",\"FORMATO CORRECTO\"))","v":""},{"$f":"IF(N3203=\"\",\"\",IF(ISERROR(edata(N3203)),\"FORMATO INCORRECTO\",\"FORMATO CORRECTO\"))","v":""}]
["1919-09-25","",null,null,null,null,null,null,"",null,null,null,null,null,null,null,null,"",null,null,null,null,null,null,null,null,"",null,"",null,null,"",null,null,null,null,null,0,0,0,0,0,{"$f":"IF(AO3210<>0,SUMIFS($AP$6:$AP$1001,$AN$6:$AN$1001,AN3210,$F$6:$F$1001,F3210,$AX$6:$AX$1001,AX3210),0)","v":0},0,{"$f":"IF(AO3210<>0,SUMIFS($AP$6:$AP$1001,$AR$6:$AR$1001,AR3210,$F$6:$F$1001,F3210,$AX$6:$AX$1001,AX3210),0)","v":0},0,0,0,{"$f":"IF(AU3210<>0,SUMIFS($AV$6:$AV$1001,$AT$6:$AT$1001,AT3210,$F$6:$F$1001,F3210,$AY$6:$AY$1001,AY3210),0)","v":0},1900,1900,0,0,0,0,0,0,0,0,0,"","",0,0,0,"FORMATO INCORRECTO","FORMATO INCORRECTO","FORMATO INCORRECTO",{"$f":"IF(L3210=\"\",\"\",IF(ISERROR(edata(L3210)),\"FORMATO INCORRECTO\",\"FORMATO CORRECTO\"))","v":""},{"$f":"IF(U3210=\"\",\"\",IF(ISERROR(edata(U3210)),\"FORMATO INCORRECTO\",\"FORMATO CORRECTO\"))","v":""},{"$f":"IF(N3210=\"\",\"\",IF(ISERROR(edata(N3210)),\"FORMATO INCORRECTO\",\"FORMATO CORRECTO\"))","v":""}]
["1919-10-06","",null,null,null,null,null,null,"",null,null,null,null,null,null,null,null,"",null,null,null,null,null,null,null,null,"",null,"",null,null,"",null,null,null,null,null,0,0,0,0,0,{"$f":"IF(AO3221<>0,SUMIFS($AP$6:$AP$1001,$AN$6:$AN$1001,AN3221,$F$6:$F$1001,F3221,$AX$6:$AX$1001,AX3221),0)","v":0},0,{"$f":"IF(AO3221<>0,SUMIFS($AP$6:$AP$1001,$AR$6:$AR$1001,AR3221,$F$6:$F$1001,F3221,$AX$6:$AX$1001,AX3221),0)","v":0},0,0,0,{"$f":"IF(AU3221<>0,SUMIFS($AV$6:$AV$1001,$AT$6:$AT$1001,AT3221,$F$6:$F$1001,F3221,$AY$6:$AY$1001,AY3221),0)","v":0},1900,1900,0,0,0,0,0,0,0,0,0,"","",0,0,0,"FORMATO INCORRECTO","FORMATO INCORRECTO","FORMATO INCORRECTO",{"$f":"IF(L3221=\"\",\"\",IF(ISERROR(edata(L3221)),\"FORMATO INCORRECTO\",\"FORMATO CORRECTO\"))","v":""},{"$f":"IF(U3221=\"\",\"\",IF(ISERROR(edata(U3221)),\"FORMATO INCORRECTO\",\"FORMATO CORRECTO\"))","v":""},{"$f":"IF(N3221=\"\",\"\",IF(ISERROR(edata(N3221)),\"FORMATO INCORRECTO\",\"FORMATO CORRECTO\"))","v":""}]
["1919-10-09","",null,null,null,null,null,null,"",null,null,null,null,null,null,null,null,"",null,null,null,null,null,null,null,null,"",null,"",null,null,"",null,null,null,null,null,0,0,0,0,0,{"$f":"IF(AO3224<>0,SUMIFS($AP$6:$AP$1001,$AN$6:$AN$1001,AN3224,$F$6:$F$1001,F3224,$AX$6:$AX$1001,AX3224),0)","v":0},0,{"$f":"IF(AO3224<>0,SUMIFS($AP$6:$AP$1001,$AR$6:$AR$1001,AR3224,$F$6:$F$1001,F3224,$AX$6:$AX$1001,AX3224),0)","v":0},0,0,0,{"$f":"IF(AU3224<>0,SUMIFS($AV$6:$AV$1001,$AT$6:$AT$1001,AT3224,$F$6:$F$1001,F3224,$AY$6:$AY$1001,AY3224),0)","v":0},1900,1900,0,0,0,0,0,0,0,0,0,"","",0,0,0,"FORMATO INCORRECTO","FORMATO INCORRECTO","FORMATO INCORRECTO",{"$f":"IF(L3224=\"\",\"\",IF(ISERROR(edata(L3224)),\"FORMATO INCORRECTO\",\"FORMATO CORRECTO\"))","v":""},{"$f":"IF(U3224=\"\",\"\",IF(ISERROR(edata(U3224)),\"FORMATO INCORRECTO\",\"FORMATO CORRECTO\"))","v":""},{"$f":"IF(N3224=\"\",\"\",IF(ISERROR(edata(N3224)),\"FORMATO INCORRECTO\",\"FORMATO CORRECTO\"))","v":""}]
["1919-10-16","",null,null,null,null,null,null,"",null,null,null,null,null,null,null,null,"",null,null,null,null,null,null,null,null,"",null,"",null,null,"",null,null,null,null,null,0,0,0,0,0,{"$f":"IF(AO3231<>0,SUMIFS($AP$6:$AP$1001,$AN$6:$AN$1001,AN3231,$F$6:$F$1001,F3231,$AX$6:$AX$1001,AX3231),0)","v":0},0,{"$f":"IF(AO3231<>0,SUMIFS($AP$6:$AP$1001,$AR$6:$AR$1001,AR3231,$F$6:$F$1001,F3231,$AX$6:$AX$1001,AX3231),0)","v":0},0,0,0,{"$f":"IF(AU3231<>0,SUMIFS($AV$6:$AV$1001,$AT$6:$AT$1001,AT3231,$F$6:$F$1001,F3231,$AY$6:$AY$1001,AY3231),0)","v":0},1900,1900,0,0,0,0,0,0,0,0,0,"","",0,0,0,"FORMATO INCORRECTO","FORMATO INCORRECTO","FORMATO INCORRECTO",{"$f":"IF(L3231=\"\",\"\",IF(ISERROR(edata(L3231)),\"FORMATO INCORRECTO\",\"FORMATO CORRECTO\"))","v":""},{"$f":"IF(U3231=\"\",\"\",IF(ISERROR(edata(U3231)),\"FORMATO INCORRECTO\",\"FORMATO CORRECTO\"))","v":""},{"$f":"IF(N3231=\"\",\"\",IF(ISERROR(edata(N3231)),\"FORMATO INCORRECTO\",\"FORMATO CORRECTO\"))","v":""}]
["1919-10-28","",null,null,null,null,null,null,"",null,null,null,null,null,null,null,null,"",null,null,null,null,null,null,null,null,"",null,"",null,null,"",null,null,null,null,null,0,0,0,0,0,{"$f":"IF(AO3243<>0,SUMIFS($AP$6:$AP$1001,$AN$6:$AN$1001,AN3243,$F$6:$F$1001,F3243,$AX$6:$AX$1001,AX3243),0)","v":0},0,{"$f":"IF(AO3243<>0,SUMIFS($AP$6:$AP$1001,$AR$6:$AR$1001,AR3243,$F$6:$F$1001,F3243,$AX$6:$AX$1001,AX3243),0)","v":0},0,0,0,{"$f":"IF(AU3243<>0,SUMIFS($AV$6:$AV$1001,$AT$6:$AT$1001,AT3243,$F$6:$F$1001,F3243,$AY$6:$AY$1001,AY3243),0)","v":0},1900,1900,0,0,0,0,0,0,0,0,0,"","",0,0,0,"FORMATO INCORRECTO","FORMATO INCORRECTO","FORMATO INCORRECTO",{"$f":"IF(L3243=\"\",\"\",IF(ISERROR(edata(L3243)),\"FORMATO INCORRECTO\",\"FORMATO CORRECTO\"))","v":""},{"$f":"IF(U3243=\"\",\"\",IF(ISERROR(edata(U3243)),\"FORMATO INCORRECTO\",\"FORMATO CORRECTO\"))","v":""},{"$f":"IF(N3243=\"\",\"\",IF(ISERROR(edata(N3243)),\"FORMATO INCORRECTO\",\"FORMATO CORRECTO\"))","v":""}]
["1919-11-06","",null,null,null,null,null,null,"",null,null,null,null,null,null,null,null,"",null,null,null,null,null,null,null,null,"",null,"",null,null,"",null,null,null,null,null,0,0,0,0,0,{"$f":"IF(AO3252<>0,SUMIFS($AP$6:$AP$1001,$AN$6:$AN$1001,AN3252,$F$6:$F$1001,F3252,$AX$6:$AX$1001,AX3252),0)","v":0},0,{"$f":"IF(AO3252<>0,SUMIFS($AP$6:$AP$1001,$AR$6:$AR$1001,AR3252,$F$6:$F$1001,F3252,$AX$6:$AX$1001,AX3252),0)","v":0},0,0,0,{"$f":"IF(AU3252<>0,SUMIFS($AV$6:$AV$1001,$AT$6:$AT$1001,AT3252,$F$6:$F$1001,F3252,$AY$6:$AY$1001,AY3252),0)","v":0},1900,1900,0,0,0,0,0,0,0,0,0,"","",0,0,0,"FORMATO INCORRECTO","FORMATO INCORRECTO","FORMATO INCORRECTO",{"$f":"IF(L3252=\"\",\"\",IF(ISERROR(edata(L3252)),\"FORMATO INCORRECTO\",\"FORMATO CORRECTO\"))","v":""},{"$f":"IF(U3252=\"\",\"\",IF(ISERROR(edata(U3252)),\"FORMATO INCORRECTO\",\"FORMATO CORRECTO\"))","v":""},{"$f":"IF(N3252=\"\",\"\",IF(ISERROR(edata(N3252)),\"FORMATO INCORRECTO\",\"FORMATO CORRECTO\"))","v":""}]
["1919-11-15","",null,null,null,null,null,null,"",null,null,null,null,null,null,null,null,"",null,null,null,null,null,null,null,null,"",null,"",null,null,"",null,null,null,null,null,0,0,0,0,0,{"$f":"IF(AO3261<>0,SUMIFS($AP$6:$AP$1001,$AN$6:$AN$1001,AN3261,$F$6:$F$1001,F3261,$AX$6:$AX$1001,AX3261),0)","v":0},0,{"$f":"IF(AO3261<>0,SUMIFS($AP$6:$AP$1001,$AR$6:$AR$1001,AR3261,$F$6:$F$1001,F3261,$AX$6:$AX$1001,AX3261),0)","v":0},0,0,0,{"$f":"IF(AU3261<>0,SUMIFS($AV$6:$AV$1001,$AT$6:$AT$1001,AT3261,$F$6:$F$1001,F3261,$AY$6:$AY$1001,AY3261),0)","v":0},1900,1900,0,0,0,0,0,0,0,0,0,"","",0,0,0,"FORMATO INCORRECTO","FORMATO INCORRECTO","FORMATO INCORRECTO",{"$f":"IF(L3261=\"\",\"\",IF(ISERROR(edata(L3261)),\"FORMATO INCORRECTO\",\"FORMATO CORRECTO\"))","v":""},{"$f":"IF(U3261=\"\",\"\",IF(ISERROR(edata(U3261)),\"FORMATO INCORRECTO\",\"FORMATO CORRECTO\"))","v":""},{"$f":"IF(N3261=\"\",\"\",IF(ISERROR(edata(N3261)),\"FORMATO INCORRECTO\",\"FORMATO CORRECTO\"))","v":""}]
["1919-11-27","",null,null,null,null,null,null,"",null,null,null,null,null,null,null,null,"",null,null,null,null,null,null,null,null,"",null,"",null,null,"",null,null,null,null,null,0,0,0,0,0,{"$f":"IF(AO3273<>0,SUMIFS($AP$6:$AP$1001,$AN$6:$AN$1001,AN3273,$F$6:$F$1001,F3273,$AX$6:$AX$1001,AX3273),0)","v":0},0,{"$f":"IF(AO3273<>0,SUMIFS($AP$6:$AP$1001,$AR$6:$AR$1001,AR3273,$F$6:$F$1001,F3273,$AX$6:$AX$1001,AX3273),0)","v":0},0,0,0,{"$f":"IF(AU3273<>0,SUMIFS($AV$6:$AV$1001,$AT$6:$AT$1001,AT3273,$F$6:$F$1001,F3273,$AY$6:$AY$1001,AY3273),0)","v":0},1900,1900,0,0,0,0,0,0,0,0,0,"","",0,0,0,"FORMATO INCORRECTO","FORMATO INCORRECTO","FORMATO INCORRECTO",{"$f":"IF(L3273=\"\",\"\",IF(ISERROR(edata(L3273)),\"FORMATO INCORRECTO\",\"FORMATO CORRECTO\"))","v":""},{"$f":"IF(U3273=\"\",\"\",IF(ISERROR(edata(U3273)),\"FORMATO INCORRECTO\",\"FORMATO CORRECTO\"))","v":""},{"$f":"IF(N3273=\"\",\"\",IF(ISERROR(edata(N3273)),\"FORMATO INCORRECTO\",\"FORMATO CORRECTO\"))","v":""}]
["1919-12-04","",null,null,null,null,null,null,"",null,null,null,null,null,null,null,null,"",null,null,null,null,null,null,null,null,"",null,"",null,null,"",null,null,null,null,null,0,0,0,0,0,{"$f":"IF(AO3280<>0,SUMIFS($AP$6:$AP$1001,$AN$6:$AN$1001,AN3280,$F$6:$F$1001,F3280,$AX$6:$AX$1001,AX3280),0)","v":0},0,{"$f":"IF(AO3280<>0,SUMIFS($AP$6:$AP$1001,$AR$6:$AR$1001,AR3280,$F$6:$F$1001,F3280,$AX$6:$AX$1001,AX3280),0)","v":0},0,0,0,{"$f":"IF(AU3280<>0,SUMIFS($AV$6:$AV$1001,$AT$6:$AT$1001,AT3280,$F$6:$F$1001,F3280,$AY$6:$AY$1001,AY3280),0)","v":0},1900,1900,0,0,0,0,0,0,0,0,0,"","",0,0,0,"FORMATO INCORRECTO","FORMATO INCORRECTO","FORMATO INCORRECTO",{"$f":"IF(L3280=\"\",\"\",IF(ISERROR(edata(L3280)),\"FORMATO INCORRECTO\",\"FORMATO CORRECTO\"))","v":""},{"$f":"IF(U3280=\"\",\"\",IF(ISERROR(edata(U3280)),\"FORMATO INCORRECTO\",\"FORMATO CORRECTO\"))","v":""},{"$f":"IF(N3280=\"\",\"\",IF(ISERROR(edata(N3280)),\"FORMATO INCORRECTO\",\"FORMATO CORRECTO\"))","v":""}]
["1919-12-15","",null,null,null,null,null,null,"",null,null,null,null,null,null,null,null,"",null,null,null,null,null,null,null,null,"",null,"",null,null,"",null,null,null,null,null,0,0,0,0,0,{"$f":"IF(AO3291<>0,SUMIFS($AP$6:$AP$1001,$AN$6:$AN$1001,AN3291,$F$6:$F$1001,F3291,$AX$6:$AX$1001,AX3291),0)","v":0},0,{"$f":"IF(AO3291<>0,SUMIFS($AP$6:$AP$1001,$AR$6:$AR$1001,AR3291,$F$6:$F$1001,F3291,$AX$6:$AX$1001,AX3291),0)","v":0},0,0,0,{"$f":"IF(AU3291<>0,SUMIFS($AV$6:$AV$1001,$AT$6:$AT$1001,AT3291,$F$6:$F$1001,F3291,$AY$6:$AY$1001,AY3291),0)","v":0},1900,1900,0,0,0,0,0,0,0,0,0,"","",0,0,0,"FORMATO INCORRECTO","FORMATO INCORRECTO","FORMATO INCORRECTO",{"$f":"IF(L3291=\"\",\"\",IF(ISERROR(edata(L3291)),\"FORMATO INCORRECTO\",\"FORMATO CORRECTO\"))","v":""},{"$f":"IF(U3291=\"\",\"\",IF(ISERROR(edata(U3291)),\"FORMATO INCORRECTO\",\"FORMATO CORRECTO\"))","v":""},{"$f":"IF(N3291=\"\",\"\",IF(ISERROR(edata(N3291)),\"FORMATO INCORRECTO\",\"FORMATO CORRECTO\"))","v":""}]
["1919-12-18","",null,null,null,null,null,null,"",null,null,null,null,null,null,null,null,"",null,null,null,null,null,null,null,null,"",null,"",null,null,"",null,null,null,null,null,0,0,0,0,0,{"$f":"IF(AO3294<>0,SUMIFS($AP$6:$AP$1001,$AN$6:$AN$1001,AN3294,$F$6:$F$1001,F3294,$AX$6:$AX$1001,AX3294),0)","v":0},0,{"$f":"IF(AO3294<>0,SUMIFS($AP$6:$AP$1001,$AR$6:$AR$1001,AR3294,$F$6:$F$1001,F3294,$AX$6:$AX$1001,AX3294),0)","v":0},0,0,0,{"$f":"IF(AU3294<>0,SUMIFS($AV$6:$AV$1001,$AT$6:$AT$1001,AT3294,$F$6:$F$1001,F3294,$AY$6:$AY$1001,AY3294),0)","v":0},1900,1900,0,0,0,0,0,0,0,0,0,"","",0,0,0,"FORMATO INCORRECTO","FORMATO INCORRECTO","FORMATO INCORRECTO",{"$f":"IF(L3294=\"\",\"\",IF(ISERROR(edata(L3294)),\"FORMATO INCORRECTO\",\"FORMATO CORRECTO\"))","v":""},{"$f":"IF(U3294=\"\",\"\",IF(ISERROR(edata(U3294)),\"FORMATO INCORRECTO\",\"FORMATO CORRECTO\"))","v":""},{"$f":"IF(N3294=\"\",\"\",IF(ISERROR(edata(N3294)),\"FORMATO INCORRECTO\",\"FORMATO CORRECTO\"))","v":""}]
["1919-12-25","",null,null,null,null,null,null,"",null,null,null,null,null,null,null,null,"",null,null,null,null,null,null,null,null,"",null,"",null,null,"",null,null,null,null,null,0,0,0,0,0,{"$f":"IF(AO3301<>0,SUMIFS($AP$6:$AP$1001,$AN$6:$AN$1001,AN3301,$F$6:$F$1001,F3301,$AX$6:$AX$1001,AX3301),0)","v":0},0,{"$f":"IF(AO3301<>0,SUMIFS($AP$6:$AP$1001,$AR$6:$AR$1001,AR3301,$F$6:$F$1001,F3301,$AX$6:$AX$1001,AX3301),0)","v":0},0,0,0,{"$f":"IF(AU3301<>0,SUMIFS($AV$6:$AV$1001,$AT$6:$AT$1001,AT3301,$F$6:$F$1001,F3301,$AY$6:$AY$1001,AY3301),0)","v":0},1900,1900,0,0,0,0,0,0,0,0,0,"","",0,0,0,"FORMATO INCORRECTO","FORMATO INCORRECTO","FORMATO INCORRECTO",{"$f":"IF(L3301=\"\",\"\",IF(ISERROR(edata(L3301)),\"FORMATO INCORRECTO\",\"FORMATO CORRECTO\"))","v":""},{"$f":"IF(U3301=\"\",\"\",IF(ISERROR(edata(U3301)),\"FORMATO INCORRECTO\",\"FORMATO CORRECTO\"))","v":""},{"$f":"IF(N3301=\"\",\"\",IF(ISERROR(edata(N3301)),\"FORMATO INCORRECTO\",\"FORMATO CORRECTO\"))","v":""}]
["1920-01-06","",null,null,null,null,null,null,"",null,null,null,null,null,null,null,null,"",null,null,null,null,null,null,null,null,"",null,"",null,null,"",null,null,null,null,null,0,0,0,0,0,{"$f":"IF(AO3313<>0,SUMIFS($AP$6:$AP$1001,$AN$6:$AN$1001,AN3313,$F$6:$F$1001,F3313,$AX$6:$AX$1001,AX3313),0)","v":0},0,{"$f":"IF(AO3313<>0,SUMIFS($AP$6:$AP$1001,$AR$6:$AR$1001,AR3313,$F$6:$F$1001,F3313,$AX$6:$AX$1001,AX3313),0)","v":0},0,0,0,{"$f":"IF(AU3313<>0,SUMIFS($AV$6:$AV$1001,$AT$6:$AT$1001,AT3313,$F$6:$F$1001,F3313,$AY$6:$AY$1001,AY3313),0)","v":0},1900,1900,0,0,0,0,0,0,0,0,0,"","",0,0,0,"FORMATO INCORRECTO","FORMATO INCORRECTO","FORMATO INCORRECTO",{"$f":"IF(L3313=\"\",\"\",IF(ISERROR(edata(L3313)),\"FORMATO INCORRECTO\",\"FORMATO CORRECTO\"))","v":""},{"$f":"IF(U3313=\"\",\"\",IF(ISERROR(edata(U3313)),\"FORMATO INCORRECTO\",\"FORMATO CORRECTO\"))","v":""},{"$f":"IF(N3313=\"\",\"\",IF(ISERROR(edata(N3313)),\"FORMATO INCORRECTO\",\"FORMATO CORRECTO\"))","v":""}]
["1920-01-15","",null,null,null,null,null,null,"",null,null,null,null,null,null,null,null,"",null,null,null,null,null,null,null,null,"",null,"",null,null,"",null,null,null,null,null,0,0,0,0,0,{"$f":"IF(AO3322<>0,SUMIFS($AP$6:$AP$1001,$AN$6:$AN$1001,AN3322,$F$6:$F$1001,F3322,$AX$6:$AX$1001,AX3322),0)","v":0},0,{"$f":"IF(AO3322<>0,SUMIFS($AP$6:$AP$1001,$AR$6:$AR$1001,AR3322,$F$6:$F$1001,F3322,$AX$6:$AX$1001,AX3322),0)","v":0},0,0,0,{"$f":"IF(AU3322<>0,SUMIFS($AV$6:$AV$1001,$AT$6:$AT$1001,AT3322,$F$6:$F$1001,F3322,$AY$6:$AY$1001,AY3322),0)","v":0},1900,1900,0,0,0,0,0,0,0,0,0,"","",0,0,0,"FORMATO INCORRECTO","FORMATO INCORRECTO","FORMATO INCORRECTO",{"$f":"IF(L3322=\"\",\"\",IF(ISERROR(edata(L3322)),\"FORMATO INCORRECTO\",\"FORMATO CORRECTO\"))","v":""},{"$f":"IF(U3322=\"\",\"\",IF(ISERROR(edata(U3322)),\"FORMATO INCORRECTO\",\"FORMATO CORRECTO\"))","v":""},{"$f":"IF(N3322=\"\",\"\",IF(ISERROR(edata(N3322)),\"FORMATO INCORRECTO\",\"FORMATO CORRECTO\"))","v":""}]
["1920-01-24","",null,null,null,null,null,null,"",null,null,null,null,null,null,null,null,"",null,null,null,null,null,null,null,null,"",null,"",null,null,"",null,null,null,null,null,0,0,0,0,0,{"$f":"IF(AO3331<>0,SUMIFS($AP$6:$AP$1001,$AN$6:$AN$1001,AN3331,$F$6:$F$1001,F3331,$AX$6:$AX$1001,AX3331),0)","v":0},0,{"$f":"IF(AO3331<>0,SUMIFS($AP$6:$AP$1001,$AR$6:$AR$1001,AR3331,$F$6:$F$1001,F3331,$AX$6:$AX$1001,AX3331),0)","v":0},0,0,0,{"$f":"IF(AU3331<>0,SUMIFS($AV$6:$AV$1001,$AT$6:$AT$1001,AT3331,$F$6:$F$1001,F3331,$AY$6:$AY$1001,AY3331),0)","v":0},1900,1900,0,0,0,0,0,0,0,0,0,"","",0,0,0,"FORMATO INCORRECTO","FORMATO INCORRECTO","FORMATO INCORRECTO",{"$f":"IF(L3331=\"\",\"\",IF(ISERROR(edata(L3331)),\"FORMATO INCORRECTO\",\"FORMATO CORRECTO\"))","v":""},{"$f":"IF(U3331=\"\",\"\",IF(ISERROR(edata(U3331)),\"FORMATO INCORRECTO\",\"FORMATO CORRECTO\"))","v":""},{"$f":"IF(N3331=\"\",\"\",IF(ISERROR(edata(N3331)),\"FORMATO INCORRECTO\",\"FORMATO CORRECTO\"))","v":""}]
["1920-02-05","",null,null,null,null,null,null,"",null,null,null,null,null,null,null,null,"",null,null,null,null,null,null,null,null,"",null,"",null,null,"",null,null,null,null,null,0,0,0,0,0,{"$f":"IF(AO3343<>0,SUMIFS($AP$6:$AP$1001,$AN$6:$AN$1001,AN3343,$F$6:$F$1001,F3343,$AX$6:$AX$1001,AX3343),0)","v":0},0,{"$f":"IF(AO3343<>0,SUMIFS($AP$6:$AP$1001,$AR$6:$AR$1001,AR3343,$F$6:$F$1001,F3343,$AX$6:$AX$1001,AX3343),0)","v":0},0,0,0,{"$f":"IF(AU3343<>0,SUMIFS($AV$6:$AV$1001,$AT$6:$AT$1001,AT3343,$F$6:$F$1001,F3343,$AY$6:$AY$1001,AY3343),0)","v":0},1900,1900,0,0,0,0,0,0,0,0,0,"","",0,0,0,"FORMATO INCORRECTO","FORMATO INCORRECTO","FORMATO INCORRECTO",{"$f":"IF(L3343=\"\",\"\",IF(ISERROR(edata(L3343)),\"FORMATO INCORRECTO\",\"FORMATO CORRECTO\"))","v":""},{"$f":"IF(U3343=\"\",\"\",IF(ISERROR(edata(U3343)),\"FORMATO INCORRECTO\",\"FORMATO CORRECTO\"))","v":""},{"$f":"IF(N3343=\"\",\"\",IF(ISERROR(edata(N3343)),\"FORMATO INCORRECTO\",\"FORMATO CORRECTO\"))","v":""}]
["1920-02-12","",null,null,null,null,null,null,"",null,null,null,null,null,null,null,null,"",null,null,null,null,null,null,null,null,"",null,"",null,null,"",null,null,null,null,null,0,0,0,0,0,{"$f":"IF(AO3350<>0,SUMIFS($AP$6:$AP$1001,$AN$6:$AN$1001,AN3350,$F$6:$F$1001,F3350,$AX$6:$AX$1001,AX3350),0)","v":0},0,{"$f":"IF(AO3350<>0,SUMIFS($AP$6:$AP$1001,$AR$6:$AR$1001,AR3350,$F$6:$F$1001,F3350,$AX$6:$AX$1001,AX3350),0)","v":0},0,0,0,{"$f":"IF(AU3350<>0,SUMIFS($AV$6:$AV$1001,$AT$6:$AT$1001,AT3350,$F$6:$F$1001,F3350,$AY$6:$AY$1001,AY3350),0)","v":0},1900,1900,0,0,0,0,0,0,0,0,0,"","",0,0,0,"FORMATO INCORRECTO","FORMATO INCORRECTO","FORMATO INCORRECTO",{"$f":"IF(L3350=\"\",\"\",IF(ISERROR(edata(L3350)),\"FORMATO INCORRECTO\",\"FORMATO CORRECTO\"))","v":""},{"$f":"IF(U3350=\"\",\"\",IF(ISERROR(edata(U3350)),\"FORMATO INCORRECTO\",\"FORMATO CORRECTO\"))","v":""},{"$f":"IF(N3350=\"\",\"\",IF(ISERROR(edata(N3350)),\"FORMATO INCORRECTO\",\"FORMATO CORRECTO\"))","v":""}]
["1920-02-23","",null,null,null,null,null,null,"",null,null,null,null,null,null,null,null,"",null,null,null,null,null,null,null,null,"",null,"",null,null,"",null,null,null,null,null,0,0,0,0,0,{"$f":"IF(AO3361<>0,SUMIFS($AP$6:$AP$1001,$AN$6:$AN$1001,AN3361,$F$6:$F$1001,F3361,$AX$6:$AX$1001,AX3361),0)","v":0},0,{"$f":"IF(AO3361<>0,SUMIFS($AP$6:$AP$1001,$AR$6:$AR$1001,AR3361,$F$6:$F$1001,F3361,$AX$6:$AX$1001,AX3361),0)","v":0},0,0,0,{"$f":"IF(AU3361<>0,SUMIFS($AV$6:$AV$1001,$AT$6:$AT$1001,AT3361,$F$6:$F$1001,F3361,$AY$6:$AY$1001,AY3361),0)","v":0},1900,1900,0,0,0,0,0,0,0,0,0,"","",0,0,0,"FORMATO INCORRECTO","FORMATO INCORRECTO","FORMATO INCORRECTO",{"$f":"IF(L3361=\"\",\"\",IF(ISERROR(edata(L3361)),\"FORMATO INCORRECTO\",\"FORMATO CORRECTO\"))","v":""},{"$f":"IF(U3361=\"\",\"\",IF(ISERROR(edata(U3361)),\"FORMATO INCORRECTO\",\"FORMATO CORRECTO\"))","v":""},{"$f":"IF(N3361=\"\",\"\",IF(ISERROR(edata(N3361)),\"FORMATO INCORRECTO\",\"FORMATO CORRECTO\"))","v":""}]
["1920-02-26","",null,null,null,null,null,null,"",null,null,null,null,null,null,null,null,"",null,null,null,null,null,null,null,null,"",null,"",null,null,"",null,null,null,null,null,0,0,0,0,0,{"$f":"IF(AO3364<>0,SUMIFS($AP$6:$AP$1001,$AN$6:$AN$1001,AN3364,$F$6:$F$1001,F3364,$AX$6:$AX$1001,AX3364),0)","v":0},0,{"$f":"IF(AO3364<>0,SUMIFS($AP$6:$AP$1001,$AR$6:$AR$1001,AR3364,$F$6:$F$1001,F3364,$AX$6:$AX$1001,AX3364),0)","v":0},0,0,0,{"$f":"IF(AU3364<>0,SUMIFS($AV$6:$AV$1001,$AT$6:$AT$1001,AT3364,$F$6:$F$1001,F3364,$AY$6:$AY$1001,AY3364),0)","v":0},1900,1900,0,0,0,0,0,0,0,0,0,"","",0,0,0,"FORMATO INCORRECTO","FORMATO INCORRECTO","FORMATO INCORRECTO",{"$f":"IF(L3364=\"\",\"\",IF(ISERROR(edata(L3364)),\"FORMATO INCORRECTO\",\"FORMATO CORRECTO\"))","v":""},{"$f":"IF(U3364=\"\",\"\",IF(ISERROR(edata(U3364)),\"FORMATO INCORRECTO\",\"FORMATO CORRECTO\"))","v":""},{"$f":"IF(N3364=\"\",\"\",IF(ISERROR(edata(N3364)),\"FORMATO INCORRECTO\",\"FORMATO CORRECTO\"))","v":""}]
["1920-03-04","",null,null,null,null,null,null,"",null,null,null,null,null,null,null,null,"",null,null,null,null,null,null,null,null,"",null,"",null,null,"",null,null,null,null,null,0,0,0,0,0,{"$f":"IF(AO3371<>0,SUMIFS($AP$6:$AP$1001,$AN$6:$AN$1001,AN3371,$F$6:$F$1001,F3371,$AX$6:$AX$1001,AX3371),0)","v":0},0,{"$f":"IF(AO3371<>0,SUMIFS($AP$6:$AP$1001,$AR$6:$AR$1001,AR3371,$F$6:$F$1001,F3371,$AX$6:$AX$1001,AX3371),0)","v":0},0,0,0,{"$f":"IF(AU3371<>0,SUMIFS($AV$6:$AV$1001,$AT$6:$AT$1001,AT3371,$F$6:$F$1001,F3371,$AY$6:$AY$1001,AY3371),0)","v":0},1900,1900,0,0,0,0,0,0,0,0,0,"","",0,0,0,"FORMATO INCORRECTO","FORMATO INCORRECTO","FORMATO INCORRECTO",{"$f":"IF(L3371=\"\",\"\",IF(ISERROR(edata(L3371)),\"FORMATO INCORRECTO\",\"FORMATO CORRECTO\"))","v":""},{"$f":"IF(U3371=\"\",\"\",IF(ISERROR(edata(U3371)),\"FORMATO INCORRECTO\",\"FORMATO CORRECTO\"))","v":""},{"$f":"IF(N3371=\"\",\"\",IF(ISERROR(edata(N3371)),\"FORMATO INCORRECTO\",\"FORMATO CORRECTO\"))","v":""}]
["1920-03-16","",null,null,null,null,null,null,"",null,null,null,null,null,null,null,null,"",null,null,null,null,null,null,null,null,"",null,"",null,null,"",null,null,null,null,null,0,0,0,0,0,{"$f":"IF(AO3383<>0,SUMIFS($AP$6:$AP$1001,$AN$6:$AN$1001,AN3383,$F$6:$F$1001,F3383,$AX$6:$AX$1001,AX3383),0)","v":0},0,{"$f":"IF(AO3383<>0,SUMIFS($AP$6:$AP$1001,$AR$6:$AR$1001,AR3383,$F$6:$F$1001,F3383,$AX$6:$AX$1001,AX3383),0)","v":0},0,0,0,{"$f":"IF(AU3383<>0,SUMIFS($AV$6:$AV$1001,$AT$6:$AT$1001,AT3383,$F$6:$F$1001,F3383,$AY$6:$AY$1001,AY3383),0)","v":0},1900,1900,0,0,0,0,0,0,0,0,0,"","",0,0,0,"FORMATO INCORRECTO","FORMATO INCORRECTO","FORMATO INCORRECTO",{"$f":"IF(L3383=\"\",\"\",IF(ISERROR(edata(L3383)),\"FORMATO INCORRECTO\",\"FORMATO CORRECTO\"))","v":""},{"$f":"IF(U3383=\"\",\"\",IF(ISERROR(edata(U3383)),\"FORMATO INCORRECTO\",\"FORMATO CORRECTO\"))","v":""},{"$f":"IF(N3383=\"\",\"\",IF(ISERROR(edata(N3383)),\"FORMATO INCORRECTO\",\"FORMATO CORRECTO\"))","v":""}]
["1920-03-25","",null,null,null,null,null,null,"",null,null,null,null,null,null,null,null,"",null,null,null,null,null,null,null,null,"",null,"",null,null,"",null,null,null,null,null,0,0,0,0,0,{"$f":"IF(AO3392<>0,SUMIFS($AP$6:$AP$1001,$AN$6:$AN$1001,AN3392,$F$6:$F$1001,F3392,$AX$6:$AX$1001,AX3392),0)","v":0},0,{"$f":"IF(AO3392<>0,SUMIFS($AP$6:$AP$1001,$AR$6:$AR$1001,AR3392,$F$6:$F$1001,F3392,$AX$6:$AX$1001,AX3392),0)","v":0},0,0,0,{"$f":"IF(AU3392<>0,SUMIFS($AV$6:$AV$1001,$AT$6:$AT$1001,AT3392,$F$6:$F$1001,F3392,$AY$6:$AY$1001,AY3392),0)","v":0},1900,1900,0,0,0,0,0,0,0,0,0,"","",0,0,0,"FORMATO INCORRECTO","FORMATO INCORRECTO","FORMATO INCORRECTO",{"$f":"IF(L3392=\"\",\"\",IF(ISERROR(edata(L3392)),\"FORMATO INCORRECTO\",\"FORMATO CORRECTO\"))","v":""},{"$f":"IF(U3392=\"\",\"\",IF(ISERROR(edata(U3392)),\"FORMATO INCORRECTO\",\"FORMATO CORRECTO\"))","v":""},{"$f":"IF(N3392=\"\",\"\",IF(ISERROR(edata(N3392)),\"FORMATO INCORRECTO\",\"FORMATO CORRECTO\"))","v":""}]
["1920-04-03","",null,null,null,null,null,null,"",null,null,null,null,null,null,null,null,"",null,null,null,null,null,null,null,null,"",null,"",null,null,"",null,null,null,null,null,0,0,0,0,0,{"$f":"IF(AO3401<>0,SUMIFS($AP$6:$AP$1001,$AN$6:$AN$1001,AN3401,$F$6:$F$1001,F3401,$AX$6:$AX$1001,AX3401),0)","v":0},0,{"$f":"IF(AO3401<>0,SUMIFS($AP$6:$AP$1001,$AR$6:$AR$1001,AR3401,$F$6:$F$1001,F3401,$AX$6:$AX$1001,AX3401),0)","v":0},0,0,0,{"$f":"IF(AU3401<>0,SUMIFS($AV$6:$AV$1001,$AT$6:$AT$1001,AT3401,$F$6:$F$1001,F3401,$AY$6:$AY$1001,AY3401),0)","v":0},1900,1900,0,0,0,0,0,0,0,0,0,"","",0,0,0,"FORMATO INCORRECTO","FORMATO INCORRECTO","FORMATO INCORRECTO",{"$f":"IF(L3401=\"\",\"\",IF(ISERROR(edata(L3401)),\"FORMATO INCORRECTO\",\"FORMATO CORRECTO\"))","v":""},{"$f":"IF(U3401=\"\",\"\",IF(ISERROR(edata(U3401)),\"FORMATO INCORRECTO\",\"FORMATO CORRECTO\"))","v":""},{"$f":"IF(N3401=\"\",\"\",IF(ISERROR(edata(N3401)),\"FORMATO INCORRECTO\",\"FORMATO CORRECTO\"))","v":""}]
["1920-04-15","",null,null,null,null,null,null,"",null,null,null,null,null,null,null,null,"",null,null,null,null,null,null,null,null,"",null,"",null,null,"",null,null,null,null,null,0,0,0,0,0,{"$f":"IF(AO3413<>0,SUMIFS($AP$6:$AP$1001,$AN$6:$AN$1001,AN3413,$F$6:$F$1001,F3413,$AX$6:$AX$1001,AX3413),0)","v":0},0,{"$f":"IF(AO3413<>0,SUMIFS($AP$6:$AP$1001,$AR$6:$AR$1001,AR3413,$F$6:$F$1001,F3413,$AX$6:$AX$1001,AX3413),0)","v":0},0,0,0,{"$f":"IF(AU3413<>0,SUMIFS($AV$6:$AV$1001,$AT$6:$AT$1001,AT3413,$F$6:$F$1001,F3413,$AY$6:$AY$1001,AY3413),0)","v":0},1900,1900,0,0,0,0,0,0,0,0,0,"","",0,0,0,"FORMATO INCORRECTO","FORMATO INCORRECTO","FORMATO INCORRECTO",{"$f":"IF(L3413=\"\",\"\",IF(ISERROR(edata(L3413)),\"FORMATO INCORRECTO\",\"FORMATO CORRECTO\"))","v":""},{"$f":"IF(U3413=\"\",\"\",IF(ISERROR(edata(U3413)),\"FORMATO INCORRECTO\",\"FORMATO CORRECTO\"))","v":""},{"$f":"IF(N3413=\"\",\"\",IF(ISERROR(edata(N3413)),\"FORMATO INCORRECTO\",\"FORMATO CORRECTO\"))","v":""}]
["1920-04-22","",null,null,null,null,null,null,"",null,null,null,null,null,null,null,null,"",null,null,null,null,null,null,null,null,"",null,"",null,null,"",null,null,null,null,null,0,0,0,0,0,{"$f":"IF(AO3420<>0,SUMIFS($AP$6:$AP$1001,$AN$6:$AN$1001,AN3420,$F$6:$F$1001,F3420,$AX$6:$AX$1001,AX3420),0)","v":0},0,{"$f":"IF(AO3420<>0,SUMIFS($AP$6:$AP$1001,$AR$6:$AR$1001,AR3420,$F$6:$F$1001,F3420,$AX$6:$AX$1001,AX3420),0)","v":0},0,0,0,{"$f":"IF(AU3420<>0,SUMIFS($AV$6:$AV$1001,$AT$6:$AT$1001,AT3420,$F$6:$F$1001,F3420,$AY$6:$AY$1001,AY3420),0)","v":0},1900,1900,0,0,0,0,0,0,0,0,0,"","",0,0,0,"FORMATO INCORRECTO","FORMATO INCORRECTO","FORMATO INCORRECTO",{"$f":"IF(L3420=\"\",\"\",IF(ISERROR(edata(L3420)),\"FORMATO INCORRECTO\",\"FORMATO CORRECTO\"))","v":""},{"$f":"IF(U3420=\"\",\"\",IF(ISERROR(edata(U3420)),\"FORMATO INCORRECTO\",\"FORMATO CORRECTO\"))","v":""},{"$f":"IF(N3420=\"\",\"\",IF(ISERROR(edata(N3420)),\"FORMATO INCORRECTO\",\"FORMATO CORRECTO\"))","v":""}]
["1920-05-03","",null,null,null,null,null,null,"",null,null,null,null,null,null,null,null,"",null,null,null,null,null,null,null,null,"",null,"",null,null,"",null,null,null,null,null,0,0,0,0,0,{"$f":"IF(AO3431<>0,SUMIFS($AP$6:$AP$1001,$AN$6:$AN$1001,AN3431,$F$6:$F$1001,F3431,$AX$6:$AX$1001,AX3431),0)","v":0},0,{"$f":"IF(AO3431<>0,SUMIFS($AP$6:$AP$1001,$AR$6:$AR$1001,AR3431,$F$6:$F$1001,F3431,$AX$6:$AX$1001,AX3431),0)","v":0},0,0,0,{"$f":"IF(AU3431<>0,SUMIFS($AV$6:$AV$1001,$AT$6:$AT$1001,AT3431,$F$6:$F$1001,F3431,$AY$6:$AY$1001,AY3431),0)","v":0},1900,1900,0,0,0,0,0,0,0,0,0,"","",0,0,0,"FORMATO INCORRECTO","FORMATO INCORRECTO","FORMATO INCORRECTO",{"$f":"IF(L3431=\"\",\"\",IF(ISERROR(edata(L3431)),\"FORMATO INCORRECTO\",\"FORMATO CORRECTO\"))","v":""},{"$f":"IF(U3431=\"\",\"\",IF(ISERROR(edata(U3431)),\"FORMATO INCORRECTO\",\"FORMATO CORRECTO\"))","v":""},{"$f":"IF(N3431=\"\",\"\",IF(ISERROR(edata(N3431)),\"FORMATO INCORRECTO\",\"FORMATO CORRECTO\"))","v":""}]
["1920-05-06",{"$f":"IF(G3434<>\"\",+B3433+1,\"\")","v":""},null,null,null,null,null,null,{"$f":"IF(ISERROR(VLOOKUP(J3434,tipoDocDesp,2,FALSE)),\"\",VLOOKUP(J3434,tipoDocDesp,2,FALSE))","v":""},null,null,null,null,null,null,null,null,{"$f":"IF(ISERROR(VLOOKUP(S3434,tipoDocQuit,2,FALSE)),\"\",VLOOKUP(S3434,tipoDocQuit,2,FALSE))","v":""},null,null,null,null,null,null,null,null,{"$f":"IF(ISERROR(VLOOKUP(AB3434,DESPESASGERAL,3,FALSE)),\"\",VLOOKUP(AB3434,DESPESASGERAL,3,FALSE))","v":""},null,{"$f":"IF(ISERROR(VLOOKUP(AD3434,RUBRICASGERAL,2,FALSE)),\"\",VLOOKUP(AD3434,RUBRICASGERAL,2,FALSE))","v":""},null,null,{"$f":"IF(ISERROR(VLOOKUP(AG3434,CONCELHOGERAL,2,FALSE)),\"\",VLOOKUP(AG3434,CONCELHOGERAL,2,FALSE))","v":""},null,null,null,null,null,{"$f":"+O3434+P3434+Q3434-N3434","v":0},{"$f":"+O3434+P3434+Q3434-W3434","v":0},{"$f":"+D3434","v":0},{"$f":"+M3434","v":0},{"$f":"+N3434","v":0},{"$f":"IF(AO3434<>0,SUMIFS($AP$6:$AP$1001,$AN$6:$AN$1001,AN3434,$F$6:$F$1001,F3434,$AX$6:$AX$1001,AX3434),0)","v":0},{"$f":"+K3434","v":0},{"$f":"IF(AO3434<>0,SUMIFS($AP$6:$AP$1001,$AR$6:$AR$1001,AR3434,$F$6:$F$1001,F3434,$AX$6:$AX$1001,AX3434),0)","v":0},{"$f":"+T3434","v":0},{"$f":"+V3434","v":0},{"$f":"+W3434","v":0},{"$f":"IF(AU3434<>0,SUMIFS($AV$6:$AV$1001,$AT$6:$AT$1001,AT3434,$F$6:$F$1001,F3434,$AY$6:$AY$1001,AY3434),0)","v":0},{"$f":"YEAR(L3434)","v":1900},{"$f":"YEAR(U3434)","v":1900},{"$f":"+AN3434","v":0},{"$f":"+AQ3434","v":0},{"$f":"+M3434-BA3434","v":0},{"$f":"+AR3434","v":0},{"$f":"ROUND(AS3434,2)","v":0},{"$f":"+M3434-BD3434","v":0},{"$f":"+AT3434","v":0},{"$f":"ROUND(AW3434,2)","v":0},{"$f":"+V3434-BG3434","v":0},{"$f":"IF(ISERROR(L3434<=U3434),\"FORMATO INCORRECTO\",IF(AND(L3434=0,U3434=0),\"\",IF(L3434<=U3434,\"VALIDADO\",\"NÃO VALIDADO\")))","v":""},{"$f":"IF(AND(L3434=\"\",U3434=\"\",Y3434=\"\"),\"\",IF(OR(ISERROR(BK3434),ISERROR(BL3434),ISERROR(BM3434)),\"ERRO NO FORMATO\",\"FORMATO CORRECTO\"))","v":""},{"$f":"convdata(L3434)","v":0},{"$f":"convdata(U3434)","v":0},{"$f":"convdata(Y3434)","v":0},{"$f":"ENULO(L3434)","v":"FORMATO INCORRECTO"},{"$f":"ENULO(U3434)","v":"FORMATO INCORRECTO"},{"$f":"ENULO(Y3434)","v":"FORMATO INCORRECTO"},{"$f":"IF(L3434=\"\",\"\",IF(ISERROR(edata(L3434)),\"FORMATO INCORRECTO\",\"FORMATO CORRECTO\"))","v":""},{"$f":"IF(U3434=\"\",\"\",IF(ISERROR(edata(U3434)),\"FORMATO INCORRECTO\",\"FORMATO CORRECTO\"))","v":""},{"$f":"IF(N3434=\"\",\"\",IF(ISERROR(edata(N3434)),\"FORMATO INCORRECTO\",\"FORMATO CORRECTO\"))","v":""}]
["1920-05-13","",null,null,null,null,null,null,"",null,null,null,null,null,null,null,null,"",null,null,null,null,null,null,null,null,"",null,"",null,null,"",null,null,null,null,null,0,0,0,0,0,{"$f":"IF(AO3441<>0,SUMIFS($AP$6:$AP$1001,$AN$6:$AN$1001,AN3441,$F$6:$F$1001,F3441,$AX$6:$AX$1001,AX3441),0)","v":0},0,{"$f":"IF(AO3441<>0,SUMIFS($AP$6:$AP$1001,$AR$6:$AR$1001,AR3441,$F$6:$F$1001,F3441,$AX$6:$AX$1001,AX3441),0)","v":0},0,0,0,{"$f":"IF(AU3441<>0,SUMIFS($AV$6:$AV$1001,$AT$6:$AT$1001,AT3441,$F$6:$F$1001,F3441,$AY$6:$AY$1001,AY3441),0)","v":0},1900,1900,0,0,0,0,0,0,0,0,0,"","",0,0,0,"FORMATO INCORRECTO","FORMATO INCORRECTO","FORMATO INCORRECTO",{"$f":"IF(L3441=\"\",\"\",IF(ISERROR(edata(L3441)),\"FORMATO INCORRECTO\",\"FORMATO CORRECTO\"))","v":""},{"$f":"IF(U3441=\"\",\"\",IF(ISERROR(edata(U3441)),\"FORMATO INCORRECTO\",\"FORMATO CORRECTO\"))","v":""},{"$f":"IF(N3441=\"\",\"\",IF(ISERROR(edata(N3441)),\"FORMATO INCORRECTO\",\"FORMATO CORRECTO\"))","v":""}]
["1920-05-25","",null,null,null,null,null,null,"",null,null,null,null,null,null,null,null,"",null,null,null,null,null,null,null,null,"",null,"",null,null,"",null,null,null,null,null,0,0,0,0,0,{"$f":"IF(AO3453<>0,SUMIFS($AP$6:$AP$1001,$AN$6:$AN$1001,AN3453,$F$6:$F$1001,F3453,$AX$6:$AX$1001,AX3453),0)","v":0},0,{"$f":"IF(AO3453<>0,SUMIFS($AP$6:$AP$1001,$AR$6:$AR$1001,AR3453,$F$6:$F$1001,F3453,$AX$6:$AX$1001,AX3453),0)","v":0},0,0,0,{"$f":"IF(AU3453<>0,SUMIFS($AV$6:$AV$1001,$AT$6:$AT$1001,AT3453,$F$6:$F$1001,F3453,$AY$6:$AY$1001,AY3453),0)","v":0},1900,1900,0,0,0,0,0,0,0,0,0,"","",0,0,0,"FORMATO INCORRECTO","FORMATO INCORRECTO","FORMATO INCORRECTO",{"$f":"IF(L3453=\"\",\"\",IF(ISERROR(edata(L3453)),\"FORMATO INCORRECTO\",\"FORMATO CORRECTO\"))","v":""},{"$f":"IF(U3453=\"\",\"\",IF(ISERROR(edata(U3453)),\"FORMATO INCORRECTO\",\"FORMATO CORRECTO\"))","v":""},{"$f":"IF(N3453=\"\",\"\",IF(ISERROR(edata(N3453)),\"FORMATO INCORRECTO\",\"FORMATO CORRECTO\"))","v":""}]
["1920-06-03","",null,null,null,null,null,null,"",null,null,null,null,null,null,null,null,"",null,null,null,null,null,null,null,null,"",null,"",null,null,"",null,null,null,null,null,0,0,0,0,0,{"$f":"IF(AO3462<>0,SUMIFS($AP$6:$AP$1001,$AN$6:$AN$1001,AN3462,$F$6:$F$1001,F3462,$AX$6:$AX$1001,AX3462),0)","v":0},0,{"$f":"IF(AO3462<>0,SUMIFS($AP$6:$AP$1001,$AR$6:$AR$1001,AR3462,$F$6:$F$1001,F3462,$AX$6:$AX$1001,AX3462),0)","v":0},0,0,0,{"$f":"IF(AU3462<>0,SUMIFS($AV$6:$AV$1001,$AT$6:$AT$1001,AT3462,$F$6:$F$1001,F3462,$AY$6:$AY$1001,AY3462),0)","v":0},1900,1900,0,0,0,0,0,0,0,0,0,"","",0,0,0,"FORMATO INCORRECTO","FORMATO INCORRECTO","FORMATO INCORRECTO",{"$f":"IF(L3462=\"\",\"\",IF(ISERROR(edata(L3462)),\"FORMATO INCORRECTO\",\"FORMATO CORRECTO\"))","v":""},{"$f":"IF(U3462=\"\",\"\",IF(ISERROR(edata(U3462)),\"FORMATO INCORRECTO\",\"FORMATO CORRECTO\"))","v":""},{"$f":"IF(N3462=\"\",\"\",IF(ISERROR(edata(N3462)),\"FORMATO INCORRECTO\",\"FORMATO CORRECTO\"))","v":""}]
["1920-06-12","",null,null,null,null,null,null,"",null,null,null,null,null,null,null,null,"",null,null,null,null,null,null,null,null,"",null,"",null,null,"",null,null,null,null,null,0,0,0,0,0,{"$f":"IF(AO3471<>0,SUMIFS($AP$6:$AP$1001,$AN$6:$AN$1001,AN3471,$F$6:$F$1001,F3471,$AX$6:$AX$1001,AX3471),0)","v":0},0,{"$f":"IF(AO3471<>0,SUMIFS($AP$6:$AP$1001,$AR$6:$AR$1001,AR3471,$F$6:$F$1001,F3471,$AX$6:$AX$1001,AX3471),0)","v":0},0,0,0,{"$f":"IF(AU3471<>0,SUMIFS($AV$6:$AV$1001,$AT$6:$AT$1001,AT3471,$F$6:$F$1001,F3471,$AY$6:$AY$1001,AY3471),0)","v":0},1900,1900,0,0,0,0,0,0,0,0,0,"","",0,0,0,"FORMATO INCORRECTO","FORMATO INCORRECTO","FORMATO INCORRECTO",{"$f":"IF(L3471=\"\",\"\",IF(ISERROR(edata(L3471)),\"FORMATO INCORRECTO\",\"FORMATO CORRECTO\"))","v":""},{"$f":"IF(U3471=\"\",\"\",IF(ISERROR(edata(U3471)),\"FORMATO INCORRECTO\",\"FORMATO CORRECTO\"))","v":""},{"$f":"IF(N3471=\"\",\"\",IF(ISERROR(edata(N3471)),\"FORMATO INCORRECTO\",\"FORMATO CORRECTO\"))","v":""}]
["1920-06-24","",null,null,null,null,null,null,"",null,null,null,null,null,null,null,null,"",null,null,null,null,null,null,null,null,"",null,"",null,null,"",null,null,null,null,null,0,0,0,0,0,{"$f":"IF(AO3483<>0,SUMIFS($AP$6:$AP$1001,$AN$6:$AN$1001,AN3483,$F$6:$F$1001,F3483,$AX$6:$AX$1001,AX3483),0)","v":0},0,{"$f":"IF(AO3483<>0,SUMIFS($AP$6:$AP$1001,$AR$6:$AR$1001,AR3483,$F$6:$F$1001,F3483,$AX$6:$AX$1001,AX3483),0)","v":0},0,0,0,{"$f":"IF(AU3483<>0,SUMIFS($AV$6:$AV$1001,$AT$6:$AT$1001,AT3483,$F$6:$F$1001,F3483,$AY$6:$AY$1001,AY3483),0)","v":0},1900,1900,0,0,0,0,0,0,0,0,0,"","",0,0,0,"FORMATO INCORRECTO","FORMATO INCORRECTO","FORMATO INCORRECTO",{"$f":"IF(L3483=\"\",\"\",IF(ISERROR(edata(L3483)),\"FORMATO INCORRECTO\",\"FORMATO CORRECTO\"))","v":""},{"$f":"IF(U3483=\"\",\"\",IF(ISERROR(edata(U3483)),\"FORMATO INCORRECTO\",\"FORMATO CORRECTO\"))","v":""},{"$f":"IF(N3483=\"\",\"\",IF(ISERROR(edata(N3483)),\"FORMATO INCORRECTO\",\"FORMATO CORRECTO\"))","v":""}]
["1920-07-01","",null,null,null,null,null,null,"",null,null,null,null,null,null,null,null,"",null,null,null,null,null,null,null,null,"",null,"",null,null,"",null,null,null,null,null,0,0,0,0,0,{"$f":"IF(AO3490<>0,SUMIFS($AP$6:$AP$1001,$AN$6:$AN$1001,AN3490,$F$6:$F$1001,F3490,$AX$6:$AX$1001,AX3490),0)","v":0},0,{"$f":"IF(AO3490<>0,SUMIFS($AP$6:$AP$1001,$AR$6:$AR$1001,AR3490,$F$6:$F$1001,F3490,$AX$6:$AX$1001,AX3490),0)","v":0},0,0,0,{"$f":"IF(AU3490<>0,SUMIFS($AV$6:$AV$1001,$AT$6:$AT$1001,AT3490,$F$6:$F$1001,F3490,$AY$6:$AY$1001,AY3490),0)","v":0},1900,1900,0,0,0,0,0,0,0,0,0,"","",0,0,0,"FORMATO INCORRECTO","FORMATO INCORRECTO","FORMATO INCORRECTO",{"$f":"IF(L3490=\"\",\"\",IF(ISERROR(edata(L3490)),\"FORMATO INCORRECTO\",\"FORMATO CORRECTO\"))","v":""},{"$f":"IF(U3490=\"\",\"\",IF(ISERROR(edata(U3490)),\"FORMATO INCORRECTO\",\"FORMATO CORRECTO\"))","v":""},{"$f":"IF(N3490=\"\",\"\",IF(ISERROR(edata(N3490)),\"FORMATO INCORRECTO\",\"FORMATO CORRECTO\"))","v":""}]
["1920-07-12","",null,null,null,null,null,null,"",null,null,null,null,null,null,null,null,"",null,null,null,null,null,null,null,null,"",null,"",null,null,"",null,null,null,null,null,0,0,0,0,0,{"$f":"IF(AO3501<>0,SUMIFS($AP$6:$AP$1001,$AN$6:$AN$1001,AN3501,$F$6:$F$1001,F3501,$AX$6:$AX$1001,AX3501),0)","v":0},0,{"$f":"IF(AO3501<>0,SUMIFS($AP$6:$AP$1001,$AR$6:$AR$1001,AR3501,$F$6:$F$1001,F3501,$AX$6:$AX$1001,AX3501),0)","v":0},0,0,0,{"$f":"IF(AU3501<>0,SUMIFS($AV$6:$AV$1001,$AT$6:$AT$1001,AT3501,$F$6:$F$1001,F3501,$AY$6:$AY$1001,AY3501),0)","v":0},1900,1900,0,0,0,0,0,0,0,0,0,"","",0,0,0,"FORMATO INCORRECTO","FORMATO INCORRECTO","FORMATO INCORRECTO",{"$f":"IF(L3501=\"\",\"\",IF(ISERROR(edata(L3501)),\"FORMATO INCORRECTO\",\"FORMATO CORRECTO\"))","v":""},{"$f":"IF(U3501=\"\",\"\",IF(ISERROR(edata(U3501)),\"FORMATO INCORRECTO\",\"FORMATO CORRECTO\"))","v":""},{"$f":"IF(N3501=\"\",\"\",IF(ISERROR(edata(N3501)),\"FORMATO INCORRECTO\",\"FORMATO CORRECTO\"))","v":""}]
["1920-07-19","",null,null,null,null,null,null,"",null,null,null,null,null,null,null,null,"",null,null,null,null,null,null,null,null,"",null,"",null,null,"",null,null,null,null,null,0,0,0,0,0,{"$f":"IF(AO3508<>0,SUMIFS($AP$6:$AP$1001,$AN$6:$AN$1001,AN3508,$F$6:$F$1001,F3508,$AX$6:$AX$1001,AX3508),0)","v":0},0,{"$f":"IF(AO3508<>0,SUMIFS($AP$6:$AP$1001,$AR$6:$AR$1001,AR3508,$F$6:$F$1001,F3508,$AX$6:$AX$1001,AX3508),0)","v":0},0,0,0,{"$f":"IF(AU3508<>0,SUMIFS($AV$6:$AV$1001,$AT$6:$AT$1001,AT3508,$F$6:$F$1001,F3508,$AY$6:$AY$1001,AY3508),0)","v":0},1900,1900,0,0,0,0,0,0,0,0,0,"","",0,0,0,"FORMATO INCORRECTO","FORMATO INCORRECTO","FORMATO INCORRECTO",{"$f":"IF(L3508=\"\",\"\",IF(ISERROR(edata(L3508)),\"FORMATO INCORRECTO\",\"FORMATO CORRECTO\"))","v":""},{"$f":"IF(U3508=\"\",\"\",IF(ISERROR(edata(U3508)),\"FORMATO INCORRECTO\",\"FORMATO CORRECTO\"))","v":""},{"$f":"IF(N3508=\"\",\"\",IF(ISERROR(edata(N3508)),\"FORMATO INCORRECTO\",\"FORMATO CORRECTO\"))","v":""}]
["1920-07-22","",null,null,null,null,null,null,"",null,null,null,null,null,null,null,null,"",null,null,null,null,null,null,null,null,"",null,"",null,null,"",null,null,null,null,null,0,0,0,0,0,{"$f":"IF(AO3511<>0,SUMIFS($AP$6:$AP$1001,$AN$6:$AN$1001,AN3511,$F$6:$F$1001,F3511,$AX$6:$AX$1001,AX3511),0)","v":0},0,{"$f":"IF(AO3511<>0,SUMIFS($AP$6:$AP$1001,$AR$6:$AR$1001,AR3511,$F$6:$F$1001,F3511,$AX$6:$AX$1001,AX3511),0)","v":0},0,0,0,{"$f":"IF(AU3511<>0,SUMIFS($AV$6:$AV$1001,$AT$6:$AT$1001,AT3511,$F$6:$F$1001,F3511,$AY$6:$AY$1001,AY3511),0)","v":0},1900,1900,0,0,0,0,0,0,0,0,0,"","",0,0,0,"FORMATO INCORRECTO","FORMATO INCORRECTO","FORMATO INCORRECTO",{"$f":"IF(L3511=\"\",\"\",IF(ISERROR(edata(L3511)),\"FORMATO INCORRECTO\",\"FORMATO CORRECTO\"))","v":""},{"$f":"IF(U3511=\"\",\"\",IF(ISERROR(edata(U3511)),\"FORMATO INCORRECTO\",\"FORMATO CORRECTO\"))","v":""},{"$f":"IF(N3511=\"\",\"\",IF(ISERROR(edata(N3511)),\"FORMATO INCORRECTO\",\"FORMATO CORRECTO\"))","v":""}]
["1920-08-03","",null,null,null,null,null,null,"",null,null,null,null,null,null,null,null,"",null,null,null,null,null,null,null,null,"",null,"",null,null,"",null,null,null,null,null,0,0,0,0,0,{"$f":"IF(AO3523<>0,SUMIFS($AP$6:$AP$1001,$AN$6:$AN$1001,AN3523,$F$6:$F$1001,F3523,$AX$6:$AX$1001,AX3523),0)","v":0},0,{"$f":"IF(AO3523<>0,SUMIFS($AP$6:$AP$1001,$AR$6:$AR$1001,AR3523,$F$6:$F$1001,F3523,$AX$6:$AX$1001,AX3523),0)","v":0},0,0,0,{"$f":"IF(AU3523<>0,SUMIFS($AV$6:$AV$1001,$AT$6:$AT$1001,AT3523,$F$6:$F$1001,F3523,$AY$6:$AY$1001,AY3523),0)","v":0},1900,1900,0,0,0,0,0,0,0,0,0,"","",0,0,0,"FORMATO INCORRECTO","FORMATO INCORRECTO","FORMATO INCORRECTO",{"$f":"IF(L3523=\"\",\"\",IF(ISERROR(edata(L3523)),\"FORMATO INCORRECTO\",\"FORMATO CORRECTO\"))","v":""},{"$f":"IF(U3523=\"\",\"\",IF(ISERROR(edata(U3523)),\"FORMATO INCORRECTO\",\"FORMATO CORRECTO\"))","v":""},{"$f":"IF(N3523=\"\",\"\",IF(ISERROR(edata(N3523)),\"FORMATO INCORRECTO\",\"FORMATO CORRECTO\"))","v":""}]
["1920-08-12","",null,null,null,null,null,null,"",null,null,null,null,null,null,null,null,"",null,null,null,null,null,null,null,null,"",null,"",null,null,"",null,null,null,null,null,0,0,0,0,0,{"$f":"IF(AO3532<>0,SUMIFS($AP$6:$AP$1001,$AN$6:$AN$1001,AN3532,$F$6:$F$1001,F3532,$AX$6:$AX$1001,AX3532),0)","v":0},0,{"$f":"IF(AO3532<>0,SUMIFS($AP$6:$AP$1001,$AR$6:$AR$1001,AR3532,$F$6:$F$1001,F3532,$AX$6:$AX$1001,AX3532),0)","v":0},0,0,0,{"$f":"IF(AU3532<>0,SUMIFS($AV$6:$AV$1001,$AT$6:$AT$1001,AT3532,$F$6:$F$1001,F3532,$AY$6:$AY$1001,AY3532),0)","v":0},1900,1900,0,0,0,0,0,0,0,0,0,"","",0,0,0,"FORMATO INCORRECTO","FORMATO INCORRECTO","FORMATO INCORRECTO",{"$f":"IF(L3532=\"\",\"\",IF(ISERROR(edata(L3532)),\"FORMATO INCORRECTO\",\"FORMATO CORRECTO\"))","v":""},{"$f":"IF(U3532=\"\",\"\",IF(ISERROR(edata(U3532)),\"FORMATO INCORRECTO\",\"FORMATO CORRECTO\"))","v":""},{"$f":"IF(N3532=\"\",\"\",IF(ISERROR(edata(N3532)),\"FORMATO INCORRECTO\",\"FORMATO CORRECTO\"))","v":""}]
["1920-08-21","",null,null,null,null,null,null,"",null,null,null,null,null,null,null,null,"",null,null,null,null,null,null,null,null,"",null,"",null,null,"",null,null,null,null,null,0,0,0,0,0,{"$f":"IF(AO3541<>0,SUMIFS($AP$6:$AP$1001,$AN$6:$AN$1001,AN3541,$F$6:$F$1001,F3541,$AX$6:$AX$1001,AX3541),0)","v":0},0,{"$f":"IF(AO3541<>0,SUMIFS($AP$6:$AP$1001,$AR$6:$AR$1001,AR3541,$F$6:$F$1001,F3541,$AX$6:$AX$1001,AX3541),0)","v":0},0,0,0,{"$f":"IF(AU3541<>0,SUMIFS($AV$6:$AV$1001,$AT$6:$AT$1001,AT3541,$F$6:$F$1001,F3541,$AY$6:$AY$1001,AY3541),0)","v":0},1900,1900,0,0,0,0,0,0,0,0,0,"","",0,0,0,"FORMATO INCORRECTO","FORMATO INCORRECTO","FORMATO INCORRECTO",{"$f":"IF(L3541=\"\",\"\",IF(ISERROR(edata(L3541)),\"FORMATO INCORRECTO\",\"FORMATO CORRECTO\"))","v":""},{"$f":"IF(U3541=\"\",\"\",IF(ISERROR(edata(U3541)),\"FORMATO INCORRECTO\",\"FORMATO CORRECTO\"))","v":""},{"$f":"IF(N3541=\"\",\"\",IF(ISERROR(edata(N3541)),\"FORMATO INCORRECTO\",\"FORMATO CORRECTO\"))","v":""}]
["1920-09-02","",null,null,null,null,null,null,"",null,null,null,null,null,null,null,null,"",null,null,null,null,null,null,null,null,"",null,"",null,null,"",null,null,null,null,null,0,0,0,0,0,{"$f":"IF(AO3553<>0,SUMIFS($AP$6:$AP$1001,$AN$6:$AN$1001,AN3553,$F$6:$F$1001,F3553,$AX$6:$AX$1001,AX3553),0)","v":0},0,{"$f":"IF(AO3553<>0,SUMIFS($AP$6:$AP$1001,$AR$6:$AR$1001,AR3553,$F$6:$F$1001,F3553,$AX$6:$AX$1001,AX3553),0)","v":0},0,0,0,{"$f":"IF(AU3553<>0,SUMIFS($AV$6:$AV$1001,$AT$6:$AT$1001,AT3553,$F$6:$F$1001,F3553,$AY$6:$AY$1001,AY3553),0)","v":0},1900,1900,0,0,0,0,0,0,0,0,0,"","",0,0,0,"FORMATO INCORRECTO","FORMATO INCORRECTO","FORMATO INCORRECTO",{"$f":"IF(L3553=\"\",\"\",IF(ISERROR(edata(L3553)),\"FORMATO INCORRECTO\",\"FORMATO CORRECTO\"))","v":""},{"$f":"IF(U3553=\"\",\"\",IF(ISERROR(edata(U3553)),\"FORMATO INCORRECTO\",\"FORMATO CORRECTO\"))","v":""},{"$f":"IF(N3553=\"\",\"\",IF(ISERROR(edata(N3553)),\"FORMATO INCORRECTO\",\"FORMATO CORRECTO\"))","v":""}]
["1920-09-09","",null,null,null,null,null,null,"",null,null,null,null,null,null,null,null,"",null,null,null,null,null,null,null,null,"",null,"",null,null,"",null,null,null,null,null,0,0,0,0,0,{"$f":"IF(AO3560<>0,SUMIFS($AP$6:$AP$1001,$AN$6:$AN$1001,AN3560,$F$6:$F$1001,F3560,$AX$6:$AX$1001,AX3560),0)","v":0},0,{"$f":"IF(AO3560<>0,SUMIFS($AP$6:$AP$1001,$AR$6:$AR$1001,AR3560,$F$6:$F$1001,F3560,$AX$6:$AX$1001,AX3560),0)","v":0},0,0,0,{"$f":"IF(AU3560<>0,SUMIFS($AV$6:$AV$1001,$AT$6:$AT$1001,AT3560,$F$6:$F$1001,F3560,$AY$6:$AY$1001,AY3560),0)","v":0},1900,1900,0,0,0,0,0,0,0,0,0,"","",0,0,0,"FORMATO INCORRECTO","FORMATO INCORRECTO","FORMATO INCORRECTO",{"$f":"IF(L3560=\"\",\"\",IF(ISERROR(edata(L3560)),\"FORMATO INCORRECTO\",\"FORMATO CORRECTO\"))","v":""},{"$f":"IF(U3560=\"\",\"\",IF(ISERROR(edata(U3560)),\"FORMATO INCORRECTO\",\"FORMATO CORRECTO\"))","v":""},{"$f":"IF(N3560=\"\",\"\",IF(ISERROR(edata(N3560)),\"FORMATO INCORRECTO\",\"FORMATO CORRECTO\"))","v":""}]
["1920-09-20","",null,null,null,null,null,null,"",null,null,null,null,null,null,null,null,"",null,null,null,null,null,null,null,null,"",null,"",null,null,"",null,null,null,null,null,0,0,0,0,0,{"$f":"IF(AO3571<>0,SUMIFS($AP$6:$AP$1001,$AN$6:$AN$1001,AN3571,$F$6:$F$1001,F3571,$AX$6:$AX$1001,AX3571),0)","v":0},0,{"$f":"IF(AO3571<>0,SUMIFS($AP$6:$AP$1001,$AR$6:$AR$1001,AR3571,$F$6:$F$1001,F3571,$AX$6:$AX$1001,AX3571),0)","v":0},0,0,0,{"$f":"IF(AU3571<>0,SUMIFS($AV$6:$AV$1001,$AT$6:$AT$1001,AT3571,$F$6:$F$1001,F3571,$AY$6:$AY$1001,AY3571),0)","v":0},1900,1900,0,0,0,0,0,0,0,0,0,"","",0,0,0,"FORMATO INCORRECTO","FORMATO INCORRECTO","FORMATO INCORRECTO",{"$f":"IF(L3571=\"\",\"\",IF(ISERROR(edata(L3571)),\"FORMATO INCORRECTO\",\"FORMATO CORRECTO\"))","v":""},{"$f":"IF(U3571=\"\",\"\",IF(ISERROR(edata(U3571)),\"FORMATO INCORRECTO\",\"FORMATO CORRECTO\"))","v":""},{"$f":"IF(N3571=\"\",\"\",IF(ISERROR(edata(N3571)),\"FORMATO INCORRECTO\",\"FORMATO CORRECTO\"))","v":""}]
["1920-09-27","",null,null,null,null,null,null,"",null,null,null,null,null,null,null,null,"",null,null,null,null,null,null,null,null,"",null,"",null,null,"",null,null,null,null,null,0,0,0,0,0,{"$f":"IF(AO3578<>0,SUMIFS($AP$6:$AP$1001,$AN$6:$AN$1001,AN3578,$F$6:$F$1001,F3578,$AX$6:$AX$1001,AX3578),0)","v":0},0,{"$f":"IF(AO3578<>0,SUMIFS($AP$6:$AP$1001,$AR$6:$AR$1001,AR3578,$F$6:$F$1001,F3578,$AX$6:$AX$1001,AX3578),0)","v":0},0,0,0,{"$f":"IF(AU3578<>0,SUMIFS($AV$6:$AV$1001,$AT$6:$AT$1001,AT3578,$F$6:$F$1001,F3578,$AY$6:$AY$1001,AY3578),0)","v":0},1900,1900,0,0,0,0,0,0,0,0,0,"","",0,0,0,"FORMATO INCORRECTO","FORMATO INCORRECTO","FORMATO INCORRECTO",{"$f":"IF(L3578=\"\",\"\",IF(ISERROR(edata(L3578)),\"FORMATO INCORRECTO\",\"FORMATO CORRECTO\"))","v":""},{"$f":"IF(U3578=\"\",\"\",IF(ISERROR(edata(U3578)),\"FORMATO INCORRECTO\",\"FORMATO CORRECTO\"))","v":""},{"$f":"IF(N3578=\"\",\"\",IF(ISERROR(edata(N3578)),\"FORMATO INCORRECTO\",\"FORMATO CORRECTO\"))","v":""}]
["1920-09-30","",null,null,null,null,null,null,"",null,null,null,null,null,null,null,null,"",null,null,null,null,null,null,null,null,"",null,"",null,null,"",null,null,null,null,null,0,0,0,0,0,{"$f":"IF(AO3581<>0,SUMIFS($AP$6:$AP$1001,$AN$6:$AN$1001,AN3581,$F$6:$F$1001,F3581,$AX$6:$AX$1001,AX3581),0)","v":0},0,{"$f":"IF(AO3581<>0,SUMIFS($AP$6:$AP$1001,$AR$6:$AR$1001,AR3581,$F$6:$F$1001,F3581,$AX$6:$AX$1001,AX3581),0)","v":0},0,0,0,{"$f":"IF(AU3581<>0,SUMIFS($AV$6:$AV$1001,$AT$6:$AT$1001,AT3581,$F$6:$F$1001,F3581,$AY$6:$AY$1001,AY3581),0)","v":0},1900,1900,0,0,0,0,0,0,0,0,0,"","",0,0,0,"FORMATO INCORRECTO","FORMATO INCORRECTO","FORMATO INCORRECTO",{"$f":"IF(L3581=\"\",\"\",IF(ISERROR(edata(L3581)),\"FORMATO INCORRECTO\",\"FORMATO CORRECTO\"))","v":""},{"$f":"IF(U3581=\"\",\"\",IF(ISERROR(edata(U3581)),\"FORMATO INCORRECTO\",\"FORMATO CORRECTO\"))","v":""},{"$f":"IF(N3581=\"\",\"\",IF(ISERROR(edata(N3581)),\"FORMATO INCORRECTO\",\"FORMATO CORRECTO\"))","v":""}]
["1920-10-12","",null,null,null,null,null,null,"",null,null,null,null,null,null,null,null,"",null,null,null,null,null,null,null,null,"",null,"",null,null,"",null,null,null,null,null,0,0,0,0,0,{"$f":"IF(AO3593<>0,SUMIFS($AP$6:$AP$1001,$AN$6:$AN$1001,AN3593,$F$6:$F$1001,F3593,$AX$6:$AX$1001,AX3593),0)","v":0},0,{"$f":"IF(AO3593<>0,SUMIFS($AP$6:$AP$1001,$AR$6:$AR$1001,AR3593,$F$6:$F$1001,F3593,$AX$6:$AX$1001,AX3593),0)","v":0},0,0,0,{"$f":"IF(AU3593<>0,SUMIFS($AV$6:$AV$1001,$AT$6:$AT$1001,AT3593,$F$6:$F$1001,F3593,$AY$6:$AY$1001,AY3593),0)","v":0},1900,1900,0,0,0,0,0,0,0,0,0,"","",0,0,0,"FORMATO INCORRECTO","FORMATO INCORRECTO","FORMATO INCORRECTO",{"$f":"IF(L3593=\"\",\"\",IF(ISERROR(edata(L3593)),\"FORMATO INCORRECTO\",\"FORMATO CORRECTO\"))","v":""},{"$f":"IF(U3593=\"\",\"\",IF(ISERROR(edata(U3593)),\"FORMATO INCORRECTO\",\"FORMATO CORRECTO\"))","v":""},{"$f":"IF(N3593=\"\",\"\",IF(ISERROR(edata(N3593)),\"FORMATO INCORRECTO\",\"FORMATO CORRECTO\"))","v":""}]
["1920-10-21","",null,null,null,null,null,null,"",null,null,null,null,null,null,null,null,"",null,null,null,null,null,null,null,null,"",null,"",null,null,"",null,null,null,null,null,0,0,0,0,0,{"$f":"IF(AO3602<>0,SUMIFS($AP$6:$AP$1001,$AN$6:$AN$1001,AN3602,$F$6:$F$1001,F3602,$AX$6:$AX$1001,AX3602),0)","v":0},0,{"$f":"IF(AO3602<>0,SUMIFS($AP$6:$AP$1001,$AR$6:$AR$1001,AR3602,$F$6:$F$1001,F3602,$AX$6:$AX$1001,AX3602),0)","v":0},0,0,0,{"$f":"IF(AU3602<>0,SUMIFS($AV$6:$AV$1001,$AT$6:$AT$1001,AT3602,$F$6:$F$1001,F3602,$AY$6:$AY$1001,AY3602),0)","v":0},1900,1900,0,0,0,0,0,0,0,0,0,"","",0,0,0,"FORMATO INCORRECTO","FORMATO INCORRECTO","FORMATO INCORRECTO",{"$f":"IF(L3602=\"\",\"\",IF(ISERROR(edata(L3602)),\"FORMATO INCORRECTO\",\"FORMATO CORRECTO\"))","v":""},{"$f":"IF(U3602=\"\",\"\",IF(ISERROR(edata(U3602)),\"FORMATO INCORRECTO\",\"FORMATO CORRECTO\"))","v":""},{"$f":"IF(N3602=\"\",\"\",IF(ISERROR(edata(N3602)),\"FORMATO INCORRECTO\",\"FORMATO CORRECTO\"))","v":""}]
["1920-10-30","",null,null,null,null,null,null,"",null,null,null,null,null,null,null,null,"",null,null,null,null,null,null,null,null,"",null,"",null,null,"",null,null,null,null,null,0,0,0,0,0,{"$f":"IF(AO3611<>0,SUMIFS($AP$6:$AP$1001,$AN$6:$AN$1001,AN3611,$F$6:$F$1001,F3611,$AX$6:$AX$1001,AX3611),0)","v":0},0,{"$f":"IF(AO3611<>0,SUMIFS($AP$6:$AP$1001,$AR$6:$AR$1001,AR3611,$F$6:$F$1001,F3611,$AX$6:$AX$1001,AX3611),0)","v":0},0,0,0,{"$f":"IF(AU3611<>0,SUMIFS($AV$6:$AV$1001,$AT$6:$AT$1001,AT3611,$F$6:$F$1001,F3611,$AY$6:$AY$1001,AY3611),0)","v":0},1900,1900,0,0,0,0,0,0,0,0,0,"","",0,0,0,"FORMATO INCORRECTO","FORMATO INCORRECTO","FORMATO INCORRECTO",{"$f":"IF(L3611=\"\",\"\",IF(ISERROR(edata(L3611)),\"FORMATO INCORRECTO\",\"FORMATO CORRECTO\"))","v":""},{"$f":"IF(U3611=\"\",\"\",IF(ISERROR(edata(U3611)),\"FORMATO INCORRECTO\",\"FORMATO CORRECTO\"))","v":""},{"$f":"IF(N3611=\"\",\"\",IF(ISERROR(edata(N3611)),\"FORMATO INCORRECTO\",\"FORMATO CORRECTO\"))","v":""}]
["1920-11-11","",null,null,null,null,null,null,"",null,null,null,null,null,null,null,null,"",null,null,null,null,null,null,null,null,"",null,"",null,null,"",null,null,null,null,null,0,0,0,0,0,{"$f":"IF(AO3623<>0,SUMIFS($AP$6:$AP$1001,$AN$6:$AN$1001,AN3623,$F$6:$F$1001,F3623,$AX$6:$AX$1001,AX3623),0)","v":0},0,{"$f":"IF(AO3623<>0,SUMIFS($AP$6:$AP$1001,$AR$6:$AR$1001,AR3623,$F$6:$F$1001,F3623,$AX$6:$AX$1001,AX3623),0)","v":0},0,0,0,{"$f":"IF(AU3623<>0,SUMIFS($AV$6:$AV$1001,$AT$6:$AT$1001,AT3623,$F$6:$F$1001,F3623,$AY$6:$AY$1001,AY3623),0)","v":0},1900,1900,0,0,0,0,0,0,0,0,0,"","",0,0,0,"FORMATO INCORRECTO","FORMATO INCORRECTO","FORMATO INCORRECTO",{"$f":"IF(L3623=\"\",\"\",IF(ISERROR(edata(L3623)),\"FORMATO INCORRECTO\",\"FORMATO CORRECTO\"))","v":""},{"$f":"IF(U3623=\"\",\"\",IF(ISERROR(edata(U3623)),\"FORMATO INCORRECTO\",\"FORMATO CORRECTO\"))","v":""},{"$f":"IF(N3623=\"\",\"\",IF(ISERROR(edata(N3623)),\"FORMATO INCORRECTO\",\"FORMATO CORRECTO\"))","v":""}]
["1920-11-18","",null,null,null,null,null,null,"",null,null,null,null,null,null,null,null,"",null,null,null,null,null,null,null,null,"",null,"",null,null,"",null,null,null,null,null,0,0,0,0,0,{"$f":"IF(AO3630<>0,SUMIFS($AP$6:$AP$1001,$AN$6:$AN$1001,AN3630,$F$6:$F$1001,F3630,$AX$6:$AX$1001,AX3630),0)","v":0},0,{"$f":"IF(AO3630<>0,SUMIFS($AP$6:$AP$1001,$AR$6:$AR$1001,AR3630,$F$6:$F$1001,F3630,$AX$6:$AX$1001,AX3630),0)","v":0},0,0,0,{"$f":"IF(AU3630<>0,SUMIFS($AV$6:$AV$1001,$AT$6:$AT$1001,AT3630,$F$6:$F$1001,F3630,$AY$6:$AY$1001,AY3630),0)","v":0},1900,1900,0,0,0,0,0,0,0,0,0,"","",0,0,0,"FORMATO INCORRECTO","FORMATO INCORRECTO","FORMATO INCORRECTO",{"$f":"IF(L3630=\"\",\"\",IF(ISERROR(edata(L3630)),\"FORMATO INCORRECTO\",\"FORMATO CORRECTO\"))","v":""},{"$f":"IF(U3630=\"\",\"\",IF(ISERROR(edata(U3630)),\"FORMATO INCORRECTO\",\"FORMATO CORRECTO\"))","v":""},{"$f":"IF(N3630=\"\",\"\",IF(ISERROR(edata(N3630)),\"FORMATO INCORRECTO\",\"FORMATO CORRECTO\"))","v":""}]
["1920-11-29","",null,null,null,null,null,null,"",null,null,null,null,null,null,null,null,"",null,null,null,null,null,null,null,null,"",null,"",null,null,"",null,null,null,null,null,0,0,0,0,0,{"$f":"IF(AO3641<>0,SUMIFS($AP$6:$AP$1001,$AN$6:$AN$1001,AN3641,$F$6:$F$1001,F3641,$AX$6:$AX$1001,AX3641),0)","v":0},0,{"$f":"IF(AO3641<>0,SUMIFS($AP$6:$AP$1001,$AR$6:$AR$1001,AR3641,$F$6:$F$1001,F3641,$AX$6:$AX$1001,AX3641),0)","v":0},0,0,0,{"$f":"IF(AU3641<>0,SUMIFS($AV$6:$AV$1001,$AT$6:$AT$1001,AT3641,$F$6:$F$1001,F3641,$AY$6:$AY$1001,AY3641),0)","v":0},1900,1900,0,0,0,0,0,0,0,0,0,"","",0,0,0,"FORMATO INCORRECTO","FORMATO INCORRECTO","FORMATO INCORRECTO",{"$f":"IF(L3641=\"\",\"\",IF(ISERROR(edata(L3641)),\"FORMATO INCORRECTO\",\"FORMATO CORRECTO\"))","v":""},{"$f":"IF(U3641=\"\",\"\",IF(ISERROR(edata(U3641)),\"FORMATO INCORRECTO\",\"FORMATO CORRECTO\"))","v":""},{"$f":"IF(N3641=\"\",\"\",IF(ISERROR(edata(N3641)),\"FORMATO INCORRECTO\",\"FORMATO CORRECTO\"))","v":""}]
["1920-12-06","",null,null,null,null,null,null,"",null,null,null,null,null,null,null,null,"",null,null,null,null,null,null,null,null,"",null,"",null,null,"",null,null,null,null,null,0,0,0,0,0,{"$f":"IF(AO3648<>0,SUMIFS($AP$6:$AP$1001,$AN$6:$AN$1001,AN3648,$F$6:$F$1001,F3648,$AX$6:$AX$1001,AX3648),0)","v":0},0,{"$f":"IF(AO3648<>0,SUMIFS($AP$6:$AP$1001,$AR$6:$AR$1001,AR3648,$F$6:$F$1001,F3648,$AX$6:$AX$1001,AX3648),0)","v":0},0,0,0,{"$f":"IF(AU3648<>0,SUMIFS($AV$6:$AV$1001,$AT$6:$AT$1001,AT3648,$F$6:$F$1001,F3648,$AY$6:$AY$1001,AY3648),0)","v":0},1900,1900,0,0,0,0,0,0,0,0,0,"","",0,0,0,"FORMATO INCORRECTO","FORMATO INCORRECTO","FORMATO INCORRECTO",{"$f":"IF(L3648=\"\",\"\",IF(ISERROR(edata(L3648)),\"FORMATO INCORRECTO\",\"FORMATO CORRECTO\"))","v":""},{"$f":"IF(U3648=\"\",\"\",IF(ISERROR(edata(U3648)),\"FORMATO INCORRECTO\",\"FORMATO CORRECTO\"))","v":""},{"$f":"IF(N3648=\"\",\"\",IF(ISERROR(edata(N3648)),\"FORMATO INCORRECTO\",\"FORMATO CORRECTO\"))","v":""}]
["1920-12-09","",null,null,null,null,null,null,"",null,null,null,null,null,null,null,null,"",null,null,null,null,null,null,null,null,"",null,"",null,null,"",null,null,null,null,null,0,0,0,0,0,{"$f":"IF(AO3651<>0,SUMIFS($AP$6:$AP$1001,$AN$6:$AN$1001,AN3651,$F$6:$F$1001,F3651,$AX$6:$AX$1001,AX3651),0)","v":0},0,{"$f":"IF(AO3651<>0,SUMIFS($AP$6:$AP$1001,$AR$6:$AR$1001,AR3651,$F$6:$F$1001,F3651,$AX$6:$AX$1001,AX3651),0)","v":0},0,0,0,{"$f":"IF(AU3651<>0,SUMIFS($AV$6:$AV$1001,$AT$6:$AT$1001,AT3651,$F$6:$F$1001,F3651,$AY$6:$AY$1001,AY3651),0)","v":0},1900,1900,0,0,0,0,0,0,0,0,0,"","",0,0,0,"FORMATO INCORRECTO","FORMATO INCORRECTO","FORMATO INCORRECTO",{"$f":"IF(L3651=\"\",\"\",IF(ISERROR(edata(L3651)),\"FORMATO INCORRECTO\",\"FORMATO CORRECTO\"))","v":""},{"$f":"IF(U3651=\"\",\"\",IF(ISERROR(edata(U3651)),\"FORMATO INCORRECTO\",\"FORMATO CORRECTO\"))","v":""},{"$f":"IF(N3651=\"\",\"\",IF(ISERROR(edata(N3651)),\"FORMATO INCORRECTO\",\"FORMATO CORRECTO\"))","v":""}]
["1920-12-21","",null,null,null,null,null,null,"",null,null,null,null,null,null,null,null,"",null,null,null,null,null,null,null,null,"",null,"",null,null,"",null,null,null,null,null,0,0,0,0,0,{"$f":"IF(AO3663<>0,SUMIFS($AP$6:$AP$1001,$AN$6:$AN$1001,AN3663,$F$6:$F$1001,F3663,$AX$6:$AX$1001,AX3663),0)","v":0},0,{"$f":"IF(AO3663<>0,SUMIFS($AP$6:$AP$1001,$AR$6:$AR$1001,AR3663,$F$6:$F$1001,F3663,$AX$6:$AX$1001,AX3663),0)","v":0},0,0,0,{"$f":"IF(AU3663<>0,SUMIFS($AV$6:$AV$1001,$AT$6:$AT$1001,AT3663,$F$6:$F$1001,F3663,$AY$6:$AY$1001,AY3663),0)","v":0},1900,1900,0,0,0,0,0,0,0,0,0,"","",0,0,0,"FORMATO INCORRECTO","FORMATO INCORRECTO","FORMATO INCORRECTO",{"$f":"IF(L3663=\"\",\"\",IF(ISERROR(edata(L3663)),\"FORMATO INCORRECTO\",\"FORMATO CORRECTO\"))","v":""},{"$f":"IF(U3663=\"\",\"\",IF(ISERROR(edata(U3663)),\"FORMATO INCORRECTO\",\"FORMATO CORRECTO\"))","v":""},{"$f":"IF(N3663=\"\",\"\",IF(ISERROR(edata(N3663)),\"FORMATO INCORRECTO\",\"FORMATO CORRECTO\"))","v":""}]
["1920-12-30","",null,null,null,null,null,null,"",null,null,null,null,null,null,null,null,"",null,null,null,null,null,null,null,null,"",null,"",null,null,"",null,null,null,null,null,0,0,0,0,0,{"$f":"IF(AO3672<>0,SUMIFS($AP$6:$AP$1001,$AN$6:$AN$1001,AN3672,$F$6:$F$1001,F3672,$AX$6:$AX$1001,AX3672),0)","v":0},0,{"$f":"IF(AO3672<>0,SUMIFS($AP$6:$AP$1001,$AR$6:$AR$1001,AR3672,$F$6:$F$1001,F3672,$AX$6:$AX$1001,AX3672),0)","v":0},0,0,0,{"$f":"IF(AU3672<>0,SUMIFS($AV$6:$AV$1001,$AT$6:$AT$1001,AT3672,$F$6:$F$1001,F3672,$AY$6:$AY$1001,AY3672),0)","v":0},1900,1900,0,0,0,0,0,0,0,0,0,"","",0,0,0,"FORMATO INCORRECTO","FORMATO INCORRECTO","FORMATO INCORRECTO",{"$f":"IF(L3672=\"\",\"\",IF(ISERROR(edata(L3672)),\"FORMATO INCORRECTO\",\"FORMATO CORRECTO\"))","v":""},{"$f":"IF(U3672=\"\",\"\",IF(ISERROR(edata(U3672)),\"FORMATO INCORRECTO\",\"FORMATO CORRECTO\"))","v":""},{"$f":"IF(N3672=\"\",\"\",IF(ISERROR(edata(N3672)),\"FORMATO INCORRECTO\",\"FORMATO CORRECTO\"))","v":""}]
["1921-01-08","",null,null,null,null,null,null,"",null,null,null,null,null,null,null,null,"",null,null,null,null,null,null,null,null,"",null,"",null,null,"",null,null,null,null,null,0,0,0,0,0,{"$f":"IF(AO3681<>0,SUMIFS($AP$6:$AP$1001,$AN$6:$AN$1001,AN3681,$F$6:$F$1001,F3681,$AX$6:$AX$1001,AX3681),0)","v":0},0,{"$f":"IF(AO3681<>0,SUMIFS($AP$6:$AP$1001,$AR$6:$AR$1001,AR3681,$F$6:$F$1001,F3681,$AX$6:$AX$1001,AX3681),0)","v":0},0,0,0,{"$f":"IF(AU3681<>0,SUMIFS($AV$6:$AV$1001,$AT$6:$AT$1001,AT3681,$F$6:$F$1001,F3681,$AY$6:$AY$1001,AY3681),0)","v":0},1900,1900,0,0,0,0,0,0,0,0,0,"","",0,0,0,"FORMATO INCORRECTO","FORMATO INCORRECTO","FORMATO INCORRECTO",{"$f":"IF(L3681=\"\",\"\",IF(ISERROR(edata(L3681)),\"FORMATO INCORRECTO\",\"FORMATO CORRECTO\"))","v":""},{"$f":"IF(U3681=\"\",\"\",IF(ISERROR(edata(U3681)),\"FORMATO INCORRECTO\",\"FORMATO CORRECTO\"))","v":""},{"$f":"IF(N3681=\"\",\"\",IF(ISERROR(edata(N3681)),\"FORMATO INCORRECTO\",\"FORMATO CORRECTO\"))","v":""}]
["1921-01-15","",null,null,null,null,null,null,"",null,null,null,null,null,null,null,null,"",null,null,null,null,null,null,null,null,"",null,"",null,null,"",null,null,null,null,null,0,0,0,0,0,{"$f":"IF(AO3688<>0,SUMIFS($AP$6:$AP$1001,$AN$6:$AN$1001,AN3688,$F$6:$F$1001,F3688,$AX$6:$AX$1001,AX3688),0)","v":0},0,{"$f":"IF(AO3688<>0,SUMIFS($AP$6:$AP$1001,$AR$6:$AR$1001,AR3688,$F$6:$F$1001,F3688,$AX$6:$AX$1001,AX3688),0)","v":0},0,0,0,{"$f":"IF(AU3688<>0,SUMIFS($AV$6:$AV$1001,$AT$6:$AT$1001,AT3688,$F$6:$F$1001,F3688,$AY$6:$AY$1001,AY3688),0)","v":0},1900,1900,0,0,0,0,0,0,0,0,0,"","",0,0,0,"FORMATO INCORRECTO","FORMATO INCORRECTO","FORMATO INCORRECTO",{"$f":"IF(L3688=\"\",\"\",IF(ISERROR(edata(L3688)),\"FORMATO INCORRECTO\",\"FORMATO CORRECTO\"))","v":""},{"$f":"IF(U3688=\"\",\"\",IF(ISERROR(edata(U3688)),\"FORMATO INCORRECTO\",\"FORMATO CORRECTO\"))","v":""},{"$f":"IF(N3688=\"\",\"\",IF(ISERROR(edata(N3688)),\"FORMATO INCORRECTO\",\"FORMATO CORRECTO\"))","v":""}]
["1921-01-27","",null,null,null,null,null,null,"",null,null,null,null,null,null,null,null,"",null,null,null,null,null,null,null,null,"",null,"",null,null,"",null,null,null,null,null,0,0,0,0,0,{"$f":"IF(AO3700<>0,SUMIFS($AP$6:$AP$1001,$AN$6:$AN$1001,AN3700,$F$6:$F$1001,F3700,$AX$6:$AX$1001,AX3700),0)","v":0},0,{"$f":"IF(AO3700<>0,SUMIFS($AP$6:$AP$1001,$AR$6:$AR$1001,AR3700,$F$6:$F$1001,F3700,$AX$6:$AX$1001,AX3700),0)","v":0},0,0,0,{"$f":"IF(AU3700<>0,SUMIFS($AV$6:$AV$1001,$AT$6:$AT$1001,AT3700,$F$6:$F$1001,F3700,$AY$6:$AY$1001,AY3700),0)","v":0},1900,1900,0,0,0,0,0,0,0,0,0,"","",0,0,0,"FORMATO INCORRECTO","FORMATO INCORRECTO","FORMATO INCORRECTO",{"$f":"IF(L3700=\"\",\"\",IF(ISERROR(edata(L3700)),\"FORMATO INCORRECTO\",\"FORMATO CORRECTO\"))","v":""},{"$f":"IF(U3700=\"\",\"\",IF(ISERROR(edata(U3700)),\"FORMATO INCORRECTO\",\"FORMATO CORRECTO\"))","v":""},{"$f":"IF(N3700=\"\",\"\",IF(ISERROR(edata(N3700)),\"FORMATO INCORRECTO\",\"FORMATO CORRECTO\"))","v":""}]
["1921-02-07","",null,null,null,null,null,null,"",null,null,null,null,null,null,null,null,"",null,null,null,null,null,null,null,null,"",null,"",null,null,"",null,null,null,null,null,0,0,0,0,0,{"$f":"IF(AO3711<>0,SUMIFS($AP$6:$AP$1001,$AN$6:$AN$1001,AN3711,$F$6:$F$1001,F3711,$AX$6:$AX$1001,AX3711),0)","v":0},0,{"$f":"IF(AO3711<>0,SUMIFS($AP$6:$AP$1001,$AR$6:$AR$1001,AR3711,$F$6:$F$1001,F3711,$AX$6:$AX$1001,AX3711),0)","v":0},0,0,0,{"$f":"IF(AU3711<>0,SUMIFS($AV$6:$AV$1001,$AT$6:$AT$1001,AT3711,$F$6:$F$1001,F3711,$AY$6:$AY$1001,AY3711),0)","v":0},1900,1900,0,0,0,0,0,0,0,0,0,"","",0,0,0,"FORMATO INCORRECTO","FORMATO INCORRECTO","FORMATO INCORRECTO",{"$f":"IF(L3711=\"\",\"\",IF(ISERROR(edata(L3711)),\"FORMATO INCORRECTO\",\"FORMATO CORRECTO\"))","v":""},{"$f":"IF(U3711=\"\",\"\",IF(ISERROR(edata(U3711)),\"FORMATO INCORRECTO\",\"FORMATO CORRECTO\"))","v":""},{"$f":"IF(N3711=\"\",\"\",IF(ISERROR(edata(N3711)),\"FORMATO INCORRECTO\",\"FORMATO CORRECTO\"))","v":""}]
["1921-02-14","",null,null,null,null,null,null,"",null,null,null,null,null,null,null,null,"",null,null,null,null,null,null,null,null,"",null,"",null,null,"",null,null,null,null,null,0,0,0,0,0,{"$f":"IF(AO3718<>0,SUMIFS($AP$6:$AP$1001,$AN$6:$AN$1001,AN3718,$F$6:$F$1001,F3718,$AX$6:$AX$1001,AX3718),0)","v":0},0,{"$f":"IF(AO3718<>0,SUMIFS($AP$6:$AP$1001,$AR$6:$AR$1001,AR3718,$F$6:$F$1001,F3718,$AX$6:$AX$1001,AX3718),0)","v":0},0,0,0,{"$f":"IF(AU3718<>0,SUMIFS($AV$6:$AV$1001,$AT$6:$AT$1001,AT3718,$F$6:$F$1001,F3718,$AY$6:$AY$1001,AY3718),0)","v":0},1900,1900,0,0,0,0,0,0,0,0,0,"","",0,0,0,"FORMATO INCORRECTO","FORMATO INCORRECTO","FORMATO INCORRECTO",{"$f":"IF(L3718=\"\",\"\",IF(ISERROR(edata(L3718)),\"FORMATO INCORRECTO\",\"FORMATO CORRECTO\"))","v":""},{"$f":"IF(U3718=\"\",\"\",IF(ISERROR(edata(U3718)),\"FORMATO INCORRECTO\",\"FORMATO CORRECTO\"))","v":""},{"$f":"IF(N3718=\"\",\"\",IF(ISERROR(edata(N3718)),\"FORMATO INCORRECTO\",\"FORMATO CORRECTO\"))","v":""}]
["1921-02-17","",null,null,null,null,null,null,"",null,null,null,null,null,null,null,null,"",null,null,null,null,null,null,null,null,"",null,"",null,null,"",null,null,null,null,null,0,0,0,0,0,{"$f":"IF(AO3721<>0,SUMIFS($AP$6:$AP$1001,$AN$6:$AN$1001,AN3721,$F$6:$F$1001,F3721,$AX$6:$AX$1001,AX3721),0)","v":0},0,{"$f":"IF(AO3721<>0,SUMIFS($AP$6:$AP$1001,$AR$6:$AR$1001,AR3721,$F$6:$F$1001,F3721,$AX$6:$AX$1001,AX3721),0)","v":0},0,0,0,{"$f":"IF(AU3721<>0,SUMIFS($AV$6:$AV$1001,$AT$6:$AT$1001,AT3721,$F$6:$F$1001,F3721,$AY$6:$AY$1001,AY3721),0)","v":0},1900,1900,0,0,0,0,0,0,0,0,0,"","",0,0,0,"FORMATO INCORRECTO","FORMATO INCORRECTO","FORMATO INCORRECTO",{"$f":"IF(L3721=\"\",\"\",IF(ISERROR(edata(L3721)),\"FORMATO INCORRECTO\",\"FORMATO CORRECTO\"))","v":""},{"$f":"IF(U3721=\"\",\"\",IF(ISERROR(edata(U3721)),\"FORMATO INCORRECTO\",\"FORMATO CORRECTO\"))","v":""},{"$f":"IF(N3721=\"\",\"\",IF(ISERROR(edata(N3721)),\"FORMATO INCORRECTO\",\"FORMATO CORRECTO\"))","v":""}]
["1921-03-01","",null,null,null,null,null,null,"",null,null,null,null,null,null,null,null,"",null,null,null,null,null,null,null,null,"",null,"",null,null,"",null,null,null,null,null,0,0,0,0,0,{"$f":"IF(AO3733<>0,SUMIFS($AP$6:$AP$1001,$AN$6:$AN$1001,AN3733,$F$6:$F$1001,F3733,$AX$6:$AX$1001,AX3733),0)","v":0},0,{"$f":"IF(AO3733<>0,SUMIFS($AP$6:$AP$1001,$AR$6:$AR$1001,AR3733,$F$6:$F$1001,F3733,$AX$6:$AX$1001,AX3733),0)","v":0},0,0,0,{"$f":"IF(AU3733<>0,SUMIFS($AV$6:$AV$1001,$AT$6:$AT$1001,AT3733,$F$6:$F$1001,F3733,$AY$6:$AY$1001,AY3733),0)","v":0},1900,1900,0,0,0,0,0,0,0,0,0,"","",0,0,0,"FORMATO INCORRECTO","FORMATO INCORRECTO","FORMATO INCORRECTO",{"$f":"IF(L3733=\"\",\"\",IF(ISERROR(edata(L3733)),\"FORMATO INCORRECTO\",\"FORMATO CORRECTO\"))","v":""},{"$f":"IF(U3733=\"\",\"\",IF(ISERROR(edata(U3733)),\"FORMATO INCORRECTO\",\"FORMATO CORRECTO\"))","v":""},{"$f":"IF(N3733=\"\",\"\",IF(ISERROR(edata(N3733)),\"FORMATO INCORRECTO\",\"FORMATO CORRECTO\"))","v":""}]
["1921-03-10","",null,null,null,null,null,null,"",null,null,null,null,null,null,null,null,"",null,null,null,null,null,null,null,null,"",null,"",null,null,"",null,null,null,null,null,0,0,0,0,0,{"$f":"IF(AO3742<>0,SUMIFS($AP$6:$AP$1001,$AN$6:$AN$1001,AN3742,$F$6:$F$1001,F3742,$AX$6:$AX$1001,AX3742),0)","v":0},0,{"$f":"IF(AO3742<>0,SUMIFS($AP$6:$AP$1001,$AR$6:$AR$1001,AR3742,$F$6:$F$1001,F3742,$AX$6:$AX$1001,AX3742),0)","v":0},0,0,0,{"$f":"IF(AU3742<>0,SUMIFS($AV$6:$AV$1001,$AT$6:$AT$1001,AT3742,$F$6:$F$1001,F3742,$AY$6:$AY$1001,AY3742),0)","v":0},1900,1900,0,0,0,0,0,0,0,0,0,"","",0,0,0,"FORMATO INCORRECTO","FORMATO INCORRECTO","FORMATO INCORRECTO",{"$f":"IF(L3742=\"\",\"\",IF(ISERROR(edata(L3742)),\"FORMATO INCORRECTO\",\"FORMATO CORRECTO\"))","v":""},{"$f":"IF(U3742=\"\",\"\",IF(ISERROR(edata(U3742)),\"FORMATO INCORRECTO\",\"FORMATO CORRECTO\"))","v":""},{"$f":"IF(N3742=\"\",\"\",IF(ISERROR(edata(N3742)),\"FORMATO INCORRECTO\",\"FORMATO CORRECTO\"))","v":""}]
["1921-03-19","",null,null,null,null,null,null,"",null,null,null,null,null,null,null,null,"",null,null,null,null,null,null,null,null,"",null,"",null,null,"",null,null,null,null,null,0,0,0,0,0,{"$f":"IF(AO3751<>0,SUMIFS($AP$6:$AP$1001,$AN$6:$AN$1001,AN3751,$F$6:$F$1001,F3751,$AX$6:$AX$1001,AX3751),0)","v":0},0,{"$f":"IF(AO3751<>0,SUMIFS($AP$6:$AP$1001,$AR$6:$AR$1001,AR3751,$F$6:$F$1001,F3751,$AX$6:$AX$1001,AX3751),0)","v":0},0,0,0,{"$f":"IF(AU3751<>0,SUMIFS($AV$6:$AV$1001,$AT$6:$AT$1001,AT3751,$F$6:$F$1001,F3751,$AY$6:$AY$1001,AY3751),0)","v":0},1900,1900,0,0,0,0,0,0,0,0,0,"","",0,0,0,"FORMATO INCORRECTO","FORMATO INCORRECTO","FORMATO INCORRECTO",{"$f":"IF(L3751=\"\",\"\",IF(ISERROR(edata(L3751)),\"FORMATO INCORRECTO\",\"FORMATO CORRECTO\"))","v":""},{"$f":"IF(U3751=\"\",\"\",IF(ISERROR(edata(U3751)),\"FORMATO INCORRECTO\",\"FORMATO CORRECTO\"))","v":""},{"$f":"IF(N3751=\"\",\"\",IF(ISERROR(edata(N3751)),\"FORMATO INCORRECTO\",\"FORMATO CORRECTO\"))","v":""}]
["1921-03-26","",null,null,null,null,null,null,"",null,null,null,null,null,null,null,null,"",null,null,null,null,null,null,null,null,"",null,"",null,null,"",null,null,null,null,null,0,0,0,0,0,{"$f":"IF(AO3758<>0,SUMIFS($AP$6:$AP$1001,$AN$6:$AN$1001,AN3758,$F$6:$F$1001,F3758,$AX$6:$AX$1001,AX3758),0)","v":0},0,{"$f":"IF(AO3758<>0,SUMIFS($AP$6:$AP$1001,$AR$6:$AR$1001,AR3758,$F$6:$F$1001,F3758,$AX$6:$AX$1001,AX3758),0)","v":0},0,0,0,{"$f":"IF(AU3758<>0,SUMIFS($AV$6:$AV$1001,$AT$6:$AT$1001,AT3758,$F$6:$F$1001,F3758,$AY$6:$AY$1001,AY3758),0)","v":0},1900,1900,0,0,0,0,0,0,0,0,0,"","",0,0,0,"FORMATO INCORRECTO","FORMATO INCORRECTO","FORMATO INCORRECTO",{"$f":"IF(L3758=\"\",\"\",IF(ISERROR(edata(L3758)),\"FORMATO INCORRECTO\",\"FORMATO CORRECTO\"))","v":""},{"$f":"IF(U3758=\"\",\"\",IF(ISERROR(edata(U3758)),\"FORMATO INCORRECTO\",\"FORMATO CORRECTO\"))","v":""},{"$f":"IF(N3758=\"\",\"\",IF(ISERROR(edata(N3758)),\"FORMATO INCORRECTO\",\"FORMATO CORRECTO\"))","v":""}]
["1921-04-07","",null,null,null,null,null,null,"",null,null,null,null,null,null,null,null,"",null,null,null,null,null,null,null,null,"",null,"",null,null,"",null,null,null,null,null,0,0,0,0,0,{"$f":"IF(AO3770<>0,SUMIFS($AP$6:$AP$1001,$AN$6:$AN$1001,AN3770,$F$6:$F$1001,F3770,$AX$6:$AX$1001,AX3770),0)","v":0},0,{"$f":"IF(AO3770<>0,SUMIFS($AP$6:$AP$1001,$AR$6:$AR$1001,AR3770,$F$6:$F$1001,F3770,$AX$6:$AX$1001,AX3770),0)","v":0},0,0,0,{"$f":"IF(AU3770<>0,SUMIFS($AV$6:$AV$1001,$AT$6:$AT$1001,AT3770,$F$6:$F$1001,F3770,$AY$6:$AY$1001,AY3770),0)","v":0},1900,1900,0,0,0,0,0,0,0,0,0,"","",0,0,0,"FORMATO INCORRECTO","FORMATO INCORRECTO","FORMATO INCORRECTO",{"$f":"IF(L3770=\"\",\"\",IF(ISERROR(edata(L3770)),\"FORMATO INCORRECTO\",\"FORMATO CORRECTO\"))","v":""},{"$f":"IF(U3770=\"\",\"\",IF(ISERROR(edata(U3770)),\"FORMATO INCORRECTO\",\"FORMATO CORRECTO\"))","v":""},{"$f":"IF(N3770=\"\",\"\",IF(ISERROR(edata(N3770)),\"FORMATO INCORRECTO\",\"FORMATO CORRECTO\"))","v":""}]
["1921-04-19","",null,null,null,null,null,null,"",null,null,null,null,null,null,null,null,"",null,null,null,null,null,null,null,null,"",null,"",null,null,"",null,null,null,null,null,0,0,0,0,0,{"$f":"IF(AO3782<>0,SUMIFS($AP$6:$AP$1001,$AN$6:$AN$1001,AN3782,$F$6:$F$1001,F3782,$AX$6:$AX$1001,AX3782),0)","v":0},0,{"$f":"IF(AO3782<>0,SUMIFS($AP$6:$AP$1001,$AR$6:$AR$1001,AR3782,$F$6:$F$1001,F3782,$AX$6:$AX$1001,AX3782),0)","v":0},0,0,0,{"$f":"IF(AU3782<>0,SUMIFS($AV$6:$AV$1001,$AT$6:$AT$1001,AT3782,$F$6:$F$1001,F3782,$AY$6:$AY$1001,AY3782),0)","v":0},1900,1900,0,0,0,0,0,0,0,0,0,"","",0,0,0,"FORMATO INCORRECTO","FORMATO INCORRECTO","FORMATO INCORRECTO",{"$f":"IF(L3782=\"\",\"\",IF(ISERROR(edata(L3782)),\"FORMATO INCORRECTO\",\"FORMATO CORRECTO\"))","v":""},{"$f":"IF(U3782=\"\",\"\",IF(ISERROR(edata(U3782)),\"FORMATO INCORRECTO\",\"FORMATO CORRECTO\"))","v":""},{"$f":"IF(N3782=\"\",\"\",IF(ISERROR(edata(N3782)),\"FORMATO INCORRECTO\",\"FORMATO CORRECTO\"))","v":""}]
["1921-04-20","",null,null,null,null,null,null,"",null,null,null,null,null,null,null,null,"",null,null,null,null,null,null,null,null,"",null,"",null,null,"",null,null,null,null,null,0,0,0,0,0,{"$f":"IF(AO3783<>0,SUMIFS($AP$6:$AP$1001,$AN$6:$AN$1001,AN3783,$F$6:$F$1001,F3783,$AX$6:$AX$1001,AX3783),0)","v":0},0,{"$f":"IF(AO3783<>0,SUMIFS($AP$6:$AP$1001,$AR$6:$AR$1001,AR3783,$F$6:$F$1001,F3783,$AX$6:$AX$1001,AX3783),0)","v":0},0,0,0,{"$f":"IF(AU3783<>0,SUMIFS($AV$6:$AV$1001,$AT$6:$AT$1001,AT3783,$F$6:$F$1001,F3783,$AY$6:$AY$1001,AY3783),0)","v":0},1900,1900,0,0,0,0,0,0,0,0,0,"","",0,0,0,"FORMATO INCORRECTO","FORMATO INCORRECTO","FORMATO INCORRECTO",{"$f":"IF(L3783=\"\",\"\",IF(ISERROR(edata(L3783)),\"FORMATO INCORRECTO\",\"FORMATO CORRECTO\"))","v":""},{"$f":"IF(U3783=\"\",\"\",IF(ISERROR(edata(U3783)),\"FORMATO INCORRECTO\",\"FORMATO CORRECTO\"))","v":""},{"$f":"IF(N3783=\"\",\"\",IF(ISERROR(edata(N3783)),\"FORMATO INCORRECTO\",\"FORMATO CORRECTO\"))","v":""}]
["1921-04-28","",null,null,null,null,null,null,"",null,null,null,null,null,null,null,null,"",null,null,null,null,null,null,null,null,"",null,"",null,null,"",null,null,null,null,null,0,0,0,0,0,{"$f":"IF(AO3791<>0,SUMIFS($AP$6:$AP$1001,$AN$6:$AN$1001,AN3791,$F$6:$F$1001,F3791,$AX$6:$AX$1001,AX3791),0)","v":0},0,{"$f":"IF(AO3791<>0,SUMIFS($AP$6:$AP$1001,$AR$6:$AR$1001,AR3791,$F$6:$F$1001,F3791,$AX$6:$AX$1001,AX3791),0)","v":0},0,0,0,{"$f":"IF(AU3791<>0,SUMIFS($AV$6:$AV$1001,$AT$6:$AT$1001,AT3791,$F$6:$F$1001,F3791,$AY$6:$AY$1001,AY3791),0)","v":0},1900,1900,0,0,0,0,0,0,0,0,0,"","",0,0,0,"FORMATO INCORRECTO","FORMATO INCORRECTO","FORMATO INCORRECTO",{"$f":"IF(L3791=\"\",\"\",IF(ISERROR(edata(L3791)),\"FORMATO INCORRECTO\",\"FORMATO CORRECTO\"))","v":""},{"$f":"IF(U3791=\"\",\"\",IF(ISERROR(edata(U3791)),\"FORMATO INCORRECTO\",\"FORMATO CORRECTO\"))","v":""},{"$f":"IF(N3791=\"\",\"\",IF(ISERROR(edata(N3791)),\"FORMATO INCORRECTO\",\"FORMATO CORRECTO\"))","v":""}]
["1921-05-14","",null,null,null,null,null,null,"",null,null,null,null,null,null,null,null,"",null,null,null,null,null,null,null,null,"",null,"",null,null,"",null,null,null,null,null,0,0,0,0,0,{"$f":"IF(AO3807<>0,SUMIFS($AP$6:$AP$1001,$AN$6:$AN$1001,AN3807,$F$6:$F$1001,F3807,$AX$6:$AX$1001,AX3807),0)","v":0},0,{"$f":"IF(AO3807<>0,SUMIFS($AP$6:$AP$1001,$AR$6:$AR$1001,AR3807,$F$6:$F$1001,F3807,$AX$6:$AX$1001,AX3807),0)","v":0},0,0,0,{"$f":"IF(AU3807<>0,SUMIFS($AV$6:$AV$1001,$AT$6:$AT$1001,AT3807,$F$6:$F$1001,F3807,$AY$6:$AY$1001,AY3807),0)","v":0},1900,1900,0,0,0,0,0,0,0,0,0,"","",0,0,0,"FORMATO INCORRECTO","FORMATO INCORRECTO","FORMATO INCORRECTO",{"$f":"IF(L3807=\"\",\"\",IF(ISERROR(edata(L3807)),\"FORMATO INCORRECTO\",\"FORMATO CORRECTO\"))","v":""},{"$f":"IF(U3807=\"\",\"\",IF(ISERROR(edata(U3807)),\"FORMATO INCORRECTO\",\"FORMATO CORRECTO\"))","v":""},{"$f":"IF(N3807=\"\",\"\",IF(ISERROR(edata(N3807)),\"FORMATO INCORRECTO\",\"FORMATO CORRECTO\"))","v":""}]
["1921-05-17","",null,null,null,null,null,null,"",null,null,null,null,null,null,null,null,"",null,null,null,null,null,null,null,null,"",null,"",null,null,"",null,null,null,null,null,0,0,0,0,0,{"$f":"IF(AO3810<>0,SUMIFS($AP$6:$AP$1001,$AN$6:$AN$1001,AN3810,$F$6:$F$1001,F3810,$AX$6:$AX$1001,AX3810),0)","v":0},0,{"$f":"IF(AO3810<>0,SUMIFS($AP$6:$AP$1001,$AR$6:$AR$1001,AR3810,$F$6:$F$1001,F3810,$AX$6:$AX$1001,AX3810),0)","v":0},0,0,0,{"$f":"IF(AU3810<>0,SUMIFS($AV$6:$AV$1001,$AT$6:$AT$1001,AT3810,$F$6:$F$1001,F3810,$AY$6:$AY$1001,AY3810),0)","v":0},1900,1900,0,0,0,0,0,0,0,0,0,"","",0,0,0,"FORMATO INCORRECTO","FORMATO INCORRECTO","FORMATO INCORRECTO",{"$f":"IF(L3810=\"\",\"\",IF(ISERROR(edata(L3810)),\"FORMATO INCORRECTO\",\"FORMATO CORRECTO\"))","v":""},{"$f":"IF(U3810=\"\",\"\",IF(ISERROR(edata(U3810)),\"FORMATO INCORRECTO\",\"FORMATO CORRECTO\"))","v":""},{"$f":"IF(N3810=\"\",\"\",IF(ISERROR(edata(N3810)),\"FORMATO INCORRECTO\",\"FORMATO CORRECTO\"))","v":""}]
["1921-05-29","",null,null,null,null,null,null,"",null,null,null,null,null,null,null,null,"",null,null,null,null,null,null,null,null,"",null,"",null,null,"",null,null,null,null,null,0,0,0,0,0,{"$f":"IF(AO3822<>0,SUMIFS($AP$6:$AP$1001,$AN$6:$AN$1001,AN3822,$F$6:$F$1001,F3822,$AX$6:$AX$1001,AX3822),0)","v":0},0,{"$f":"IF(AO3822<>0,SUMIFS($AP$6:$AP$1001,$AR$6:$AR$1001,AR3822,$F$6:$F$1001,F3822,$AX$6:$AX$1001,AX3822),0)","v":0},0,0,0,{"$f":"IF(AU3822<>0,SUMIFS($AV$6:$AV$1001,$AT$6:$AT$1001,AT3822,$F$6:$F$1001,F3822,$AY$6:$AY$1001,AY3822),0)","v":0},1900,1900,0,0,0,0,0,0,0,0,0,"","",0,0,0,"FORMATO INCORRECTO","FORMATO INCORRECTO","FORMATO INCORRECTO",{"$f":"IF(L3822=\"\",\"\",IF(ISERROR(edata(L3822)),\"FORMATO INCORRECTO\",\"FORMATO CORRECTO\"))","v":""},{"$f":"IF(U3822=\"\",\"\",IF(ISERROR(edata(U3822)),\"FORMATO INCORRECTO\",\"FORMATO CORRECTO\"))","v":""},{"$f":"IF(N3822=\"\",\"\",IF(ISERROR(edata(N3822)),\"FORMATO INCORRECTO\",\"FORMATO CORRECTO\"))","v":""}]
["1921-06-04","",null,null,null,null,null,null,"",null,null,null,null,null,null,null,null,"",null,null,null,null,null,null,null,null,"",null,"",null,null,"",null,null,null,null,null,0,0,0,0,0,{"$f":"IF(AO3828<>0,SUMIFS($AP$6:$AP$1001,$AN$6:$AN$1001,AN3828,$F$6:$F$1001,F3828,$AX$6:$AX$1001,AX3828),0)","v":0},0,{"$f":"IF(AO3828<>0,SUMIFS($AP$6:$AP$1001,$AR$6:$AR$1001,AR3828,$F$6:$F$1001,F3828,$AX$6:$AX$1001,AX3828),0)","v":0},0,0,0,{"$f":"IF(AU3828<>0,SUMIFS($AV$6:$AV$1001,$AT$6:$AT$1001,AT3828,$F$6:$F$1001,F3828,$AY$6:$AY$1001,AY3828),0)","v":0},1900,1900,0,0,0,0,0,0,0,0,0,"","",0,0,0,"FORMATO INCORRECTO","FORMATO INCORRECTO","FORMATO INCORRECTO",{"$f":"IF(L3828=\"\",\"\",IF(ISERROR(edata(L3828)),\"FORMATO INCORRECTO\",\"FORMATO CORRECTO\"))","v":""},{"$f":"IF(U3828=\"\",\"\",IF(ISERROR(edata(U3828)),\"FORMATO INCORRECTO\",\"FORMATO CORRECTO\"))","v":""},{"$f":"IF(N3828=\"\",\"\",IF(ISERROR(edata(N3828)),\"FORMATO INCORRECTO\",\"FORMATO CORRECTO\"))","v":""}]
["1921-06-16","",null,null,null,null,null,null,"",null,null,null,null,null,null,null,null,"",null,null,null,null,null,null,null,null,"",null,"",null,null,"",null,null,null,null,null,0,0,0,0,0,{"$f":"IF(AO3840<>0,SUMIFS($AP$6:$AP$1001,$AN$6:$AN$1001,AN3840,$F$6:$F$1001,F3840,$AX$6:$AX$1001,AX3840),0)","v":0},0,{"$f":"IF(AO3840<>0,SUMIFS($AP$6:$AP$1001,$AR$6:$AR$1001,AR3840,$F$6:$F$1001,F3840,$AX$6:$AX$1001,AX3840),0)","v":0},0,0,0,{"$f":"IF(AU3840<>0,SUMIFS($AV$6:$AV$1001,$AT$6:$AT$1001,AT3840,$F$6:$F$1001,F3840,$AY$6:$AY$1001,AY3840),0)","v":0},1900,1900,0,0,0,0,0,0,0,0,0,"","",0,0,0,"FORMATO INCORRECTO","FORMATO INCORRECTO","FORMATO INCORRECTO",{"$f":"IF(L3840=\"\",\"\",IF(ISERROR(edata(L3840)),\"FORMATO INCORRECTO\",\"FORMATO CORRECTO\"))","v":""},{"$f":"IF(U3840=\"\",\"\",IF(ISERROR(edata(U3840)),\"FORMATO INCORRECTO\",\"FORMATO CORRECTO\"))","v":""},{"$f":"IF(N3840=\"\",\"\",IF(ISERROR(edata(N3840)),\"FORMATO INCORRECTO\",\"FORMATO CORRECTO\"))","v":""}]
["1921-06-28","",null,null,null,null,null,null,"",null,null,null,null,null,null,null,null,"",null,null,null,null,null,null,null,null,"",null,"",null,null,"",null,null,null,null,null,0,0,0,0,0,{"$f":"IF(AO3852<>0,SUMIFS($AP$6:$AP$1001,$AN$6:$AN$1001,AN3852,$F$6:$F$1001,F3852,$AX$6:$AX$1001,AX3852),0)","v":0},0,{"$f":"IF(AO3852<>0,SUMIFS($AP$6:$AP$1001,$AR$6:$AR$1001,AR3852,$F$6:$F$1001,F3852,$AX$6:$AX$1001,AX3852),0)","v":0},0,0,0,{"$f":"IF(AU3852<>0,SUMIFS($AV$6:$AV$1001,$AT$6:$AT$1001,AT3852,$F$6:$F$1001,F3852,$AY$6:$AY$1001,AY3852),0)","v":0},1900,1900,0,0,0,0,0,0,0,0,0,"","",0,0,0,"FORMATO INCORRECTO","FORMATO INCORRECTO","FORMATO INCORRECTO",{"$f":"IF(L3852=\"\",\"\",IF(ISERROR(edata(L3852)),\"FORMATO INCORRECTO\",\"FORMATO CORRECTO\"))","v":""},{"$f":"IF(U3852=\"\",\"\",IF(ISERROR(edata(U3852)),\"FORMATO INCORRECTO\",\"FORMATO CORRECTO\"))","v":""},{"$f":"IF(N3852=\"\",\"\",IF(ISERROR(edata(N3852)),\"FORMATO INCORRECTO\",\"FORMATO CORRECTO\"))","v":""}]
["1921-06-29","",null,null,null,null,null,null,"",null,null,null,null,null,null,null,null,"",null,null,null,null,null,null,null,null,"",null,"",null,null,"",null,null,null,null,null,0,0,0,0,0,{"$f":"IF(AO3853<>0,SUMIFS($AP$6:$AP$1001,$AN$6:$AN$1001,AN3853,$F$6:$F$1001,F3853,$AX$6:$AX$1001,AX3853),0)","v":0},0,{"$f":"IF(AO3853<>0,SUMIFS($AP$6:$AP$1001,$AR$6:$AR$1001,AR3853,$F$6:$F$1001,F3853,$AX$6:$AX$1001,AX3853),0)","v":0},0,0,0,{"$f":"IF(AU3853<>0,SUMIFS($AV$6:$AV$1001,$AT$6:$AT$1001,AT3853,$F$6:$F$1001,F3853,$AY$6:$AY$1001,AY3853),0)","v":0},1900,1900,0,0,0,0,0,0,0,0,0,"","",0,0,0,"FORMATO INCORRECTO","FORMATO INCORRECTO","FORMATO INCORRECTO",{"$f":"IF(L3853=\"\",\"\",IF(ISERROR(edata(L3853)),\"FORMATO INCORRECTO\",\"FORMATO CORRECTO\"))","v":""},{"$f":"IF(U3853=\"\",\"\",IF(ISERROR(edata(U3853)),\"FORMATO INCORRECTO\",\"FORMATO CORRECTO\"))","v":""},{"$f":"IF(N3853=\"\",\"\",IF(ISERROR(edata(N3853)),\"FORMATO INCORRECTO\",\"FORMATO CORRECTO\"))","v":""}]
["1921-07-07","",null,null,null,null,null,null,"",null,null,null,null,null,null,null,null,"",null,null,null,null,null,null,null,null,"",null,"",null,null,"",null,null,null,null,null,0,0,0,0,0,{"$f":"IF(AO3861<>0,SUMIFS($AP$6:$AP$1001,$AN$6:$AN$1001,AN3861,$F$6:$F$1001,F3861,$AX$6:$AX$1001,AX3861),0)","v":0},0,{"$f":"IF(AO3861<>0,SUMIFS($AP$6:$AP$1001,$AR$6:$AR$1001,AR3861,$F$6:$F$1001,F3861,$AX$6:$AX$1001,AX3861),0)","v":0},0,0,0,{"$f":"IF(AU3861<>0,SUMIFS($AV$6:$AV$1001,$AT$6:$AT$1001,AT3861,$F$6:$F$1001,F3861,$AY$6:$AY$1001,AY3861),0)","v":0},1900,1900,0,0,0,0,0,0,0,0,0,"","",0,0,0,"FORMATO INCORRECTO","FORMATO INCORRECTO","FORMATO INCORRECTO",{"$f":"IF(L3861=\"\",\"\",IF(ISERROR(edata(L3861)),\"FORMATO INCORRECTO\",\"FORMATO CORRECTO\"))","v":""},{"$f":"IF(U3861=\"\",\"\",IF(ISERROR(edata(U3861)),\"FORMATO INCORRECTO\",\"FORMATO CORRECTO\"))","v":""},{"$f":"IF(N3861=\"\",\"\",IF(ISERROR(edata(N3861)),\"FORMATO INCORRECTO\",\"FORMATO CORRECTO\"))","v":""}]
["1921-07-23","",null,null,null,null,null,null,"",null,null,null,null,null,null,null,null,"",null,null,null,null,null,null,null,null,"",null,"",null,null,"",null,null,null,null,null,0,0,0,0,0,{"$f":"IF(AO3877<>0,SUMIFS($AP$6:$AP$1001,$AN$6:$AN$1001,AN3877,$F$6:$F$1001,F3877,$AX$6:$AX$1001,AX3877),0)","v":0},0,{"$f":"IF(AO3877<>0,SUMIFS($AP$6:$AP$1001,$AR$6:$AR$1001,AR3877,$F$6:$F$1001,F3877,$AX$6:$AX$1001,AX3877),0)","v":0},0,0,0,{"$f":"IF(AU3877<>0,SUMIFS($AV$6:$AV$1001,$AT$6:$AT$1001,AT3877,$F$6:$F$1001,F3877,$AY$6:$AY$1001,AY3877),0)","v":0},1900,1900,0,0,0,0,0,0,0,0,0,"","",0,0,0,"FORMATO INCORRECTO","FORMATO INCORRECTO","FORMATO INCORRECTO",{"$f":"IF(L3877=\"\",\"\",IF(ISERROR(edata(L3877)),\"FORMATO INCORRECTO\",\"FORMATO CORRECTO\"))","v":""},{"$f":"IF(U3877=\"\",\"\",IF(ISERROR(edata(U3877)),\"FORMATO INCORRECTO\",\"FORMATO CORRECTO\"))","v":""},{"$f":"IF(N3877=\"\",\"\",IF(ISERROR(edata(N3877)),\"FORMATO INCORRECTO\",\"FORMATO CORRECTO\"))","v":""}]
["1921-07-26","",null,null,null,null,null,null,"",null,null,null,null,null,null,null,null,"",null,null,null,null,null,null,null,null,"",null,"",null,null,"",null,null,null,null,null,0,0,0,0,0,{"$f":"IF(AO3880<>0,SUMIFS($AP$6:$AP$1001,$AN$6:$AN$1001,AN3880,$F$6:$F$1001,F3880,$AX$6:$AX$1001,AX3880),0)","v":0},0,{"$f":"IF(AO3880<>0,SUMIFS($AP$6:$AP$1001,$AR$6:$AR$1001,AR3880,$F$6:$F$1001,F3880,$AX$6:$AX$1001,AX3880),0)","v":0},0,0,0,{"$f":"IF(AU3880<>0,SUMIFS($AV$6:$AV$1001,$AT$6:$AT$1001,AT3880,$F$6:$F$1001,F3880,$AY$6:$AY$1001,AY3880),0)","v":0},1900,1900,0,0,0,0,0,0,0,0,0,"","",0,0,0,"FORMATO INCORRECTO","FORMATO INCORRECTO","FORMATO INCORRECTO",{"$f":"IF(L3880=\"\",\"\",IF(ISERROR(edata(L3880)),\"FORMATO INCORRECTO\",\"FORMATO CORRECTO\"))","v":""},{"$f":"IF(U3880=\"\",\"\",IF(ISERROR(edata(U3880)),\"FORMATO INCORRECTO\",\"FORMATO CORRECTO\"))","v":""},{"$f":"IF(N3880=\"\",\"\",IF(ISERROR(edata(N3880)),\"FORMATO INCORRECTO\",\"FORMATO CORRECTO\"))","v":""}]
["1921-08-07","",null,null,null,null,null,null,"",null,null,null,null,null,null,null,null,"",null,null,null,null,null,null,null,null,"",null,"",null,null,"",null,null,null,null,null,0,0,0,0,0,{"$f":"IF(AO3892<>0,SUMIFS($AP$6:$AP$1001,$AN$6:$AN$1001,AN3892,$F$6:$F$1001,F3892,$AX$6:$AX$1001,AX3892),0)","v":0},0,{"$f":"IF(AO3892<>0,SUMIFS($AP$6:$AP$1001,$AR$6:$AR$1001,AR3892,$F$6:$F$1001,F3892,$AX$6:$AX$1001,AX3892),0)","v":0},0,0,0,{"$f":"IF(AU3892<>0,SUMIFS($AV$6:$AV$1001,$AT$6:$AT$1001,AT3892,$F$6:$F$1001,F3892,$AY$6:$AY$1001,AY3892),0)","v":0},1900,1900,0,0,0,0,0,0,0,0,0,"","",0,0,0,"FORMATO INCORRECTO","FORMATO INCORRECTO","FORMATO INCORRECTO",{"$f":"IF(L3892=\"\",\"\",IF(ISERROR(edata(L3892)),\"FORMATO INCORRECTO\",\"FORMATO CORRECTO\"))","v":""},{"$f":"IF(U3892=\"\",\"\",IF(ISERROR(edata(U3892)),\"FORMATO INCORRECTO\",\"FORMATO CORRECTO\"))","v":""},{"$f":"IF(N3892=\"\",\"\",IF(ISERROR(edata(N3892)),\"FORMATO INCORRECTO\",\"FORMATO CORRECTO\"))","v":""}]
["1921-08-13","",null,null,null,null,null,null,"",null,null,null,null,null,null,null,null,"",null,null,null,null,null,null,null,null,"",null,"",null,null,"",null,null,null,null,null,0,0,0,0,0,{"$f":"IF(AO3898<>0,SUMIFS($AP$6:$AP$1001,$AN$6:$AN$1001,AN3898,$F$6:$F$1001,F3898,$AX$6:$AX$1001,AX3898),0)","v":0},0,{"$f":"IF(AO3898<>0,SUMIFS($AP$6:$AP$1001,$AR$6:$AR$1001,AR3898,$F$6:$F$1001,F3898,$AX$6:$AX$1001,AX3898),0)","v":0},0,0,0,{"$f":"IF(AU3898<>0,SUMIFS($AV$6:$AV$1001,$AT$6:$AT$1001,AT3898,$F$6:$F$1001,F3898,$AY$6:$AY$1001,AY3898),0)","v":0},1900,1900,0,0,0,0,0,0,0,0,0,"","",0,0,0,"FORMATO INCORRECTO","FORMATO INCORRECTO","FORMATO INCORRECTO",{"$f":"IF(L3898=\"\",\"\",IF(ISERROR(edata(L3898)),\"FORMATO INCORRECTO\",\"FORMATO CORRECTO\"))","v":""},{"$f":"IF(U3898=\"\",\"\",IF(ISERROR(edata(U3898)),\"FORMATO INCORRECTO\",\"FORMATO CORRECTO\"))","v":""},{"$f":"IF(N3898=\"\",\"\",IF(ISERROR(edata(N3898)),\"FORMATO INCORRECTO\",\"FORMATO CORRECTO\"))","v":""}]
["1921-08-25","",null,null,null,null,null,null,"",null,null,null,null,null,null,null,null,"",null,null,null,null,null,null,null,null,"",null,"",null,null,"",null,null,null,null,null,0,0,0,0,0,{"$f":"IF(AO3910<>0,SUMIFS($AP$6:$AP$1001,$AN$6:$AN$1001,AN3910,$F$6:$F$1001,F3910,$AX$6:$AX$1001,AX3910),0)","v":0},0,{"$f":"IF(AO3910<>0,SUMIFS($AP$6:$AP$1001,$AR$6:$AR$1001,AR3910,$F$6:$F$1001,F3910,$AX$6:$AX$1001,AX3910),0)","v":0},0,0,0,{"$f":"IF(AU3910<>0,SUMIFS($AV$6:$AV$1001,$AT$6:$AT$1001,AT3910,$F$6:$F$1001,F3910,$AY$6:$AY$1001,AY3910),0)","v":0},1900,1900,0,0,0,0,0,0,0,0,0,"","",0,0,0,"FORMATO INCORRECTO","FORMATO INCORRECTO","FORMATO INCORRECTO",{"$f":"IF(L3910=\"\",\"\",IF(ISERROR(edata(L3910)),\"FORMATO INCORRECTO\",\"FORMATO CORRECTO\"))","v":""},{"$f":"IF(U3910=\"\",\"\",IF(ISERROR(edata(U3910)),\"FORMATO INCORRECTO\",\"FORMATO CORRECTO\"))","v":""},{"$f":"IF(N3910=\"\",\"\",IF(ISERROR(edata(N3910)),\"FORMATO INCORRECTO\",\"FORMATO CORRECTO\"))","v":""}]
["1921-09-06","",null,null,null,null,null,null,"",null,null,null,null,null,null,null,null,"",null,null,null,null,null,null,null,null,"",null,"",null,null,"",null,null,null,null,null,0,0,0,0,0,{"$f":"IF(AO3922<>0,SUMIFS($AP$6:$AP$1001,$AN$6:$AN$1001,AN3922,$F$6:$F$1001,F3922,$AX$6:$AX$1001,AX3922),0)","v":0},0,{"$f":"IF(AO3922<>0,SUMIFS($AP$6:$AP$1001,$AR$6:$AR$1001,AR3922,$F$6:$F$1001,F3922,$AX$6:$AX$1001,AX3922),0)","v":0},0,0,0,{"$f":"IF(AU3922<>0,SUMIFS($AV$6:$AV$1001,$AT$6:$AT$1001,AT3922,$F$6:$F$1001,F3922,$AY$6:$AY$1001,AY3922),0)","v":0},1900,1900,0,0,0,0,0,0,0,0,0,"","",0,0,0,"FORMATO INCORRECTO","FORMATO INCORRECTO","FORMATO INCORRECTO",{"$f":"IF(L3922=\"\",\"\",IF(ISERROR(edata(L3922)),\"FORMATO INCORRECTO\",\"FORMATO CORRECTO\"))","v":""},{"$f":"IF(U3922=\"\",\"\",IF(ISERROR(edata(U3922)),\"FORMATO INCORRECTO\",\"FORMATO CORRECTO\"))","v":""},{"$f":"IF(N3922=\"\",\"\",IF(ISERROR(edata(N3922)),\"FORMATO INCORRECTO\",\"FORMATO CORRECTO\"))","v":""}]
["1921-09-07","",null,null,null,null,null,null,"",null,null,null,null,null,null,null,null,"",null,null,null,null,null,null,null,null,"",null,"",null,null,"",null,null,null,null,null,0,0,0,0,0,{"$f":"IF(AO3923<>0,SUMIFS($AP$6:$AP$1001,$AN$6:$AN$1001,AN3923,$F$6:$F$1001,F3923,$AX$6:$AX$1001,AX3923),0)","v":0},0,{"$f":"IF(AO3923<>0,SUMIFS($AP$6:$AP$1001,$AR$6:$AR$1001,AR3923,$F$6:$F$1001,F3923,$AX$6:$AX$1001,AX3923),0)","v":0},0,0,0,{"$f":"IF(AU3923<>0,SUMIFS($AV$6:$AV$1001,$AT$6:$AT$1001,AT3923,$F$6:$F$1001,F3923,$AY$6:$AY$1001,AY3923),0)","v":0},1900,1900,0,0,0,0,0,0,0,0,0,"","",0,0,0,"FORMATO INCORRECTO","FORMATO INCORRECTO","FORMATO INCORRECTO",{"$f":"IF(L3923=\"\",\"\",IF(ISERROR(edata(L3923)),\"FORMATO INCORRECTO\",\"FORMATO CORRECTO\"))","v":""},{"$f":"IF(U3923=\"\",\"\",IF(ISERROR(edata(U3923)),\"FORMATO INCORRECTO\",\"FORMATO CORRECTO\"))","v":""},{"$f":"IF(N3923=\"\",\"\",IF(ISERROR(edata(N3923)),\"FORMATO INCORRECTO\",\"FORMATO CORRECTO\"))","v":""}]
["1921-09-15","",null,null,null,null,null,null,"",null,null,null,null,null,null,null,null,"",null,null,null,null,null,null,null,null,"",null,"",null,null,"",null,null,null,null,null,0,0,0,0,0,{"$f":"IF(AO3931<>0,SUMIFS($AP$6:$AP$1001,$AN$6:$AN$1001,AN3931,$F$6:$F$1001,F3931,$AX$6:$AX$1001,AX3931),0)","v":0},0,{"$f":"IF(AO3931<>0,SUMIFS($AP$6:$AP$1001,$AR$6:$AR$1001,AR3931,$F$6:$F$1001,F3931,$AX$6:$AX$1001,AX3931),0)","v":0},0,0,0,{"$f":"IF(AU3931<>0,SUMIFS($AV$6:$AV$1001,$AT$6:$AT$1001,AT3931,$F$6:$F$1001,F3931,$AY$6:$AY$1001,AY3931),0)","v":0},1900,1900,0,0,0,0,0,0,0,0,0,"","",0,0,0,"FORMATO INCORRECTO","FORMATO INCORRECTO","FORMATO INCORRECTO",{"$f":"IF(L3931=\"\",\"\",IF(ISERROR(edata(L3931)),\"FORMATO INCORRECTO\",\"FORMATO CORRECTO\"))","v":""},{"$f":"IF(U3931=\"\",\"\",IF(ISERROR(edata(U3931)),\"FORMATO INCORRECTO\",\"FORMATO CORRECTO\"))","v":""},{"$f":"IF(N3931=\"\",\"\",IF(ISERROR(edata(N3931)),\"FORMATO INCORRECTO\",\"FORMATO CORRECTO\"))","v":""}]
["1921-10-01","",null,null,null,null,null,null,"",null,null,null,null,null,null,null,null,"",null,null,null,null,null,null,null,null,"",null,"",null,null,"",null,null,null,null,null,0,0,0,0,0,{"$f":"IF(AO3947<>0,SUMIFS($AP$6:$AP$1001,$AN$6:$AN$1001,AN3947,$F$6:$F$1001,F3947,$AX$6:$AX$1001,AX3947),0)","v":0},0,{"$f":"IF(AO3947<>0,SUMIFS($AP$6:$AP$1001,$AR$6:$AR$1001,AR3947,$F$6:$F$1001,F3947,$AX$6:$AX$1001,AX3947),0)","v":0},0,0,0,{"$f":"IF(AU3947<>0,SUMIFS($AV$6:$AV$1001,$AT$6:$AT$1001,AT3947,$F$6:$F$1001,F3947,$AY$6:$AY$1001,AY3947),0)","v":0},1900,1900,0,0,0,0,0,0,0,0,0,"","",0,0,0,"FORMATO INCORRECTO","FORMATO INCORRECTO","FORMATO INCORRECTO",{"$f":"IF(L3947=\"\",\"\",IF(ISERROR(edata(L3947)),\"FORMATO INCORRECTO\",\"FORMATO CORRECTO\"))","v":""},{"$f":"IF(U3947=\"\",\"\",IF(ISERROR(edata(U3947)),\"FORMATO INCORRECTO\",\"FORMATO CORRECTO\"))","v":""},{"$f":"IF(N3947=\"\",\"\",IF(ISERROR(edata(N3947)),\"FORMATO INCORRECTO\",\"FORMATO CORRECTO\"))","v":""}]
["1921-10-04","",null,null,null,null,null,null,"",null,null,null,null,null,null,null,null,"",null,null,null,null,null,null,null,null,"",null,"",null,null,"",null,null,null,null,null,0,0,0,0,0,{"$f":"IF(AO3950<>0,SUMIFS($AP$6:$AP$1001,$AN$6:$AN$1001,AN3950,$F$6:$F$1001,F3950,$AX$6:$AX$1001,AX3950),0)","v":0},0,{"$f":"IF(AO3950<>0,SUMIFS($AP$6:$AP$1001,$AR$6:$AR$1001,AR3950,$F$6:$F$1001,F3950,$AX$6:$AX$1001,AX3950),0)","v":0},0,0,0,{"$f":"IF(AU3950<>0,SUMIFS($AV$6:$AV$1001,$AT$6:$AT$1001,AT3950,$F$6:$F$1001,F3950,$AY$6:$AY$1001,AY3950),0)","v":0},1900,1900,0,0,0,0,0,0,0,0,0,"","",0,0,0,"FORMATO INCORRECTO","FORMATO INCORRECTO","FORMATO INCORRECTO",{"$f":"IF(L3950=\"\",\"\",IF(ISERROR(edata(L3950)),\"FORMATO INCORRECTO\",\"FORMATO CORRECTO\"))","v":""},{"$f":"IF(U3950=\"\",\"\",IF(ISERROR(edata(U3950)),\"FORMATO INCORRECTO\",\"FORMATO CORRECTO\"))","v":""},{"$f":"IF(N3950=\"\",\"\",IF(ISERROR(edata(N3950)),\"FORMATO INCORRECTO\",\"FORMATO CORRECTO\"))","v":""}]
["1921-10-16","",null,null,null,null,null,null,"",null,null,null,null,null,null,null,null,"",null,null,null,null,null,null,null,null,"",null,"",null,null,"",null,null,null,null,null,0,0,0,0,0,{"$f":"IF(AO3962<>0,SUMIFS($AP$6:$AP$1001,$AN$6:$AN$1001,AN3962,$F$6:$F$1001,F3962,$AX$6:$AX$1001,AX3962),0)","v":0},0,{"$f":"IF(AO3962<>0,SUMIFS($AP$6:$AP$1001,$AR$6:$AR$1001,AR3962,$F$6:$F$1001,F3962,$AX$6:$AX$1001,AX3962),0)","v":0},0,0,0,{"$f":"IF(AU3962<>0,SUMIFS($AV$6:$AV$1001,$AT$6:$AT$1001,AT3962,$F$6:$F$1001,F3962,$AY$6:$AY$1001,AY3962),0)","v":0},1900,1900,0,0,0,0,0,0,0,0,0,"","",0,0,0,"FORMATO INCORRECTO","FORMATO INCORRECTO","FORMATO INCORRECTO",{"$f":"IF(L3962=\"\",\"\",IF(ISERROR(edata(L3962)),\"FORMATO INCORRECTO\",\"FORMATO CORRECTO\"))","v":""},{"$f":"IF(U3962=\"\",\"\",IF(ISERROR(edata(U3962)),\"FORMATO INCORRECTO\",\"FORMATO CORRECTO\"))","v":""},{"$f":"IF(N3962=\"\",\"\",IF(ISERROR(edata(N3962)),\"FORMATO INCORRECTO\",\"FORMATO CORRECTO\"))","v":""}]
["1921-10-22","",null,null,null,null,null,null,"",null,null,null,null,null,null,null,null,"",null,null,null,null,null,null,null,null,"",null,"",null,null,"",null,null,null,null,null,0,0,0,0,0,{"$f":"IF(AO3968<>0,SUMIFS($AP$6:$AP$1001,$AN$6:$AN$1001,AN3968,$F$6:$F$1001,F3968,$AX$6:$AX$1001,AX3968),0)","v":0},0,{"$f":"IF(AO3968<>0,SUMIFS($AP$6:$AP$1001,$AR$6:$AR$1001,AR3968,$F$6:$F$1001,F3968,$AX$6:$AX$1001,AX3968),0)","v":0},0,0,0,{"$f":"IF(AU3968<>0,SUMIFS($AV$6:$AV$1001,$AT$6:$AT$1001,AT3968,$F$6:$F$1001,F3968,$AY$6:$AY$1001,AY3968),0)","v":0},1900,1900,0,0,0,0,0,0,0,0,0,"","",0,0,0,"FORMATO INCORRECTO","FORMATO INCORRECTO","FORMATO INCORRECTO",{"$f":"IF(L3968=\"\",\"\",IF(ISERROR(edata(L3968)),\"FORMATO INCORRECTO\",\"FORMATO CORRECTO\"))","v":""},{"$f":"IF(U3968=\"\",\"\",IF(ISERROR(edata(U3968)),\"FORMATO INCORRECTO\",\"FORMATO CORRECTO\"))","v":""},{"$f":"IF(N3968=\"\",\"\",IF(ISERROR(edata(N3968)),\"FORMATO INCORRECTO\",\"FORMATO CORRECTO\"))","v":""}]
["1921-11-03","",null,null,null,null,null,null,"",null,null,null,null,null,null,null,null,"",null,null,null,null,null,null,null,null,"",null,"",null,null,"",null,null,null,null,null,0,0,0,0,0,{"$f":"IF(AO3980<>0,SUMIFS($AP$6:$AP$1001,$AN$6:$AN$1001,AN3980,$F$6:$F$1001,F3980,$AX$6:$AX$1001,AX3980),0)","v":0},0,{"$f":"IF(AO3980<>0,SUMIFS($AP$6:$AP$1001,$AR$6:$AR$1001,AR3980,$F$6:$F$1001,F3980,$AX$6:$AX$1001,AX3980),0)","v":0},0,0,0,{"$f":"IF(AU3980<>0,SUMIFS($AV$6:$AV$1001,$AT$6:$AT$1001,AT3980,$F$6:$F$1001,F3980,$AY$6:$AY$1001,AY3980),0)","v":0},1900,1900,0,0,0,0,0,0,0,0,0,"","",0,0,0,"FORMATO INCORRECTO","FORMATO INCORRECTO","FORMATO INCORRECTO",{"$f":"IF(L3980=\"\",\"\",IF(ISERROR(edata(L3980)),\"FORMATO INCORRECTO\",\"FORMATO CORRECTO\"))","v":""},{"$f":"IF(U3980=\"\",\"\",IF(ISERROR(edata(U3980)),\"FORMATO INCORRECTO\",\"FORMATO CORRECTO\"))","v":""},{"$f":"IF(N3980=\"\",\"\",IF(ISERROR(edata(N3980)),\"FORMATO INCORRECTO\",\"FORMATO CORRECTO\"))","v":""}]
["1921-11-10","",null,null,null,null,null,null,"",null,null,null,null,null,null,null,null,"",null,null,null,null,null,null,null,null,"",null,"",null,null,"",null,null,null,null,null,0,0,0,0,0,{"$f":"IF(AO3987<>0,SUMIFS($AP$6:$AP$1001,$AN$6:$AN$1001,AN3987,$F$6:$F$1001,F3987,$AX$6:$AX$1001,AX3987),0)","v":0},0,{"$f":"IF(AO3987<>0,SUMIFS($AP$6:$AP$1001,$AR$6:$AR$1001,AR3987,$F$6:$F$1001,F3987,$AX$6:$AX$1001,AX3987),0)","v":0},0,0,0,{"$f":"IF(AU3987<>0,SUMIFS($AV$6:$AV$1001,$AT$6:$AT$1001,AT3987,$F$6:$F$1001,F3987,$AY$6:$AY$1001,AY3987),0)","v":0},1900,1900,0,0,0,0,0,0,0,0,0,"","",0,0,0,"FORMATO INCORRECTO","FORMATO INCORRECTO","FORMATO INCORRECTO",{"$f":"IF(L3987=\"\",\"\",IF(ISERROR(edata(L3987)),\"FORMATO INCORRECTO\",\"FORMATO CORRECTO\"))","v":""},{"$f":"IF(U3987=\"\",\"\",IF(ISERROR(edata(U3987)),\"FORMATO INCORRECTO\",\"FORMATO CORRECTO\"))","v":""},{"$f":"IF(N3987=\"\",\"\",IF(ISERROR(edata(N3987)),\"FORMATO INCORRECTO\",\"FORMATO CORRECTO\"))","v":""}]
["1921-11-16","",null,null,null,null,null,null,"",null,null,null,null,null,null,null,null,"",null,null,null,null,null,null,null,null,"",null,"",null,null,"",null,null,null,null,null,0,0,0,0,0,{"$f":"IF(AO3993<>0,SUMIFS($AP$6:$AP$1001,$AN$6:$AN$1001,AN3993,$F$6:$F$1001,F3993,$AX$6:$AX$1001,AX3993),0)","v":0},0,{"$f":"IF(AO3993<>0,SUMIFS($AP$6:$AP$1001,$AR$6:$AR$1001,AR3993,$F$6:$F$1001,F3993,$AX$6:$AX$1001,AX3993),0)","v":0},0,0,0,{"$f":"IF(AU3993<>0,SUMIFS($AV$6:$AV$1001,$AT$6:$AT$1001,AT3993,$F$6:$F$1001,F3993,$AY$6:$AY$1001,AY3993),0)","v":0},1900,1900,0,0,0,0,0,0,0,0,0,"","",0,0,0,"FORMATO INCORRECTO","FORMATO INCORRECTO","FORMATO INCORRECTO",{"$f":"IF(L3993=\"\",\"\",IF(ISERROR(edata(L3993)),\"FORMATO INCORRECTO\",\"FORMATO CORRECTO\"))","v":""},{"$f":"IF(U3993=\"\",\"\",IF(ISERROR(edata(U3993)),\"FORMATO INCORRECTO\",\"FORMATO CORRECTO\"))","v":""},{"$f":"IF(N3993=\"\",\"\",IF(ISERROR(edata(N3993)),\"FORMATO INCORRECTO\",\"FORMATO CORRECTO\"))","v":""}]
["1921-11-24","",null,null,null,null,null,null,"",null,null,null,null,null,null,null,null,"",null,null,null,null,null,null,null,null,"",null,"",null,null,"",null,null,null,null,null,0,0,0,0,0,{"$f":"IF(AO4001<>0,SUMIFS($AP$6:$AP$1001,$AN$6:$AN$1001,AN4001,$F$6:$F$1001,F4001,$AX$6:$AX$1001,AX4001),0)","v":0},0,{"$f":"IF(AO4001<>0,SUMIFS($AP$6:$AP$1001,$AR$6:$AR$1001,AR4001,$F$6:$F$1001,F4001,$AX$6:$AX$1001,AX4001),0)","v":0},0,0,0,{"$f":"IF(AU4001<>0,SUMIFS($AV$6:$AV$1001,$AT$6:$AT$1001,AT4001,$F$6:$F$1001,F4001,$AY$6:$AY$1001,AY4001),0)","v":0},1900,1900,0,0,0,0,0,0,0,0,0,"","",0,0,0,"FORMATO INCORRECTO","FORMATO INCORRECTO","FORMATO INCORRECTO",{"$f":"IF(L4001=\"\",\"\",IF(ISERROR(edata(L4001)),\"FORMATO INCORRECTO\",\"FORMATO CORRECTO\"))","v":""},{"$f":"IF(U4001=\"\",\"\",IF(ISERROR(edata(U4001)),\"FORMATO INCORRECTO\",\"FORMATO CORRECTO\"))","v":""},{"$f":"IF(N4001=\"\",\"\",IF(ISERROR(edata(N4001)),\"FORMATO INCORRECTO\",\"FORMATO CORRECTO\"))","v":""}]
["1921-12-10","",null,null,null,null,null,null,"",null,null,null,null,null,null,null,null,"",null,null,null,null,null,null,null,null,"",null,"",null,null,"",null,null,null,null,null,0,0,0,0,0,{"$f":"IF(AO4017<>0,SUMIFS($AP$6:$AP$1001,$AN$6:$AN$1001,AN4017,$F$6:$F$1001,F4017,$AX$6:$AX$1001,AX4017),0)","v":0},0,{"$f":"IF(AO4017<>0,SUMIFS($AP$6:$AP$1001,$AR$6:$AR$1001,AR4017,$F$6:$F$1001,F4017,$AX$6:$AX$1001,AX4017),0)","v":0},0,0,0,{"$f":"IF(AU4017<>0,SUMIFS($AV$6:$AV$1001,$AT$6:$AT$1001,AT4017,$F$6:$F$1001,F4017,$AY$6:$AY$1001,AY4017),0)","v":0},1900,1900,0,0,0,0,0,0,0,0,0,"","",0,0,0,"FORMATO INCORRECTO","FORMATO INCORRECTO","FORMATO INCORRECTO",{"$f":"IF(L4017=\"\",\"\",IF(ISERROR(edata(L4017)),\"FORMATO INCORRECTO\",\"FORMATO CORRECTO\"))","v":""},{"$f":"IF(U4017=\"\",\"\",IF(ISERROR(edata(U4017)),\"FORMATO INCORRECTO\",\"FORMATO CORRECTO\"))","v":""},{"$f":"IF(N4017=\"\",\"\",IF(ISERROR(edata(N4017)),\"FORMATO INCORRECTO\",\"FORMATO CORRECTO\"))","v":""}]
["1921-12-13","",null,null,null,null,null,null,"",null,null,null,null,null,null,null,null,"",null,null,null,null,null,null,null,null,"",null,"",null,null,"",null,null,null,null,null,0,0,0,0,0,{"$f":"IF(AO4020<>0,SUMIFS($AP$6:$AP$1001,$AN$6:$AN$1001,AN4020,$F$6:$F$1001,F4020,$AX$6:$AX$1001,AX4020),0)","v":0},0,{"$f":"IF(AO4020<>0,SUMIFS($AP$6:$AP$1001,$AR$6:$AR$1001,AR4020,$F$6:$F$1001,F4020,$AX$6:$AX$1001,AX4020),0)","v":0},0,0,0,{"$f":"IF(AU4020<>0,SUMIFS($AV$6:$AV$1001,$AT$6:$AT$1001,AT4020,$F$6:$F$1001,F4020,$AY$6:$AY$1001,AY4020),0)","v":0},1900,1900,0,0,0,0,0,0,0,0,0,"","",0,0,0,"FORMATO INCORRECTO","FORMATO INCORRECTO","FORMATO INCORRECTO",{"$f":"IF(L4020=\"\",\"\",IF(ISERROR(edata(L4020)),\"FORMATO INCORRECTO\",\"FORMATO CORRECTO\"))","v":""},{"$f":"IF(U4020=\"\",\"\",IF(ISERROR(edata(U4020)),\"FORMATO INCORRECTO\",\"FORMATO CORRECTO\"))","v":""},{"$f":"IF(N4020=\"\",\"\",IF(ISERROR(edata(N4020)),\"FORMATO INCORRECTO\",\"FORMATO CORRECTO\"))","v":""}]
["1921-12-25","",null,null,null,null,null,null,"",null,null,null,null,null,null,null,null,"",null,null,null,null,null,null,null,null,"",null,"",null,null,"",null,null,null,null,null,0,0,0,0,0,{"$f":"IF(AO4032<>0,SUMIFS($AP$6:$AP$1001,$AN$6:$AN$1001,AN4032,$F$6:$F$1001,F4032,$AX$6:$AX$1001,AX4032),0)","v":0},0,{"$f":"IF(AO4032<>0,SUMIFS($AP$6:$AP$1001,$AR$6:$AR$1001,AR4032,$F$6:$F$1001,F4032,$AX$6:$AX$1001,AX4032),0)","v":0},0,0,0,{"$f":"IF(AU4032<>0,SUMIFS($AV$6:$AV$1001,$AT$6:$AT$1001,AT4032,$F$6:$F$1001,F4032,$AY$6:$AY$1001,AY4032),0)","v":0},1900,1900,0,0,0,0,0,0,0,0,0,"","",0,0,0,"FORMATO INCORRECTO","FORMATO INCORRECTO","FORMATO INCORRECTO",{"$f":"IF(L4032=\"\",\"\",IF(ISERROR(edata(L4032)),\"FORMATO INCORRECTO\",\"FORMATO CORRECTO\"))","v":""},{"$f":"IF(U4032=\"\",\"\",IF(ISERROR(edata(U4032)),\"FORMATO INCORRECTO\",\"FORMATO CORRECTO\"))","v":""},{"$f":"IF(N4032=\"\",\"\",IF(ISERROR(edata(N4032)),\"FORMATO INCORRECTO\",\"FORMATO CORRECTO\"))","v":""}]
["1921-12-31","",null,null,null,null,null,null,"",null,null,null,null,null,null,null,null,"",null,null,null,null,null,null,null,null,"",null,"",null,null,"",null,null,null,null,null,0,0,0,0,0,{"$f":"IF(AO4038<>0,SUMIFS($AP$6:$AP$1001,$AN$6:$AN$1001,AN4038,$F$6:$F$1001,F4038,$AX$6:$AX$1001,AX4038),0)","v":0},0,{"$f":"IF(AO4038<>0,SUMIFS($AP$6:$AP$1001,$AR$6:$AR$1001,AR4038,$F$6:$F$1001,F4038,$AX$6:$AX$1001,AX4038),0)","v":0},0,0,0,{"$f":"IF(AU4038<>0,SUMIFS($AV$6:$AV$1001,$AT$6:$AT$1001,AT4038,$F$6:$F$1001,F4038,$AY$6:$AY$1001,AY4038),0)","v":0},1900,1900,0,0,0,0,0,0,0,0,0,"","",0,0,0,"FORMATO INCORRECTO","FORMATO INCORRECTO","FORMATO INCORRECTO",{"$f":"IF(L4038=\"\",\"\",IF(ISERROR(edata(L4038)),\"FORMATO INCORRECTO\",\"FORMATO CORRECTO\"))","v":""},{"$f":"IF(U4038=\"\",\"\",IF(ISERROR(edata(U4038)),\"FORMATO INCORRECTO\",\"FORMATO CORRECTO\"))","v":""},{"$f":"IF(N4038=\"\",\"\",IF(ISERROR(edata(N4038)),\"FORMATO INCORRECTO\",\"FORMATO CORRECTO\"))","v":""}]
["1922-01-12","",null,null,null,null,null,null,"",null,null,null,null,null,null,null,null,"",null,null,null,null,null,null,null,null,"",null,"",null,null,"",null,null,null,null,null,0,0,0,0,0,{"$f":"IF(AO4050<>0,SUMIFS($AP$6:$AP$1001,$AN$6:$AN$1001,AN4050,$F$6:$F$1001,F4050,$AX$6:$AX$1001,AX4050),0)","v":0},0,{"$f":"IF(AO4050<>0,SUMIFS($AP$6:$AP$1001,$AR$6:$AR$1001,AR4050,$F$6:$F$1001,F4050,$AX$6:$AX$1001,AX4050),0)","v":0},0,0,0,{"$f":"IF(AU4050<>0,SUMIFS($AV$6:$AV$1001,$AT$6:$AT$1001,AT4050,$F$6:$F$1001,F4050,$AY$6:$AY$1001,AY4050),0)","v":0},1900,1900,0,0,0,0,0,0,0,0,0,"","",0,0,0,"FORMATO INCORRECTO","FORMATO INCORRECTO","FORMATO INCORRECTO",{"$f":"IF(L4050=\"\",\"\",IF(ISERROR(edata(L4050)),\"FORMATO INCORRECTO\",\"FORMATO CORRECTO\"))","v":""},{"$f":"IF(U4050=\"\",\"\",IF(ISERROR(edata(U4050)),\"FORMATO INCORRECTO\",\"FORMATO CORRECTO\"))","v":""},{"$f":"IF(N4050=\"\",\"\",IF(ISERROR(edata(N4050)),\"FORMATO INCORRECTO\",\"FORMATO CORRECTO\"))","v":""}]
["1922-01-19","",null,null,null,null,null,null,"",null,null,null,null,null,null,null,null,"",null,null,null,null,null,null,null,null,"",null,"",null,null,"",null,null,null,null,null,0,0,0,0,0,{"$f":"IF(AO4057<>0,SUMIFS($AP$6:$AP$1001,$AN$6:$AN$1001,AN4057,$F$6:$F$1001,F4057,$AX$6:$AX$1001,AX4057),0)","v":0},0,{"$f":"IF(AO4057<>0,SUMIFS($AP$6:$AP$1001,$AR$6:$AR$1001,AR4057,$F$6:$F$1001,F4057,$AX$6:$AX$1001,AX4057),0)","v":0},0,0,0,{"$f":"IF(AU4057<>0,SUMIFS($AV$6:$AV$1001,$AT$6:$AT$1001,AT4057,$F$6:$F$1001,F4057,$AY$6:$AY$1001,AY4057),0)","v":0},1900,1900,0,0,0,0,0,0,0,0,0,"","",0,0,0,"FORMATO INCORRECTO","FORMATO INCORRECTO","FORMATO INCORRECTO",{"$f":"IF(L4057=\"\",\"\",IF(ISERROR(edata(L4057)),\"FORMATO INCORRECTO\",\"FORMATO CORRECTO\"))","v":""},{"$f":"IF(U4057=\"\",\"\",IF(ISERROR(edata(U4057)),\"FORMATO INCORRECTO\",\"FORMATO CORRECTO\"))","v":""},{"$f":"IF(N4057=\"\",\"\",IF(ISERROR(edata(N4057)),\"FORMATO INCORRECTO\",\"FORMATO CORRECTO\"))","v":""}]
["1922-01-25","",null,null,null,null,null,null,"",null,null,null,null,null,null,null,null,"",null,null,null,null,null,null,null,null,"",null,"",null,null,"",null,null,null,null,null,0,0,0,0,0,{"$f":"IF(AO4063<>0,SUMIFS($AP$6:$AP$1001,$AN$6:$AN$1001,AN4063,$F$6:$F$1001,F4063,$AX$6:$AX$1001,AX4063),0)","v":0},0,{"$f":"IF(AO4063<>0,SUMIFS($AP$6:$AP$1001,$AR$6:$AR$1001,AR4063,$F$6:$F$1001,F4063,$AX$6:$AX$1001,AX4063),0)","v":0},0,0,0,{"$f":"IF(AU4063<>0,SUMIFS($AV$6:$AV$1001,$AT$6:$AT$1001,AT4063,$F$6:$F$1001,F4063,$AY$6:$AY$1001,AY4063),0)","v":0},1900,1900,0,0,0,0,0,0,0,0,0,"","",0,0,0,"FORMATO INCORRECTO","FORMATO INCORRECTO","FORMATO INCORRECTO",{"$f":"IF(L4063=\"\",\"\",IF(ISERROR(edata(L4063)),\"FORMATO INCORRECTO\",\"FORMATO CORRECTO\"))","v":""},{"$f":"IF(U4063=\"\",\"\",IF(ISERROR(edata(U4063)),\"FORMATO INCORRECTO\",\"FORMATO CORRECTO\"))","v":""},{"$f":"IF(N4063=\"\",\"\",IF(ISERROR(edata(N4063)),\"FORMATO INCORRECTO\",\"FORMATO CORRECTO\"))","v":""}]
["1922-02-02","",null,null,null,null,null,null,"",null,null,null,null,null,null,null,null,"",null,null,null,null,null,null,null,null,"",null,"",null,null,"",null,null,null,null,null,0,0,0,0,0,{"$f":"IF(AO4071<>0,SUMIFS($AP$6:$AP$1001,$AN$6:$AN$1001,AN4071,$F$6:$F$1001,F4071,$AX$6:$AX$1001,AX4071),0)","v":0},0,{"$f":"IF(AO4071<>0,SUMIFS($AP$6:$AP$1001,$AR$6:$AR$1001,AR4071,$F$6:$F$1001,F4071,$AX$6:$AX$1001,AX4071),0)","v":0},0,0,0,{"$f":"IF(AU4071<>0,SUMIFS($AV$6:$AV$1001,$AT$6:$AT$1001,AT4071,$F$6:$F$1001,F4071,$AY$6:$AY$1001,AY4071),0)","v":0},1900,1900,0,0,0,0,0,0,0,0,0,"","",0,0,0,"FORMATO INCORRECTO","FORMATO INCORRECTO","FORMATO INCORRECTO",{"$f":"IF(L4071=\"\",\"\",IF(ISERROR(edata(L4071)),\"FORMATO INCORRECTO\",\"FORMATO CORRECTO\"))","v":""},{"$f":"IF(U4071=\"\",\"\",IF(ISERROR(edata(U4071)),\"FORMATO INCORRECTO\",\"FORMATO CORRECTO\"))","v":""},{"$f":"IF(N4071=\"\",\"\",IF(ISERROR(edata(N4071)),\"FORMATO INCORRECTO\",\"FORMATO CORRECTO\"))","v":""}]
["1922-02-18","",null,null,null,null,null,null,"",null,null,null,null,null,null,null,null,"",null,null,null,null,null,null,null,null,"",null,"",null,null,"",null,null,null,null,null,0,0,0,0,0,{"$f":"IF(AO4087<>0,SUMIFS($AP$6:$AP$1001,$AN$6:$AN$1001,AN4087,$F$6:$F$1001,F4087,$AX$6:$AX$1001,AX4087),0)","v":0},0,{"$f":"IF(AO4087<>0,SUMIFS($AP$6:$AP$1001,$AR$6:$AR$1001,AR4087,$F$6:$F$1001,F4087,$AX$6:$AX$1001,AX4087),0)","v":0},0,0,0,{"$f":"IF(AU4087<>0,SUMIFS($AV$6:$AV$1001,$AT$6:$AT$1001,AT4087,$F$6:$F$1001,F4087,$AY$6:$AY$1001,AY4087),0)","v":0},1900,1900,0,0,0,0,0,0,0,0,0,"","",0,0,0,"FORMATO INCORRECTO","FORMATO INCORRECTO","FORMATO INCORRECTO",{"$f":"IF(L4087=\"\",\"\",IF(ISERROR(edata(L4087)),\"FORMATO INCORRECTO\",\"FORMATO CORRECTO\"))","v":""},{"$f":"IF(U4087=\"\",\"\",IF(ISERROR(edata(U4087)),\"FORMATO INCORRECTO\",\"FORMATO CORRECTO\"))","v":""},{"$f":"IF(N4087=\"\",\"\",IF(ISERROR(edata(N4087)),\"FORMATO INCORRECTO\",\"FORMATO CORRECTO\"))","v":""}]
["1922-02-21","",null,null,null,null,null,null,"",null,null,null,null,null,null,null,null,"",null,null,null,null,null,null,null,null,"",null,"",null,null,"",null,null,null,null,null,0,0,0,0,0,{"$f":"IF(AO4090<>0,SUMIFS($AP$6:$AP$1001,$AN$6:$AN$1001,AN4090,$F$6:$F$1001,F4090,$AX$6:$AX$1001,AX4090),0)","v":0},0,{"$f":"IF(AO4090<>0,SUMIFS($AP$6:$AP$1001,$AR$6:$AR$1001,AR4090,$F$6:$F$1001,F4090,$AX$6:$AX$1001,AX4090),0)","v":0},0,0,0,{"$f":"IF(AU4090<>0,SUMIFS($AV$6:$AV$1001,$AT$6:$AT$1001,AT4090,$F$6:$F$1001,F4090,$AY$6:$AY$1001,AY4090),0)","v":0},1900,1900,0,0,0,0,0,0,0,0,0,"","",0,0,0,"FORMATO INCORRECTO","FORMATO INCORRECTO","FORMATO INCORRECTO",{"$f":"IF(L4090=\"\",\"\",IF(ISERROR(edata(L4090)),\"FORMATO INCORRECTO\",\"FORMATO CORRECTO\"))","v":""},{"$f":"IF(U4090=\"\",\"\",IF(ISERROR(edata(U4090)),\"FORMATO INCORRECTO\",\"FORMATO CORRECTO\"))","v":""},{"$f":"IF(N4090=\"\",\"\",IF(ISERROR(edata(N4090)),\"FORMATO INCORRECTO\",\"FORMATO CORRECTO\"))","v":""}]
["1922-03-05","",null,null,null,null,null,null,"",null,null,null,null,null,null,null,null,"",null,null,null,null,null,null,null,null,"",null,"",null,null,"",null,null,null,null,null,0,0,0,0,0,{"$f":"IF(AO4102<>0,SUMIFS($AP$6:$AP$1001,$AN$6:$AN$1001,AN4102,$F$6:$F$1001,F4102,$AX$6:$AX$1001,AX4102),0)","v":0},0,{"$f":"IF(AO4102<>0,SUMIFS($AP$6:$AP$1001,$AR$6:$AR$1001,AR4102,$F$6:$F$1001,F4102,$AX$6:$AX$1001,AX4102),0)","v":0},0,0,0,{"$f":"IF(AU4102<>0,SUMIFS($AV$6:$AV$1001,$AT$6:$AT$1001,AT4102,$F$6:$F$1001,F4102,$AY$6:$AY$1001,AY4102),0)","v":0},1900,1900,0,0,0,0,0,0,0,0,0,"","",0,0,0,"FORMATO INCORRECTO","FORMATO INCORRECTO","FORMATO INCORRECTO",{"$f":"IF(L4102=\"\",\"\",IF(ISERROR(edata(L4102)),\"FORMATO INCORRECTO\",\"FORMATO CORRECTO\"))","v":""},{"$f":"IF(U4102=\"\",\"\",IF(ISERROR(edata(U4102)),\"FORMATO INCORRECTO\",\"FORMATO CORRECTO\"))","v":""},{"$f":"IF(N4102=\"\",\"\",IF(ISERROR(edata(N4102)),\"FORMATO INCORRECTO\",\"FORMATO CORRECTO\"))","v":""}]
["1922-03-11","",null,null,null,null,null,null,"",null,null,null,null,null,null,null,null,"",null,null,null,null,null,null,null,null,"",null,"",null,null,"",null,null,null,null,null,0,0,0,0,0,{"$f":"IF(AO4108<>0,SUMIFS($AP$6:$AP$1001,$AN$6:$AN$1001,AN4108,$F$6:$F$1001,F4108,$AX$6:$AX$1001,AX4108),0)","v":0},0,{"$f":"IF(AO4108<>0,SUMIFS($AP$6:$AP$1001,$AR$6:$AR$1001,AR4108,$F$6:$F$1001,F4108,$AX$6:$AX$1001,AX4108),0)","v":0},0,0,0,{"$f":"IF(AU4108<>0,SUMIFS($AV$6:$AV$1001,$AT$6:$AT$1001,AT4108,$F$6:$F$1001,F4108,$AY$6:$AY$1001,AY4108),0)","v":0},1900,1900,0,0,0,0,0,0,0,0,0,"","",0,0,0,"FORMATO INCORRECTO","FORMATO INCORRECTO","FORMATO INCORRECTO",{"$f":"IF(L4108=\"\",\"\",IF(ISERROR(edata(L4108)),\"FORMATO INCORRECTO\",\"FORMATO CORRECTO\"))","v":""},{"$f":"IF(U4108=\"\",\"\",IF(ISERROR(edata(U4108)),\"FORMATO INCORRECTO\",\"FORMATO CORRECTO\"))","v":""},{"$f":"IF(N4108=\"\",\"\",IF(ISERROR(edata(N4108)),\"FORMATO INCORRECTO\",\"FORMATO CORRECTO\"))","v":""}]
["1922-03-23","",null,null,null,null,null,null,"",null,null,null,null,null,null,null,null,"",null,null,null,null,null,null,null,null,"",null,"",null,null,"",null,null,null,null,null,0,0,0,0,0,{"$f":"IF(AO4120<>0,SUMIFS($AP$6:$AP$1001,$AN$6:$AN$1001,AN4120,$F$6:$F$1001,F4120,$AX$6:$AX$1001,AX4120),0)","v":0},0,{"$f":"IF(AO4120<>0,SUMIFS($AP$6:$AP$1001,$AR$6:$AR$1001,AR4120,$F$6:$F$1001,F4120,$AX$6:$AX$1001,AX4120),0)","v":0},0,0,0,{"$f":"IF(AU4120<>0,SUMIFS($AV$6:$AV$1001,$AT$6:$AT$1001,AT4120,$F$6:$F$1001,F4120,$AY$6:$AY$1001,AY4120),0)","v":0},1900,1900,0,0,0,0,0,0,0,0,0,"","",0,0,0,"FORMATO INCORRECTO","FORMATO INCORRECTO","FORMATO INCORRECTO",{"$f":"IF(L4120=\"\",\"\",IF(ISERROR(edata(L4120)),\"FORMATO INCORRECTO\",\"FORMATO CORRECTO\"))","v":""},{"$f":"IF(U4120=\"\",\"\",IF(ISERROR(edata(U4120)),\"FORMATO INCORRECTO\",\"FORMATO CORRECTO\"))","v":""},{"$f":"IF(N4120=\"\",\"\",IF(ISERROR(edata(N4120)),\"FORMATO INCORRECTO\",\"FORMATO CORRECTO\"))","v":""}]
["1922-03-30","",null,null,null,null,null,null,"",null,null,null,null,null,null,null,null,"",null,null,null,null,null,null,null,null,"",null,"",null,null,"",null,null,null,null,null,0,0,0,0,0,{"$f":"IF(AO4127<>0,SUMIFS($AP$6:$AP$1001,$AN$6:$AN$1001,AN4127,$F$6:$F$1001,F4127,$AX$6:$AX$1001,AX4127),0)","v":0},0,{"$f":"IF(AO4127<>0,SUMIFS($AP$6:$AP$1001,$AR$6:$AR$1001,AR4127,$F$6:$F$1001,F4127,$AX$6:$AX$1001,AX4127),0)","v":0},0,0,0,{"$f":"IF(AU4127<>0,SUMIFS($AV$6:$AV$1001,$AT$6:$AT$1001,AT4127,$F$6:$F$1001,F4127,$AY$6:$AY$1001,AY4127),0)","v":0},1900,1900,0,0,0,0,0,0,0,0,0,"","",0,0,0,"FORMATO INCORRECTO","FORMATO INCORRECTO","FORMATO INCORRECTO",{"$f":"IF(L4127=\"\",\"\",IF(ISERROR(edata(L4127)),\"FORMATO INCORRECTO\",\"FORMATO CORRECTO\"))","v":""},{"$f":"IF(U4127=\"\",\"\",IF(ISERROR(edata(U4127)),\"FORMATO INCORRECTO\",\"FORMATO CORRECTO\"))","v":""},{"$f":"IF(N4127=\"\",\"\",IF(ISERROR(edata(N4127)),\"FORMATO INCORRECTO\",\"FORMATO CORRECTO\"))","v":""}]
["1922-04-05","",null,null,null,null,null,null,"",null,null,null,null,null,null,null,null,"",null,null,null,null,null,null,null,null,"",null,"",null,null,"",null,null,null,null,null,0,0,0,0,0,{"$f":"IF(AO4133<>0,SUMIFS($AP$6:$AP$1001,$AN$6:$AN$1001,AN4133,$F$6:$F$1001,F4133,$AX$6:$AX$1001,AX4133),0)","v":0},0,{"$f":"IF(AO4133<>0,SUMIFS($AP$6:$AP$1001,$AR$6:$AR$1001,AR4133,$F$6:$F$1001,F4133,$AX$6:$AX$1001,AX4133),0)","v":0},0,0,0,{"$f":"IF(AU4133<>0,SUMIFS($AV$6:$AV$1001,$AT$6:$AT$1001,AT4133,$F$6:$F$1001,F4133,$AY$6:$AY$1001,AY4133),0)","v":0},1900,1900,0,0,0,0,0,0,0,0,0,"","",0,0,0,"FORMATO INCORRECTO","FORMATO INCORRECTO","FORMATO INCORRECTO",{"$f":"IF(L4133=\"\",\"\",IF(ISERROR(edata(L4133)),\"FORMATO INCORRECTO\",\"FORMATO CORRECTO\"))","v":""},{"$f":"IF(U4133=\"\",\"\",IF(ISERROR(edata(U4133)),\"FORMATO INCORRECTO\",\"FORMATO CORRECTO\"))","v":""},{"$f":"IF(N4133=\"\",\"\",IF(ISERROR(edata(N4133)),\"FORMATO INCORRECTO\",\"FORMATO CORRECTO\"))","v":""}]
["1922-04-13","",null,null,null,null,null,null,"",null,null,null,null,null,null,null,null,"",null,null,null,null,null,null,null,null,"",null,"",null,null,"",null,null,null,null,null,0,0,0,0,0,{"$f":"IF(AO4141<>0,SUMIFS($AP$6:$AP$1001,$AN$6:$AN$1001,AN4141,$F$6:$F$1001,F4141,$AX$6:$AX$1001,AX4141),0)","v":0},0,{"$f":"IF(AO4141<>0,SUMIFS($AP$6:$AP$1001,$AR$6:$AR$1001,AR4141,$F$6:$F$1001,F4141,$AX$6:$AX$1001,AX4141),0)","v":0},0,0,0,{"$f":"IF(AU4141<>0,SUMIFS($AV$6:$AV$1001,$AT$6:$AT$1001,AT4141,$F$6:$F$1001,F4141,$AY$6:$AY$1001,AY4141),0)","v":0},1900,1900,0,0,0,0,0,0,0,0,0,"","",0,0,0,"FORMATO INCORRECTO","FORMATO INCORRECTO","FORMATO INCORRECTO",{"$f":"IF(L4141=\"\",\"\",IF(ISERROR(edata(L4141)),\"FORMATO INCORRECTO\",\"FORMATO CORRECTO\"))","v":""},{"$f":"IF(U4141=\"\",\"\",IF(ISERROR(edata(U4141)),\"FORMATO INCORRECTO\",\"FORMATO CORRECTO\"))","v":""},{"$f":"IF(N4141=\"\",\"\",IF(ISERROR(edata(N4141)),\"FORMATO INCORRECTO\",\"FORMATO CORRECTO\"))","v":""}]
["1922-04-29","",null,null,null,null,null,null,"",null,null,null,null,null,null,null,null,"",null,null,null,null,null,null,null,null,"",null,"",null,null,"",null,null,null,null,null,0,0,0,0,0,{"$f":"IF(AO4157<>0,SUMIFS($AP$6:$AP$1001,$AN$6:$AN$1001,AN4157,$F$6:$F$1001,F4157,$AX$6:$AX$1001,AX4157),0)","v":0},0,{"$f":"IF(AO4157<>0,SUMIFS($AP$6:$AP$1001,$AR$6:$AR$1001,AR4157,$F$6:$F$1001,F4157,$AX$6:$AX$1001,AX4157),0)","v":0},0,0,0,{"$f":"IF(AU4157<>0,SUMIFS($AV$6:$AV$1001,$AT$6:$AT$1001,AT4157,$F$6:$F$1001,F4157,$AY$6:$AY$1001,AY4157),0)","v":0},1900,1900,0,0,0,0,0,0,0,0,0,"","",0,0,0,"FORMATO INCORRECTO","FORMATO INCORRECTO","FORMATO INCORRECTO",{"$f":"IF(L4157=\"\",\"\",IF(ISERROR(edata(L4157)),\"FORMATO INCORRECTO\",\"FORMATO CORRECTO\"))","v":""},{"$f":"IF(U4157=\"\",\"\",IF(ISERROR(edata(U4157)),\"FORMATO INCORRECTO\",\"FORMATO CORRECTO\"))","v":""},{"$f":"IF(N4157=\"\",\"\",IF(ISERROR(edata(N4157)),\"FORMATO INCORRECTO\",\"FORMATO CORRECTO\"))","v":""}]
["1922-05-02","",null,null,null,null,null,null,"",null,null,null,null,null,null,null,null,"",null,null,null,null,null,null,null,null,"",null,"",null,null,"",null,null,null,null,null,0,0,0,0,0,{"$f":"IF(AO4160<>0,SUMIFS($AP$6:$AP$1001,$AN$6:$AN$1001,AN4160,$F$6:$F$1001,F4160,$AX$6:$AX$1001,AX4160),0)","v":0},0,{"$f":"IF(AO4160<>0,SUMIFS($AP$6:$AP$1001,$AR$6:$AR$1001,AR4160,$F$6:$F$1001,F4160,$AX$6:$AX$1001,AX4160),0)","v":0},0,0,0,{"$f":"IF(AU4160<>0,SUMIFS($AV$6:$AV$1001,$AT$6:$AT$1001,AT4160,$F$6:$F$1001,F4160,$AY$6:$AY$1001,AY4160),0)","v":0},1900,1900,0,0,0,0,0,0,0,0,0,"","",0,0,0,"FORMATO INCORRECTO","FORMATO INCORRECTO","FORMATO INCORRECTO",{"$f":"IF(L4160=\"\",\"\",IF(ISERROR(edata(L4160)),\"FORMATO INCORRECTO\",\"FORMATO CORRECTO\"))","v":""},{"$f":"IF(U4160=\"\",\"\",IF(ISERROR(edata(U4160)),\"FORMATO INCORRECTO\",\"FORMATO CORRECTO\"))","v":""},{"$f":"IF(N4160=\"\",\"\",IF(ISERROR(edata(N4160)),\"FORMATO INCORRECTO\",\"FORMATO CORRECTO\"))","v":""}]
["1922-05-14","",null,null,null,null,null,null,"",null,null,null,null,null,null,null,null,"",null,null,null,null,null,null,null,null,"",null,"",null,null,"",null,null,null,null,null,0,0,0,0,0,{"$f":"IF(AO4172<>0,SUMIFS($AP$6:$AP$1001,$AN$6:$AN$1001,AN4172,$F$6:$F$1001,F4172,$AX$6:$AX$1001,AX4172),0)","v":0},0,{"$f":"IF(AO4172<>0,SUMIFS($AP$6:$AP$1001,$AR$6:$AR$1001,AR4172,$F$6:$F$1001,F4172,$AX$6:$AX$1001,AX4172),0)","v":0},0,0,0,{"$f":"IF(AU4172<>0,SUMIFS($AV$6:$AV$1001,$AT$6:$AT$1001,AT4172,$F$6:$F$1001,F4172,$AY$6:$AY$1001,AY4172),0)","v":0},1900,1900,0,0,0,0,0,0,0,0,0,"","",0,0,0,"FORMATO INCORRECTO","FORMATO INCORRECTO","FORMATO INCORRECTO",{"$f":"IF(L4172=\"\",\"\",IF(ISERROR(edata(L4172)),\"FORMATO INCORRECTO\",\"FORMATO CORRECTO\"))","v":""},{"$f":"IF(U4172=\"\",\"\",IF(ISERROR(edata(U4172)),\"FORMATO INCORRECTO\",\"FORMATO CORRECTO\"))","v":""},{"$f":"IF(N4172=\"\",\"\",IF(ISERROR(edata(N4172)),\"FORMATO INCORRECTO\",\"FORMATO CORRECTO\"))","v":""}]
["1922-05-20","",null,null,null,null,null,null,"",null,null,null,null,null,null,null,null,"",null,null,null,null,null,null,null,null,"",null,"",null,null,"",null,null,null,null,null,0,0,0,0,0,{"$f":"IF(AO4178<>0,SUMIFS($AP$6:$AP$1001,$AN$6:$AN$1001,AN4178,$F$6:$F$1001,F4178,$AX$6:$AX$1001,AX4178),0)","v":0},0,{"$f":"IF(AO4178<>0,SUMIFS($AP$6:$AP$1001,$AR$6:$AR$1001,AR4178,$F$6:$F$1001,F4178,$AX$6:$AX$1001,AX4178),0)","v":0},0,0,0,{"$f":"IF(AU4178<>0,SUMIFS($AV$6:$AV$1001,$AT$6:$AT$1001,AT4178,$F$6:$F$1001,F4178,$AY$6:$AY$1001,AY4178),0)","v":0},1900,1900,0,0,0,0,0,0,0,0,0,"","",0,0,0,"FORMATO INCORRECTO","FORMATO INCORRECTO","FORMATO INCORRECTO",{"$f":"IF(L4178=\"\",\"\",IF(ISERROR(edata(L4178)),\"FORMATO INCORRECTO\",\"FORMATO CORRECTO\"))","v":""},{"$f":"IF(U4178=\"\",\"\",IF(ISERROR(edata(U4178)),\"FORMATO INCORRECTO\",\"FORMATO CORRECTO\"))","v":""},{"$f":"IF(N4178=\"\",\"\",IF(ISERROR(edata(N4178)),\"FORMATO INCORRECTO\",\"FORMATO CORRECTO\"))","v":""}]
["1922-06-01","",null,null,null,null,null,null,"",null,null,null,null,null,null,null,null,"",null,null,null,null,null,null,null,null,"",null,"",null,null,"",null,null,null,null,null,0,0,0,0,0,{"$f":"IF(AO4190<>0,SUMIFS($AP$6:$AP$1001,$AN$6:$AN$1001,AN4190,$F$6:$F$1001,F4190,$AX$6:$AX$1001,AX4190),0)","v":0},0,{"$f":"IF(AO4190<>0,SUMIFS($AP$6:$AP$1001,$AR$6:$AR$1001,AR4190,$F$6:$F$1001,F4190,$AX$6:$AX$1001,AX4190),0)","v":0},0,0,0,{"$f":"IF(AU4190<>0,SUMIFS($AV$6:$AV$1001,$AT$6:$AT$1001,AT4190,$F$6:$F$1001,F4190,$AY$6:$AY$1001,AY4190),0)","v":0},1900,1900,0,0,0,0,0,0,0,0,0,"","",0,0,0,"FORMATO INCORRECTO","FORMATO INCORRECTO","FORMATO INCORRECTO",{"$f":"IF(L4190=\"\",\"\",IF(ISERROR(edata(L4190)),\"FORMATO INCORRECTO\",\"FORMATO CORRECTO\"))","v":""},{"$f":"IF(U4190=\"\",\"\",IF(ISERROR(edata(U4190)),\"FORMATO INCORRECTO\",\"FORMATO CORRECTO\"))","v":""},{"$f":"IF(N4190=\"\",\"\",IF(ISERROR(edata(N4190)),\"FORMATO INCORRECTO\",\"FORMATO CORRECTO\"))","v":""}]
["1922-06-08","",null,null,null,null,null,null,"",null,null,null,null,null,null,null,null,"",null,null,null,null,null,null,null,null,"",null,"",null,null,"",null,null,null,null,null,0,0,0,0,0,{"$f":"IF(AO4197<>0,SUMIFS($AP$6:$AP$1001,$AN$6:$AN$1001,AN4197,$F$6:$F$1001,F4197,$AX$6:$AX$1001,AX4197),0)","v":0},0,{"$f":"IF(AO4197<>0,SUMIFS($AP$6:$AP$1001,$AR$6:$AR$1001,AR4197,$F$6:$F$1001,F4197,$AX$6:$AX$1001,AX4197),0)","v":0},0,0,0,{"$f":"IF(AU4197<>0,SUMIFS($AV$6:$AV$1001,$AT$6:$AT$1001,AT4197,$F$6:$F$1001,F4197,$AY$6:$AY$1001,AY4197),0)","v":0},1900,1900,0,0,0,0,0,0,0,0,0,"","",0,0,0,"FORMATO INCORRECTO","FORMATO INCORRECTO","FORMATO INCORRECTO",{"$f":"IF(L4197=\"\",\"\",IF(ISERROR(edata(L4197)),\"FORMATO INCORRECTO\",\"FORMATO CORRECTO\"))","v":""},{"$f":"IF(U4197=\"\",\"\",IF(ISERROR(edata(U4197)),\"FORMATO INCORRECTO\",\"FORMATO CORRECTO\"))","v":""},{"$f":"IF(N4197=\"\",\"\",IF(ISERROR(edata(N4197)),\"FORMATO INCORRECTO\",\"FORMATO CORRECTO\"))","v":""}]
["1922-06-14","",null,null,null,null,null,null,"",null,null,null,null,null,null,null,null,"",null,null,null,null,null,null,null,null,"",null,"",null,null,"",null,null,null,null,null,0,0,0,0,0,{"$f":"IF(AO4203<>0,SUMIFS($AP$6:$AP$1001,$AN$6:$AN$1001,AN4203,$F$6:$F$1001,F4203,$AX$6:$AX$1001,AX4203),0)","v":0},0,{"$f":"IF(AO4203<>0,SUMIFS($AP$6:$AP$1001,$AR$6:$AR$1001,AR4203,$F$6:$F$1001,F4203,$AX$6:$AX$1001,AX4203),0)","v":0},0,0,0,{"$f":"IF(AU4203<>0,SUMIFS($AV$6:$AV$1001,$AT$6:$AT$1001,AT4203,$F$6:$F$1001,F4203,$AY$6:$AY$1001,AY4203),0)","v":0},1900,1900,0,0,0,0,0,0,0,0,0,"","",0,0,0,"FORMATO INCORRECTO","FORMATO INCORRECTO","FORMATO INCORRECTO",{"$f":"IF(L4203=\"\",\"\",IF(ISERROR(edata(L4203)),\"FORMATO INCORRECTO\",\"FORMATO CORRECTO\"))","v":""},{"$f":"IF(U4203=\"\",\"\",IF(ISERROR(edata(U4203)),\"FORMATO INCORRECTO\",\"FORMATO CORRECTO\"))","v":""},{"$f":"IF(N4203=\"\",\"\",IF(ISERROR(edata(N4203)),\"FORMATO INCORRECTO\",\"FORMATO CORRECTO\"))","v":""}]
["1922-06-22","",null,null,null,null,null,null,"",null,null,null,null,null,null,null,null,"",null,null,null,null,null,null,null,null,"",null,"",null,null,"",null,null,null,null,null,0,0,0,0,0,{"$f":"IF(AO4211<>0,SUMIFS($AP$6:$AP$1001,$AN$6:$AN$1001,AN4211,$F$6:$F$1001,F4211,$AX$6:$AX$1001,AX4211),0)","v":0},0,{"$f":"IF(AO4211<>0,SUMIFS($AP$6:$AP$1001,$AR$6:$AR$1001,AR4211,$F$6:$F$1001,F4211,$AX$6:$AX$1001,AX4211),0)","v":0},0,0,0,{"$f":"IF(AU4211<>0,SUMIFS($AV$6:$AV$1001,$AT$6:$AT$1001,AT4211,$F$6:$F$1001,F4211,$AY$6:$AY$1001,AY4211),0)","v":0},1900,1900,0,0,0,0,0,0,0,0,0,"","",0,0,0,"FORMATO INCORRECTO","FORMATO INCORRECTO","FORMATO INCORRECTO",{"$f":"IF(L4211=\"\",\"\",IF(ISERROR(edata(L4211)),\"FORMATO INCORRECTO\",\"FORMATO CORRECTO\"))","v":""},{"$f":"IF(U4211=\"\",\"\",IF(ISERROR(edata(U4211)),\"FORMATO INCORRECTO\",\"FORMATO CORRECTO\"))","v":""},{"$f":"IF(N4211=\"\",\"\",IF(ISERROR(edata(N4211)),\"FORMATO INCORRECTO\",\"FORMATO CORRECTO\"))","v":""}]
["1922-07-08","",null,null,null,null,null,null,"",null,null,null,null,null,null,null,null,"",null,null,null,null,null,null,null,null,"",null,"",null,null,"",null,null,null,null,null,0,0,0,0,0,{"$f":"IF(AO4227<>0,SUMIFS($AP$6:$AP$1001,$AN$6:$AN$1001,AN4227,$F$6:$F$1001,F4227,$AX$6:$AX$1001,AX4227),0)","v":0},0,{"$f":"IF(AO4227<>0,SUMIFS($AP$6:$AP$1001,$AR$6:$AR$1001,AR4227,$F$6:$F$1001,F4227,$AX$6:$AX$1001,AX4227),0)","v":0},0,0,0,{"$f":"IF(AU4227<>0,SUMIFS($AV$6:$AV$1001,$AT$6:$AT$1001,AT4227,$F$6:$F$1001,F4227,$AY$6:$AY$1001,AY4227),0)","v":0},1900,1900,0,0,0,0,0,0,0,0,0,"","",0,0,0,"FORMATO INCORRECTO","FORMATO INCORRECTO","FORMATO INCORRECTO",{"$f":"IF(L4227=\"\",\"\",IF(ISERROR(edata(L4227)),\"FORMATO INCORRECTO\",\"FORMATO CORRECTO\"))","v":""},{"$f":"IF(U4227=\"\",\"\",IF(ISERROR(edata(U4227)),\"FORMATO INCORRECTO\",\"FORMATO CORRECTO\"))","v":""},{"$f":"IF(N4227=\"\",\"\",IF(ISERROR(edata(N4227)),\"FORMATO INCORRECTO\",\"FORMATO CORRECTO\"))","v":""}]
["1922-07-11","",null,null,null,null,null,null,"",null,null,null,null,null,null,null,null,"",null,null,null,null,null,null,null,null,"",null,"",null,null,"",null,null,null,null,null,0,0,0,0,0,{"$f":"IF(AO4230<>0,SUMIFS($AP$6:$AP$1001,$AN$6:$AN$1001,AN4230,$F$6:$F$1001,F4230,$AX$6:$AX$1001,AX4230),0)","v":0},0,{"$f":"IF(AO4230<>0,SUMIFS($AP$6:$AP$1001,$AR$6:$AR$1001,AR4230,$F$6:$F$1001,F4230,$AX$6:$AX$1001,AX4230),0)","v":0},0,0,0,{"$f":"IF(AU4230<>0,SUMIFS($AV$6:$AV$1001,$AT$6:$AT$1001,AT4230,$F$6:$F$1001,F4230,$AY$6:$AY$1001,AY4230),0)","v":0},1900,1900,0,0,0,0,0,0,0,0,0,"","",0,0,0,"FORMATO INCORRECTO","FORMATO INCORRECTO","FORMATO INCORRECTO",{"$f":"IF(L4230=\"\",\"\",IF(ISERROR(edata(L4230)),\"FORMATO INCORRECTO\",\"FORMATO CORRECTO\"))","v":""},{"$f":"IF(U4230=\"\",\"\",IF(ISERROR(edata(U4230)),\"FORMATO INCORRECTO\",\"FORMATO CORRECTO\"))","v":""},{"$f":"IF(N4230=\"\",\"\",IF(ISERROR(edata(N4230)),\"FORMATO INCORRECTO\",\"FORMATO CORRECTO\"))","v":""}]
["1922-07-23","",null,null,null,null,null,null,"",null,null,null,null,null,null,null,null,"",null,null,null,null,null,null,null,null,"",null,"",null,null,"",null,null,null,null,null,0,0,0,0,0,{"$f":"IF(AO4242<>0,SUMIFS($AP$6:$AP$1001,$AN$6:$AN$1001,AN4242,$F$6:$F$1001,F4242,$AX$6:$AX$1001,AX4242),0)","v":0},0,{"$f":"IF(AO4242<>0,SUMIFS($AP$6:$AP$1001,$AR$6:$AR$1001,AR4242,$F$6:$F$1001,F4242,$AX$6:$AX$1001,AX4242),0)","v":0},0,0,0,{"$f":"IF(AU4242<>0,SUMIFS($AV$6:$AV$1001,$AT$6:$AT$1001,AT4242,$F$6:$F$1001,F4242,$AY$6:$AY$1001,AY4242),0)","v":0},1900,1900,0,0,0,0,0,0,0,0,0,"","",0,0,0,"FORMATO INCORRECTO","FORMATO INCORRECTO","FORMATO INCORRECTO",{"$f":"IF(L4242=\"\",\"\",IF(ISERROR(edata(L4242)),\"FORMATO INCORRECTO\",\"FORMATO CORRECTO\"))","v":""},{"$f":"IF(U4242=\"\",\"\",IF(ISERROR(edata(U4242)),\"FORMATO INCORRECTO\",\"FORMATO CORRECTO\"))","v":""},{"$f":"IF(N4242=\"\",\"\",IF(ISERROR(edata(N4242)),\"FORMATO INCORRECTO\",\"FORMATO CORRECTO\"))","v":""}]
["1922-07-29","",null,null,null,null,null,null,"",null,null,null,null,null,null,null,null,"",null,null,null,null,null,null,null,null,"",null,"",null,null,"",null,null,null,null,null,0,0,0,0,0,{"$f":"IF(AO4248<>0,SUMIFS($AP$6:$AP$1001,$AN$6:$AN$1001,AN4248,$F$6:$F$1001,F4248,$AX$6:$AX$1001,AX4248),0)","v":0},0,{"$f":"IF(AO4248<>0,SUMIFS($AP$6:$AP$1001,$AR$6:$AR$1001,AR4248,$F$6:$F$1001,F4248,$AX$6:$AX$1001,AX4248),0)","v":0},0,0,0,{"$f":"IF(AU4248<>0,SUMIFS($AV$6:$AV$1001,$AT$6:$AT$1001,AT4248,$F$6:$F$1001,F4248,$AY$6:$AY$1001,AY4248),0)","v":0},1900,1900,0,0,0,0,0,0,0,0,0,"","",0,0,0,"FORMATO INCORRECTO","FORMATO INCORRECTO","FORMATO INCORRECTO",{"$f":"IF(L4248=\"\",\"\",IF(ISERROR(edata(L4248)),\"FORMATO INCORRECTO\",\"FORMATO CORRECTO\"))","v":""},{"$f":"IF(U4248=\"\",\"\",IF(ISERROR(edata(U4248)),\"FORMATO INCORRECTO\",\"FORMATO CORRECTO\"))","v":""},{"$f":"IF(N4248=\"\",\"\",IF(ISERROR(edata(N4248)),\"FORMATO INCORRECTO\",\"FORMATO CORRECTO\"))","v":""}]
["1922-08-10","",null,null,null,null,null,null,"",null,null,null,null,null,null,null,null,"",null,null,null,null,null,null,null,null,"",null,"",null,null,"",null,null,null,null,null,0,0,0,0,0,{"$f":"IF(AO4260<>0,SUMIFS($AP$6:$AP$1001,$AN$6:$AN$1001,AN4260,$F$6:$F$1001,F4260,$AX$6:$AX$1001,AX4260),0)","v":0},0,{"$f":"IF(AO4260<>0,SUMIFS($AP$6:$AP$1001,$AR$6:$AR$1001,AR4260,$F$6:$F$1001,F4260,$AX$6:$AX$1001,AX4260),0)","v":0},0,0,0,{"$f":"IF(AU4260<>0,SUMIFS($AV$6:$AV$1001,$AT$6:$AT$1001,AT4260,$F$6:$F$1001,F4260,$AY$6:$AY$1001,AY4260),0)","v":0},1900,1900,0,0,0,0,0,0,0,0,0,"","",0,0,0,"FORMATO INCORRECTO","FORMATO INCORRECTO","FORMATO INCORRECTO",{"$f":"IF(L4260=\"\",\"\",IF(ISERROR(edata(L4260)),\"FORMATO INCORRECTO\",\"FORMATO CORRECTO\"))","v":""},{"$f":"IF(U4260=\"\",\"\",IF(ISERROR(edata(U4260)),\"FORMATO INCORRECTO\",\"FORMATO CORRECTO\"))","v":""},{"$f":"IF(N4260=\"\",\"\",IF(ISERROR(edata(N4260)),\"FORMATO INCORRECTO\",\"FORMATO CORRECTO\"))","v":""}]
["1922-08-17","",null,null,null,null,null,null,"",null,null,null,null,null,null,null,null,"",null,null,null,null,null,null,null,null,"",null,"",null,null,"",null,null,null,null,null,0,0,0,0,0,{"$f":"IF(AO4267<>0,SUMIFS($AP$6:$AP$1001,$AN$6:$AN$1001,AN4267,$F$6:$F$1001,F4267,$AX$6:$AX$1001,AX4267),0)","v":0},0,{"$f":"IF(AO4267<>0,SUMIFS($AP$6:$AP$1001,$AR$6:$AR$1001,AR4267,$F$6:$F$1001,F4267,$AX$6:$AX$1001,AX4267),0)","v":0},0,0,0,{"$f":"IF(AU4267<>0,SUMIFS($AV$6:$AV$1001,$AT$6:$AT$1001,AT4267,$F$6:$F$1001,F4267,$AY$6:$AY$1001,AY4267),0)","v":0},1900,1900,0,0,0,0,0,0,0,0,0,"","",0,0,0,"FORMATO INCORRECTO","FORMATO INCORRECTO","FORMATO INCORRECTO",{"$f":"IF(L4267=\"\",\"\",IF(ISERROR(edata(L4267)),\"FORMATO INCORRECTO\",\"FORMATO CORRECTO\"))","v":""},{"$f":"IF(U4267=\"\",\"\",IF(ISERROR(edata(U4267)),\"FORMATO INCORRECTO\",\"FORMATO CORRECTO\"))","v":""},{"$f":"IF(N4267=\"\",\"\",IF(ISERROR(edata(N4267)),\"FORMATO INCORRECTO\",\"FORMATO CORRECTO\"))","v":""}]
["1922-08-23","",null,null,null,null,null,null,"",null,null,null,null,null,null,null,null,"",null,null,null,null,null,null,null,null,"",null,"",null,null,"",null,null,null,null,null,0,0,0,0,0,{"$f":"IF(AO4273<>0,SUMIFS($AP$6:$AP$1001,$AN$6:$AN$1001,AN4273,$F$6:$F$1001,F4273,$AX$6:$AX$1001,AX4273),0)","v":0},0,{"$f":"IF(AO4273<>0,SUMIFS($AP$6:$AP$1001,$AR$6:$AR$1001,AR4273,$F$6:$F$1001,F4273,$AX$6:$AX$1001,AX4273),0)","v":0},0,0,0,{"$f":"IF(AU4273<>0,SUMIFS($AV$6:$AV$1001,$AT$6:$AT$1001,AT4273,$F$6:$F$1001,F4273,$AY$6:$AY$1001,AY4273),0)","v":0},1900,1900,0,0,0,0,0,0,0,0,0,"","",0,0,0,"FORMATO INCORRECTO","FORMATO INCORRECTO","FORMATO INCORRECTO",{"$f":"IF(L4273=\"\",\"\",IF(ISERROR(edata(L4273)),\"FORMATO INCORRECTO\",\"FORMATO CORRECTO\"))","v":""},{"$f":"IF(U4273=\"\",\"\",IF(ISERROR(edata(U4273)),\"FORMATO INCORRECTO\",\"FORMATO CORRECTO\"))","v":""},{"$f":"IF(N4273=\"\",\"\",IF(ISERROR(edata(N4273)),\"FORMATO INCORRECTO\",\"FORMATO CORRECTO\"))","v":""}]
["1922-09-04","",null,null,null,null,null,null,"",null,null,null,null,null,null,null,null,"",null,null,null,null,null,null,null,null,"",null,"",null,null,"",null,null,null,null,null,0,0,0,0,0,{"$f":"IF(AO4285<>0,SUMIFS($AP$6:$AP$1001,$AN$6:$AN$1001,AN4285,$F$6:$F$1001,F4285,$AX$6:$AX$1001,AX4285),0)","v":0},0,{"$f":"IF(AO4285<>0,SUMIFS($AP$6:$AP$1001,$AR$6:$AR$1001,AR4285,$F$6:$F$1001,F4285,$AX$6:$AX$1001,AX4285),0)","v":0},0,0,0,{"$f":"IF(AU4285<>0,SUMIFS($AV$6:$AV$1001,$AT$6:$AT$1001,AT4285,$F$6:$F$1001,F4285,$AY$6:$AY$1001,AY4285),0)","v":0},1900,1900,0,0,0,0,0,0,0,0,0,"","",0,0,0,"FORMATO INCORRECTO","FORMATO INCORRECTO","FORMATO INCORRECTO",{"$f":"IF(L4285=\"\",\"\",IF(ISERROR(edata(L4285)),\"FORMATO INCORRECTO\",\"FORMATO CORRECTO\"))","v":""},{"$f":"IF(U4285=\"\",\"\",IF(ISERROR(edata(U4285)),\"FORMATO INCORRECTO\",\"FORMATO CORRECTO\"))","v":""},{"$f":"IF(N4285=\"\",\"\",IF(ISERROR(edata(N4285)),\"FORMATO INCORRECTO\",\"FORMATO CORRECTO\"))","v":""}]
["1922-09-16","",null,null,null,null,null,null,"",null,null,null,null,null,null,null,null,"",null,null,null,null,null,null,null,null,"",null,"",null,null,"",null,null,null,null,null,0,0,0,0,0,{"$f":"IF(AO4297<>0,SUMIFS($AP$6:$AP$1001,$AN$6:$AN$1001,AN4297,$F$6:$F$1001,F4297,$AX$6:$AX$1001,AX4297),0)","v":0},0,{"$f":"IF(AO4297<>0,SUMIFS($AP$6:$AP$1001,$AR$6:$AR$1001,AR4297,$F$6:$F$1001,F4297,$AX$6:$AX$1001,AX4297),0)","v":0},0,0,0,{"$f":"IF(AU4297<>0,SUMIFS($AV$6:$AV$1001,$AT$6:$AT$1001,AT4297,$F$6:$F$1001,F4297,$AY$6:$AY$1001,AY4297),0)","v":0},1900,1900,0,0,0,0,0,0,0,0,0,"","",0,0,0,"FORMATO INCORRECTO","FORMATO INCORRECTO","FORMATO INCORRECTO",{"$f":"IF(L4297=\"\",\"\",IF(ISERROR(edata(L4297)),\"FORMATO INCORRECTO\",\"FORMATO CORRECTO\"))","v":""},{"$f":"IF(U4297=\"\",\"\",IF(ISERROR(edata(U4297)),\"FORMATO INCORRECTO\",\"FORMATO CORRECTO\"))","v":""},{"$f":"IF(N4297=\"\",\"\",IF(ISERROR(edata(N4297)),\"FORMATO INCORRECTO\",\"FORMATO CORRECTO\"))","v":""}]
["1922-09-19","",null,null,null,null,null,null,"",null,null,null,null,null,null,null,null,"",null,null,null,null,null,null,null,null,"",null,"",null,null,"",null,null,null,null,null,0,0,0,0,0,{"$f":"IF(AO4300<>0,SUMIFS($AP$6:$AP$1001,$AN$6:$AN$1001,AN4300,$F$6:$F$1001,F4300,$AX$6:$AX$1001,AX4300),0)","v":0},0,{"$f":"IF(AO4300<>0,SUMIFS($AP$6:$AP$1001,$AR$6:$AR$1001,AR4300,$F$6:$F$1001,F4300,$AX$6:$AX$1001,AX4300),0)","v":0},0,0,0,{"$f":"IF(AU4300<>0,SUMIFS($AV$6:$AV$1001,$AT$6:$AT$1001,AT4300,$F$6:$F$1001,F4300,$AY$6:$AY$1001,AY4300),0)","v":0},1900,1900,0,0,0,0,0,0,0,0,0,"","",0,0,0,"FORMATO INCORRECTO","FORMATO INCORRECTO","FORMATO INCORRECTO",{"$f":"IF(L4300=\"\",\"\",IF(ISERROR(edata(L4300)),\"FORMATO INCORRECTO\",\"FORMATO CORRECTO\"))","v":""},{"$f":"IF(U4300=\"\",\"\",IF(ISERROR(edata(U4300)),\"FORMATO INCORRECTO\",\"FORMATO CORRECTO\"))","v":""},{"$f":"IF(N4300=\"\",\"\",IF(ISERROR(edata(N4300)),\"FORMATO INCORRECTO\",\"FORMATO CORRECTO\"))","v":""}]
["1922-10-01","",null,null,null,null,null,null,"",null,null,null,null,null,null,null,null,"",null,null,null,null,null,null,null,null,"",null,"",null,null,"",null,null,null,null,null,0,0,0,0,0,{"$f":"IF(AO4312<>0,SUMIFS($AP$6:$AP$1001,$AN$6:$AN$1001,AN4312,$F$6:$F$1001,F4312,$AX$6:$AX$1001,AX4312),0)","v":0},0,{"$f":"IF(AO4312<>0,SUMIFS($AP$6:$AP$1001,$AR$6:$AR$1001,AR4312,$F$6:$F$1001,F4312,$AX$6:$AX$1001,AX4312),0)","v":0},0,0,0,{"$f":"IF(AU4312<>0,SUMIFS($AV$6:$AV$1001,$AT$6:$AT$1001,AT4312,$F$6:$F$1001,F4312,$AY$6:$AY$1001,AY4312),0)","v":0},1900,1900,0,0,0,0,0,0,0,0,0,"","",0,0,0,"FORMATO INCORRECTO","FORMATO INCORRECTO","FORMATO INCORRECTO",{"$f":"IF(L4312=\"\",\"\",IF(ISERROR(edata(L4312)),\"FORMATO INCORRECTO\",\"FORMATO CORRECTO\"))","v":""},{"$f":"IF(U4312=\"\",\"\",IF(ISERROR(edata(U4312)),\"FORMATO INCORRECTO\",\"FORMATO CORRECTO\"))","v":""},{"$f":"IF(N4312=\"\",\"\",IF(ISERROR(edata(N4312)),\"FORMATO INCORRECTO\",\"FORMATO CORRECTO\"))","v":""}]
["1922-10-07","",null,null,null,null,null,null,"",null,null,null,null,null,null,null,null,"",null,null,null,null,null,null,null,null,"",null,"",null,null,"",null,null,null,null,null,0,0,0,0,0,{"$f":"IF(AO4318<>0,SUMIFS($AP$6:$AP$1001,$AN$6:$AN$1001,AN4318,$F$6:$F$1001,F4318,$AX$6:$AX$1001,AX4318),0)","v":0},0,{"$f":"IF(AO4318<>0,SUMIFS($AP$6:$AP$1001,$AR$6:$AR$1001,AR4318,$F$6:$F$1001,F4318,$AX$6:$AX$1001,AX4318),0)","v":0},0,0,0,{"$f":"IF(AU4318<>0,SUMIFS($AV$6:$AV$1001,$AT$6:$AT$1001,AT4318,$F$6:$F$1001,F4318,$AY$6:$AY$1001,AY4318),0)","v":0},1900,1900,0,0,0,0,0,0,0,0,0,"","",0,0,0,"FORMATO INCORRECTO","FORMATO INCORRECTO","FORMATO INCORRECTO",{"$f":"IF(L4318=\"\",\"\",IF(ISERROR(edata(L4318)),\"FORMATO INCORRECTO\",\"FORMATO CORRECTO\"))","v":""},{"$f":"IF(U4318=\"\",\"\",IF(ISERROR(edata(U4318)),\"FORMATO INCORRECTO\",\"FORMATO CORRECTO\"))","v":""},{"$f":"IF(N4318=\"\",\"\",IF(ISERROR(edata(N4318)),\"FORMATO INCORRECTO\",\"FORMATO CORRECTO\"))","v":""}]
["1922-10-19",{"$f":"IF(G4330<>\"\",+B4329+1,\"\")","v":""},null,null,null,null,null,null,{"$f":"IF(ISERROR(VLOOKUP(J4330,tipoDocDesp,2,FALSE)),\"\",VLOOKUP(J4330,tipoDocDesp,2,FALSE))","v":""},null,null,null,null,null,null,null,null,{"$f":"IF(ISERROR(VLOOKUP(S4330,tipoDocQuit,2,FALSE)),\"\",VLOOKUP(S4330,tipoDocQuit,2,FALSE))","v":""},null,null,null,null,null,null,null,null,{"$f":"IF(ISERROR(VLOOKUP(AB4330,DESPESASGERAL,3,FALSE)),\"\",VLOOKUP(AB4330,DESPESASGERAL,3,FALSE))","v":""},null,{"$f":"IF(ISERROR(VLOOKUP(AD4330,RUBRICASGERAL,2,FALSE)),\"\",VLOOKUP(AD4330,RUBRICASGERAL,2,FALSE))","v":""},null,null,{"$f":"IF(ISERROR(VLOOKUP(AG4330,CONCELHOGERAL,2,FALSE)),\"\",VLOOKUP(AG4330,CONCELHOGERAL,2,FALSE))","v":""},null,null,null,null,null,{"$f":"+O4330+P4330+Q4330-N4330","v":0},{"$f":"+O4330+P4330+Q4330-W4330","v":0},{"$f":"+D4330","v":0},{"$f":"+M4330","v":0},{"$f":"+N4330","v":0},{"$f":"IF(AO4330<>0,SUMIFS($AP$6:$AP$1001,$AN$6:$AN$1001,AN4330,$F$6:$F$1001,F4330,$AX$6:$AX$1001,AX4330),0)","v":0},{"$f":"+K4330","v":0},{"$f":"IF(AO4330<>0,SUMIFS($AP$6:$AP$1001,$AR$6:$AR$1001,AR4330,$F$6:$F$1001,F4330,$AX$6:$AX$1001,AX4330),0)","v":0},{"$f":"+T4330","v":0},{"$f":"+V4330","v":0},{"$f":"+W4330","v":0},{"$f":"IF(AU4330<>0,SUMIFS($AV$6:$AV$1001,$AT$6:$AT$1001,AT4330,$F$6:$F$1001,F4330,$AY$6:$AY$1001,AY4330),0)","v":0},{"$f":"YEAR(L4330)","v":1900},{"$f":"YEAR(U4330)","v":1900},{"$f":"+AN4330","v":0},{"$f":"+AQ4330","v":0},{"$f":"+M4330-BA4330","v":0},{"$f":"+AR4330","v":0},{"$f":"ROUND(AS4330,2)","v":0},{"$f":"+M4330-BD4330","v":0},{"$f":"+AT4330","v":0},{"$f":"ROUND(AW4330,2)","v":0},{"$f":"+V4330-BG4330","v":0},{"$f":"IF(ISERROR(L4330<=U4330),\"FORMATO INCORRECTO\",IF(AND(L4330=0,U4330=0),\"\",IF(L4330<=U4330,\"VALIDADO\",\"NÃO VALIDADO\")))","v":""},{"$f":"IF(AND(L4330=\"\",U4330=\"\",Y4330=\"\"),\"\",IF(OR(ISERROR(BK4330),ISERROR(BL4330),ISERROR(BM4330)),\"ERRO NO FORMATO\",\"FORMATO CORRECTO\"))","v":""},{"$f":"convdata(L4330)","v":0},{"$f":"convdata(U4330)","v":0},{"$f":"convdata(Y4330)","v":0},{"$f":"ENULO(L4330)","v":"FORMATO INCORRECTO"},{"$f":"ENULO(U4330)","v":"FORMATO INCORRECTO"},{"$f":"ENULO(Y4330)","v":"FORMATO INCORRECTO"},{"$f":"IF(L4330=\"\",\"\",IF(ISERROR(edata(L4330)),\"FORMATO INCORRECTO\",\"FORMATO CORRECTO\"))","v":""},{"$f":"IF(U4330=\"\",\"\",IF(ISERROR(edata(U4330)),\"FORMATO INCORRECTO\",\"FORMATO CORRECTO\"))","v":""},{"$f":"IF(N4330=\"\",\"\",IF(ISERROR(edata(N4330)),\"FORMATO INCORRECTO\",\"FORMATO CORRECTO\"))","v":""}]
["1922-10-26","",null,null,null,null,null,null,"",null,null,null,null,null,null,null,null,"",null,null,null,null,null,null,null,null,"",null,"",null,null,"",null,null,null,null,null,0,0,0,0,0,{"$f":"IF(AO4337<>0,SUMIFS($AP$6:$AP$1001,$AN$6:$AN$1001,AN4337,$F$6:$F$1001,F4337,$AX$6:$AX$1001,AX4337),0)","v":0},0,{"$f":"IF(AO4337<>0,SUMIFS($AP$6:$AP$1001,$AR$6:$AR$1001,AR4337,$F$6:$F$1001,F4337,$AX$6:$AX$1001,AX4337),0)","v":0},0,0,0,{"$f":"IF(AU4337<>0,SUMIFS($AV$6:$AV$1001,$AT$6:$AT$1001,AT4337,$F$6:$F$1001,F4337,$AY$6:$AY$1001,AY4337),0)","v":0},1900,1900,0,0,0,0,0,0,0,0,0,"","",0,0,0,"FORMATO INCORRECTO","FORMATO INCORRECTO","FORMATO INCORRECTO",{"$f":"IF(L4337=\"\",\"\",IF(ISERROR(edata(L4337)),\"FORMATO INCORRECTO\",\"FORMATO CORRECTO\"))","v":""},{"$f":"IF(U4337=\"\",\"\",IF(ISERROR(edata(U4337)),\"FORMATO INCORRECTO\",\"FORMATO CORRECTO\"))","v":""},{"$f":"IF(N4337=\"\",\"\",IF(ISERROR(edata(N4337)),\"FORMATO INCORRECTO\",\"FORMATO CORRECTO\"))","v":""}]
["1922-11-01","",null,null,null,null,null,null,"",null,null,null,null,null,null,null,null,"",null,null,null,null,null,null,null,null,"",null,"",null,null,"",null,null,null,null,null,0,0,0,0,0,{"$f":"IF(AO4343<>0,SUMIFS($AP$6:$AP$1001,$AN$6:$AN$1001,AN4343,$F$6:$F$1001,F4343,$AX$6:$AX$1001,AX4343),0)","v":0},0,{"$f":"IF(AO4343<>0,SUMIFS($AP$6:$AP$1001,$AR$6:$AR$1001,AR4343,$F$6:$F$1001,F4343,$AX$6:$AX$1001,AX4343),0)","v":0},0,0,0,{"$f":"IF(AU4343<>0,SUMIFS($AV$6:$AV$1001,$AT$6:$AT$1001,AT4343,$F$6:$F$1001,F4343,$AY$6:$AY$1001,AY4343),0)","v":0},1900,1900,0,0,0,0,0,0,0,0,0,"","",0,0,0,"FORMATO INCORRECTO","FORMATO INCORRECTO","FORMATO INCORRECTO",{"$f":"IF(L4343=\"\",\"\",IF(ISERROR(edata(L4343)),\"FORMATO INCORRECTO\",\"FORMATO CORRECTO\"))","v":""},{"$f":"IF(U4343=\"\",\"\",IF(ISERROR(edata(U4343)),\"FORMATO INCORRECTO\",\"FORMATO CORRECTO\"))","v":""},{"$f":"IF(N4343=\"\",\"\",IF(ISERROR(edata(N4343)),\"FORMATO INCORRECTO\",\"FORMATO CORRECTO\"))","v":""}]
["1922-11-13","",null,null,null,null,null,null,"",null,null,null,null,null,null,null,null,"",null,null,null,null,null,null,null,null,"",null,"",null,null,"",null,null,null,null,null,0,0,0,0,0,{"$f":"IF(AO4355<>0,SUMIFS($AP$6:$AP$1001,$AN$6:$AN$1001,AN4355,$F$6:$F$1001,F4355,$AX$6:$AX$1001,AX4355),0)","v":0},0,{"$f":"IF(AO4355<>0,SUMIFS($AP$6:$AP$1001,$AR$6:$AR$1001,AR4355,$F$6:$F$1001,F4355,$AX$6:$AX$1001,AX4355),0)","v":0},0,0,0,{"$f":"IF(AU4355<>0,SUMIFS($AV$6:$AV$1001,$AT$6:$AT$1001,AT4355,$F$6:$F$1001,F4355,$AY$6:$AY$1001,AY4355),0)","v":0},1900,1900,0,0,0,0,0,0,0,0,0,"","",0,0,0,"FORMATO INCORRECTO","FORMATO INCORRECTO","FORMATO INCORRECTO",{"$f":"IF(L4355=\"\",\"\",IF(ISERROR(edata(L4355)),\"FORMATO INCORRECTO\",\"FORMATO CORRECTO\"))","v":""},{"$f":"IF(U4355=\"\",\"\",IF(ISERROR(edata(U4355)),\"FORMATO INCORRECTO\",\"FORMATO CORRECTO\"))","v":""},{"$f":"IF(N4355=\"\",\"\",IF(ISERROR(edata(N4355)),\"FORMATO INCORRECTO\",\"FORMATO CORRECTO\"))","v":""}]
["1922-11-25","",null,null,null,null,null,null,"",null,null,null,null,null,null,null,null,"",null,null,null,null,null,null,null,null,"",null,"",null,null,"",null,null,null,null,null,0,0,0,0,0,{"$f":"IF(AO4367<>0,SUMIFS($AP$6:$AP$1001,$AN$6:$AN$1001,AN4367,$F$6:$F$1001,F4367,$AX$6:$AX$1001,AX4367),0)","v":0},0,{"$f":"IF(AO4367<>0,SUMIFS($AP$6:$AP$1001,$AR$6:$AR$1001,AR4367,$F$6:$F$1001,F4367,$AX$6:$AX$1001,AX4367),0)","v":0},0,0,0,{"$f":"IF(AU4367<>0,SUMIFS($AV$6:$AV$1001,$AT$6:$AT$1001,AT4367,$F$6:$F$1001,F4367,$AY$6:$AY$1001,AY4367),0)","v":0},1900,1900,0,0,0,0,0,0,0,0,0,"","",0,0,0,"FORMATO INCORRECTO","FORMATO INCORRECTO","FORMATO INCORRECTO",{"$f":"IF(L4367=\"\",\"\",IF(ISERROR(edata(L4367)),\"FORMATO INCORRECTO\",\"FORMATO CORRECTO\"))","v":""},{"$f":"IF(U4367=\"\",\"\",IF(ISERROR(edata(U4367)),\"FORMATO INCORRECTO\",\"FORMATO CORRECTO\"))","v":""},{"$f":"IF(N4367=\"\",\"\",IF(ISERROR(edata(N4367)),\"FORMATO INCORRECTO\",\"FORMATO CORRECTO\"))","v":""}]
["1922-11-28","",null,null,null,null,null,null,"",null,null,null,null,null,null,null,null,"",null,null,null,null,null,null,null,null,"",null,"",null,null,"",null,null,null,null,null,0,0,0,0,0,{"$f":"IF(AO4370<>0,SUMIFS($AP$6:$AP$1001,$AN$6:$AN$1001,AN4370,$F$6:$F$1001,F4370,$AX$6:$AX$1001,AX4370),0)","v":0},0,{"$f":"IF(AO4370<>0,SUMIFS($AP$6:$AP$1001,$AR$6:$AR$1001,AR4370,$F$6:$F$1001,F4370,$AX$6:$AX$1001,AX4370),0)","v":0},0,0,0,{"$f":"IF(AU4370<>0,SUMIFS($AV$6:$AV$1001,$AT$6:$AT$1001,AT4370,$F$6:$F$1001,F4370,$AY$6:$AY$1001,AY4370),0)","v":0},1900,1900,0,0,0,0,0,0,0,0,0,"","",0,0,0,"FORMATO INCORRECTO","FORMATO INCORRECTO","FORMATO INCORRECTO",{"$f":"IF(L4370=\"\",\"\",IF(ISERROR(edata(L4370)),\"FORMATO INCORRECTO\",\"FORMATO CORRECTO\"))","v":""},{"$f":"IF(U4370=\"\",\"\",IF(ISERROR(edata(U4370)),\"FORMATO INCORRECTO\",\"FORMATO CORRECTO\"))","v":""},{"$f":"IF(N4370=\"\",\"\",IF(ISERROR(edata(N4370)),\"FORMATO INCORRECTO\",\"FORMATO CORRECTO\"))","v":""}]
["1922-12-10","",null,null,null,null,null,null,"",null,null,null,null,null,null,null,null,"",null,null,null,null,null,null,null,null,"",null,"",null,null,"",null,null,null,null,null,0,0,0,0,0,{"$f":"IF(AO4382<>0,SUMIFS($AP$6:$AP$1001,$AN$6:$AN$1001,AN4382,$F$6:$F$1001,F4382,$AX$6:$AX$1001,AX4382),0)","v":0},0,{"$f":"IF(AO4382<>0,SUMIFS($AP$6:$AP$1001,$AR$6:$AR$1001,AR4382,$F$6:$F$1001,F4382,$AX$6:$AX$1001,AX4382),0)","v":0},0,0,0,{"$f":"IF(AU4382<>0,SUMIFS($AV$6:$AV$1001,$AT$6:$AT$1001,AT4382,$F$6:$F$1001,F4382,$AY$6:$AY$1001,AY4382),0)","v":0},1900,1900,0,0,0,0,0,0,0,0,0,"","",0,0,0,"FORMATO INCORRECTO","FORMATO INCORRECTO","FORMATO INCORRECTO",{"$f":"IF(L4382=\"\",\"\",IF(ISERROR(edata(L4382)),\"FORMATO INCORRECTO\",\"FORMATO CORRECTO\"))","v":""},{"$f":"IF(U4382=\"\",\"\",IF(ISERROR(edata(U4382)),\"FORMATO INCORRECTO\",\"FORMATO CORRECTO\"))","v":""},{"$f":"IF(N4382=\"\",\"\",IF(ISERROR(edata(N4382)),\"FORMATO INCORRECTO\",\"FORMATO CORRECTO\"))","v":""}]
["1922-12-16","",null,null,null,null,null,null,"",null,null,null,null,null,null,null,null,"",null,null,null,null,null,null,null,null,"",null,"",null,null,"",null,null,null,null,null,0,0,0,0,0,{"$f":"IF(AO4388<>0,SUMIFS($AP$6:$AP$1001,$AN$6:$AN$1001,AN4388,$F$6:$F$1001,F4388,$AX$6:$AX$1001,AX4388),0)","v":0},0,{"$f":"IF(AO4388<>0,SUMIFS($AP$6:$AP$1001,$AR$6:$AR$1001,AR4388,$F$6:$F$1001,F4388,$AX$6:$AX$1001,AX4388),0)","v":0},0,0,0,{"$f":"IF(AU4388<>0,SUMIFS($AV$6:$AV$1001,$AT$6:$AT$1001,AT4388,$F$6:$F$1001,F4388,$AY$6:$AY$1001,AY4388),0)","v":0},1900,1900,0,0,0,0,0,0,0,0,0,"","",0,0,0,"FORMATO INCORRECTO","FORMATO INCORRECTO","FORMATO INCORRECTO",{"$f":"IF(L4388=\"\",\"\",IF(ISERROR(edata(L4388)),\"FORMATO INCORRECTO\",\"FORMATO CORRECTO\"))","v":""},{"$f":"IF(U4388=\"\",\"\",IF(ISERROR(edata(U4388)),\"FORMATO INCORRECTO\",\"FORMATO CORRECTO\"))","v":""},{"$f":"IF(N4388=\"\",\"\",IF(ISERROR(edata(N4388)),\"FORMATO INCORRECTO\",\"FORMATO CORRECTO\"))","v":""}]
["1922-12-28","",null,null,null,null,null,null,"",null,null,null,null,null,null,null,null,"",null,null,null,null,null,null,null,null,"",null,"",null,null,"",null,null,null,null,null,0,0,0,0,0,{"$f":"IF(AO4400<>0,SUMIFS($AP$6:$AP$1001,$AN$6:$AN$1001,AN4400,$F$6:$F$1001,F4400,$AX$6:$AX$1001,AX4400),0)","v":0},0,{"$f":"IF(AO4400<>0,SUMIFS($AP$6:$AP$1001,$AR$6:$AR$1001,AR4400,$F$6:$F$1001,F4400,$AX$6:$AX$1001,AX4400),0)","v":0},0,0,0,{"$f":"IF(AU4400<>0,SUMIFS($AV$6:$AV$1001,$AT$6:$AT$1001,AT4400,$F$6:$F$1001,F4400,$AY$6:$AY$1001,AY4400),0)","v":0},1900,1900,0,0,0,0,0,0,0,0,0,"","",0,0,0,"FORMATO INCORRECTO","FORMATO INCORRECTO","FORMATO INCORRECTO",{"$f":"IF(L4400=\"\",\"\",IF(ISERROR(edata(L4400)),\"FORMATO INCORRECTO\",\"FORMATO CORRECTO\"))","v":""},{"$f":"IF(U4400=\"\",\"\",IF(ISERROR(edata(U4400)),\"FORMATO INCORRECTO\",\"FORMATO CORRECTO\"))","v":""},{"$f":"IF(N4400=\"\",\"\",IF(ISERROR(edata(N4400)),\"FORMATO INCORRECTO\",\"FORMATO CORRECTO\"))","v":""}]
["1923-01-04","",null,null,null,null,null,null,"",null,null,null,null,null,null,null,null,"",null,null,null,null,null,null,null,null,"",null,"",null,null,"",null,null,null,null,null,0,0,0,0,0,{"$f":"IF(AO4407<>0,SUMIFS($AP$6:$AP$1001,$AN$6:$AN$1001,AN4407,$F$6:$F$1001,F4407,$AX$6:$AX$1001,AX4407),0)","v":0},0,{"$f":"IF(AO4407<>0,SUMIFS($AP$6:$AP$1001,$AR$6:$AR$1001,AR4407,$F$6:$F$1001,F4407,$AX$6:$AX$1001,AX4407),0)","v":0},0,0,0,{"$f":"IF(AU4407<>0,SUMIFS($AV$6:$AV$1001,$AT$6:$AT$1001,AT4407,$F$6:$F$1001,F4407,$AY$6:$AY$1001,AY4407),0)","v":0},1900,1900,0,0,0,0,0,0,0,0,0,"","",0,0,0,"FORMATO INCORRECTO","FORMATO INCORRECTO","FORMATO INCORRECTO",{"$f":"IF(L4407=\"\",\"\",IF(ISERROR(edata(L4407)),\"FORMATO INCORRECTO\",\"FORMATO CORRECTO\"))","v":""},{"$f":"IF(U4407=\"\",\"\",IF(ISERROR(edata(U4407)),\"FORMATO INCORRECTO\",\"FORMATO CORRECTO\"))","v":""},{"$f":"IF(N4407=\"\",\"\",IF(ISERROR(edata(N4407)),\"FORMATO INCORRECTO\",\"FORMATO CORRECTO\"))","v":""}]
["1923-01-10","",null,null,null,null,null,null,"",null,null,null,null,null,null,null,null,"",null,null,null,null,null,null,null,null,"",null,"",null,null,"",null,null,null,null,null,0,0,0,0,0,{"$f":"IF(AO4413<>0,SUMIFS($AP$6:$AP$1001,$AN$6:$AN$1001,AN4413,$F$6:$F$1001,F4413,$AX$6:$AX$1001,AX4413),0)","v":0},0,{"$f":"IF(AO4413<>0,SUMIFS($AP$6:$AP$1001,$AR$6:$AR$1001,AR4413,$F$6:$F$1001,F4413,$AX$6:$AX$1001,AX4413),0)","v":0},0,0,0,{"$f":"IF(AU4413<>0,SUMIFS($AV$6:$AV$1001,$AT$6:$AT$1001,AT4413,$F$6:$F$1001,F4413,$AY$6:$AY$1001,AY4413),0)","v":0},1900,1900,0,0,0,0,0,0,0,0,0,"","",0,0,0,"FORMATO INCORRECTO","FORMATO INCORRECTO","FORMATO INCORRECTO",{"$f":"IF(L4413=\"\",\"\",IF(ISERROR(edata(L4413)),\"FORMATO INCORRECTO\",\"FORMATO CORRECTO\"))","v":""},{"$f":"IF(U4413=\"\",\"\",IF(ISERROR(edata(U4413)),\"FORMATO INCORRECTO\",\"FORMATO CORRECTO\"))","v":""},{"$f":"IF(N4413=\"\",\"\",IF(ISERROR(edata(N4413)),\"FORMATO INCORRECTO\",\"FORMATO CORRECTO\"))","v":""}]
["1923-01-22","",null,null,null,null,null,null,"",null,null,null,null,null,null,null,null,"",null,null,null,null,null,null,null,null,"",null,"",null,null,"",null,null,null,null,null,0,0,0,0,0,{"$f":"IF(AO4425<>0,SUMIFS($AP$6:$AP$1001,$AN$6:$AN$1001,AN4425,$F$6:$F$1001,F4425,$AX$6:$AX$1001,AX4425),0)","v":0},0,{"$f":"IF(AO4425<>0,SUMIFS($AP$6:$AP$1001,$AR$6:$AR$1001,AR4425,$F$6:$F$1001,F4425,$AX$6:$AX$1001,AX4425),0)","v":0},0,0,0,{"$f":"IF(AU4425<>0,SUMIFS($AV$6:$AV$1001,$AT$6:$AT$1001,AT4425,$F$6:$F$1001,F4425,$AY$6:$AY$1001,AY4425),0)","v":0},1900,1900,0,0,0,0,0,0,0,0,0,"","",0,0,0,"FORMATO INCORRECTO","FORMATO INCORRECTO","FORMATO INCORRECTO",{"$f":"IF(L4425=\"\",\"\",IF(ISERROR(edata(L4425)),\"FORMATO INCORRECTO\",\"FORMATO CORRECTO\"))","v":""},{"$f":"IF(U4425=\"\",\"\",IF(ISERROR(edata(U4425)),\"FORMATO INCORRECTO\",\"FORMATO CORRECTO\"))","v":""},{"$f":"IF(N4425=\"\",\"\",IF(ISERROR(edata(N4425)),\"FORMATO INCORRECTO\",\"FORMATO CORRECTO\"))","v":""}]
["1923-02-03","",null,null,null,null,null,null,"",null,null,null,null,null,null,null,null,"",null,null,null,null,null,null,null,null,"",null,"",null,null,"",null,null,null,null,null,0,0,0,0,0,{"$f":"IF(AO4437<>0,SUMIFS($AP$6:$AP$1001,$AN$6:$AN$1001,AN4437,$F$6:$F$1001,F4437,$AX$6:$AX$1001,AX4437),0)","v":0},0,{"$f":"IF(AO4437<>0,SUMIFS($AP$6:$AP$1001,$AR$6:$AR$1001,AR4437,$F$6:$F$1001,F4437,$AX$6:$AX$1001,AX4437),0)","v":0},0,0,0,{"$f":"IF(AU4437<>0,SUMIFS($AV$6:$AV$1001,$AT$6:$AT$1001,AT4437,$F$6:$F$1001,F4437,$AY$6:$AY$1001,AY4437),0)","v":0},1900,1900,0,0,0,0,0,0,0,0,0,"","",0,0,0,"FORMATO INCORRECTO","FORMATO INCORRECTO","FORMATO INCORRECTO",{"$f":"IF(L4437=\"\",\"\",IF(ISERROR(edata(L4437)),\"FORMATO INCORRECTO\",\"FORMATO CORRECTO\"))","v":""},{"$f":"IF(U4437=\"\",\"\",IF(ISERROR(edata(U4437)),\"FORMATO INCORRECTO\",\"FORMATO CORRECTO\"))","v":""},{"$f":"IF(N4437=\"\",\"\",IF(ISERROR(edata(N4437)),\"FORMATO INCORRECTO\",\"FORMATO CORRECTO\"))","v":""}]
["1923-02-06","",null,null,null,null,null,null,"",null,null,null,null,null,null,null,null,"",null,null,null,null,null,null,null,null,"",null,"",null,null,"",null,null,null,null,null,0,0,0,0,0,{"$f":"IF(AO4440<>0,SUMIFS($AP$6:$AP$1001,$AN$6:$AN$1001,AN4440,$F$6:$F$1001,F4440,$AX$6:$AX$1001,AX4440),0)","v":0},0,{"$f":"IF(AO4440<>0,SUMIFS($AP$6:$AP$1001,$AR$6:$AR$1001,AR4440,$F$6:$F$1001,F4440,$AX$6:$AX$1001,AX4440),0)","v":0},0,0,0,{"$f":"IF(AU4440<>0,SUMIFS($AV$6:$AV$1001,$AT$6:$AT$1001,AT4440,$F$6:$F$1001,F4440,$AY$6:$AY$1001,AY4440),0)","v":0},1900,1900,0,0,0,0,0,0,0,0,0,"","",0,0,0,"FORMATO INCORRECTO","FORMATO INCORRECTO","FORMATO INCORRECTO",{"$f":"IF(L4440=\"\",\"\",IF(ISERROR(edata(L4440)),\"FORMATO INCORRECTO\",\"FORMATO CORRECTO\"))","v":""},{"$f":"IF(U4440=\"\",\"\",IF(ISERROR(edata(U4440)),\"FORMATO INCORRECTO\",\"FORMATO CORRECTO\"))","v":""},{"$f":"IF(N4440=\"\",\"\",IF(ISERROR(edata(N4440)),\"FORMATO INCORRECTO\",\"FORMATO CORRECTO\"))","v":""}]
["1923-02-18","",null,null,null,null,null,null,"",null,null,null,null,null,null,null,null,"",null,null,null,null,null,null,null,null,"",null,"",null,null,"",null,null,null,null,null,0,0,0,0,0,{"$f":"IF(AO4452<>0,SUMIFS($AP$6:$AP$1001,$AN$6:$AN$1001,AN4452,$F$6:$F$1001,F4452,$AX$6:$AX$1001,AX4452),0)","v":0},0,{"$f":"IF(AO4452<>0,SUMIFS($AP$6:$AP$1001,$AR$6:$AR$1001,AR4452,$F$6:$F$1001,F4452,$AX$6:$AX$1001,AX4452),0)","v":0},0,0,0,{"$f":"IF(AU4452<>0,SUMIFS($AV$6:$AV$1001,$AT$6:$AT$1001,AT4452,$F$6:$F$1001,F4452,$AY$6:$AY$1001,AY4452),0)","v":0},1900,1900,0,0,0,0,0,0,0,0,0,"","",0,0,0,"FORMATO INCORRECTO","FORMATO INCORRECTO","FORMATO INCORRECTO",{"$f":"IF(L4452=\"\",\"\",IF(ISERROR(edata(L4452)),\"FORMATO INCORRECTO\",\"FORMATO CORRECTO\"))","v":""},{"$f":"IF(U4452=\"\",\"\",IF(ISERROR(edata(U4452)),\"FORMATO INCORRECTO\",\"FORMATO CORRECTO\"))","v":""},{"$f":"IF(N4452=\"\",\"\",IF(ISERROR(edata(N4452)),\"FORMATO INCORRECTO\",\"FORMATO CORRECTO\"))","v":""}]
["1923-02-24",{"$f":"IF(G4458<>\"\",+B4457+1,\"\")","v":""},null,null,null,null,null,null,{"$f":"IF(ISERROR(VLOOKUP(J4458,tipoDocDesp,2,FALSE)),\"\",VLOOKUP(J4458,tipoDocDesp,2,FALSE))","v":""},null,null,null,null,null,null,null,null,{"$f":"IF(ISERROR(VLOOKUP(S4458,tipoDocQuit,2,FALSE)),\"\",VLOOKUP(S4458,tipoDocQuit,2,FALSE))","v":""},null,null,null,null,null,null,null,null,{"$f":"IF(ISERROR(VLOOKUP(AB4458,DESPESASGERAL,3,FALSE)),\"\",VLOOKUP(AB4458,DESPESASGERAL,3,FALSE))","v":""},null,{"$f":"IF(ISERROR(VLOOKUP(AD4458,RUBRICASGERAL,2,FALSE)),\"\",VLOOKUP(AD4458,RUBRICASGERAL,2,FALSE))","v":""},null,null,{"$f":"IF(ISERROR(VLOOKUP(AG4458,CONCELHOGERAL,2,FALSE)),\"\",VLOOKUP(AG4458,CONCELHOGERAL,2,FALSE))","v":""},null,null,null,null,null,{"$f":"+O4458+P4458+Q4458-N4458","v":0},{"$f":"+O4458+P4458+Q4458-W4458","v":0},{"$f":"+D4458","v":0},{"$f":"+M4458","v":0},{"$f":"+N4458","v":0},{"$f":"IF(AO4458<>0,SUMIFS($AP$6:$AP$1001,$AN$6:$AN$1001,AN4458,$F$6:$F$1001,F4458,$AX$6:$AX$1001,AX4458),0)","v":0},{"$f":"+K4458","v":0},{"$f":"IF(AO4458<>0,SUMIFS($AP$6:$AP$1001,$AR$6:$AR$1001,AR4458,$F$6:$F$1001,F4458,$AX$6:$AX$1001,AX4458),0)","v":0},{"$f":"+T4458","v":0},{"$f":"+V4458","v":0},{"$f":"+W4458","v":0},{"$f":"IF(AU4458<>0,SUMIFS($AV$6:$AV$1001,$AT$6:$AT$1001,AT4458,$F$6:$F$1001,F4458,$AY$6:$AY$1001,AY4458),0)","v":0},{"$f":"YEAR(L4458)","v":1900},{"$f":"YEAR(U4458)","v":1900},{"$f":"+AN4458","v":0},{"$f":"+AQ4458","v":0},{"$f":"+M4458-BA4458","v":0},{"$f":"+AR4458","v":0},{"$f":"ROUND(AS4458,2)","v":0},{"$f":"+M4458-BD4458","v":0},{"$f":"+AT4458","v":0},{"$f":"ROUND(AW4458,2)","v":0},{"$f":"+V4458-BG4458","v":0},{"$f":"IF(ISERROR(L4458<=U4458),\"FORMATO INCORRECTO\",IF(AND(L4458=0,U4458=0),\"\",IF(L4458<=U4458,\"VALIDADO\",\"NÃO VALIDADO\")))","v":""},{"$f":"IF(AND(L4458=\"\",U4458=\"\",Y4458=\"\"),\"\",IF(OR(ISERROR(BK4458),ISERROR(BL4458),ISERROR(BM4458)),\"ERRO NO FORMATO\",\"FORMATO CORRECTO\"))","v":""},{"$f":"convdata(L4458)","v":0},{"$f":"convdata(U4458)","v":0},{"$f":"convdata(Y4458)","v":0},{"$f":"ENULO(L4458)","v":"FORMATO INCORRECTO"},{"$f":"ENULO(U4458)","v":"FORMATO INCORRECTO"},{"$f":"ENULO(Y4458)","v":"FORMATO INCORRECTO"},{"$f":"IF(L4458=\"\",\"\",IF(ISERROR(edata(L4458)),\"FORMATO INCORRECTO\",\"FORMATO CORRECTO\"))","v":""},{"$f":"IF(U4458=\"\",\"\",IF(ISERROR(edata(U4458)),\"FORMATO INCORRECTO\",\"FORMATO CORRECTO\"))","v":""},{"$f":"IF(N4458=\"\",\"\",IF(ISERROR(edata(N4458)),\"FORMATO INCORRECTO\",\"FORMATO CORRECTO\"))","v":""}]
["1923-03-03","",null,null,null,null,null,null,"",null,null,null,null,null,null,null,null,"",null,null,null,null,null,null,null,null,"",null,"",null,null,"",null,null,null,null,null,0,0,0,0,0,{"$f":"IF(AO4465<>0,SUMIFS($AP$6:$AP$1001,$AN$6:$AN$1001,AN4465,$F$6:$F$1001,F4465,$AX$6:$AX$1001,AX4465),0)","v":0},0,{"$f":"IF(AO4465<>0,SUMIFS($AP$6:$AP$1001,$AR$6:$AR$1001,AR4465,$F$6:$F$1001,F4465,$AX$6:$AX$1001,AX4465),0)","v":0},0,0,0,{"$f":"IF(AU4465<>0,SUMIFS($AV$6:$AV$1001,$AT$6:$AT$1001,AT4465,$F$6:$F$1001,F4465,$AY$6:$AY$1001,AY4465),0)","v":0},1900,1900,0,0,0,0,0,0,0,0,0,"","",0,0,0,"FORMATO INCORRECTO","FORMATO INCORRECTO","FORMATO INCORRECTO",{"$f":"IF(L4465=\"\",\"\",IF(ISERROR(edata(L4465)),\"FORMATO INCORRECTO\",\"FORMATO CORRECTO\"))","v":""},{"$f":"IF(U4465=\"\",\"\",IF(ISERROR(edata(U4465)),\"FORMATO INCORRECTO\",\"FORMATO CORRECTO\"))","v":""},{"$f":"IF(N4465=\"\",\"\",IF(ISERROR(edata(N4465)),\"FORMATO INCORRECTO\",\"FORMATO CORRECTO\"))","v":""}]
["1923-03-15","",null,null,null,null,null,null,"",null,null,null,null,null,null,null,null,"",null,null,null,null,null,null,null,null,"",null,"",null,null,"",null,null,null,null,null,0,0,0,0,0,{"$f":"IF(AO4477<>0,SUMIFS($AP$6:$AP$1001,$AN$6:$AN$1001,AN4477,$F$6:$F$1001,F4477,$AX$6:$AX$1001,AX4477),0)","v":0},0,{"$f":"IF(AO4477<>0,SUMIFS($AP$6:$AP$1001,$AR$6:$AR$1001,AR4477,$F$6:$F$1001,F4477,$AX$6:$AX$1001,AX4477),0)","v":0},0,0,0,{"$f":"IF(AU4477<>0,SUMIFS($AV$6:$AV$1001,$AT$6:$AT$1001,AT4477,$F$6:$F$1001,F4477,$AY$6:$AY$1001,AY4477),0)","v":0},1900,1900,0,0,0,0,0,0,0,0,0,"","",0,0,0,"FORMATO INCORRECTO","FORMATO INCORRECTO","FORMATO INCORRECTO",{"$f":"IF(L4477=\"\",\"\",IF(ISERROR(edata(L4477)),\"FORMATO INCORRECTO\",\"FORMATO CORRECTO\"))","v":""},{"$f":"IF(U4477=\"\",\"\",IF(ISERROR(edata(U4477)),\"FORMATO INCORRECTO\",\"FORMATO CORRECTO\"))","v":""},{"$f":"IF(N4477=\"\",\"\",IF(ISERROR(edata(N4477)),\"FORMATO INCORRECTO\",\"FORMATO CORRECTO\"))","v":""}]
["1923-03-21","",null,null,null,null,null,null,"",null,null,null,null,null,null,null,null,"",null,null,null,null,null,null,null,null,"",null,"",null,null,"",null,null,null,null,null,0,0,0,0,0,{"$f":"IF(AO4483<>0,SUMIFS($AP$6:$AP$1001,$AN$6:$AN$1001,AN4483,$F$6:$F$1001,F4483,$AX$6:$AX$1001,AX4483),0)","v":0},0,{"$f":"IF(AO4483<>0,SUMIFS($AP$6:$AP$1001,$AR$6:$AR$1001,AR4483,$F$6:$F$1001,F4483,$AX$6:$AX$1001,AX4483),0)","v":0},0,0,0,{"$f":"IF(AU4483<>0,SUMIFS($AV$6:$AV$1001,$AT$6:$AT$1001,AT4483,$F$6:$F$1001,F4483,$AY$6:$AY$1001,AY4483),0)","v":0},1900,1900,0,0,0,0,0,0,0,0,0,"","",0,0,0,"FORMATO INCORRECTO","FORMATO INCORRECTO","FORMATO INCORRECTO",{"$f":"IF(L4483=\"\",\"\",IF(ISERROR(edata(L4483)),\"FORMATO INCORRECTO\",\"FORMATO CORRECTO\"))","v":""},{"$f":"IF(U4483=\"\",\"\",IF(ISERROR(edata(U4483)),\"FORMATO INCORRECTO\",\"FORMATO CORRECTO\"))","v":""},{"$f":"IF(N4483=\"\",\"\",IF(ISERROR(edata(N4483)),\"FORMATO INCORRECTO\",\"FORMATO CORRECTO\"))","v":""}]
["1923-04-02","",null,null,null,null,null,null,"",null,null,null,null,null,null,null,null,"",null,null,null,null,null,null,null,null,"",null,"",null,null,"",null,null,null,null,null,0,0,0,0,0,{"$f":"IF(AO4495<>0,SUMIFS($AP$6:$AP$1001,$AN$6:$AN$1001,AN4495,$F$6:$F$1001,F4495,$AX$6:$AX$1001,AX4495),0)","v":0},0,{"$f":"IF(AO4495<>0,SUMIFS($AP$6:$AP$1001,$AR$6:$AR$1001,AR4495,$F$6:$F$1001,F4495,$AX$6:$AX$1001,AX4495),0)","v":0},0,0,0,{"$f":"IF(AU4495<>0,SUMIFS($AV$6:$AV$1001,$AT$6:$AT$1001,AT4495,$F$6:$F$1001,F4495,$AY$6:$AY$1001,AY4495),0)","v":0},1900,1900,0,0,0,0,0,0,0,0,0,"","",0,0,0,"FORMATO INCORRECTO","FORMATO INCORRECTO","FORMATO INCORRECTO",{"$f":"IF(L4495=\"\",\"\",IF(ISERROR(edata(L4495)),\"FORMATO INCORRECTO\",\"FORMATO CORRECTO\"))","v":""},{"$f":"IF(U4495=\"\",\"\",IF(ISERROR(edata(U4495)),\"FORMATO INCORRECTO\",\"FORMATO CORRECTO\"))","v":""},{"$f":"IF(N4495=\"\",\"\",IF(ISERROR(edata(N4495)),\"FORMATO INCORRECTO\",\"FORMATO CORRECTO\"))","v":""}]
["1923-04-14","",null,null,null,null,null,null,"",null,null,null,null,null,null,null,null,"",null,null,null,null,null,null,null,null,"",null,"",null,null,"",null,null,null,null,null,0,0,0,0,0,{"$f":"IF(AO4507<>0,SUMIFS($AP$6:$AP$1001,$AN$6:$AN$1001,AN4507,$F$6:$F$1001,F4507,$AX$6:$AX$1001,AX4507),0)","v":0},0,{"$f":"IF(AO4507<>0,SUMIFS($AP$6:$AP$1001,$AR$6:$AR$1001,AR4507,$F$6:$F$1001,F4507,$AX$6:$AX$1001,AX4507),0)","v":0},0,0,0,{"$f":"IF(AU4507<>0,SUMIFS($AV$6:$AV$1001,$AT$6:$AT$1001,AT4507,$F$6:$F$1001,F4507,$AY$6:$AY$1001,AY4507),0)","v":0},1900,1900,0,0,0,0,0,0,0,0,0,"","",0,0,0,"FORMATO INCORRECTO","FORMATO INCORRECTO","FORMATO INCORRECTO",{"$f":"IF(L4507=\"\",\"\",IF(ISERROR(edata(L4507)),\"FORMATO INCORRECTO\",\"FORMATO CORRECTO\"))","v":""},{"$f":"IF(U4507=\"\",\"\",IF(ISERROR(edata(U4507)),\"FORMATO INCORRECTO\",\"FORMATO CORRECTO\"))","v":""},{"$f":"IF(N4507=\"\",\"\",IF(ISERROR(edata(N4507)),\"FORMATO INCORRECTO\",\"FORMATO CORRECTO\"))","v":""}]
["1923-04-17","",null,null,null,null,null,null,"",null,null,null,null,null,null,null,null,"",null,null,null,null,null,null,null,null,"",null,"",null,null,"",null,null,null,null,null,0,0,0,0,0,{"$f":"IF(AO4510<>0,SUMIFS($AP$6:$AP$1001,$AN$6:$AN$1001,AN4510,$F$6:$F$1001,F4510,$AX$6:$AX$1001,AX4510),0)","v":0},0,{"$f":"IF(AO4510<>0,SUMIFS($AP$6:$AP$1001,$AR$6:$AR$1001,AR4510,$F$6:$F$1001,F4510,$AX$6:$AX$1001,AX4510),0)","v":0},0,0,0,{"$f":"IF(AU4510<>0,SUMIFS($AV$6:$AV$1001,$AT$6:$AT$1001,AT4510,$F$6:$F$1001,F4510,$AY$6:$AY$1001,AY4510),0)","v":0},1900,1900,0,0,0,0,0,0,0,0,0,"","",0,0,0,"FORMATO INCORRECTO","FORMATO INCORRECTO","FORMATO INCORRECTO",{"$f":"IF(L4510=\"\",\"\",IF(ISERROR(edata(L4510)),\"FORMATO INCORRECTO\",\"FORMATO CORRECTO\"))","v":""},{"$f":"IF(U4510=\"\",\"\",IF(ISERROR(edata(U4510)),\"FORMATO INCORRECTO\",\"FORMATO CORRECTO\"))","v":""},{"$f":"IF(N4510=\"\",\"\",IF(ISERROR(edata(N4510)),\"FORMATO INCORRECTO\",\"FORMATO CORRECTO\"))","v":""}]
["1923-04-29",{"$f":"IF(G4522<>\"\",+B4521+1,\"\")","v":""},null,null,null,null,null,null,{"$f":"IF(ISERROR(VLOOKUP(J4522,tipoDocDesp,2,FALSE)),\"\",VLOOKUP(J4522,tipoDocDesp,2,FALSE))","v":""},null,null,null,null,null,null,null,null,{"$f":"IF(ISERROR(VLOOKUP(S4522,tipoDocQuit,2,FALSE)),\"\",VLOOKUP(S4522,tipoDocQuit,2,FALSE))","v":""},null,null,null,null,null,null,null,null,{"$f":"IF(ISERROR(VLOOKUP(AB4522,DESPESASGERAL,3,FALSE)),\"\",VLOOKUP(AB4522,DESPESASGERAL,3,FALSE))","v":""},null,{"$f":"IF(ISERROR(VLOOKUP(AD4522,RUBRICASGERAL,2,FALSE)),\"\",VLOOKUP(AD4522,RUBRICASGERAL,2,FALSE))","v":""},null,null,{"$f":"IF(ISERROR(VLOOKUP(AG4522,CONCELHOGERAL,2,FALSE)),\"\",VLOOKUP(AG4522,CONCELHOGERAL,2,FALSE))","v":""},null,null,null,null,null,{"$f":"+O4522+P4522+Q4522-N4522","v":0},{"$f":"+O4522+P4522+Q4522-W4522","v":0},{"$f":"+D4522","v":0},{"$f":"+M4522","v":0},{"$f":"+N4522","v":0},{"$f":"IF(AO4522<>0,SUMIFS($AP$6:$AP$1001,$AN$6:$AN$1001,AN4522,$F$6:$F$1001,F4522,$AX$6:$AX$1001,AX4522),0)","v":0},{"$f":"+K4522","v":0},{"$f":"IF(AO4522<>0,SUMIFS($AP$6:$AP$1001,$AR$6:$AR$1001,AR4522,$F$6:$F$1001,F4522,$AX$6:$AX$1001,AX4522),0)","v":0},{"$f":"+T4522","v":0},{"$f":"+V4522","v":0},{"$f":"+W4522","v":0},{"$f":"IF(AU4522<>0,SUMIFS($AV$6:$AV$1001,$AT$6:$AT$1001,AT4522,$F$6:$F$1001,F4522,$AY$6:$AY$1001,AY4522),0)","v":0},{"$f":"YEAR(L4522)","v":1900},{"$f":"YEAR(U4522)","v":1900},{"$f":"+AN4522","v":0},{"$f":"+AQ4522","v":0},{"$f":"+M4522-BA4522","v":0},{"$f":"+AR4522","v":0},{"$f":"ROUND(AS4522,2)","v":0},{"$f":"+M4522-BD4522","v":0},{"$f":"+AT4522","v":0},{"$f":"ROUND(AW4522,2)","v":0},{"$f":"+V4522-BG4522","v":0},{"$f":"IF(ISERROR(L4522<=U4522),\"FORMATO INCORRECTO\",IF(AND(L4522=0,U4522=0),\"\",IF(L4522<=U4522,\"VALIDADO\",\"NÃO VALIDADO\")))","v":""},{"$f":"IF(AND(L4522=\"\",U4522=\"\",Y4522=\"\"),\"\",IF(OR(ISERROR(BK4522),ISERROR(BL4522),ISERROR(BM4522)),\"ERRO NO FORMATO\",\"FORMATO CORRECTO\"))","v":""},{"$f":"convdata(L4522)","v":0},{"$f":"convdata(U4522)","v":0},{"$f":"convdata(Y4522)","v":0},{"$f":"ENULO(L4522)","v":"FORMATO INCORRECTO"},{"$f":"ENULO(U4522)","v":"FORMATO INCORRECTO"},{"$f":"ENULO(Y4522)","v":"FORMATO INCORRECTO"},{"$f":"IF(L4522=\"\",\"\",IF(ISERROR(edata(L4522)),\"FORMATO INCORRECTO\",\"FORMATO CORRECTO\"))","v":""},{"$f":"IF(U4522=\"\",\"\",IF(ISERROR(edata(U4522)),\"FORMATO INCORRECTO\",\"FORMATO CORRECTO\"))","v":""},{"$f":"IF(N4522=\"\",\"\",IF(ISERROR(edata(N4522)),\"FORMATO INCORRECTO\",\"FORMATO CORRECTO\"))","v":""}]
["1923-05-05","",null,null,null,null,null,null,"",null,null,null,null,null,null,null,null,"",null,null,null,null,null,null,null,null,"",null,"",null,null,"",null,null,null,null,null,0,0,0,0,0,{"$f":"IF(AO4528<>0,SUMIFS($AP$6:$AP$1001,$AN$6:$AN$1001,AN4528,$F$6:$F$1001,F4528,$AX$6:$AX$1001,AX4528),0)","v":0},0,{"$f":"IF(AO4528<>0,SUMIFS($AP$6:$AP$1001,$AR$6:$AR$1001,AR4528,$F$6:$F$1001,F4528,$AX$6:$AX$1001,AX4528),0)","v":0},0,0,0,{"$f":"IF(AU4528<>0,SUMIFS($AV$6:$AV$1001,$AT$6:$AT$1001,AT4528,$F$6:$F$1001,F4528,$AY$6:$AY$1001,AY4528),0)","v":0},1900,1900,0,0,0,0,0,0,0,0,0,"","",0,0,0,"FORMATO INCORRECTO","FORMATO INCORRECTO","FORMATO INCORRECTO",{"$f":"IF(L4528=\"\",\"\",IF(ISERROR(edata(L4528)),\"FORMATO INCORRECTO\",\"FORMATO CORRECTO\"))","v":""},{"$f":"IF(U4528=\"\",\"\",IF(ISERROR(edata(U4528)),\"FORMATO INCORRECTO\",\"FORMATO CORRECTO\"))","v":""},{"$f":"IF(N4528=\"\",\"\",IF(ISERROR(edata(N4528)),\"FORMATO INCORRECTO\",\"FORMATO CORRECTO\"))","v":""}]
["1923-05-12","",null,null,null,null,null,null,"",null,null,null,null,null,null,null,null,"",null,null,null,null,null,null,null,null,"",null,"",null,null,"",null,null,null,null,null,0,0,0,0,0,{"$f":"IF(AO4535<>0,SUMIFS($AP$6:$AP$1001,$AN$6:$AN$1001,AN4535,$F$6:$F$1001,F4535,$AX$6:$AX$1001,AX4535),0)","v":0},0,{"$f":"IF(AO4535<>0,SUMIFS($AP$6:$AP$1001,$AR$6:$AR$1001,AR4535,$F$6:$F$1001,F4535,$AX$6:$AX$1001,AX4535),0)","v":0},0,0,0,{"$f":"IF(AU4535<>0,SUMIFS($AV$6:$AV$1001,$AT$6:$AT$1001,AT4535,$F$6:$F$1001,F4535,$AY$6:$AY$1001,AY4535),0)","v":0},1900,1900,0,0,0,0,0,0,0,0,0,"","",0,0,0,"FORMATO INCORRECTO","FORMATO INCORRECTO","FORMATO INCORRECTO",{"$f":"IF(L4535=\"\",\"\",IF(ISERROR(edata(L4535)),\"FORMATO INCORRECTO\",\"FORMATO CORRECTO\"))","v":""},{"$f":"IF(U4535=\"\",\"\",IF(ISERROR(edata(U4535)),\"FORMATO INCORRECTO\",\"FORMATO CORRECTO\"))","v":""},{"$f":"IF(N4535=\"\",\"\",IF(ISERROR(edata(N4535)),\"FORMATO INCORRECTO\",\"FORMATO CORRECTO\"))","v":""}]
["1923-05-24","",null,null,null,null,null,null,"",null,null,null,null,null,null,null,null,"",null,null,null,null,null,null,null,null,"",null,"",null,null,"",null,null,null,null,null,0,0,0,0,0,{"$f":"IF(AO4547<>0,SUMIFS($AP$6:$AP$1001,$AN$6:$AN$1001,AN4547,$F$6:$F$1001,F4547,$AX$6:$AX$1001,AX4547),0)","v":0},0,{"$f":"IF(AO4547<>0,SUMIFS($AP$6:$AP$1001,$AR$6:$AR$1001,AR4547,$F$6:$F$1001,F4547,$AX$6:$AX$1001,AX4547),0)","v":0},0,0,0,{"$f":"IF(AU4547<>0,SUMIFS($AV$6:$AV$1001,$AT$6:$AT$1001,AT4547,$F$6:$F$1001,F4547,$AY$6:$AY$1001,AY4547),0)","v":0},1900,1900,0,0,0,0,0,0,0,0,0,"","",0,0,0,"FORMATO INCORRECTO","FORMATO INCORRECTO","FORMATO INCORRECTO",{"$f":"IF(L4547=\"\",\"\",IF(ISERROR(edata(L4547)),\"FORMATO INCORRECTO\",\"FORMATO CORRECTO\"))","v":""},{"$f":"IF(U4547=\"\",\"\",IF(ISERROR(edata(U4547)),\"FORMATO INCORRECTO\",\"FORMATO CORRECTO\"))","v":""},{"$f":"IF(N4547=\"\",\"\",IF(ISERROR(edata(N4547)),\"FORMATO INCORRECTO\",\"FORMATO CORRECTO\"))","v":""}]
["1923-05-30","",null,null,null,null,null,null,"",null,null,null,null,null,null,null,null,"",null,null,null,null,null,null,null,null,"",null,"",null,null,"",null,null,null,null,null,0,0,0,0,0,{"$f":"IF(AO4553<>0,SUMIFS($AP$6:$AP$1001,$AN$6:$AN$1001,AN4553,$F$6:$F$1001,F4553,$AX$6:$AX$1001,AX4553),0)","v":0},0,{"$f":"IF(AO4553<>0,SUMIFS($AP$6:$AP$1001,$AR$6:$AR$1001,AR4553,$F$6:$F$1001,F4553,$AX$6:$AX$1001,AX4553),0)","v":0},0,0,0,{"$f":"IF(AU4553<>0,SUMIFS($AV$6:$AV$1001,$AT$6:$AT$1001,AT4553,$F$6:$F$1001,F4553,$AY$6:$AY$1001,AY4553),0)","v":0},1900,1900,0,0,0,0,0,0,0,0,0,"","",0,0,0,"FORMATO INCORRECTO","FORMATO INCORRECTO","FORMATO INCORRECTO",{"$f":"IF(L4553=\"\",\"\",IF(ISERROR(edata(L4553)),\"FORMATO INCORRECTO\",\"FORMATO CORRECTO\"))","v":""},{"$f":"IF(U4553=\"\",\"\",IF(ISERROR(edata(U4553)),\"FORMATO INCORRECTO\",\"FORMATO CORRECTO\"))","v":""},{"$f":"IF(N4553=\"\",\"\",IF(ISERROR(edata(N4553)),\"FORMATO INCORRECTO\",\"FORMATO CORRECTO\"))","v":""}]
["1923-06-11","",null,null,null,null,null,null,"",null,null,null,null,null,null,null,null,"",null,null,null,null,null,null,null,null,"",null,"",null,null,"",null,null,null,null,null,0,0,0,0,0,{"$f":"IF(AO4565<>0,SUMIFS($AP$6:$AP$1001,$AN$6:$AN$1001,AN4565,$F$6:$F$1001,F4565,$AX$6:$AX$1001,AX4565),0)","v":0},0,{"$f":"IF(AO4565<>0,SUMIFS($AP$6:$AP$1001,$AR$6:$AR$1001,AR4565,$F$6:$F$1001,F4565,$AX$6:$AX$1001,AX4565),0)","v":0},0,0,0,{"$f":"IF(AU4565<>0,SUMIFS($AV$6:$AV$1001,$AT$6:$AT$1001,AT4565,$F$6:$F$1001,F4565,$AY$6:$AY$1001,AY4565),0)","v":0},1900,1900,0,0,0,0,0,0,0,0,0,"","",0,0,0,"FORMATO INCORRECTO","FORMATO INCORRECTO","FORMATO INCORRECTO",{"$f":"IF(L4565=\"\",\"\",IF(ISERROR(edata(L4565)),\"FORMATO INCORRECTO\",\"FORMATO CORRECTO\"))","v":""},{"$f":"IF(U4565=\"\",\"\",IF(ISERROR(edata(U4565)),\"FORMATO INCORRECTO\",\"FORMATO CORRECTO\"))","v":""},{"$f":"IF(N4565=\"\",\"\",IF(ISERROR(edata(N4565)),\"FORMATO INCORRECTO\",\"FORMATO CORRECTO\"))","v":""}]
["1923-06-23","",null,null,null,null,null,null,"",null,null,null,null,null,null,null,null,"",null,null,null,null,null,null,null,null,"",null,"",null,null,"",null,null,null,null,null,0,0,0,0,0,{"$f":"IF(AO4577<>0,SUMIFS($AP$6:$AP$1001,$AN$6:$AN$1001,AN4577,$F$6:$F$1001,F4577,$AX$6:$AX$1001,AX4577),0)","v":0},0,{"$f":"IF(AO4577<>0,SUMIFS($AP$6:$AP$1001,$AR$6:$AR$1001,AR4577,$F$6:$F$1001,F4577,$AX$6:$AX$1001,AX4577),0)","v":0},0,0,0,{"$f":"IF(AU4577<>0,SUMIFS($AV$6:$AV$1001,$AT$6:$AT$1001,AT4577,$F$6:$F$1001,F4577,$AY$6:$AY$1001,AY4577),0)","v":0},1900,1900,0,0,0,0,0,0,0,0,0,"","",0,0,0,"FORMATO INCORRECTO","FORMATO INCORRECTO","FORMATO INCORRECTO",{"$f":"IF(L4577=\"\",\"\",IF(ISERROR(edata(L4577)),\"FORMATO INCORRECTO\",\"FORMATO CORRECTO\"))","v":""},{"$f":"IF(U4577=\"\",\"\",IF(ISERROR(edata(U4577)),\"FORMATO INCORRECTO\",\"FORMATO CORRECTO\"))","v":""},{"$f":"IF(N4577=\"\",\"\",IF(ISERROR(edata(N4577)),\"FORMATO INCORRECTO\",\"FORMATO CORRECTO\"))","v":""}]
["1923-06-26","",null,null,null,null,null,null,"",null,null,null,null,null,null,null,null,"",null,null,null,null,null,null,null,null,"",null,"",null,null,"",null,null,null,null,null,0,0,0,0,0,{"$f":"IF(AO4580<>0,SUMIFS($AP$6:$AP$1001,$AN$6:$AN$1001,AN4580,$F$6:$F$1001,F4580,$AX$6:$AX$1001,AX4580),0)","v":0},0,{"$f":"IF(AO4580<>0,SUMIFS($AP$6:$AP$1001,$AR$6:$AR$1001,AR4580,$F$6:$F$1001,F4580,$AX$6:$AX$1001,AX4580),0)","v":0},0,0,0,{"$f":"IF(AU4580<>0,SUMIFS($AV$6:$AV$1001,$AT$6:$AT$1001,AT4580,$F$6:$F$1001,F4580,$AY$6:$AY$1001,AY4580),0)","v":0},1900,1900,0,0,0,0,0,0,0,0,0,"","",0,0,0,"FORMATO INCORRECTO","FORMATO INCORRECTO","FORMATO INCORRECTO",{"$f":"IF(L4580=\"\",\"\",IF(ISERROR(edata(L4580)),\"FORMATO INCORRECTO\",\"FORMATO CORRECTO\"))","v":""},{"$f":"IF(U4580=\"\",\"\",IF(ISERROR(edata(U4580)),\"FORMATO INCORRECTO\",\"FORMATO CORRECTO\"))","v":""},{"$f":"IF(N4580=\"\",\"\",IF(ISERROR(edata(N4580)),\"FORMATO INCORRECTO\",\"FORMATO CORRECTO\"))","v":""}]
["1923-07-08","",null,null,null,null,null,null,"",null,null,null,null,null,null,null,null,"",null,null,null,null,null,null,null,null,"",null,"",null,null,"",null,null,null,null,null,0,0,0,0,0,{"$f":"IF(AO4592<>0,SUMIFS($AP$6:$AP$1001,$AN$6:$AN$1001,AN4592,$F$6:$F$1001,F4592,$AX$6:$AX$1001,AX4592),0)","v":0},0,{"$f":"IF(AO4592<>0,SUMIFS($AP$6:$AP$1001,$AR$6:$AR$1001,AR4592,$F$6:$F$1001,F4592,$AX$6:$AX$1001,AX4592),0)","v":0},0,0,0,{"$f":"IF(AU4592<>0,SUMIFS($AV$6:$AV$1001,$AT$6:$AT$1001,AT4592,$F$6:$F$1001,F4592,$AY$6:$AY$1001,AY4592),0)","v":0},1900,1900,0,0,0,0,0,0,0,0,0,"","",0,0,0,"FORMATO INCORRECTO","FORMATO INCORRECTO","FORMATO INCORRECTO",{"$f":"IF(L4592=\"\",\"\",IF(ISERROR(edata(L4592)),\"FORMATO INCORRECTO\",\"FORMATO CORRECTO\"))","v":""},{"$f":"IF(U4592=\"\",\"\",IF(ISERROR(edata(U4592)),\"FORMATO INCORRECTO\",\"FORMATO CORRECTO\"))","v":""},{"$f":"IF(N4592=\"\",\"\",IF(ISERROR(edata(N4592)),\"FORMATO INCORRECTO\",\"FORMATO CORRECTO\"))","v":""}]
["1923-07-14","",null,null,null,null,null,null,"",null,null,null,null,null,null,null,null,"",null,null,null,null,null,null,null,null,"",null,"",null,null,"",null,null,null,null,null,0,0,0,0,0,{"$f":"IF(AO4598<>0,SUMIFS($AP$6:$AP$1001,$AN$6:$AN$1001,AN4598,$F$6:$F$1001,F4598,$AX$6:$AX$1001,AX4598),0)","v":0},0,{"$f":"IF(AO4598<>0,SUMIFS($AP$6:$AP$1001,$AR$6:$AR$1001,AR4598,$F$6:$F$1001,F4598,$AX$6:$AX$1001,AX4598),0)","v":0},0,0,0,{"$f":"IF(AU4598<>0,SUMIFS($AV$6:$AV$1001,$AT$6:$AT$1001,AT4598,$F$6:$F$1001,F4598,$AY$6:$AY$1001,AY4598),0)","v":0},1900,1900,0,0,0,0,0,0,0,0,0,"","",0,0,0,"FORMATO INCORRECTO","FORMATO INCORRECTO","FORMATO INCORRECTO",{"$f":"IF(L4598=\"\",\"\",IF(ISERROR(edata(L4598)),\"FORMATO INCORRECTO\",\"FORMATO CORRECTO\"))","v":""},{"$f":"IF(U4598=\"\",\"\",IF(ISERROR(edata(U4598)),\"FORMATO INCORRECTO\",\"FORMATO CORRECTO\"))","v":""},{"$f":"IF(N4598=\"\",\"\",IF(ISERROR(edata(N4598)),\"FORMATO INCORRECTO\",\"FORMATO CORRECTO\"))","v":""}]
["1923-07-21","",null,null,null,null,null,null,"",null,null,null,null,null,null,null,null,"",null,null,null,null,null,null,null,null,"",null,"",null,null,"",null,null,null,null,null,0,0,0,0,0,{"$f":"IF(AO4605<>0,SUMIFS($AP$6:$AP$1001,$AN$6:$AN$1001,AN4605,$F$6:$F$1001,F4605,$AX$6:$AX$1001,AX4605),0)","v":0},0,{"$f":"IF(AO4605<>0,SUMIFS($AP$6:$AP$1001,$AR$6:$AR$1001,AR4605,$F$6:$F$1001,F4605,$AX$6:$AX$1001,AX4605),0)","v":0},0,0,0,{"$f":"IF(AU4605<>0,SUMIFS($AV$6:$AV$1001,$AT$6:$AT$1001,AT4605,$F$6:$F$1001,F4605,$AY$6:$AY$1001,AY4605),0)","v":0},1900,1900,0,0,0,0,0,0,0,0,0,"","",0,0,0,"FORMATO INCORRECTO","FORMATO INCORRECTO","FORMATO INCORRECTO",{"$f":"IF(L4605=\"\",\"\",IF(ISERROR(edata(L4605)),\"FORMATO INCORRECTO\",\"FORMATO CORRECTO\"))","v":""},{"$f":"IF(U4605=\"\",\"\",IF(ISERROR(edata(U4605)),\"FORMATO INCORRECTO\",\"FORMATO CORRECTO\"))","v":""},{"$f":"IF(N4605=\"\",\"\",IF(ISERROR(edata(N4605)),\"FORMATO INCORRECTO\",\"FORMATO CORRECTO\"))","v":""}]
["1923-08-02","",null,null,null,null,null,null,"",null,null,null,null,null,null,null,null,"",null,null,null,null,null,null,null,null,"",null,"",null,null,"",null,null,null,null,null,0,0,0,0,0,{"$f":"IF(AO4617<>0,SUMIFS($AP$6:$AP$1001,$AN$6:$AN$1001,AN4617,$F$6:$F$1001,F4617,$AX$6:$AX$1001,AX4617),0)","v":0},0,{"$f":"IF(AO4617<>0,SUMIFS($AP$6:$AP$1001,$AR$6:$AR$1001,AR4617,$F$6:$F$1001,F4617,$AX$6:$AX$1001,AX4617),0)","v":0},0,0,0,{"$f":"IF(AU4617<>0,SUMIFS($AV$6:$AV$1001,$AT$6:$AT$1001,AT4617,$F$6:$F$1001,F4617,$AY$6:$AY$1001,AY4617),0)","v":0},1900,1900,0,0,0,0,0,0,0,0,0,"","",0,0,0,"FORMATO INCORRECTO","FORMATO INCORRECTO","FORMATO INCORRECTO",{"$f":"IF(L4617=\"\",\"\",IF(ISERROR(edata(L4617)),\"FORMATO INCORRECTO\",\"FORMATO CORRECTO\"))","v":""},{"$f":"IF(U4617=\"\",\"\",IF(ISERROR(edata(U4617)),\"FORMATO INCORRECTO\",\"FORMATO CORRECTO\"))","v":""},{"$f":"IF(N4617=\"\",\"\",IF(ISERROR(edata(N4617)),\"FORMATO INCORRECTO\",\"FORMATO CORRECTO\"))","v":""}]
["1923-08-08","",null,null,null,null,null,null,"",null,null,null,null,null,null,null,null,"",null,null,null,null,null,null,null,null,"",null,"",null,null,"",null,null,null,null,null,0,0,0,0,0,{"$f":"IF(AO4623<>0,SUMIFS($AP$6:$AP$1001,$AN$6:$AN$1001,AN4623,$F$6:$F$1001,F4623,$AX$6:$AX$1001,AX4623),0)","v":0},0,{"$f":"IF(AO4623<>0,SUMIFS($AP$6:$AP$1001,$AR$6:$AR$1001,AR4623,$F$6:$F$1001,F4623,$AX$6:$AX$1001,AX4623),0)","v":0},0,0,0,{"$f":"IF(AU4623<>0,SUMIFS($AV$6:$AV$1001,$AT$6:$AT$1001,AT4623,$F$6:$F$1001,F4623,$AY$6:$AY$1001,AY4623),0)","v":0},1900,1900,0,0,0,0,0,0,0,0,0,"","",0,0,0,"FORMATO INCORRECTO","FORMATO INCORRECTO","FORMATO INCORRECTO",{"$f":"IF(L4623=\"\",\"\",IF(ISERROR(edata(L4623)),\"FORMATO INCORRECTO\",\"FORMATO CORRECTO\"))","v":""},{"$f":"IF(U4623=\"\",\"\",IF(ISERROR(edata(U4623)),\"FORMATO INCORRECTO\",\"FORMATO CORRECTO\"))","v":""},{"$f":"IF(N4623=\"\",\"\",IF(ISERROR(edata(N4623)),\"FORMATO INCORRECTO\",\"FORMATO CORRECTO\"))","v":""}]
["1923-08-20","",null,null,null,null,null,null,"",null,null,null,null,null,null,null,null,"",null,null,null,null,null,null,null,null,"",null,"",null,null,"",null,null,null,null,null,0,0,0,0,0,{"$f":"IF(AO4635<>0,SUMIFS($AP$6:$AP$1001,$AN$6:$AN$1001,AN4635,$F$6:$F$1001,F4635,$AX$6:$AX$1001,AX4635),0)","v":0},0,{"$f":"IF(AO4635<>0,SUMIFS($AP$6:$AP$1001,$AR$6:$AR$1001,AR4635,$F$6:$F$1001,F4635,$AX$6:$AX$1001,AX4635),0)","v":0},0,0,0,{"$f":"IF(AU4635<>0,SUMIFS($AV$6:$AV$1001,$AT$6:$AT$1001,AT4635,$F$6:$F$1001,F4635,$AY$6:$AY$1001,AY4635),0)","v":0},1900,1900,0,0,0,0,0,0,0,0,0,"","",0,0,0,"FORMATO INCORRECTO","FORMATO INCORRECTO","FORMATO INCORRECTO",{"$f":"IF(L4635=\"\",\"\",IF(ISERROR(edata(L4635)),\"FORMATO INCORRECTO\",\"FORMATO CORRECTO\"))","v":""},{"$f":"IF(U4635=\"\",\"\",IF(ISERROR(edata(U4635)),\"FORMATO INCORRECTO\",\"FORMATO CORRECTO\"))","v":""},{"$f":"IF(N4635=\"\",\"\",IF(ISERROR(edata(N4635)),\"FORMATO INCORRECTO\",\"FORMATO CORRECTO\"))","v":""}]
["1923-09-01","",null,null,null,null,null,null,"",null,null,null,null,null,null,null,null,"",null,null,null,null,null,null,null,null,"",null,"",null,null,"",null,null,null,null,null,0,0,0,0,0,{"$f":"IF(AO4647<>0,SUMIFS($AP$6:$AP$1001,$AN$6:$AN$1001,AN4647,$F$6:$F$1001,F4647,$AX$6:$AX$1001,AX4647),0)","v":0},0,{"$f":"IF(AO4647<>0,SUMIFS($AP$6:$AP$1001,$AR$6:$AR$1001,AR4647,$F$6:$F$1001,F4647,$AX$6:$AX$1001,AX4647),0)","v":0},0,0,0,{"$f":"IF(AU4647<>0,SUMIFS($AV$6:$AV$1001,$AT$6:$AT$1001,AT4647,$F$6:$F$1001,F4647,$AY$6:$AY$1001,AY4647),0)","v":0},1900,1900,0,0,0,0,0,0,0,0,0,"","",0,0,0,"FORMATO INCORRECTO","FORMATO INCORRECTO","FORMATO INCORRECTO",{"$f":"IF(L4647=\"\",\"\",IF(ISERROR(edata(L4647)),\"FORMATO INCORRECTO\",\"FORMATO CORRECTO\"))","v":""},{"$f":"IF(U4647=\"\",\"\",IF(ISERROR(edata(U4647)),\"FORMATO INCORRECTO\",\"FORMATO CORRECTO\"))","v":""},{"$f":"IF(N4647=\"\",\"\",IF(ISERROR(edata(N4647)),\"FORMATO INCORRECTO\",\"FORMATO CORRECTO\"))","v":""}]
["1923-09-08","",null,null,null,null,null,null,"",null,null,null,null,null,null,null,null,"",null,null,null,null,null,null,null,null,"",null,"",null,null,"",null,null,null,null,null,0,0,0,0,0,{"$f":"IF(AO4654<>0,SUMIFS($AP$6:$AP$1001,$AN$6:$AN$1001,AN4654,$F$6:$F$1001,F4654,$AX$6:$AX$1001,AX4654),0)","v":0},0,{"$f":"IF(AO4654<>0,SUMIFS($AP$6:$AP$1001,$AR$6:$AR$1001,AR4654,$F$6:$F$1001,F4654,$AX$6:$AX$1001,AX4654),0)","v":0},0,0,0,{"$f":"IF(AU4654<>0,SUMIFS($AV$6:$AV$1001,$AT$6:$AT$1001,AT4654,$F$6:$F$1001,F4654,$AY$6:$AY$1001,AY4654),0)","v":0},1900,1900,0,0,0,0,0,0,0,0,0,"","",0,0,0,"FORMATO INCORRECTO","FORMATO INCORRECTO","FORMATO INCORRECTO",{"$f":"IF(L4654=\"\",\"\",IF(ISERROR(edata(L4654)),\"FORMATO INCORRECTO\",\"FORMATO CORRECTO\"))","v":""},{"$f":"IF(U4654=\"\",\"\",IF(ISERROR(edata(U4654)),\"FORMATO INCORRECTO\",\"FORMATO CORRECTO\"))","v":""},{"$f":"IF(N4654=\"\",\"\",IF(ISERROR(edata(N4654)),\"FORMATO INCORRECTO\",\"FORMATO CORRECTO\"))","v":""}]
["1923-09-16","",null,null,null,null,null,null,"",null,null,null,null,null,null,null,null,"",null,null,null,null,null,null,null,null,"",null,"",null,null,"",null,null,null,null,null,0,0,0,0,0,{"$f":"IF(AO4662<>0,SUMIFS($AP$6:$AP$1001,$AN$6:$AN$1001,AN4662,$F$6:$F$1001,F4662,$AX$6:$AX$1001,AX4662),0)","v":0},0,{"$f":"IF(AO4662<>0,SUMIFS($AP$6:$AP$1001,$AR$6:$AR$1001,AR4662,$F$6:$F$1001,F4662,$AX$6:$AX$1001,AX4662),0)","v":0},0,0,0,{"$f":"IF(AU4662<>0,SUMIFS($AV$6:$AV$1001,$AT$6:$AT$1001,AT4662,$F$6:$F$1001,F4662,$AY$6:$AY$1001,AY4662),0)","v":0},1900,1900,0,0,0,0,0,0,0,0,0,"","",0,0,0,"FORMATO INCORRECTO","FORMATO INCORRECTO","FORMATO INCORRECTO",{"$f":"IF(L4662=\"\",\"\",IF(ISERROR(edata(L4662)),\"FORMATO INCORRECTO\",\"FORMATO CORRECTO\"))","v":""},{"$f":"IF(U4662=\"\",\"\",IF(ISERROR(edata(U4662)),\"FORMATO INCORRECTO\",\"FORMATO CORRECTO\"))","v":""},{"$f":"IF(N4662=\"\",\"\",IF(ISERROR(edata(N4662)),\"FORMATO INCORRECTO\",\"FORMATO CORRECTO\"))","v":""}]
["1923-09-22","",null,null,null,null,null,null,"",null,null,null,null,null,null,null,null,"",null,null,null,null,null,null,null,null,"",null,"",null,null,"",null,null,null,null,null,0,0,0,0,0,{"$f":"IF(AO4668<>0,SUMIFS($AP$6:$AP$1001,$AN$6:$AN$1001,AN4668,$F$6:$F$1001,F4668,$AX$6:$AX$1001,AX4668),0)","v":0},0,{"$f":"IF(AO4668<>0,SUMIFS($AP$6:$AP$1001,$AR$6:$AR$1001,AR4668,$F$6:$F$1001,F4668,$AX$6:$AX$1001,AX4668),0)","v":0},0,0,0,{"$f":"IF(AU4668<>0,SUMIFS($AV$6:$AV$1001,$AT$6:$AT$1001,AT4668,$F$6:$F$1001,F4668,$AY$6:$AY$1001,AY4668),0)","v":0},1900,1900,0,0,0,0,0,0,0,0,0,"","",0,0,0,"FORMATO INCORRECTO","FORMATO INCORRECTO","FORMATO INCORRECTO",{"$f":"IF(L4668=\"\",\"\",IF(ISERROR(edata(L4668)),\"FORMATO INCORRECTO\",\"FORMATO CORRECTO\"))","v":""},{"$f":"IF(U4668=\"\",\"\",IF(ISERROR(edata(U4668)),\"FORMATO INCORRECTO\",\"FORMATO CORRECTO\"))","v":""},{"$f":"IF(N4668=\"\",\"\",IF(ISERROR(edata(N4668)),\"FORMATO INCORRECTO\",\"FORMATO CORRECTO\"))","v":""}]
["1923-09-29","",null,null,null,null,null,null,"",null,null,null,null,null,null,null,null,"",null,null,null,null,null,null,null,null,"",null,"",null,null,"",null,null,null,null,null,0,0,0,0,0,{"$f":"IF(AO4675<>0,SUMIFS($AP$6:$AP$1001,$AN$6:$AN$1001,AN4675,$F$6:$F$1001,F4675,$AX$6:$AX$1001,AX4675),0)","v":0},0,{"$f":"IF(AO4675<>0,SUMIFS($AP$6:$AP$1001,$AR$6:$AR$1001,AR4675,$F$6:$F$1001,F4675,$AX$6:$AX$1001,AX4675),0)","v":0},0,0,0,{"$f":"IF(AU4675<>0,SUMIFS($AV$6:$AV$1001,$AT$6:$AT$1001,AT4675,$F$6:$F$1001,F4675,$AY$6:$AY$1001,AY4675),0)","v":0},1900,1900,0,0,0,0,0,0,0,0,0,"","",0,0,0,"FORMATO INCORRECTO","FORMATO INCORRECTO","FORMATO INCORRECTO",{"$f":"IF(L4675=\"\",\"\",IF(ISERROR(edata(L4675)),\"FORMATO INCORRECTO\",\"FORMATO CORRECTO\"))","v":""},{"$f":"IF(U4675=\"\",\"\",IF(ISERROR(edata(U4675)),\"FORMATO INCORRECTO\",\"FORMATO CORRECTO\"))","v":""},{"$f":"IF(N4675=\"\",\"\",IF(ISERROR(edata(N4675)),\"FORMATO INCORRECTO\",\"FORMATO CORRECTO\"))","v":""}]
["1923-10-11","",null,null,null,null,null,null,"",null,null,null,null,null,null,null,null,"",null,null,null,null,null,null,null,null,"",null,"",null,null,"",null,null,null,null,null,0,0,0,0,0,{"$f":"IF(AO4687<>0,SUMIFS($AP$6:$AP$1001,$AN$6:$AN$1001,AN4687,$F$6:$F$1001,F4687,$AX$6:$AX$1001,AX4687),0)","v":0},0,{"$f":"IF(AO4687<>0,SUMIFS($AP$6:$AP$1001,$AR$6:$AR$1001,AR4687,$F$6:$F$1001,F4687,$AX$6:$AX$1001,AX4687),0)","v":0},0,0,0,{"$f":"IF(AU4687<>0,SUMIFS($AV$6:$AV$1001,$AT$6:$AT$1001,AT4687,$F$6:$F$1001,F4687,$AY$6:$AY$1001,AY4687),0)","v":0},1900,1900,0,0,0,0,0,0,0,0,0,"","",0,0,0,"FORMATO INCORRECTO","FORMATO INCORRECTO","FORMATO INCORRECTO",{"$f":"IF(L4687=\"\",\"\",IF(ISERROR(edata(L4687)),\"FORMATO INCORRECTO\",\"FORMATO CORRECTO\"))","v":""},{"$f":"IF(U4687=\"\",\"\",IF(ISERROR(edata(U4687)),\"FORMATO INCORRECTO\",\"FORMATO CORRECTO\"))","v":""},{"$f":"IF(N4687=\"\",\"\",IF(ISERROR(edata(N4687)),\"FORMATO INCORRECTO\",\"FORMATO CORRECTO\"))","v":""}]
["1923-10-17","",null,null,null,null,null,null,"",null,null,null,null,null,null,null,null,"",null,null,null,null,null,null,null,null,"",null,"",null,null,"",null,null,null,null,null,0,0,0,0,0,{"$f":"IF(AO4693<>0,SUMIFS($AP$6:$AP$1001,$AN$6:$AN$1001,AN4693,$F$6:$F$1001,F4693,$AX$6:$AX$1001,AX4693),0)","v":0},0,{"$f":"IF(AO4693<>0,SUMIFS($AP$6:$AP$1001,$AR$6:$AR$1001,AR4693,$F$6:$F$1001,F4693,$AX$6:$AX$1001,AX4693),0)","v":0},0,0,0,{"$f":"IF(AU4693<>0,SUMIFS($AV$6:$AV$1001,$AT$6:$AT$1001,AT4693,$F$6:$F$1001,F4693,$AY$6:$AY$1001,AY4693),0)","v":0},1900,1900,0,0,0,0,0,0,0,0,0,"","",0,0,0,"FORMATO INCORRECTO","FORMATO INCORRECTO","FORMATO INCORRECTO",{"$f":"IF(L4693=\"\",\"\",IF(ISERROR(edata(L4693)),\"FORMATO INCORRECTO\",\"FORMATO CORRECTO\"))","v":""},{"$f":"IF(U4693=\"\",\"\",IF(ISERROR(edata(U4693)),\"FORMATO INCORRECTO\",\"FORMATO CORRECTO\"))","v":""},{"$f":"IF(N4693=\"\",\"\",IF(ISERROR(edata(N4693)),\"FORMATO INCORRECTO\",\"FORMATO CORRECTO\"))","v":""}]
["1923-10-29","",null,null,null,null,null,null,"",null,null,null,null,null,null,null,null,"",null,null,null,null,null,null,null,null,"",null,"",null,null,"",null,null,null,null,null,0,0,0,0,0,{"$f":"IF(AO4705<>0,SUMIFS($AP$6:$AP$1001,$AN$6:$AN$1001,AN4705,$F$6:$F$1001,F4705,$AX$6:$AX$1001,AX4705),0)","v":0},0,{"$f":"IF(AO4705<>0,SUMIFS($AP$6:$AP$1001,$AR$6:$AR$1001,AR4705,$F$6:$F$1001,F4705,$AX$6:$AX$1001,AX4705),0)","v":0},0,0,0,{"$f":"IF(AU4705<>0,SUMIFS($AV$6:$AV$1001,$AT$6:$AT$1001,AT4705,$F$6:$F$1001,F4705,$AY$6:$AY$1001,AY4705),0)","v":0},1900,1900,0,0,0,0,0,0,0,0,0,"","",0,0,0,"FORMATO INCORRECTO","FORMATO INCORRECTO","FORMATO INCORRECTO",{"$f":"IF(L4705=\"\",\"\",IF(ISERROR(edata(L4705)),\"FORMATO INCORRECTO\",\"FORMATO CORRECTO\"))","v":""},{"$f":"IF(U4705=\"\",\"\",IF(ISERROR(edata(U4705)),\"FORMATO INCORRECTO\",\"FORMATO CORRECTO\"))","v":""},{"$f":"IF(N4705=\"\",\"\",IF(ISERROR(edata(N4705)),\"FORMATO INCORRECTO\",\"FORMATO CORRECTO\"))","v":""}]
["1923-11-10","",null,null,null,null,null,null,"",null,null,null,null,null,null,null,null,"",null,null,null,null,null,null,null,null,"",null,"",null,null,"",null,null,null,null,null,0,0,0,0,0,{"$f":"IF(AO4717<>0,SUMIFS($AP$6:$AP$1001,$AN$6:$AN$1001,AN4717,$F$6:$F$1001,F4717,$AX$6:$AX$1001,AX4717),0)","v":0},0,{"$f":"IF(AO4717<>0,SUMIFS($AP$6:$AP$1001,$AR$6:$AR$1001,AR4717,$F$6:$F$1001,F4717,$AX$6:$AX$1001,AX4717),0)","v":0},0,0,0,{"$f":"IF(AU4717<>0,SUMIFS($AV$6:$AV$1001,$AT$6:$AT$1001,AT4717,$F$6:$F$1001,F4717,$AY$6:$AY$1001,AY4717),0)","v":0},1900,1900,0,0,0,0,0,0,0,0,0,"","",0,0,0,"FORMATO INCORRECTO","FORMATO INCORRECTO","FORMATO INCORRECTO",{"$f":"IF(L4717=\"\",\"\",IF(ISERROR(edata(L4717)),\"FORMATO INCORRECTO\",\"FORMATO CORRECTO\"))","v":""},{"$f":"IF(U4717=\"\",\"\",IF(ISERROR(edata(U4717)),\"FORMATO INCORRECTO\",\"FORMATO CORRECTO\"))","v":""},{"$f":"IF(N4717=\"\",\"\",IF(ISERROR(edata(N4717)),\"FORMATO INCORRECTO\",\"FORMATO CORRECTO\"))","v":""}]
["1923-11-17","",null,null,null,null,null,null,"",null,null,null,null,null,null,null,null,"",null,null,null,null,null,null,null,null,"",null,"",null,null,"",null,null,null,null,null,0,0,0,0,0,{"$f":"IF(AO4724<>0,SUMIFS($AP$6:$AP$1001,$AN$6:$AN$1001,AN4724,$F$6:$F$1001,F4724,$AX$6:$AX$1001,AX4724),0)","v":0},0,{"$f":"IF(AO4724<>0,SUMIFS($AP$6:$AP$1001,$AR$6:$AR$1001,AR4724,$F$6:$F$1001,F4724,$AX$6:$AX$1001,AX4724),0)","v":0},0,0,0,{"$f":"IF(AU4724<>0,SUMIFS($AV$6:$AV$1001,$AT$6:$AT$1001,AT4724,$F$6:$F$1001,F4724,$AY$6:$AY$1001,AY4724),0)","v":0},1900,1900,0,0,0,0,0,0,0,0,0,"","",0,0,0,"FORMATO INCORRECTO","FORMATO INCORRECTO","FORMATO INCORRECTO",{"$f":"IF(L4724=\"\",\"\",IF(ISERROR(edata(L4724)),\"FORMATO INCORRECTO\",\"FORMATO CORRECTO\"))","v":""},{"$f":"IF(U4724=\"\",\"\",IF(ISERROR(edata(U4724)),\"FORMATO INCORRECTO\",\"FORMATO CORRECTO\"))","v":""},{"$f":"IF(N4724=\"\",\"\",IF(ISERROR(edata(N4724)),\"FORMATO INCORRECTO\",\"FORMATO CORRECTO\"))","v":""}]
["1923-11-25","",null,null,null,null,null,null,"",null,null,null,null,null,null,null,null,"",null,null,null,null,null,null,null,null,"",null,"",null,null,"",null,null,null,null,null,0,0,0,0,0,{"$f":"IF(AO4732<>0,SUMIFS($AP$6:$AP$1001,$AN$6:$AN$1001,AN4732,$F$6:$F$1001,F4732,$AX$6:$AX$1001,AX4732),0)","v":0},0,{"$f":"IF(AO4732<>0,SUMIFS($AP$6:$AP$1001,$AR$6:$AR$1001,AR4732,$F$6:$F$1001,F4732,$AX$6:$AX$1001,AX4732),0)","v":0},0,0,0,{"$f":"IF(AU4732<>0,SUMIFS($AV$6:$AV$1001,$AT$6:$AT$1001,AT4732,$F$6:$F$1001,F4732,$AY$6:$AY$1001,AY4732),0)","v":0},1900,1900,0,0,0,0,0,0,0,0,0,"","",0,0,0,"FORMATO INCORRECTO","FORMATO INCORRECTO","FORMATO INCORRECTO",{"$f":"IF(L4732=\"\",\"\",IF(ISERROR(edata(L4732)),\"FORMATO INCORRECTO\",\"FORMATO CORRECTO\"))","v":""},{"$f":"IF(U4732=\"\",\"\",IF(ISERROR(edata(U4732)),\"FORMATO INCORRECTO\",\"FORMATO CORRECTO\"))","v":""},{"$f":"IF(N4732=\"\",\"\",IF(ISERROR(edata(N4732)),\"FORMATO INCORRECTO\",\"FORMATO CORRECTO\"))","v":""}]
["1923-12-01","",null,null,null,null,null,null,"",null,null,null,null,null,null,null,null,"",null,null,null,null,null,null,null,null,"",null,"",null,null,"",null,null,null,null,null,0,0,0,0,0,{"$f":"IF(AO4738<>0,SUMIFS($AP$6:$AP$1001,$AN$6:$AN$1001,AN4738,$F$6:$F$1001,F4738,$AX$6:$AX$1001,AX4738),0)","v":0},0,{"$f":"IF(AO4738<>0,SUMIFS($AP$6:$AP$1001,$AR$6:$AR$1001,AR4738,$F$6:$F$1001,F4738,$AX$6:$AX$1001,AX4738),0)","v":0},0,0,0,{"$f":"IF(AU4738<>0,SUMIFS($AV$6:$AV$1001,$AT$6:$AT$1001,AT4738,$F$6:$F$1001,F4738,$AY$6:$AY$1001,AY4738),0)","v":0},1900,1900,0,0,0,0,0,0,0,0,0,"","",0,0,0,"FORMATO INCORRECTO","FORMATO INCORRECTO","FORMATO INCORRECTO",{"$f":"IF(L4738=\"\",\"\",IF(ISERROR(edata(L4738)),\"FORMATO INCORRECTO\",\"FORMATO CORRECTO\"))","v":""},{"$f":"IF(U4738=\"\",\"\",IF(ISERROR(edata(U4738)),\"FORMATO INCORRECTO\",\"FORMATO CORRECTO\"))","v":""},{"$f":"IF(N4738=\"\",\"\",IF(ISERROR(edata(N4738)),\"FORMATO INCORRECTO\",\"FORMATO CORRECTO\"))","v":""}]
["1923-12-08","",null,null,null,null,null,null,"",null,null,null,null,null,null,null,null,"",null,null,null,null,null,null,null,null,"",null,"",null,null,"",null,null,null,null,null,0,0,0,0,0,{"$f":"IF(AO4745<>0,SUMIFS($AP$6:$AP$1001,$AN$6:$AN$1001,AN4745,$F$6:$F$1001,F4745,$AX$6:$AX$1001,AX4745),0)","v":0},0,{"$f":"IF(AO4745<>0,SUMIFS($AP$6:$AP$1001,$AR$6:$AR$1001,AR4745,$F$6:$F$1001,F4745,$AX$6:$AX$1001,AX4745),0)","v":0},0,0,0,{"$f":"IF(AU4745<>0,SUMIFS($AV$6:$AV$1001,$AT$6:$AT$1001,AT4745,$F$6:$F$1001,F4745,$AY$6:$AY$1001,AY4745),0)","v":0},1900,1900,0,0,0,0,0,0,0,0,0,"","",0,0,0,"FORMATO INCORRECTO","FORMATO INCORRECTO","FORMATO INCORRECTO",{"$f":"IF(L4745=\"\",\"\",IF(ISERROR(edata(L4745)),\"FORMATO INCORRECTO\",\"FORMATO CORRECTO\"))","v":""},{"$f":"IF(U4745=\"\",\"\",IF(ISERROR(edata(U4745)),\"FORMATO INCORRECTO\",\"FORMATO CORRECTO\"))","v":""},{"$f":"IF(N4745=\"\",\"\",IF(ISERROR(edata(N4745)),\"FORMATO INCORRECTO\",\"FORMATO CORRECTO\"))","v":""}]
["1923-12-20","",null,null,null,null,null,null,"",null,null,null,null,null,null,null,null,"",null,null,null,null,null,null,null,null,"",null,"",null,null,"",null,null,null,null,null,0,0,0,0,0,{"$f":"IF(AO4757<>0,SUMIFS($AP$6:$AP$1001,$AN$6:$AN$1001,AN4757,$F$6:$F$1001,F4757,$AX$6:$AX$1001,AX4757),0)","v":0},0,{"$f":"IF(AO4757<>0,SUMIFS($AP$6:$AP$1001,$AR$6:$AR$1001,AR4757,$F$6:$F$1001,F4757,$AX$6:$AX$1001,AX4757),0)","v":0},0,0,0,{"$f":"IF(AU4757<>0,SUMIFS($AV$6:$AV$1001,$AT$6:$AT$1001,AT4757,$F$6:$F$1001,F4757,$AY$6:$AY$1001,AY4757),0)","v":0},1900,1900,0,0,0,0,0,0,0,0,0,"","",0,0,0,"FORMATO INCORRECTO","FORMATO INCORRECTO","FORMATO INCORRECTO",{"$f":"IF(L4757=\"\",\"\",IF(ISERROR(edata(L4757)),\"FORMATO INCORRECTO\",\"FORMATO CORRECTO\"))","v":""},{"$f":"IF(U4757=\"\",\"\",IF(ISERROR(edata(U4757)),\"FORMATO INCORRECTO\",\"FORMATO CORRECTO\"))","v":""},{"$f":"IF(N4757=\"\",\"\",IF(ISERROR(edata(N4757)),\"FORMATO INCORRECTO\",\"FORMATO CORRECTO\"))","v":""}]
["1923-12-26","",null,null,null,null,null,null,"",null,null,null,null,null,null,null,null,"",null,null,null,null,null,null,null,null,"",null,"",null,null,"",null,null,null,null,null,0,0,0,0,0,{"$f":"IF(AO4763<>0,SUMIFS($AP$6:$AP$1001,$AN$6:$AN$1001,AN4763,$F$6:$F$1001,F4763,$AX$6:$AX$1001,AX4763),0)","v":0},0,{"$f":"IF(AO4763<>0,SUMIFS($AP$6:$AP$1001,$AR$6:$AR$1001,AR4763,$F$6:$F$1001,F4763,$AX$6:$AX$1001,AX4763),0)","v":0},0,0,0,{"$f":"IF(AU4763<>0,SUMIFS($AV$6:$AV$1001,$AT$6:$AT$1001,AT4763,$F$6:$F$1001,F4763,$AY$6:$AY$1001,AY4763),0)","v":0},1900,1900,0,0,0,0,0,0,0,0,0,"","",0,0,0,"FORMATO INCORRECTO","FORMATO INCORRECTO","FORMATO INCORRECTO",{"$f":"IF(L4763=\"\",\"\",IF(ISERROR(edata(L4763)),\"FORMATO INCORRECTO\",\"FORMATO CORRECTO\"))","v":""},{"$f":"IF(U4763=\"\",\"\",IF(ISERROR(edata(U4763)),\"FORMATO INCORRECTO\",\"FORMATO CORRECTO\"))","v":""},{"$f":"IF(N4763=\"\",\"\",IF(ISERROR(edata(N4763)),\"FORMATO INCORRECTO\",\"FORMATO CORRECTO\"))","v":""}]
["1924-01-07","",null,null,null,null,null,null,"",null,null,null,null,null,null,null,null,"",null,null,null,null,null,null,null,null,"",null,"",null,null,"",null,null,null,null,null,0,0,0,0,0,{"$f":"IF(AO4775<>0,SUMIFS($AP$6:$AP$1001,$AN$6:$AN$1001,AN4775,$F$6:$F$1001,F4775,$AX$6:$AX$1001,AX4775),0)","v":0},0,{"$f":"IF(AO4775<>0,SUMIFS($AP$6:$AP$1001,$AR$6:$AR$1001,AR4775,$F$6:$F$1001,F4775,$AX$6:$AX$1001,AX4775),0)","v":0},0,0,0,{"$f":"IF(AU4775<>0,SUMIFS($AV$6:$AV$1001,$AT$6:$AT$1001,AT4775,$F$6:$F$1001,F4775,$AY$6:$AY$1001,AY4775),0)","v":0},1900,1900,0,0,0,0,0,0,0,0,0,"","",0,0,0,"FORMATO INCORRECTO","FORMATO INCORRECTO","FORMATO INCORRECTO",{"$f":"IF(L4775=\"\",\"\",IF(ISERROR(edata(L4775)),\"FORMATO INCORRECTO\",\"FORMATO CORRECTO\"))","v":""},{"$f":"IF(U4775=\"\",\"\",IF(ISERROR(edata(U4775)),\"FORMATO INCORRECTO\",\"FORMATO CORRECTO\"))","v":""},{"$f":"IF(N4775=\"\",\"\",IF(ISERROR(edata(N4775)),\"FORMATO INCORRECTO\",\"FORMATO CORRECTO\"))","v":""}]
["1924-01-19","",null,null,null,null,null,null,"",null,null,null,null,null,null,null,null,"",null,null,null,null,null,null,null,null,"",null,"",null,null,"",null,null,null,null,null,0,0,0,0,0,{"$f":"IF(AO4787<>0,SUMIFS($AP$6:$AP$1001,$AN$6:$AN$1001,AN4787,$F$6:$F$1001,F4787,$AX$6:$AX$1001,AX4787),0)","v":0},0,{"$f":"IF(AO4787<>0,SUMIFS($AP$6:$AP$1001,$AR$6:$AR$1001,AR4787,$F$6:$F$1001,F4787,$AX$6:$AX$1001,AX4787),0)","v":0},0,0,0,{"$f":"IF(AU4787<>0,SUMIFS($AV$6:$AV$1001,$AT$6:$AT$1001,AT4787,$F$6:$F$1001,F4787,$AY$6:$AY$1001,AY4787),0)","v":0},1900,1900,0,0,0,0,0,0,0,0,0,"","",0,0,0,"FORMATO INCORRECTO","FORMATO INCORRECTO","FORMATO INCORRECTO",{"$f":"IF(L4787=\"\",\"\",IF(ISERROR(edata(L4787)),\"FORMATO INCORRECTO\",\"FORMATO CORRECTO\"))","v":""},{"$f":"IF(U4787=\"\",\"\",IF(ISERROR(edata(U4787)),\"FORMATO INCORRECTO\",\"FORMATO CORRECTO\"))","v":""},{"$f":"IF(N4787=\"\",\"\",IF(ISERROR(edata(N4787)),\"FORMATO INCORRECTO\",\"FORMATO CORRECTO\"))","v":""}]
["1924-01-26","",null,null,null,null,null,null,"",null,null,null,null,null,null,null,null,"",null,null,null,null,null,null,null,null,"",null,"",null,null,"",null,null,null,null,null,0,0,0,0,0,{"$f":"IF(AO4794<>0,SUMIFS($AP$6:$AP$1001,$AN$6:$AN$1001,AN4794,$F$6:$F$1001,F4794,$AX$6:$AX$1001,AX4794),0)","v":0},0,{"$f":"IF(AO4794<>0,SUMIFS($AP$6:$AP$1001,$AR$6:$AR$1001,AR4794,$F$6:$F$1001,F4794,$AX$6:$AX$1001,AX4794),0)","v":0},0,0,0,{"$f":"IF(AU4794<>0,SUMIFS($AV$6:$AV$1001,$AT$6:$AT$1001,AT4794,$F$6:$F$1001,F4794,$AY$6:$AY$1001,AY4794),0)","v":0},1900,1900,0,0,0,0,0,0,0,0,0,"","",0,0,0,"FORMATO INCORRECTO","FORMATO INCORRECTO","FORMATO INCORRECTO",{"$f":"IF(L4794=\"\",\"\",IF(ISERROR(edata(L4794)),\"FORMATO INCORRECTO\",\"FORMATO CORRECTO\"))","v":""},{"$f":"IF(U4794=\"\",\"\",IF(ISERROR(edata(U4794)),\"FORMATO INCORRECTO\",\"FORMATO CORRECTO\"))","v":""},{"$f":"IF(N4794=\"\",\"\",IF(ISERROR(edata(N4794)),\"FORMATO INCORRECTO\",\"FORMATO CORRECTO\"))","v":""}]
["1924-02-03","",null,null,null,null,null,null,"",null,null,null,null,null,null,null,null,"",null,null,null,null,null,null,null,null,"",null,"",null,null,"",null,null,null,null,null,0,0,0,0,0,{"$f":"IF(AO4802<>0,SUMIFS($AP$6:$AP$1001,$AN$6:$AN$1001,AN4802,$F$6:$F$1001,F4802,$AX$6:$AX$1001,AX4802),0)","v":0},0,{"$f":"IF(AO4802<>0,SUMIFS($AP$6:$AP$1001,$AR$6:$AR$1001,AR4802,$F$6:$F$1001,F4802,$AX$6:$AX$1001,AX4802),0)","v":0},0,0,0,{"$f":"IF(AU4802<>0,SUMIFS($AV$6:$AV$1001,$AT$6:$AT$1001,AT4802,$F$6:$F$1001,F4802,$AY$6:$AY$1001,AY4802),0)","v":0},1900,1900,0,0,0,0,0,0,0,0,0,"","",0,0,0,"FORMATO INCORRECTO","FORMATO INCORRECTO","FORMATO INCORRECTO",{"$f":"IF(L4802=\"\",\"\",IF(ISERROR(edata(L4802)),\"FORMATO INCORRECTO\",\"FORMATO CORRECTO\"))","v":""},{"$f":"IF(U4802=\"\",\"\",IF(ISERROR(edata(U4802)),\"FORMATO INCORRECTO\",\"FORMATO CORRECTO\"))","v":""},{"$f":"IF(N4802=\"\",\"\",IF(ISERROR(edata(N4802)),\"FORMATO INCORRECTO\",\"FORMATO CORRECTO\"))","v":""}]
["1924-02-09","",null,null,null,null,null,null,"",null,null,null,null,null,null,null,null,"",null,null,null,null,null,null,null,null,"",null,"",null,null,"",null,null,null,null,null,0,0,0,0,0,{"$f":"IF(AO4808<>0,SUMIFS($AP$6:$AP$1001,$AN$6:$AN$1001,AN4808,$F$6:$F$1001,F4808,$AX$6:$AX$1001,AX4808),0)","v":0},0,{"$f":"IF(AO4808<>0,SUMIFS($AP$6:$AP$1001,$AR$6:$AR$1001,AR4808,$F$6:$F$1001,F4808,$AX$6:$AX$1001,AX4808),0)","v":0},0,0,0,{"$f":"IF(AU4808<>0,SUMIFS($AV$6:$AV$1001,$AT$6:$AT$1001,AT4808,$F$6:$F$1001,F4808,$AY$6:$AY$1001,AY4808),0)","v":0},1900,1900,0,0,0,0,0,0,0,0,0,"","",0,0,0,"FORMATO INCORRECTO","FORMATO INCORRECTO","FORMATO INCORRECTO",{"$f":"IF(L4808=\"\",\"\",IF(ISERROR(edata(L4808)),\"FORMATO INCORRECTO\",\"FORMATO CORRECTO\"))","v":""},{"$f":"IF(U4808=\"\",\"\",IF(ISERROR(edata(U4808)),\"FORMATO INCORRECTO\",\"FORMATO CORRECTO\"))","v":""},{"$f":"IF(N4808=\"\",\"\",IF(ISERROR(edata(N4808)),\"FORMATO INCORRECTO\",\"FORMATO CORRECTO\"))","v":""}]
["1924-02-16","",null,null,null,null,null,null,"",null,null,null,null,null,null,null,null,"",null,null,null,null,null,null,null,null,"",null,"",null,null,"",null,null,null,null,null,0,0,0,0,0,{"$f":"IF(AO4815<>0,SUMIFS($AP$6:$AP$1001,$AN$6:$AN$1001,AN4815,$F$6:$F$1001,F4815,$AX$6:$AX$1001,AX4815),0)","v":0},0,{"$f":"IF(AO4815<>0,SUMIFS($AP$6:$AP$1001,$AR$6:$AR$1001,AR4815,$F$6:$F$1001,F4815,$AX$6:$AX$1001,AX4815),0)","v":0},0,0,0,{"$f":"IF(AU4815<>0,SUMIFS($AV$6:$AV$1001,$AT$6:$AT$1001,AT4815,$F$6:$F$1001,F4815,$AY$6:$AY$1001,AY4815),0)","v":0},1900,1900,0,0,0,0,0,0,0,0,0,"","",0,0,0,"FORMATO INCORRECTO","FORMATO INCORRECTO","FORMATO INCORRECTO",{"$f":"IF(L4815=\"\",\"\",IF(ISERROR(edata(L4815)),\"FORMATO INCORRECTO\",\"FORMATO CORRECTO\"))","v":""},{"$f":"IF(U4815=\"\",\"\",IF(ISERROR(edata(U4815)),\"FORMATO INCORRECTO\",\"FORMATO CORRECTO\"))","v":""},{"$f":"IF(N4815=\"\",\"\",IF(ISERROR(edata(N4815)),\"FORMATO INCORRECTO\",\"FORMATO CORRECTO\"))","v":""}]
["1924-02-28","",null,null,null,null,null,null,"",null,null,null,null,null,null,null,null,"",null,null,null,null,null,null,null,null,"",null,"",null,null,"",null,null,null,null,null,0,0,0,0,0,{"$f":"IF(AO4827<>0,SUMIFS($AP$6:$AP$1001,$AN$6:$AN$1001,AN4827,$F$6:$F$1001,F4827,$AX$6:$AX$1001,AX4827),0)","v":0},0,{"$f":"IF(AO4827<>0,SUMIFS($AP$6:$AP$1001,$AR$6:$AR$1001,AR4827,$F$6:$F$1001,F4827,$AX$6:$AX$1001,AX4827),0)","v":0},0,0,0,{"$f":"IF(AU4827<>0,SUMIFS($AV$6:$AV$1001,$AT$6:$AT$1001,AT4827,$F$6:$F$1001,F4827,$AY$6:$AY$1001,AY4827),0)","v":0},1900,1900,0,0,0,0,0,0,0,0,0,"","",0,0,0,"FORMATO INCORRECTO","FORMATO INCORRECTO","FORMATO INCORRECTO",{"$f":"IF(L4827=\"\",\"\",IF(ISERROR(edata(L4827)),\"FORMATO INCORRECTO\",\"FORMATO CORRECTO\"))","v":""},{"$f":"IF(U4827=\"\",\"\",IF(ISERROR(edata(U4827)),\"FORMATO INCORRECTO\",\"FORMATO CORRECTO\"))","v":""},{"$f":"IF(N4827=\"\",\"\",IF(ISERROR(edata(N4827)),\"FORMATO INCORRECTO\",\"FORMATO CORRECTO\"))","v":""}]
["1924-03-05","",null,null,null,null,null,null,"",null,null,null,null,null,null,null,null,"",null,null,null,null,null,null,null,null,"",null,"",null,null,"",null,null,null,null,null,0,0,0,0,0,{"$f":"IF(AO4833<>0,SUMIFS($AP$6:$AP$1001,$AN$6:$AN$1001,AN4833,$F$6:$F$1001,F4833,$AX$6:$AX$1001,AX4833),0)","v":0},0,{"$f":"IF(AO4833<>0,SUMIFS($AP$6:$AP$1001,$AR$6:$AR$1001,AR4833,$F$6:$F$1001,F4833,$AX$6:$AX$1001,AX4833),0)","v":0},0,0,0,{"$f":"IF(AU4833<>0,SUMIFS($AV$6:$AV$1001,$AT$6:$AT$1001,AT4833,$F$6:$F$1001,F4833,$AY$6:$AY$1001,AY4833),0)","v":0},1900,1900,0,0,0,0,0,0,0,0,0,"","",0,0,0,"FORMATO INCORRECTO","FORMATO INCORRECTO","FORMATO INCORRECTO",{"$f":"IF(L4833=\"\",\"\",IF(ISERROR(edata(L4833)),\"FORMATO INCORRECTO\",\"FORMATO CORRECTO\"))","v":""},{"$f":"IF(U4833=\"\",\"\",IF(ISERROR(edata(U4833)),\"FORMATO INCORRECTO\",\"FORMATO CORRECTO\"))","v":""},{"$f":"IF(N4833=\"\",\"\",IF(ISERROR(edata(N4833)),\"FORMATO INCORRECTO\",\"FORMATO CORRECTO\"))","v":""}]
["1924-03-17","",null,null,null,null,null,null,"",null,null,null,null,null,null,null,null,"",null,null,null,null,null,null,null,null,"",null,"",null,null,"",null,null,null,null,null,0,0,0,0,0,{"$f":"IF(AO4845<>0,SUMIFS($AP$6:$AP$1001,$AN$6:$AN$1001,AN4845,$F$6:$F$1001,F4845,$AX$6:$AX$1001,AX4845),0)","v":0},0,{"$f":"IF(AO4845<>0,SUMIFS($AP$6:$AP$1001,$AR$6:$AR$1001,AR4845,$F$6:$F$1001,F4845,$AX$6:$AX$1001,AX4845),0)","v":0},0,0,0,{"$f":"IF(AU4845<>0,SUMIFS($AV$6:$AV$1001,$AT$6:$AT$1001,AT4845,$F$6:$F$1001,F4845,$AY$6:$AY$1001,AY4845),0)","v":0},1900,1900,0,0,0,0,0,0,0,0,0,"","",0,0,0,"FORMATO INCORRECTO","FORMATO INCORRECTO","FORMATO INCORRECTO",{"$f":"IF(L4845=\"\",\"\",IF(ISERROR(edata(L4845)),\"FORMATO INCORRECTO\",\"FORMATO CORRECTO\"))","v":""},{"$f":"IF(U4845=\"\",\"\",IF(ISERROR(edata(U4845)),\"FORMATO INCORRECTO\",\"FORMATO CORRECTO\"))","v":""},{"$f":"IF(N4845=\"\",\"\",IF(ISERROR(edata(N4845)),\"FORMATO INCORRECTO\",\"FORMATO CORRECTO\"))","v":""}]
["1924-03-29","",null,null,null,null,null,null,"",null,null,null,null,null,null,null,null,"",null,null,null,null,null,null,null,null,"",null,"",null,null,"",null,null,null,null,null,0,0,0,0,0,{"$f":"IF(AO4857<>0,SUMIFS($AP$6:$AP$1001,$AN$6:$AN$1001,AN4857,$F$6:$F$1001,F4857,$AX$6:$AX$1001,AX4857),0)","v":0},0,{"$f":"IF(AO4857<>0,SUMIFS($AP$6:$AP$1001,$AR$6:$AR$1001,AR4857,$F$6:$F$1001,F4857,$AX$6:$AX$1001,AX4857),0)","v":0},0,0,0,{"$f":"IF(AU4857<>0,SUMIFS($AV$6:$AV$1001,$AT$6:$AT$1001,AT4857,$F$6:$F$1001,F4857,$AY$6:$AY$1001,AY4857),0)","v":0},1900,1900,0,0,0,0,0,0,0,0,0,"","",0,0,0,"FORMATO INCORRECTO","FORMATO INCORRECTO","FORMATO INCORRECTO",{"$f":"IF(L4857=\"\",\"\",IF(ISERROR(edata(L4857)),\"FORMATO INCORRECTO\",\"FORMATO CORRECTO\"))","v":""},{"$f":"IF(U4857=\"\",\"\",IF(ISERROR(edata(U4857)),\"FORMATO INCORRECTO\",\"FORMATO CORRECTO\"))","v":""},{"$f":"IF(N4857=\"\",\"\",IF(ISERROR(edata(N4857)),\"FORMATO INCORRECTO\",\"FORMATO CORRECTO\"))","v":""}]
["1924-04-05","",null,null,null,null,null,null,"",null,null,null,null,null,null,null,null,"",null,null,null,null,null,null,null,null,"",null,"",null,null,"",null,null,null,null,null,0,0,0,0,0,{"$f":"IF(AO4864<>0,SUMIFS($AP$6:$AP$1001,$AN$6:$AN$1001,AN4864,$F$6:$F$1001,F4864,$AX$6:$AX$1001,AX4864),0)","v":0},0,{"$f":"IF(AO4864<>0,SUMIFS($AP$6:$AP$1001,$AR$6:$AR$1001,AR4864,$F$6:$F$1001,F4864,$AX$6:$AX$1001,AX4864),0)","v":0},0,0,0,{"$f":"IF(AU4864<>0,SUMIFS($AV$6:$AV$1001,$AT$6:$AT$1001,AT4864,$F$6:$F$1001,F4864,$AY$6:$AY$1001,AY4864),0)","v":0},1900,1900,0,0,0,0,0,0,0,0,0,"","",0,0,0,"FORMATO INCORRECTO","FORMATO INCORRECTO","FORMATO INCORRECTO",{"$f":"IF(L4864=\"\",\"\",IF(ISERROR(edata(L4864)),\"FORMATO INCORRECTO\",\"FORMATO CORRECTO\"))","v":""},{"$f":"IF(U4864=\"\",\"\",IF(ISERROR(edata(U4864)),\"FORMATO INCORRECTO\",\"FORMATO CORRECTO\"))","v":""},{"$f":"IF(N4864=\"\",\"\",IF(ISERROR(edata(N4864)),\"FORMATO INCORRECTO\",\"FORMATO CORRECTO\"))","v":""}]
["1924-04-17","",null,null,null,null,null,null,"",null,null,null,null,null,null,null,null,"",null,null,null,null,null,null,null,null,"",null,"",null,null,"",null,null,null,null,null,0,0,0,0,0,{"$f":"IF(AO4876<>0,SUMIFS($AP$6:$AP$1001,$AN$6:$AN$1001,AN4876,$F$6:$F$1001,F4876,$AX$6:$AX$1001,AX4876),0)","v":0},0,{"$f":"IF(AO4876<>0,SUMIFS($AP$6:$AP$1001,$AR$6:$AR$1001,AR4876,$F$6:$F$1001,F4876,$AX$6:$AX$1001,AX4876),0)","v":0},0,0,0,{"$f":"IF(AU4876<>0,SUMIFS($AV$6:$AV$1001,$AT$6:$AT$1001,AT4876,$F$6:$F$1001,F4876,$AY$6:$AY$1001,AY4876),0)","v":0},1900,1900,0,0,0,0,0,0,0,0,0,"","",0,0,0,"FORMATO INCORRECTO","FORMATO INCORRECTO","FORMATO INCORRECTO",{"$f":"IF(L4876=\"\",\"\",IF(ISERROR(edata(L4876)),\"FORMATO INCORRECTO\",\"FORMATO CORRECTO\"))","v":""},{"$f":"IF(U4876=\"\",\"\",IF(ISERROR(edata(U4876)),\"FORMATO INCORRECTO\",\"FORMATO CORRECTO\"))","v":""},{"$f":"IF(N4876=\"\",\"\",IF(ISERROR(edata(N4876)),\"FORMATO INCORRECTO\",\"FORMATO CORRECTO\"))","v":""}]
["1924-04-18","",null,null,null,null,null,null,"",null,null,null,null,null,null,null,null,"",null,null,null,null,null,null,null,null,"",null,"",null,null,"",null,null,null,null,null,0,0,0,0,0,{"$f":"IF(AO4877<>0,SUMIFS($AP$6:$AP$1001,$AN$6:$AN$1001,AN4877,$F$6:$F$1001,F4877,$AX$6:$AX$1001,AX4877),0)","v":0},0,{"$f":"IF(AO4877<>0,SUMIFS($AP$6:$AP$1001,$AR$6:$AR$1001,AR4877,$F$6:$F$1001,F4877,$AX$6:$AX$1001,AX4877),0)","v":0},0,0,0,{"$f":"IF(AU4877<>0,SUMIFS($AV$6:$AV$1001,$AT$6:$AT$1001,AT4877,$F$6:$F$1001,F4877,$AY$6:$AY$1001,AY4877),0)","v":0},1900,1900,0,0,0,0,0,0,0,0,0,"","",0,0,0,"FORMATO INCORRECTO","FORMATO INCORRECTO","FORMATO INCORRECTO",{"$f":"IF(L4877=\"\",\"\",IF(ISERROR(edata(L4877)),\"FORMATO INCORRECTO\",\"FORMATO CORRECTO\"))","v":""},{"$f":"IF(U4877=\"\",\"\",IF(ISERROR(edata(U4877)),\"FORMATO INCORRECTO\",\"FORMATO CORRECTO\"))","v":""},{"$f":"IF(N4877=\"\",\"\",IF(ISERROR(edata(N4877)),\"FORMATO INCORRECTO\",\"FORMATO CORRECTO\"))","v":""}]
["1924-04-19","",null,null,null,null,null,null,"",null,null,null,null,null,null,null,null,"",null,null,null,null,null,null,null,null,"",null,"",null,null,"",null,null,null,null,null,0,0,0,0,0,{"$f":"IF(AO4878<>0,SUMIFS($AP$6:$AP$1001,$AN$6:$AN$1001,AN4878,$F$6:$F$1001,F4878,$AX$6:$AX$1001,AX4878),0)","v":0},0,{"$f":"IF(AO4878<>0,SUMIFS($AP$6:$AP$1001,$AR$6:$AR$1001,AR4878,$F$6:$F$1001,F4878,$AX$6:$AX$1001,AX4878),0)","v":0},0,0,0,{"$f":"IF(AU4878<>0,SUMIFS($AV$6:$AV$1001,$AT$6:$AT$1001,AT4878,$F$6:$F$1001,F4878,$AY$6:$AY$1001,AY4878),0)","v":0},1900,1900,0,0,0,0,0,0,0,0,0,"","",0,0,0,"FORMATO INCORRECTO","FORMATO INCORRECTO","FORMATO INCORRECTO",{"$f":"IF(L4878=\"\",\"\",IF(ISERROR(edata(L4878)),\"FORMATO INCORRECTO\",\"FORMATO CORRECTO\"))","v":""},{"$f":"IF(U4878=\"\",\"\",IF(ISERROR(edata(U4878)),\"FORMATO INCORRECTO\",\"FORMATO CORRECTO\"))","v":""},{"$f":"IF(N4878=\"\",\"\",IF(ISERROR(edata(N4878)),\"FORMATO INCORRECTO\",\"FORMATO CORRECTO\"))","v":""}]
["1924-04-20","",null,null,null,null,null,null,"",null,null,null,null,null,null,null,null,"",null,null,null,null,null,null,null,null,"",null,"",null,null,"",null,null,null,null,null,0,0,0,0,0,{"$f":"IF(AO4879<>0,SUMIFS($AP$6:$AP$1001,$AN$6:$AN$1001,AN4879,$F$6:$F$1001,F4879,$AX$6:$AX$1001,AX4879),0)","v":0},0,{"$f":"IF(AO4879<>0,SUMIFS($AP$6:$AP$1001,$AR$6:$AR$1001,AR4879,$F$6:$F$1001,F4879,$AX$6:$AX$1001,AX4879),0)","v":0},0,0,0,{"$f":"IF(AU4879<>0,SUMIFS($AV$6:$AV$1001,$AT$6:$AT$1001,AT4879,$F$6:$F$1001,F4879,$AY$6:$AY$1001,AY4879),0)","v":0},1900,1900,0,0,0,0,0,0,0,0,0,"","",0,0,0,"FORMATO INCORRECTO","FORMATO INCORRECTO","FORMATO INCORRECTO",{"$f":"IF(L4879=\"\",\"\",IF(ISERROR(edata(L4879)),\"FORMATO INCORRECTO\",\"FORMATO CORRECTO\"))","v":""},{"$f":"IF(U4879=\"\",\"\",IF(ISERROR(edata(U4879)),\"FORMATO INCORRECTO\",\"FORMATO CORRECTO\"))","v":""},{"$f":"IF(N4879=\"\",\"\",IF(ISERROR(edata(N4879)),\"FORMATO INCORRECTO\",\"FORMATO CORRECTO\"))","v":""}]
["1924-04-21","",null,null,null,null,null,null,"",null,null,null,null,null,null,null,null,"",null,null,null,null,null,null,null,null,"",null,"",null,null,"",null,null,null,null,null,0,0,0,0,0,{"$f":"IF(AO4880<>0,SUMIFS($AP$6:$AP$1001,$AN$6:$AN$1001,AN4880,$F$6:$F$1001,F4880,$AX$6:$AX$1001,AX4880),0)","v":0},0,{"$f":"IF(AO4880<>0,SUMIFS($AP$6:$AP$1001,$AR$6:$AR$1001,AR4880,$F$6:$F$1001,F4880,$AX$6:$AX$1001,AX4880),0)","v":0},0,0,0,{"$f":"IF(AU4880<>0,SUMIFS($AV$6:$AV$1001,$AT$6:$AT$1001,AT4880,$F$6:$F$1001,F4880,$AY$6:$AY$1001,AY4880),0)","v":0},1900,1900,0,0,0,0,0,0,0,0,0,"","",0,0,0,"FORMATO INCORRECTO","FORMATO INCORRECTO","FORMATO INCORRECTO",{"$f":"IF(L4880=\"\",\"\",IF(ISERROR(edata(L4880)),\"FORMATO INCORRECTO\",\"FORMATO CORRECTO\"))","v":""},{"$f":"IF(U4880=\"\",\"\",IF(ISERROR(edata(U4880)),\"FORMATO INCORRECTO\",\"FORMATO CORRECTO\"))","v":""},{"$f":"IF(N4880=\"\",\"\",IF(ISERROR(edata(N4880)),\"FORMATO INCORRECTO\",\"FORMATO CORRECTO\"))","v":""}]
["1924-04-22","",null,null,null,null,null,null,"",null,null,null,null,null,null,null,null,"",null,null,null,null,null,null,null,null,"",null,"",null,null,"",null,null,null,null,null,0,0,0,0,0,{"$f":"IF(AO4881<>0,SUMIFS($AP$6:$AP$1001,$AN$6:$AN$1001,AN4881,$F$6:$F$1001,F4881,$AX$6:$AX$1001,AX4881),0)","v":0},0,{"$f":"IF(AO4881<>0,SUMIFS($AP$6:$AP$1001,$AR$6:$AR$1001,AR4881,$F$6:$F$1001,F4881,$AX$6:$AX$1001,AX4881),0)","v":0},0,0,0,{"$f":"IF(AU4881<>0,SUMIFS($AV$6:$AV$1001,$AT$6:$AT$1001,AT4881,$F$6:$F$1001,F4881,$AY$6:$AY$1001,AY4881),0)","v":0},1900,1900,0,0,0,0,0,0,0,0,0,"","",0,0,0,"FORMATO INCORRECTO","FORMATO INCORRECTO","FORMATO INCORRECTO",{"$f":"IF(L4881=\"\",\"\",IF(ISERROR(edata(L4881)),\"FORMATO INCORRECTO\",\"FORMATO CORRECTO\"))","v":""},{"$f":"IF(U4881=\"\",\"\",IF(ISERROR(edata(U4881)),\"FORMATO INCORRECTO\",\"FORMATO CORRECTO\"))","v":""},{"$f":"IF(N4881=\"\",\"\",IF(ISERROR(edata(N4881)),\"FORMATO INCORRECTO\",\"FORMATO CORRECTO\"))","v":""}]
["1924-04-23","",null,null,null,null,null,null,"",null,null,null,null,null,null,null,null,"",null,null,null,null,null,null,null,null,"",null,"",null,null,"",null,null,null,null,null,0,0,0,0,0,{"$f":"IF(AO4882<>0,SUMIFS($AP$6:$AP$1001,$AN$6:$AN$1001,AN4882,$F$6:$F$1001,F4882,$AX$6:$AX$1001,AX4882),0)","v":0},0,{"$f":"IF(AO4882<>0,SUMIFS($AP$6:$AP$1001,$AR$6:$AR$1001,AR4882,$F$6:$F$1001,F4882,$AX$6:$AX$1001,AX4882),0)","v":0},0,0,0,{"$f":"IF(AU4882<>0,SUMIFS($AV$6:$AV$1001,$AT$6:$AT$1001,AT4882,$F$6:$F$1001,F4882,$AY$6:$AY$1001,AY4882),0)","v":0},1900,1900,0,0,0,0,0,0,0,0,0,"","",0,0,0,"FORMATO INCORRECTO","FORMATO INCORRECTO","FORMATO INCORRECTO",{"$f":"IF(L4882=\"\",\"\",IF(ISERROR(edata(L4882)),\"FORMATO INCORRECTO\",\"FORMATO CORRECTO\"))","v":""},{"$f":"IF(U4882=\"\",\"\",IF(ISERROR(edata(U4882)),\"FORMATO INCORRECTO\",\"FORMATO CORRECTO\"))","v":""},{"$f":"IF(N4882=\"\",\"\",IF(ISERROR(edata(N4882)),\"FORMATO INCORRECTO\",\"FORMATO CORRECTO\"))","v":""}]
["1924-04-24","",null,null,null,null,null,null,"",null,null,null,null,null,null,null,null,"",null,null,null,null,null,null,null,null,"",null,"",null,null,"",null,null,null,null,null,0,0,0,0,0,{"$f":"IF(AO4883<>0,SUMIFS($AP$6:$AP$1001,$AN$6:$AN$1001,AN4883,$F$6:$F$1001,F4883,$AX$6:$AX$1001,AX4883),0)","v":0},0,{"$f":"IF(AO4883<>0,SUMIFS($AP$6:$AP$1001,$AR$6:$AR$1001,AR4883,$F$6:$F$1001,F4883,$AX$6:$AX$1001,AX4883),0)","v":0},0,0,0,{"$f":"IF(AU4883<>0,SUMIFS($AV$6:$AV$1001,$AT$6:$AT$1001,AT4883,$F$6:$F$1001,F4883,$AY$6:$AY$1001,AY4883),0)","v":0},1900,1900,0,0,0,0,0,0,0,0,0,"","",0,0,0,"FORMATO INCORRECTO","FORMATO INCORRECTO","FORMATO INCORRECTO",{"$f":"IF(L4883=\"\",\"\",IF(ISERROR(edata(L4883)),\"FORMATO INCORRECTO\",\"FORMATO CORRECTO\"))","v":""},{"$f":"IF(U4883=\"\",\"\",IF(ISERROR(edata(U4883)),\"FORMATO INCORRECTO\",\"FORMATO CORRECTO\"))","v":""},{"$f":"IF(N4883=\"\",\"\",IF(ISERROR(edata(N4883)),\"FORMATO INCORRECTO\",\"FORMATO CORRECTO\"))","v":""}]
["1924-04-25","",null,null,null,null,null,null,"",null,null,null,null,null,null,null,null,"",null,null,null,null,null,null,null,null,"",null,"",null,null,"",null,null,null,null,null,0,0,0,0,0,{"$f":"IF(AO4884<>0,SUMIFS($AP$6:$AP$1001,$AN$6:$AN$1001,AN4884,$F$6:$F$1001,F4884,$AX$6:$AX$1001,AX4884),0)","v":0},0,{"$f":"IF(AO4884<>0,SUMIFS($AP$6:$AP$1001,$AR$6:$AR$1001,AR4884,$F$6:$F$1001,F4884,$AX$6:$AX$1001,AX4884),0)","v":0},0,0,0,{"$f":"IF(AU4884<>0,SUMIFS($AV$6:$AV$1001,$AT$6:$AT$1001,AT4884,$F$6:$F$1001,F4884,$AY$6:$AY$1001,AY4884),0)","v":0},1900,1900,0,0,0,0,0,0,0,0,0,"","",0,0,0,"FORMATO INCORRECTO","FORMATO INCORRECTO","FORMATO INCORRECTO",{"$f":"IF(L4884=\"\",\"\",IF(ISERROR(edata(L4884)),\"FORMATO INCORRECTO\",\"FORMATO CORRECTO\"))","v":""},{"$f":"IF(U4884=\"\",\"\",IF(ISERROR(edata(U4884)),\"FORMATO INCORRECTO\",\"FORMATO CORRECTO\"))","v":""},{"$f":"IF(N4884=\"\",\"\",IF(ISERROR(edata(N4884)),\"FORMATO INCORRECTO\",\"FORMATO CORRECTO\"))","v":""}]
["1924-04-26","",null,null,null,null,null,null,"",null,null,null,null,null,null,null,null,"",null,null,null,null,null,null,null,null,"",null,"",null,null,"",null,null,null,null,null,0,0,0,0,0,{"$f":"IF(AO4885<>0,SUMIFS($AP$6:$AP$1001,$AN$6:$AN$1001,AN4885,$F$6:$F$1001,F4885,$AX$6:$AX$1001,AX4885),0)","v":0},0,{"$f":"IF(AO4885<>0,SUMIFS($AP$6:$AP$1001,$AR$6:$AR$1001,AR4885,$F$6:$F$1001,F4885,$AX$6:$AX$1001,AX4885),0)","v":0},0,0,0,{"$f":"IF(AU4885<>0,SUMIFS($AV$6:$AV$1001,$AT$6:$AT$1001,AT4885,$F$6:$F$1001,F4885,$AY$6:$AY$1001,AY4885),0)","v":0},1900,1900,0,0,0,0,0,0,0,0,0,"","",0,0,0,"FORMATO INCORRECTO","FORMATO INCORRECTO","FORMATO INCORRECTO",{"$f":"IF(L4885=\"\",\"\",IF(ISERROR(edata(L4885)),\"FORMATO INCORRECTO\",\"FORMATO CORRECTO\"))","v":""},{"$f":"IF(U4885=\"\",\"\",IF(ISERROR(edata(U4885)),\"FORMATO INCORRECTO\",\"FORMATO CORRECTO\"))","v":""},{"$f":"IF(N4885=\"\",\"\",IF(ISERROR(edata(N4885)),\"FORMATO INCORRECTO\",\"FORMATO CORRECTO\"))","v":""}]
["1924-04-27","",null,null,null,null,null,null,"",null,null,null,null,null,null,null,null,"",null,null,null,null,null,null,null,null,"",null,"",null,null,"",null,null,null,null,null,0,0,0,0,0,{"$f":"IF(AO4886<>0,SUMIFS($AP$6:$AP$1001,$AN$6:$AN$1001,AN4886,$F$6:$F$1001,F4886,$AX$6:$AX$1001,AX4886),0)","v":0},0,{"$f":"IF(AO4886<>0,SUMIFS($AP$6:$AP$1001,$AR$6:$AR$1001,AR4886,$F$6:$F$1001,F4886,$AX$6:$AX$1001,AX4886),0)","v":0},0,0,0,{"$f":"IF(AU4886<>0,SUMIFS($AV$6:$AV$1001,$AT$6:$AT$1001,AT4886,$F$6:$F$1001,F4886,$AY$6:$AY$1001,AY4886),0)","v":0},1900,1900,0,0,0,0,0,0,0,0,0,"","",0,0,0,"FORMATO INCORRECTO","FORMATO INCORRECTO","FORMATO INCORRECTO",{"$f":"IF(L4886=\"\",\"\",IF(ISERROR(edata(L4886)),\"FORMATO INCORRECTO\",\"FORMATO CORRECTO\"))","v":""},{"$f":"IF(U4886=\"\",\"\",IF(ISERROR(edata(U4886)),\"FORMATO INCORRECTO\",\"FORMATO CORRECTO\"))","v":""},{"$f":"IF(N4886=\"\",\"\",IF(ISERROR(edata(N4886)),\"FORMATO INCORRECTO\",\"FORMATO CORRECTO\"))","v":""}]
["1924-04-28","",null,null,null,null,null,null,"",null,null,null,null,null,null,null,null,"",null,null,null,null,null,null,null,null,"",null,"",null,null,"",null,null,null,null,null,0,0,0,0,0,{"$f":"IF(AO4887<>0,SUMIFS($AP$6:$AP$1001,$AN$6:$AN$1001,AN4887,$F$6:$F$1001,F4887,$AX$6:$AX$1001,AX4887),0)","v":0},0,{"$f":"IF(AO4887<>0,SUMIFS($AP$6:$AP$1001,$AR$6:$AR$1001,AR4887,$F$6:$F$1001,F4887,$AX$6:$AX$1001,AX4887),0)","v":0},0,0,0,{"$f":"IF(AU4887<>0,SUMIFS($AV$6:$AV$1001,$AT$6:$AT$1001,AT4887,$F$6:$F$1001,F4887,$AY$6:$AY$1001,AY4887),0)","v":0},1900,1900,0,0,0,0,0,0,0,0,0,"","",0,0,0,"FORMATO INCORRECTO","FORMATO INCORRECTO","FORMATO INCORRECTO",{"$f":"IF(L4887=\"\",\"\",IF(ISERROR(edata(L4887)),\"FORMATO INCORRECTO\",\"FORMATO CORRECTO\"))","v":""},{"$f":"IF(U4887=\"\",\"\",IF(ISERROR(edata(U4887)),\"FORMATO INCORRECTO\",\"FORMATO CORRECTO\"))","v":""},{"$f":"IF(N4887=\"\",\"\",IF(ISERROR(edata(N4887)),\"FORMATO INCORRECTO\",\"FORMATO CORRECTO\"))","v":""}]
["1924-04-29","",null,null,null,null,null,null,"",null,null,null,null,null,null,null,null,"",null,null,null,null,null,null,null,null,"",null,"",null,null,"",null,null,null,null,null,0,0,0,0,0,{"$f":"IF(AO4888<>0,SUMIFS($AP$6:$AP$1001,$AN$6:$AN$1001,AN4888,$F$6:$F$1001,F4888,$AX$6:$AX$1001,AX4888),0)","v":0},0,{"$f":"IF(AO4888<>0,SUMIFS($AP$6:$AP$1001,$AR$6:$AR$1001,AR4888,$F$6:$F$1001,F4888,$AX$6:$AX$1001,AX4888),0)","v":0},0,0,0,{"$f":"IF(AU4888<>0,SUMIFS($AV$6:$AV$1001,$AT$6:$AT$1001,AT4888,$F$6:$F$1001,F4888,$AY$6:$AY$1001,AY4888),0)","v":0},1900,1900,0,0,0,0,0,0,0,0,0,"","",0,0,0,"FORMATO INCORRECTO","FORMATO INCORRECTO","FORMATO INCORRECTO",{"$f":"IF(L4888=\"\",\"\",IF(ISERROR(edata(L4888)),\"FORMATO INCORRECTO\",\"FORMATO CORRECTO\"))","v":""},{"$f":"IF(U4888=\"\",\"\",IF(ISERROR(edata(U4888)),\"FORMATO INCORRECTO\",\"FORMATO CORRECTO\"))","v":""},{"$f":"IF(N4888=\"\",\"\",IF(ISERROR(edata(N4888)),\"FORMATO INCORRECTO\",\"FORMATO CORRECTO\"))","v":""}]
["1924-04-30","",null,null,null,null,null,null,"",null,null,null,null,null,null,null,null,"",null,null,null,null,null,null,null,null,"",null,"",null,null,"",null,null,null,null,null,0,0,0,0,0,{"$f":"IF(AO4889<>0,SUMIFS($AP$6:$AP$1001,$AN$6:$AN$1001,AN4889,$F$6:$F$1001,F4889,$AX$6:$AX$1001,AX4889),0)","v":0},0,{"$f":"IF(AO4889<>0,SUMIFS($AP$6:$AP$1001,$AR$6:$AR$1001,AR4889,$F$6:$F$1001,F4889,$AX$6:$AX$1001,AX4889),0)","v":0},0,0,0,{"$f":"IF(AU4889<>0,SUMIFS($AV$6:$AV$1001,$AT$6:$AT$1001,AT4889,$F$6:$F$1001,F4889,$AY$6:$AY$1001,AY4889),0)","v":0},1900,1900,0,0,0,0,0,0,0,0,0,"","",0,0,0,"FORMATO INCORRECTO","FORMATO INCORRECTO","FORMATO INCORRECTO",{"$f":"IF(L4889=\"\",\"\",IF(ISERROR(edata(L4889)),\"FORMATO INCORRECTO\",\"FORMATO CORRECTO\"))","v":""},{"$f":"IF(U4889=\"\",\"\",IF(ISERROR(edata(U4889)),\"FORMATO INCORRECTO\",\"FORMATO CORRECTO\"))","v":""},{"$f":"IF(N4889=\"\",\"\",IF(ISERROR(edata(N4889)),\"FORMATO INCORRECTO\",\"FORMATO CORRECTO\"))","v":""}]
["1924-05-01","",null,null,null,null,null,null,"",null,null,null,null,null,null,null,null,"",null,null,null,null,null,null,null,null,"",null,"",null,null,"",null,null,null,null,null,0,0,0,0,0,{"$f":"IF(AO4890<>0,SUMIFS($AP$6:$AP$1001,$AN$6:$AN$1001,AN4890,$F$6:$F$1001,F4890,$AX$6:$AX$1001,AX4890),0)","v":0},0,{"$f":"IF(AO4890<>0,SUMIFS($AP$6:$AP$1001,$AR$6:$AR$1001,AR4890,$F$6:$F$1001,F4890,$AX$6:$AX$1001,AX4890),0)","v":0},0,0,0,{"$f":"IF(AU4890<>0,SUMIFS($AV$6:$AV$1001,$AT$6:$AT$1001,AT4890,$F$6:$F$1001,F4890,$AY$6:$AY$1001,AY4890),0)","v":0},1900,1900,0,0,0,0,0,0,0,0,0,"","",0,0,0,"FORMATO INCORRECTO","FORMATO INCORRECTO","FORMATO INCORRECTO",{"$f":"IF(L4890=\"\",\"\",IF(ISERROR(edata(L4890)),\"FORMATO INCORRECTO\",\"FORMATO CORRECTO\"))","v":""},{"$f":"IF(U4890=\"\",\"\",IF(ISERROR(edata(U4890)),\"FORMATO INCORRECTO\",\"FORMATO CORRECTO\"))","v":""},{"$f":"IF(N4890=\"\",\"\",IF(ISERROR(edata(N4890)),\"FORMATO INCORRECTO\",\"FORMATO CORRECTO\"))","v":""}]
["1924-05-02","",null,null,null,null,null,null,"",null,null,null,null,null,null,null,null,"",null,null,null,null,null,null,null,null,"",null,"",null,null,"",null,null,null,null,null,0,0,0,0,0,{"$f":"IF(AO4891<>0,SUMIFS($AP$6:$AP$1001,$AN$6:$AN$1001,AN4891,$F$6:$F$1001,F4891,$AX$6:$AX$1001,AX4891),0)","v":0},0,{"$f":"IF(AO4891<>0,SUMIFS($AP$6:$AP$1001,$AR$6:$AR$1001,AR4891,$F$6:$F$1001,F4891,$AX$6:$AX$1001,AX4891),0)","v":0},0,0,0,{"$f":"IF(AU4891<>0,SUMIFS($AV$6:$AV$1001,$AT$6:$AT$1001,AT4891,$F$6:$F$1001,F4891,$AY$6:$AY$1001,AY4891),0)","v":0},1900,1900,0,0,0,0,0,0,0,0,0,"","",0,0,0,"FORMATO INCORRECTO","FORMATO INCORRECTO","FORMATO INCORRECTO",{"$f":"IF(L4891=\"\",\"\",IF(ISERROR(edata(L4891)),\"FORMATO INCORRECTO\",\"FORMATO CORRECTO\"))","v":""},{"$f":"IF(U4891=\"\",\"\",IF(ISERROR(edata(U4891)),\"FORMATO INCORRECTO\",\"FORMATO CORRECTO\"))","v":""},{"$f":"IF(N4891=\"\",\"\",IF(ISERROR(edata(N4891)),\"FORMATO INCORRECTO\",\"FORMATO CORRECTO\"))","v":""}]
["1924-05-03","",null,null,null,null,null,null,"",null,null,null,null,null,null,null,null,"",null,null,null,null,null,null,null,null,"",null,"",null,null,"",null,null,null,null,null,0,0,0,0,0,{"$f":"IF(AO4892<>0,SUMIFS($AP$6:$AP$1001,$AN$6:$AN$1001,AN4892,$F$6:$F$1001,F4892,$AX$6:$AX$1001,AX4892),0)","v":0},0,{"$f":"IF(AO4892<>0,SUMIFS($AP$6:$AP$1001,$AR$6:$AR$1001,AR4892,$F$6:$F$1001,F4892,$AX$6:$AX$1001,AX4892),0)","v":0},0,0,0,{"$f":"IF(AU4892<>0,SUMIFS($AV$6:$AV$1001,$AT$6:$AT$1001,AT4892,$F$6:$F$1001,F4892,$AY$6:$AY$1001,AY4892),0)","v":0},1900,1900,0,0,0,0,0,0,0,0,0,"","",0,0,0,"FORMATO INCORRECTO","FORMATO INCORRECTO","FORMATO INCORRECTO",{"$f":"IF(L4892=\"\",\"\",IF(ISERROR(edata(L4892)),\"FORMATO INCORRECTO\",\"FORMATO CORRECTO\"))","v":""},{"$f":"IF(U4892=\"\",\"\",IF(ISERROR(edata(U4892)),\"FORMATO INCORRECTO\",\"FORMATO CORRECTO\"))","v":""},{"$f":"IF(N4892=\"\",\"\",IF(ISERROR(edata(N4892)),\"FORMATO INCORRECTO\",\"FORMATO CORRECTO\"))","v":""}]
["1924-05-04","",null,null,null,null,null,null,"",null,null,null,null,null,null,null,null,"",null,null,null,null,null,null,null,null,"",null,"",null,null,"",null,null,null,null,null,0,0,0,0,0,{"$f":"IF(AO4893<>0,SUMIFS($AP$6:$AP$1001,$AN$6:$AN$1001,AN4893,$F$6:$F$1001,F4893,$AX$6:$AX$1001,AX4893),0)","v":0},0,{"$f":"IF(AO4893<>0,SUMIFS($AP$6:$AP$1001,$AR$6:$AR$1001,AR4893,$F$6:$F$1001,F4893,$AX$6:$AX$1001,AX4893),0)","v":0},0,0,0,{"$f":"IF(AU4893<>0,SUMIFS($AV$6:$AV$1001,$AT$6:$AT$1001,AT4893,$F$6:$F$1001,F4893,$AY$6:$AY$1001,AY4893),0)","v":0},1900,1900,0,0,0,0,0,0,0,0,0,"","",0,0,0,"FORMATO INCORRECTO","FORMATO INCORRECTO","FORMATO INCORRECTO",{"$f":"IF(L4893=\"\",\"\",IF(ISERROR(edata(L4893)),\"FORMATO INCORRECTO\",\"FORMATO CORRECTO\"))","v":""},{"$f":"IF(U4893=\"\",\"\",IF(ISERROR(edata(U4893)),\"FORMATO INCORRECTO\",\"FORMATO CORRECTO\"))","v":""},{"$f":"IF(N4893=\"\",\"\",IF(ISERROR(edata(N4893)),\"FORMATO INCORRECTO\",\"FORMATO CORRECTO\"))","v":""}]
["1924-05-05","",null,null,null,null,null,null,"",null,null,null,null,null,null,null,null,"",null,null,null,null,null,null,null,null,"",null,"",null,null,"",null,null,null,null,null,0,0,0,0,0,{"$f":"IF(AO4894<>0,SUMIFS($AP$6:$AP$1001,$AN$6:$AN$1001,AN4894,$F$6:$F$1001,F4894,$AX$6:$AX$1001,AX4894),0)","v":0},0,{"$f":"IF(AO4894<>0,SUMIFS($AP$6:$AP$1001,$AR$6:$AR$1001,AR4894,$F$6:$F$1001,F4894,$AX$6:$AX$1001,AX4894),0)","v":0},0,0,0,{"$f":"IF(AU4894<>0,SUMIFS($AV$6:$AV$1001,$AT$6:$AT$1001,AT4894,$F$6:$F$1001,F4894,$AY$6:$AY$1001,AY4894),0)","v":0},1900,1900,0,0,0,0,0,0,0,0,0,"","",0,0,0,"FORMATO INCORRECTO","FORMATO INCORRECTO","FORMATO INCORRECTO",{"$f":"IF(L4894=\"\",\"\",IF(ISERROR(edata(L4894)),\"FORMATO INCORRECTO\",\"FORMATO CORRECTO\"))","v":""},{"$f":"IF(U4894=\"\",\"\",IF(ISERROR(edata(U4894)),\"FORMATO INCORRECTO\",\"FORMATO CORRECTO\"))","v":""},{"$f":"IF(N4894=\"\",\"\",IF(ISERROR(edata(N4894)),\"FORMATO INCORRECTO\",\"FORMATO CORRECTO\"))","v":""}]
["1924-05-06","",null,null,null,null,null,null,"",null,null,null,null,null,null,null,null,"",null,null,null,null,null,null,null,null,"",null,"",null,null,"",null,null,null,null,null,0,0,0,0,0,{"$f":"IF(AO4895<>0,SUMIFS($AP$6:$AP$1001,$AN$6:$AN$1001,AN4895,$F$6:$F$1001,F4895,$AX$6:$AX$1001,AX4895),0)","v":0},0,{"$f":"IF(AO4895<>0,SUMIFS($AP$6:$AP$1001,$AR$6:$AR$1001,AR4895,$F$6:$F$1001,F4895,$AX$6:$AX$1001,AX4895),0)","v":0},0,0,0,{"$f":"IF(AU4895<>0,SUMIFS($AV$6:$AV$1001,$AT$6:$AT$1001,AT4895,$F$6:$F$1001,F4895,$AY$6:$AY$1001,AY4895),0)","v":0},1900,1900,0,0,0,0,0,0,0,0,0,"","",0,0,0,"FORMATO INCORRECTO","FORMATO INCORRECTO","FORMATO INCORRECTO",{"$f":"IF(L4895=\"\",\"\",IF(ISERROR(edata(L4895)),\"FORMATO INCORRECTO\",\"FORMATO CORRECTO\"))","v":""},{"$f":"IF(U4895=\"\",\"\",IF(ISERROR(edata(U4895)),\"FORMATO INCORRECTO\",\"FORMATO CORRECTO\"))","v":""},{"$f":"IF(N4895=\"\",\"\",IF(ISERROR(edata(N4895)),\"FORMATO INCORRECTO\",\"FORMATO CORRECTO\"))","v":""}]
["1924-05-07","",null,null,null,null,null,null,"",null,null,null,null,null,null,null,null,"",null,null,null,null,null,null,null,null,"",null,"",null,null,"",null,null,null,null,null,0,0,0,0,0,{"$f":"IF(AO4896<>0,SUMIFS($AP$6:$AP$1001,$AN$6:$AN$1001,AN4896,$F$6:$F$1001,F4896,$AX$6:$AX$1001,AX4896),0)","v":0},0,{"$f":"IF(AO4896<>0,SUMIFS($AP$6:$AP$1001,$AR$6:$AR$1001,AR4896,$F$6:$F$1001,F4896,$AX$6:$AX$1001,AX4896),0)","v":0},0,0,0,{"$f":"IF(AU4896<>0,SUMIFS($AV$6:$AV$1001,$AT$6:$AT$1001,AT4896,$F$6:$F$1001,F4896,$AY$6:$AY$1001,AY4896),0)","v":0},1900,1900,0,0,0,0,0,0,0,0,0,"","",0,0,0,"FORMATO INCORRECTO","FORMATO INCORRECTO","FORMATO INCORRECTO",{"$f":"IF(L4896=\"\",\"\",IF(ISERROR(edata(L4896)),\"FORMATO INCORRECTO\",\"FORMATO CORRECTO\"))","v":""},{"$f":"IF(U4896=\"\",\"\",IF(ISERROR(edata(U4896)),\"FORMATO INCORRECTO\",\"FORMATO CORRECTO\"))","v":""},{"$f":"IF(N4896=\"\",\"\",IF(ISERROR(edata(N4896)),\"FORMATO INCORRECTO\",\"FORMATO CORRECTO\"))","v":""}]
["1924-05-08","",null,null,null,null,null,null,"",null,null,null,null,null,null,null,null,"",null,null,null,null,null,null,null,null,"",null,"",null,null,"",null,null,null,null,null,0,0,0,0,0,{"$f":"IF(AO4897<>0,SUMIFS($AP$6:$AP$1001,$AN$6:$AN$1001,AN4897,$F$6:$F$1001,F4897,$AX$6:$AX$1001,AX4897),0)","v":0},0,{"$f":"IF(AO4897<>0,SUMIFS($AP$6:$AP$1001,$AR$6:$AR$1001,AR4897,$F$6:$F$1001,F4897,$AX$6:$AX$1001,AX4897),0)","v":0},0,0,0,{"$f":"IF(AU4897<>0,SUMIFS($AV$6:$AV$1001,$AT$6:$AT$1001,AT4897,$F$6:$F$1001,F4897,$AY$6:$AY$1001,AY4897),0)","v":0},1900,1900,0,0,0,0,0,0,0,0,0,"","",0,0,0,"FORMATO INCORRECTO","FORMATO INCORRECTO","FORMATO INCORRECTO",{"$f":"IF(L4897=\"\",\"\",IF(ISERROR(edata(L4897)),\"FORMATO INCORRECTO\",\"FORMATO CORRECTO\"))","v":""},{"$f":"IF(U4897=\"\",\"\",IF(ISERROR(edata(U4897)),\"FORMATO INCORRECTO\",\"FORMATO CORRECTO\"))","v":""},{"$f":"IF(N4897=\"\",\"\",IF(ISERROR(edata(N4897)),\"FORMATO INCORRECTO\",\"FORMATO CORRECTO\"))","v":""}]
["1924-05-09","",null,null,null,null,null,null,"",null,null,null,null,null,null,null,null,"",null,null,null,null,null,null,null,null,"",null,"",null,null,"",null,null,null,null,null,0,0,0,0,0,{"$f":"IF(AO4898<>0,SUMIFS($AP$6:$AP$1001,$AN$6:$AN$1001,AN4898,$F$6:$F$1001,F4898,$AX$6:$AX$1001,AX4898),0)","v":0},0,{"$f":"IF(AO4898<>0,SUMIFS($AP$6:$AP$1001,$AR$6:$AR$1001,AR4898,$F$6:$F$1001,F4898,$AX$6:$AX$1001,AX4898),0)","v":0},0,0,0,{"$f":"IF(AU4898<>0,SUMIFS($AV$6:$AV$1001,$AT$6:$AT$1001,AT4898,$F$6:$F$1001,F4898,$AY$6:$AY$1001,AY4898),0)","v":0},1900,1900,0,0,0,0,0,0,0,0,0,"","",0,0,0,"FORMATO INCORRECTO","FORMATO INCORRECTO","FORMATO INCORRECTO",{"$f":"IF(L4898=\"\",\"\",IF(ISERROR(edata(L4898)),\"FORMATO INCORRECTO\",\"FORMATO CORRECTO\"))","v":""},{"$f":"IF(U4898=\"\",\"\",IF(ISERROR(edata(U4898)),\"FORMATO INCORRECTO\",\"FORMATO CORRECTO\"))","v":""},{"$f":"IF(N4898=\"\",\"\",IF(ISERROR(edata(N4898)),\"FORMATO INCORRECTO\",\"FORMATO CORRECTO\"))","v":""}]
["1924-05-10","",null,null,null,null,null,null,"",null,null,null,null,null,null,null,null,"",null,null,null,null,null,null,null,null,"",null,"",null,null,"",null,null,null,null,null,0,0,0,0,0,{"$f":"IF(AO4899<>0,SUMIFS($AP$6:$AP$1001,$AN$6:$AN$1001,AN4899,$F$6:$F$1001,F4899,$AX$6:$AX$1001,AX4899),0)","v":0},0,{"$f":"IF(AO4899<>0,SUMIFS($AP$6:$AP$1001,$AR$6:$AR$1001,AR4899,$F$6:$F$1001,F4899,$AX$6:$AX$1001,AX4899),0)","v":0},0,0,0,{"$f":"IF(AU4899<>0,SUMIFS($AV$6:$AV$1001,$AT$6:$AT$1001,AT4899,$F$6:$F$1001,F4899,$AY$6:$AY$1001,AY4899),0)","v":0},1900,1900,0,0,0,0,0,0,0,0,0,"","",0,0,0,"FORMATO INCORRECTO","FORMATO INCORRECTO","FORMATO INCORRECTO",{"$f":"IF(L4899=\"\",\"\",IF(ISERROR(edata(L4899)),\"FORMATO INCORRECTO\",\"FORMATO CORRECTO\"))","v":""},{"$f":"IF(U4899=\"\",\"\",IF(ISERROR(edata(U4899)),\"FORMATO INCORRECTO\",\"FORMATO CORRECTO\"))","v":""},{"$f":"IF(N4899=\"\",\"\",IF(ISERROR(edata(N4899)),\"FORMATO INCORRECTO\",\"FORMATO CORRECTO\"))","v":""}]
["1924-05-11","",null,null,null,null,null,null,"",null,null,null,null,null,null,null,null,"",null,null,null,null,null,null,null,null,"",null,"",null,null,"",null,null,null,null,null,0,0,0,0,0,{"$f":"IF(AO4900<>0,SUMIFS($AP$6:$AP$1001,$AN$6:$AN$1001,AN4900,$F$6:$F$1001,F4900,$AX$6:$AX$1001,AX4900),0)","v":0},0,{"$f":"IF(AO4900<>0,SUMIFS($AP$6:$AP$1001,$AR$6:$AR$1001,AR4900,$F$6:$F$1001,F4900,$AX$6:$AX$1001,AX4900),0)","v":0},0,0,0,{"$f":"IF(AU4900<>0,SUMIFS($AV$6:$AV$1001,$AT$6:$AT$1001,AT4900,$F$6:$F$1001,F4900,$AY$6:$AY$1001,AY4900),0)","v":0},1900,1900,0,0,0,0,0,0,0,0,0,"","",0,0,0,"FORMATO INCORRECTO","FORMATO INCORRECTO","FORMATO INCORRECTO",{"$f":"IF(L4900=\"\",\"\",IF(ISERROR(edata(L4900)),\"FORMATO INCORRECTO\",\"FORMATO CORRECTO\"))","v":""},{"$f":"IF(U4900=\"\",\"\",IF(ISERROR(edata(U4900)),\"FORMATO INCORRECTO\",\"FORMATO CORRECTO\"))","v":""},{"$f":"IF(N4900=\"\",\"\",IF(ISERROR(edata(N4900)),\"FORMATO INCORRECTO\",\"FORMATO CORRECTO\"))","v":""}]
["1924-05-12","",null,null,null,null,null,null,"",null,null,null,null,null,null,null,null,"",null,null,null,null,null,null,null,null,"",null,"",null,null,"",null,null,null,null,null,0,0,0,0,0,{"$f":"IF(AO4901<>0,SUMIFS($AP$6:$AP$1001,$AN$6:$AN$1001,AN4901,$F$6:$F$1001,F4901,$AX$6:$AX$1001,AX4901),0)","v":0},0,{"$f":"IF(AO4901<>0,SUMIFS($AP$6:$AP$1001,$AR$6:$AR$1001,AR4901,$F$6:$F$1001,F4901,$AX$6:$AX$1001,AX4901),0)","v":0},0,0,0,{"$f":"IF(AU4901<>0,SUMIFS($AV$6:$AV$1001,$AT$6:$AT$1001,AT4901,$F$6:$F$1001,F4901,$AY$6:$AY$1001,AY4901),0)","v":0},1900,1900,0,0,0,0,0,0,0,0,0,"","",0,0,0,"FORMATO INCORRECTO","FORMATO INCORRECTO","FORMATO INCORRECTO",{"$f":"IF(L4901=\"\",\"\",IF(ISERROR(edata(L4901)),\"FORMATO INCORRECTO\",\"FORMATO CORRECTO\"))","v":""},{"$f":"IF(U4901=\"\",\"\",IF(ISERROR(edata(U4901)),\"FORMATO INCORRECTO\",\"FORMATO CORRECTO\"))","v":""},{"$f":"IF(N4901=\"\",\"\",IF(ISERROR(edata(N4901)),\"FORMATO INCORRECTO\",\"FORMATO CORRECTO\"))","v":""}]
["1924-05-13","",null,null,null,null,null,null,"",null,null,null,null,null,null,null,null,"",null,null,null,null,null,null,null,null,"",null,"",null,null,"",null,null,null,null,null,0,0,0,0,0,{"$f":"IF(AO4902<>0,SUMIFS($AP$6:$AP$1001,$AN$6:$AN$1001,AN4902,$F$6:$F$1001,F4902,$AX$6:$AX$1001,AX4902),0)","v":0},0,{"$f":"IF(AO4902<>0,SUMIFS($AP$6:$AP$1001,$AR$6:$AR$1001,AR4902,$F$6:$F$1001,F4902,$AX$6:$AX$1001,AX4902),0)","v":0},0,0,0,{"$f":"IF(AU4902<>0,SUMIFS($AV$6:$AV$1001,$AT$6:$AT$1001,AT4902,$F$6:$F$1001,F4902,$AY$6:$AY$1001,AY4902),0)","v":0},1900,1900,0,0,0,0,0,0,0,0,0,"","",0,0,0,"FORMATO INCORRECTO","FORMATO INCORRECTO","FORMATO INCORRECTO",{"$f":"IF(L4902=\"\",\"\",IF(ISERROR(edata(L4902)),\"FORMATO INCORRECTO\",\"FORMATO CORRECTO\"))","v":""},{"$f":"IF(U4902=\"\",\"\",IF(ISERROR(edata(U4902)),\"FORMATO INCORRECTO\",\"FORMATO CORRECTO\"))","v":""},{"$f":"IF(N4902=\"\",\"\",IF(ISERROR(edata(N4902)),\"FORMATO INCORRECTO\",\"FORMATO CORRECTO\"))","v":""}]
["1924-05-14","",null,null,null,null,null,null,"",null,null,null,null,null,null,null,null,"",null,null,null,null,null,null,null,null,"",null,"",null,null,"",null,null,null,null,null,0,0,0,0,0,{"$f":"IF(AO4903<>0,SUMIFS($AP$6:$AP$1001,$AN$6:$AN$1001,AN4903,$F$6:$F$1001,F4903,$AX$6:$AX$1001,AX4903),0)","v":0},0,{"$f":"IF(AO4903<>0,SUMIFS($AP$6:$AP$1001,$AR$6:$AR$1001,AR4903,$F$6:$F$1001,F4903,$AX$6:$AX$1001,AX4903),0)","v":0},0,0,0,{"$f":"IF(AU4903<>0,SUMIFS($AV$6:$AV$1001,$AT$6:$AT$1001,AT4903,$F$6:$F$1001,F4903,$AY$6:$AY$1001,AY4903),0)","v":0},1900,1900,0,0,0,0,0,0,0,0,0,"","",0,0,0,"FORMATO INCORRECTO","FORMATO INCORRECTO","FORMATO INCORRECTO",{"$f":"IF(L4903=\"\",\"\",IF(ISERROR(edata(L4903)),\"FORMATO INCORRECTO\",\"FORMATO CORRECTO\"))","v":""},{"$f":"IF(U4903=\"\",\"\",IF(ISERROR(edata(U4903)),\"FORMATO INCORRECTO\",\"FORMATO CORRECTO\"))","v":""},{"$f":"IF(N4903=\"\",\"\",IF(ISERROR(edata(N4903)),\"FORMATO INCORRECTO\",\"FORMATO CORRECTO\"))","v":""}]
["1924-05-15","",null,null,null,null,null,null,"",null,null,null,null,null,null,null,null,"",null,null,null,null,null,null,null,null,"",null,"",null,null,"",null,null,null,null,null,0,0,0,0,0,{"$f":"IF(AO4904<>0,SUMIFS($AP$6:$AP$1001,$AN$6:$AN$1001,AN4904,$F$6:$F$1001,F4904,$AX$6:$AX$1001,AX4904),0)","v":0},0,{"$f":"IF(AO4904<>0,SUMIFS($AP$6:$AP$1001,$AR$6:$AR$1001,AR4904,$F$6:$F$1001,F4904,$AX$6:$AX$1001,AX4904),0)","v":0},0,0,0,{"$f":"IF(AU4904<>0,SUMIFS($AV$6:$AV$1001,$AT$6:$AT$1001,AT4904,$F$6:$F$1001,F4904,$AY$6:$AY$1001,AY4904),0)","v":0},1900,1900,0,0,0,0,0,0,0,0,0,"","",0,0,0,"FORMATO INCORRECTO","FORMATO INCORRECTO","FORMATO INCORRECTO",{"$f":"IF(L4904=\"\",\"\",IF(ISERROR(edata(L4904)),\"FORMATO INCORRECTO\",\"FORMATO CORRECTO\"))","v":""},{"$f":"IF(U4904=\"\",\"\",IF(ISERROR(edata(U4904)),\"FORMATO INCORRECTO\",\"FORMATO CORRECTO\"))","v":""},{"$f":"IF(N4904=\"\",\"\",IF(ISERROR(edata(N4904)),\"FORMATO INCORRECTO\",\"FORMATO CORRECTO\"))","v":""}]
["1924-05-16","",null,null,null,null,null,null,"",null,null,null,null,null,null,null,null,"",null,null,null,null,null,null,null,null,"",null,"",null,null,"",null,null,null,null,null,0,0,0,0,0,{"$f":"IF(AO4905<>0,SUMIFS($AP$6:$AP$1001,$AN$6:$AN$1001,AN4905,$F$6:$F$1001,F4905,$AX$6:$AX$1001,AX4905),0)","v":0},0,{"$f":"IF(AO4905<>0,SUMIFS($AP$6:$AP$1001,$AR$6:$AR$1001,AR4905,$F$6:$F$1001,F4905,$AX$6:$AX$1001,AX4905),0)","v":0},0,0,0,{"$f":"IF(AU4905<>0,SUMIFS($AV$6:$AV$1001,$AT$6:$AT$1001,AT4905,$F$6:$F$1001,F4905,$AY$6:$AY$1001,AY4905),0)","v":0},1900,1900,0,0,0,0,0,0,0,0,0,"","",0,0,0,"FORMATO INCORRECTO","FORMATO INCORRECTO","FORMATO INCORRECTO",{"$f":"IF(L4905=\"\",\"\",IF(ISERROR(edata(L4905)),\"FORMATO INCORRECTO\",\"FORMATO CORRECTO\"))","v":""},{"$f":"IF(U4905=\"\",\"\",IF(ISERROR(edata(U4905)),\"FORMATO INCORRECTO\",\"FORMATO CORRECTO\"))","v":""},{"$f":"IF(N4905=\"\",\"\",IF(ISERROR(edata(N4905)),\"FORMATO INCORRECTO\",\"FORMATO CORRECTO\"))","v":""}]
["1924-05-17",{"$f":"IF(G4906<>\"\",+B4905+1,\"\")","v":""},null,null,null,null,null,null,{"$f":"IF(ISERROR(VLOOKUP(J4906,tipoDocDesp,2,FALSE)),\"\",VLOOKUP(J4906,tipoDocDesp,2,FALSE))","v":""},null,null,null,null,null,null,null,null,{"$f":"IF(ISERROR(VLOOKUP(S4906,tipoDocQuit,2,FALSE)),\"\",VLOOKUP(S4906,tipoDocQuit,2,FALSE))","v":""},null,null,null,null,null,null,null,null,{"$f":"IF(ISERROR(VLOOKUP(AB4906,DESPESASGERAL,3,FALSE)),\"\",VLOOKUP(AB4906,DESPESASGERAL,3,FALSE))","v":""},null,{"$f":"IF(ISERROR(VLOOKUP(AD4906,RUBRICASGERAL,2,FALSE)),\"\",VLOOKUP(AD4906,RUBRICASGERAL,2,FALSE))","v":""},null,null,{"$f":"IF(ISERROR(VLOOKUP(AG4906,CONCELHOGERAL,2,FALSE)),\"\",VLOOKUP(AG4906,CONCELHOGERAL,2,FALSE))","v":""},null,null,null,null,null,{"$f":"+O4906+P4906+Q4906-N4906","v":0},{"$f":"+O4906+P4906+Q4906-W4906","v":0},{"$f":"+D4906","v":0},{"$f":"+M4906","v":0},{"$f":"+N4906","v":0},{"$f":"IF(AO4906<>0,SUMIFS($AP$6:$AP$1001,$AN$6:$AN$1001,AN4906,$F$6:$F$1001,F4906,$AX$6:$AX$1001,AX4906),0)","v":0},{"$f":"+K4906","v":0},{"$f":"IF(AO4906<>0,SUMIFS($AP$6:$AP$1001,$AR$6:$AR$1001,AR4906,$F$6:$F$1001,F4906,$AX$6:$AX$1001,AX4906),0)","v":0},{"$f":"+T4906","v":0},{"$f":"+V4906","v":0},{"$f":"+W4906","v":0},{"$f":"IF(AU4906<>0,SUMIFS($AV$6:$AV$1001,$AT$6:$AT$1001,AT4906,$F$6:$F$1001,F4906,$AY$6:$AY$1001,AY4906),0)","v":0},{"$f":"YEAR(L4906)","v":1900},{"$f":"YEAR(U4906)","v":1900},{"$f":"+AN4906","v":0},{"$f":"+AQ4906","v":0},{"$f":"+M4906-BA4906","v":0},{"$f":"+AR4906","v":0},{"$f":"ROUND(AS4906,2)","v":0},{"$f":"+M4906-BD4906","v":0},{"$f":"+AT4906","v":0},{"$f":"ROUND(AW4906,2)","v":0},{"$f":"+V4906-BG4906","v":0},{"$f":"IF(ISERROR(L4906<=U4906),\"FORMATO INCORRECTO\",IF(AND(L4906=0,U4906=0),\"\",IF(L4906<=U4906,\"VALIDADO\",\"NÃO VALIDADO\")))","v":""},{"$f":"IF(AND(L4906=\"\",U4906=\"\",Y4906=\"\"),\"\",IF(OR(ISERROR(BK4906),ISERROR(BL4906),ISERROR(BM4906)),\"ERRO NO FORMATO\",\"FORMATO CORRECTO\"))","v":""},{"$f":"convdata(L4906)","v":0},{"$f":"convdata(U4906)","v":0},{"$f":"convdata(Y4906)","v":0},{"$f":"ENULO(L4906)","v":"FORMATO INCORRECTO"},{"$f":"ENULO(U4906)","v":"FORMATO INCORRECTO"},{"$f":"ENULO(Y4906)","v":"FORMATO INCORRECTO"},{"$f":"IF(L4906=\"\",\"\",IF(ISERROR(edata(L4906)),\"FORMATO INCORRECTO\",\"FORMATO CORRECTO\"))","v":""},{"$f":"IF(U4906=\"\",\"\",IF(ISERROR(edata(U4906)),\"FORMATO INCORRECTO\",\"FORMATO CORRECTO\"))","v":""},{"$f":"IF(N4906=\"\",\"\",IF(ISERROR(edata(N4906)),\"FORMATO INCORRECTO\",\"FORMATO CORRECTO\"))","v":""}]
["1924-05-18","",null,null,null,null,null,null,"",null,null,null,null,null,null,null,null,"",null,null,null,null,null,null,null,null,"",null,"",null,null,"",null,null,null,null,null,0,0,0,0,0,{"$f":"IF(AO4907<>0,SUMIFS($AP$6:$AP$1001,$AN$6:$AN$1001,AN4907,$F$6:$F$1001,F4907,$AX$6:$AX$1001,AX4907),0)","v":0},0,{"$f":"IF(AO4907<>0,SUMIFS($AP$6:$AP$1001,$AR$6:$AR$1001,AR4907,$F$6:$F$1001,F4907,$AX$6:$AX$1001,AX4907),0)","v":0},0,0,0,{"$f":"IF(AU4907<>0,SUMIFS($AV$6:$AV$1001,$AT$6:$AT$1001,AT4907,$F$6:$F$1001,F4907,$AY$6:$AY$1001,AY4907),0)","v":0},1900,1900,0,0,0,0,0,0,0,0,0,"","",0,0,0,"FORMATO INCORRECTO","FORMATO INCORRECTO","FORMATO INCORRECTO",{"$f":"IF(L4907=\"\",\"\",IF(ISERROR(edata(L4907)),\"FORMATO INCORRECTO\",\"FORMATO CORRECTO\"))","v":""},{"$f":"IF(U4907=\"\",\"\",IF(ISERROR(edata(U4907)),\"FORMATO INCORRECTO\",\"FORMATO CORRECTO\"))","v":""},{"$f":"IF(N4907=\"\",\"\",IF(ISERROR(edata(N4907)),\"FORMATO INCORRECTO\",\"FORMATO CORRECTO\"))","v":""}]
["1924-05-19","",null,null,null,null,null,null,"",null,null,null,null,null,null,null,null,"",null,null,null,null,null,null,null,null,"",null,"",null,null,"",null,null,null,null,null,0,0,0,0,0,{"$f":"IF(AO4908<>0,SUMIFS($AP$6:$AP$1001,$AN$6:$AN$1001,AN4908,$F$6:$F$1001,F4908,$AX$6:$AX$1001,AX4908),0)","v":0},0,{"$f":"IF(AO4908<>0,SUMIFS($AP$6:$AP$1001,$AR$6:$AR$1001,AR4908,$F$6:$F$1001,F4908,$AX$6:$AX$1001,AX4908),0)","v":0},0,0,0,{"$f":"IF(AU4908<>0,SUMIFS($AV$6:$AV$1001,$AT$6:$AT$1001,AT4908,$F$6:$F$1001,F4908,$AY$6:$AY$1001,AY4908),0)","v":0},1900,1900,0,0,0,0,0,0,0,0,0,"","",0,0,0,"FORMATO INCORRECTO","FORMATO INCORRECTO","FORMATO INCORRECTO",{"$f":"IF(L4908=\"\",\"\",IF(ISERROR(edata(L4908)),\"FORMATO INCORRECTO\",\"FORMATO CORRECTO\"))","v":""},{"$f":"IF(U4908=\"\",\"\",IF(ISERROR(edata(U4908)),\"FORMATO INCORRECTO\",\"FORMATO CORRECTO\"))","v":""},{"$f":"IF(N4908=\"\",\"\",IF(ISERROR(edata(N4908)),\"FORMATO INCORRECTO\",\"FORMATO CORRECTO\"))","v":""}]
["1924-05-20","",null,null,null,null,null,null,"",null,null,null,null,null,null,null,null,"",null,null,null,null,null,null,null,null,"",null,"",null,null,"",null,null,null,null,null,0,0,0,0,0,{"$f":"IF(AO4909<>0,SUMIFS($AP$6:$AP$1001,$AN$6:$AN$1001,AN4909,$F$6:$F$1001,F4909,$AX$6:$AX$1001,AX4909),0)","v":0},0,{"$f":"IF(AO4909<>0,SUMIFS($AP$6:$AP$1001,$AR$6:$AR$1001,AR4909,$F$6:$F$1001,F4909,$AX$6:$AX$1001,AX4909),0)","v":0},0,0,0,{"$f":"IF(AU4909<>0,SUMIFS($AV$6:$AV$1001,$AT$6:$AT$1001,AT4909,$F$6:$F$1001,F4909,$AY$6:$AY$1001,AY4909),0)","v":0},1900,1900,0,0,0,0,0,0,0,0,0,"","",0,0,0,"FORMATO INCORRECTO","FORMATO INCORRECTO","FORMATO INCORRECTO",{"$f":"IF(L4909=\"\",\"\",IF(ISERROR(edata(L4909)),\"FORMATO INCORRECTO\",\"FORMATO CORRECTO\"))","v":""},{"$f":"IF(U4909=\"\",\"\",IF(ISERROR(edata(U4909)),\"FORMATO INCORRECTO\",\"FORMATO CORRECTO\"))","v":""},{"$f":"IF(N4909=\"\",\"\",IF(ISERROR(edata(N4909)),\"FORMATO INCORRECTO\",\"FORMATO CORRECTO\"))","v":""}]
["1924-05-21","",null,null,null,null,null,null,"",null,null,null,null,null,null,null,null,"",null,null,null,null,null,null,null,null,"",null,"",null,null,"",null,null,null,null,null,0,0,0,0,0,{"$f":"IF(AO4910<>0,SUMIFS($AP$6:$AP$1001,$AN$6:$AN$1001,AN4910,$F$6:$F$1001,F4910,$AX$6:$AX$1001,AX4910),0)","v":0},0,{"$f":"IF(AO4910<>0,SUMIFS($AP$6:$AP$1001,$AR$6:$AR$1001,AR4910,$F$6:$F$1001,F4910,$AX$6:$AX$1001,AX4910),0)","v":0},0,0,0,{"$f":"IF(AU4910<>0,SUMIFS($AV$6:$AV$1001,$AT$6:$AT$1001,AT4910,$F$6:$F$1001,F4910,$AY$6:$AY$1001,AY4910),0)","v":0},1900,1900,0,0,0,0,0,0,0,0,0,"","",0,0,0,"FORMATO INCORRECTO","FORMATO INCORRECTO","FORMATO INCORRECTO",{"$f":"IF(L4910=\"\",\"\",IF(ISERROR(edata(L4910)),\"FORMATO INCORRECTO\",\"FORMATO CORRECTO\"))","v":""},{"$f":"IF(U4910=\"\",\"\",IF(ISERROR(edata(U4910)),\"FORMATO INCORRECTO\",\"FORMATO CORRECTO\"))","v":""},{"$f":"IF(N4910=\"\",\"\",IF(ISERROR(edata(N4910)),\"FORMATO INCORRECTO\",\"FORMATO CORRECTO\"))","v":""}]
["1924-05-22","",null,null,null,null,null,null,"",null,null,null,null,null,null,null,null,"",null,null,null,null,null,null,null,null,"",null,"",null,null,"",null,null,null,null,null,0,0,0,0,0,{"$f":"IF(AO4911<>0,SUMIFS($AP$6:$AP$1001,$AN$6:$AN$1001,AN4911,$F$6:$F$1001,F4911,$AX$6:$AX$1001,AX4911),0)","v":0},0,{"$f":"IF(AO4911<>0,SUMIFS($AP$6:$AP$1001,$AR$6:$AR$1001,AR4911,$F$6:$F$1001,F4911,$AX$6:$AX$1001,AX4911),0)","v":0},0,0,0,{"$f":"IF(AU4911<>0,SUMIFS($AV$6:$AV$1001,$AT$6:$AT$1001,AT4911,$F$6:$F$1001,F4911,$AY$6:$AY$1001,AY4911),0)","v":0},1900,1900,0,0,0,0,0,0,0,0,0,"","",0,0,0,"FORMATO INCORRECTO","FORMATO INCORRECTO","FORMATO INCORRECTO",{"$f":"IF(L4911=\"\",\"\",IF(ISERROR(edata(L4911)),\"FORMATO INCORRECTO\",\"FORMATO CORRECTO\"))","v":""},{"$f":"IF(U4911=\"\",\"\",IF(ISERROR(edata(U4911)),\"FORMATO INCORRECTO\",\"FORMATO CORRECTO\"))","v":""},{"$f":"IF(N4911=\"\",\"\",IF(ISERROR(edata(N4911)),\"FORMATO INCORRECTO\",\"FORMATO CORRECTO\"))","v":""}]
["1924-05-23","",null,null,null,null,null,null,"",null,null,null,null,null,null,null,null,"",null,null,null,null,null,null,null,null,"",null,"",null,null,"",null,null,null,null,null,0,0,0,0,0,{"$f":"IF(AO4912<>0,SUMIFS($AP$6:$AP$1001,$AN$6:$AN$1001,AN4912,$F$6:$F$1001,F4912,$AX$6:$AX$1001,AX4912),0)","v":0},0,{"$f":"IF(AO4912<>0,SUMIFS($AP$6:$AP$1001,$AR$6:$AR$1001,AR4912,$F$6:$F$1001,F4912,$AX$6:$AX$1001,AX4912),0)","v":0},0,0,0,{"$f":"IF(AU4912<>0,SUMIFS($AV$6:$AV$1001,$AT$6:$AT$1001,AT4912,$F$6:$F$1001,F4912,$AY$6:$AY$1001,AY4912),0)","v":0},1900,1900,0,0,0,0,0,0,0,0,0,"","",0,0,0,"FORMATO INCORRECTO","FORMATO INCORRECTO","FORMATO INCORRECTO",{"$f":"IF(L4912=\"\",\"\",IF(ISERROR(edata(L4912)),\"FORMATO INCORRECTO\",\"FORMATO CORRECTO\"))","v":""},{"$f":"IF(U4912=\"\",\"\",IF(ISERROR(edata(U4912)),\"FORMATO INCORRECTO\",\"FORMATO CORRECTO\"))","v":""},{"$f":"IF(N4912=\"\",\"\",IF(ISERROR(edata(N4912)),\"FORMATO INCORRECTO\",\"FORMATO CORRECTO\"))","v":""}]
["1924-05-24","",null,null,null,null,null,null,"",null,null,null,null,null,null,null,null,"",null,null,null,null,null,null,null,null,"",null,"",null,null,"",null,null,null,null,null,0,0,0,0,0,{"$f":"IF(AO4913<>0,SUMIFS($AP$6:$AP$1001,$AN$6:$AN$1001,AN4913,$F$6:$F$1001,F4913,$AX$6:$AX$1001,AX4913),0)","v":0},0,{"$f":"IF(AO4913<>0,SUMIFS($AP$6:$AP$1001,$AR$6:$AR$1001,AR4913,$F$6:$F$1001,F4913,$AX$6:$AX$1001,AX4913),0)","v":0},0,0,0,{"$f":"IF(AU4913<>0,SUMIFS($AV$6:$AV$1001,$AT$6:$AT$1001,AT4913,$F$6:$F$1001,F4913,$AY$6:$AY$1001,AY4913),0)","v":0},1900,1900,0,0,0,0,0,0,0,0,0,"","",0,0,0,"FORMATO INCORRECTO","FORMATO INCORRECTO","FORMATO INCORRECTO",{"$f":"IF(L4913=\"\",\"\",IF(ISERROR(edata(L4913)),\"FORMATO INCORRECTO\",\"FORMATO CORRECTO\"))","v":""},{"$f":"IF(U4913=\"\",\"\",IF(ISERROR(edata(U4913)),\"FORMATO INCORRECTO\",\"FORMATO CORRECTO\"))","v":""},{"$f":"IF(N4913=\"\",\"\",IF(ISERROR(edata(N4913)),\"FORMATO INCORRECTO\",\"FORMATO CORRECTO\"))","v":""}]
["1924-05-25","",null,null,null,null,null,null,"",null,null,null,null,null,null,null,null,"",null,null,null,null,null,null,null,null,"",null,"",null,null,"",null,null,null,null,null,0,0,0,0,0,{"$f":"IF(AO4914<>0,SUMIFS($AP$6:$AP$1001,$AN$6:$AN$1001,AN4914,$F$6:$F$1001,F4914,$AX$6:$AX$1001,AX4914),0)","v":0},0,{"$f":"IF(AO4914<>0,SUMIFS($AP$6:$AP$1001,$AR$6:$AR$1001,AR4914,$F$6:$F$1001,F4914,$AX$6:$AX$1001,AX4914),0)","v":0},0,0,0,{"$f":"IF(AU4914<>0,SUMIFS($AV$6:$AV$1001,$AT$6:$AT$1001,AT4914,$F$6:$F$1001,F4914,$AY$6:$AY$1001,AY4914),0)","v":0},1900,1900,0,0,0,0,0,0,0,0,0,"","",0,0,0,"FORMATO INCORRECTO","FORMATO INCORRECTO","FORMATO INCORRECTO",{"$f":"IF(L4914=\"\",\"\",IF(ISERROR(edata(L4914)),\"FORMATO INCORRECTO\",\"FORMATO CORRECTO\"))","v":""},{"$f":"IF(U4914=\"\",\"\",IF(ISERROR(edata(U4914)),\"FORMATO INCORRECTO\",\"FORMATO CORRECTO\"))","v":""},{"$f":"IF(N4914=\"\",\"\",IF(ISERROR(edata(N4914)),\"FORMATO INCORRECTO\",\"FORMATO CORRECTO\"))","v":""}]
["1924-05-26","",null,null,null,null,null,null,"",null,null,null,null,null,null,null,null,"",null,null,null,null,null,null,null,null,"",null,"",null,null,"",null,null,null,null,null,0,0,0,0,0,{"$f":"IF(AO4915<>0,SUMIFS($AP$6:$AP$1001,$AN$6:$AN$1001,AN4915,$F$6:$F$1001,F4915,$AX$6:$AX$1001,AX4915),0)","v":0},0,{"$f":"IF(AO4915<>0,SUMIFS($AP$6:$AP$1001,$AR$6:$AR$1001,AR4915,$F$6:$F$1001,F4915,$AX$6:$AX$1001,AX4915),0)","v":0},0,0,0,{"$f":"IF(AU4915<>0,SUMIFS($AV$6:$AV$1001,$AT$6:$AT$1001,AT4915,$F$6:$F$1001,F4915,$AY$6:$AY$1001,AY4915),0)","v":0},1900,1900,0,0,0,0,0,0,0,0,0,"","",0,0,0,"FORMATO INCORRECTO","FORMATO INCORRECTO","FORMATO INCORRECTO",{"$f":"IF(L4915=\"\",\"\",IF(ISERROR(edata(L4915)),\"FORMATO INCORRECTO\",\"FORMATO CORRECTO\"))","v":""},{"$f":"IF(U4915=\"\",\"\",IF(ISERROR(edata(U4915)),\"FORMATO INCORRECTO\",\"FORMATO CORRECTO\"))","v":""},{"$f":"IF(N4915=\"\",\"\",IF(ISERROR(edata(N4915)),\"FORMATO INCORRECTO\",\"FORMATO CORRECTO\"))","v":""}]
["1924-05-27","",null,null,null,null,null,null,"",null,null,null,null,null,null,null,null,"",null,null,null,null,null,null,null,null,"",null,"",null,null,"",null,null,null,null,null,0,0,0,0,0,{"$f":"IF(AO4916<>0,SUMIFS($AP$6:$AP$1001,$AN$6:$AN$1001,AN4916,$F$6:$F$1001,F4916,$AX$6:$AX$1001,AX4916),0)","v":0},0,{"$f":"IF(AO4916<>0,SUMIFS($AP$6:$AP$1001,$AR$6:$AR$1001,AR4916,$F$6:$F$1001,F4916,$AX$6:$AX$1001,AX4916),0)","v":0},0,0,0,{"$f":"IF(AU4916<>0,SUMIFS($AV$6:$AV$1001,$AT$6:$AT$1001,AT4916,$F$6:$F$1001,F4916,$AY$6:$AY$1001,AY4916),0)","v":0},1900,1900,0,0,0,0,0,0,0,0,0,"","",0,0,0,"FORMATO INCORRECTO","FORMATO INCORRECTO","FORMATO INCORRECTO",{"$f":"IF(L4916=\"\",\"\",IF(ISERROR(edata(L4916)),\"FORMATO INCORRECTO\",\"FORMATO CORRECTO\"))","v":""},{"$f":"IF(U4916=\"\",\"\",IF(ISERROR(edata(U4916)),\"FORMATO INCORRECTO\",\"FORMATO CORRECTO\"))","v":""},{"$f":"IF(N4916=\"\",\"\",IF(ISERROR(edata(N4916)),\"FORMATO INCORRECTO\",\"FORMATO CORRECTO\"))","v":""}]
["1924-05-28","",null,null,null,null,null,null,"",null,null,null,null,null,null,null,null,"",null,null,null,null,null,null,null,null,"",null,"",null,null,"",null,null,null,null,null,0,0,0,0,0,{"$f":"IF(AO4917<>0,SUMIFS($AP$6:$AP$1001,$AN$6:$AN$1001,AN4917,$F$6:$F$1001,F4917,$AX$6:$AX$1001,AX4917),0)","v":0},0,{"$f":"IF(AO4917<>0,SUMIFS($AP$6:$AP$1001,$AR$6:$AR$1001,AR4917,$F$6:$F$1001,F4917,$AX$6:$AX$1001,AX4917),0)","v":0},0,0,0,{"$f":"IF(AU4917<>0,SUMIFS($AV$6:$AV$1001,$AT$6:$AT$1001,AT4917,$F$6:$F$1001,F4917,$AY$6:$AY$1001,AY4917),0)","v":0},1900,1900,0,0,0,0,0,0,0,0,0,"","",0,0,0,"FORMATO INCORRECTO","FORMATO INCORRECTO","FORMATO INCORRECTO",{"$f":"IF(L4917=\"\",\"\",IF(ISERROR(edata(L4917)),\"FORMATO INCORRECTO\",\"FORMATO CORRECTO\"))","v":""},{"$f":"IF(U4917=\"\",\"\",IF(ISERROR(edata(U4917)),\"FORMATO INCORRECTO\",\"FORMATO CORRECTO\"))","v":""},{"$f":"IF(N4917=\"\",\"\",IF(ISERROR(edata(N4917)),\"FORMATO INCORRECTO\",\"FORMATO CORRECTO\"))","v":""}]
["1924-05-29","",null,null,null,null,null,null,"",null,null,null,null,null,null,null,null,"",null,null,null,null,null,null,null,null,"",null,"",null,null,"",null,null,null,null,null,0,0,0,0,0,{"$f":"IF(AO4918<>0,SUMIFS($AP$6:$AP$1001,$AN$6:$AN$1001,AN4918,$F$6:$F$1001,F4918,$AX$6:$AX$1001,AX4918),0)","v":0},0,{"$f":"IF(AO4918<>0,SUMIFS($AP$6:$AP$1001,$AR$6:$AR$1001,AR4918,$F$6:$F$1001,F4918,$AX$6:$AX$1001,AX4918),0)","v":0},0,0,0,{"$f":"IF(AU4918<>0,SUMIFS($AV$6:$AV$1001,$AT$6:$AT$1001,AT4918,$F$6:$F$1001,F4918,$AY$6:$AY$1001,AY4918),0)","v":0},1900,1900,0,0,0,0,0,0,0,0,0,"","",0,0,0,"FORMATO INCORRECTO","FORMATO INCORRECTO","FORMATO INCORRECTO",{"$f":"IF(L4918=\"\",\"\",IF(ISERROR(edata(L4918)),\"FORMATO INCORRECTO\",\"FORMATO CORRECTO\"))","v":""},{"$f":"IF(U4918=\"\",\"\",IF(ISERROR(edata(U4918)),\"FORMATO INCORRECTO\",\"FORMATO CORRECTO\"))","v":""},{"$f":"IF(N4918=\"\",\"\",IF(ISERROR(edata(N4918)),\"FORMATO INCORRECTO\",\"FORMATO CORRECTO\"))","v":""}]
["1924-05-30","",null,null,null,null,null,null,"",null,null,null,null,null,null,null,null,"",null,null,null,null,null,null,null,null,"",null,"",null,null,"",null,null,null,null,null,0,0,0,0,0,{"$f":"IF(AO4919<>0,SUMIFS($AP$6:$AP$1001,$AN$6:$AN$1001,AN4919,$F$6:$F$1001,F4919,$AX$6:$AX$1001,AX4919),0)","v":0},0,{"$f":"IF(AO4919<>0,SUMIFS($AP$6:$AP$1001,$AR$6:$AR$1001,AR4919,$F$6:$F$1001,F4919,$AX$6:$AX$1001,AX4919),0)","v":0},0,0,0,{"$f":"IF(AU4919<>0,SUMIFS($AV$6:$AV$1001,$AT$6:$AT$1001,AT4919,$F$6:$F$1001,F4919,$AY$6:$AY$1001,AY4919),0)","v":0},1900,1900,0,0,0,0,0,0,0,0,0,"","",0,0,0,"FORMATO INCORRECTO","FORMATO INCORRECTO","FORMATO INCORRECTO",{"$f":"IF(L4919=\"\",\"\",IF(ISERROR(edata(L4919)),\"FORMATO INCORRECTO\",\"FORMATO CORRECTO\"))","v":""},{"$f":"IF(U4919=\"\",\"\",IF(ISERROR(edata(U4919)),\"FORMATO INCORRECTO\",\"FORMATO CORRECTO\"))","v":""},{"$f":"IF(N4919=\"\",\"\",IF(ISERROR(edata(N4919)),\"FORMATO INCORRECTO\",\"FORMATO CORRECTO\"))","v":""}]
["1924-05-31","",null,null,null,null,null,null,"",null,null,null,null,null,null,null,null,"",null,null,null,null,null,null,null,null,"",null,"",null,null,"",null,null,null,null,null,0,0,0,0,0,{"$f":"IF(AO4920<>0,SUMIFS($AP$6:$AP$1001,$AN$6:$AN$1001,AN4920,$F$6:$F$1001,F4920,$AX$6:$AX$1001,AX4920),0)","v":0},0,{"$f":"IF(AO4920<>0,SUMIFS($AP$6:$AP$1001,$AR$6:$AR$1001,AR4920,$F$6:$F$1001,F4920,$AX$6:$AX$1001,AX4920),0)","v":0},0,0,0,{"$f":"IF(AU4920<>0,SUMIFS($AV$6:$AV$1001,$AT$6:$AT$1001,AT4920,$F$6:$F$1001,F4920,$AY$6:$AY$1001,AY4920),0)","v":0},1900,1900,0,0,0,0,0,0,0,0,0,"","",0,0,0,"FORMATO INCORRECTO","FORMATO INCORRECTO","FORMATO INCORRECTO",{"$f":"IF(L4920=\"\",\"\",IF(ISERROR(edata(L4920)),\"FORMATO INCORRECTO\",\"FORMATO CORRECTO\"))","v":""},{"$f":"IF(U4920=\"\",\"\",IF(ISERROR(edata(U4920)),\"FORMATO INCORRECTO\",\"FORMATO CORRECTO\"))","v":""},{"$f":"IF(N4920=\"\",\"\",IF(ISERROR(edata(N4920)),\"FORMATO INCORRECTO\",\"FORMATO CORRECTO\"))","v":""}]
["1924-06-01","",null,null,null,null,null,null,"",null,null,null,null,null,null,null,null,"",null,null,null,null,null,null,null,null,"",null,"",null,null,"",null,null,null,null,null,0,0,0,0,0,{"$f":"IF(AO4921<>0,SUMIFS($AP$6:$AP$1001,$AN$6:$AN$1001,AN4921,$F$6:$F$1001,F4921,$AX$6:$AX$1001,AX4921),0)","v":0},0,{"$f":"IF(AO4921<>0,SUMIFS($AP$6:$AP$1001,$AR$6:$AR$1001,AR4921,$F$6:$F$1001,F4921,$AX$6:$AX$1001,AX4921),0)","v":0},0,0,0,{"$f":"IF(AU4921<>0,SUMIFS($AV$6:$AV$1001,$AT$6:$AT$1001,AT4921,$F$6:$F$1001,F4921,$AY$6:$AY$1001,AY4921),0)","v":0},1900,1900,0,0,0,0,0,0,0,0,0,"","",0,0,0,"FORMATO INCORRECTO","FORMATO INCORRECTO","FORMATO INCORRECTO",{"$f":"IF(L4921=\"\",\"\",IF(ISERROR(edata(L4921)),\"FORMATO INCORRECTO\",\"FORMATO CORRECTO\"))","v":""},{"$f":"IF(U4921=\"\",\"\",IF(ISERROR(edata(U4921)),\"FORMATO INCORRECTO\",\"FORMATO CORRECTO\"))","v":""},{"$f":"IF(N4921=\"\",\"\",IF(ISERROR(edata(N4921)),\"FORMATO INCORRECTO\",\"FORMATO CORRECTO\"))","v":""}]
["1924-06-02","",null,null,null,null,null,null,"",null,null,null,null,null,null,null,null,"",null,null,null,null,null,null,null,null,"",null,"",null,null,"",null,null,null,null,null,0,0,0,0,0,{"$f":"IF(AO4922<>0,SUMIFS($AP$6:$AP$1001,$AN$6:$AN$1001,AN4922,$F$6:$F$1001,F4922,$AX$6:$AX$1001,AX4922),0)","v":0},0,{"$f":"IF(AO4922<>0,SUMIFS($AP$6:$AP$1001,$AR$6:$AR$1001,AR4922,$F$6:$F$1001,F4922,$AX$6:$AX$1001,AX4922),0)","v":0},0,0,0,{"$f":"IF(AU4922<>0,SUMIFS($AV$6:$AV$1001,$AT$6:$AT$1001,AT4922,$F$6:$F$1001,F4922,$AY$6:$AY$1001,AY4922),0)","v":0},1900,1900,0,0,0,0,0,0,0,0,0,"","",0,0,0,"FORMATO INCORRECTO","FORMATO INCORRECTO","FORMATO INCORRECTO",{"$f":"IF(L4922=\"\",\"\",IF(ISERROR(edata(L4922)),\"FORMATO INCORRECTO\",\"FORMATO CORRECTO\"))","v":""},{"$f":"IF(U4922=\"\",\"\",IF(ISERROR(edata(U4922)),\"FORMATO INCORRECTO\",\"FORMATO CORRECTO\"))","v":""},{"$f":"IF(N4922=\"\",\"\",IF(ISERROR(edata(N4922)),\"FORMATO INCORRECTO\",\"FORMATO CORRECTO\"))","v":""}]
["1924-06-03","",null,null,null,null,null,null,"",null,null,null,null,null,null,null,null,"",null,null,null,null,null,null,null,null,"",null,"",null,null,"",null,null,null,null,null,0,0,0,0,0,{"$f":"IF(AO4923<>0,SUMIFS($AP$6:$AP$1001,$AN$6:$AN$1001,AN4923,$F$6:$F$1001,F4923,$AX$6:$AX$1001,AX4923),0)","v":0},0,{"$f":"IF(AO4923<>0,SUMIFS($AP$6:$AP$1001,$AR$6:$AR$1001,AR4923,$F$6:$F$1001,F4923,$AX$6:$AX$1001,AX4923),0)","v":0},0,0,0,{"$f":"IF(AU4923<>0,SUMIFS($AV$6:$AV$1001,$AT$6:$AT$1001,AT4923,$F$6:$F$1001,F4923,$AY$6:$AY$1001,AY4923),0)","v":0},1900,1900,0,0,0,0,0,0,0,0,0,"","",0,0,0,"FORMATO INCORRECTO","FORMATO INCORRECTO","FORMATO INCORRECTO",{"$f":"IF(L4923=\"\",\"\",IF(ISERROR(edata(L4923)),\"FORMATO INCORRECTO\",\"FORMATO CORRECTO\"))","v":""},{"$f":"IF(U4923=\"\",\"\",IF(ISERROR(edata(U4923)),\"FORMATO INCORRECTO\",\"FORMATO CORRECTO\"))","v":""},{"$f":"IF(N4923=\"\",\"\",IF(ISERROR(edata(N4923)),\"FORMATO INCORRECTO\",\"FORMATO CORRECTO\"))","v":""}]
["1924-06-04","",null,null,null,null,null,null,"",null,null,null,null,null,null,null,null,"",null,null,null,null,null,null,null,null,"",null,"",null,null,"",null,null,null,null,null,0,0,0,0,0,{"$f":"IF(AO4924<>0,SUMIFS($AP$6:$AP$1001,$AN$6:$AN$1001,AN4924,$F$6:$F$1001,F4924,$AX$6:$AX$1001,AX4924),0)","v":0},0,{"$f":"IF(AO4924<>0,SUMIFS($AP$6:$AP$1001,$AR$6:$AR$1001,AR4924,$F$6:$F$1001,F4924,$AX$6:$AX$1001,AX4924),0)","v":0},0,0,0,{"$f":"IF(AU4924<>0,SUMIFS($AV$6:$AV$1001,$AT$6:$AT$1001,AT4924,$F$6:$F$1001,F4924,$AY$6:$AY$1001,AY4924),0)","v":0},1900,1900,0,0,0,0,0,0,0,0,0,"","",0,0,0,"FORMATO INCORRECTO","FORMATO INCORRECTO","FORMATO INCORRECTO",{"$f":"IF(L4924=\"\",\"\",IF(ISERROR(edata(L4924)),\"FORMATO INCORRECTO\",\"FORMATO CORRECTO\"))","v":""},{"$f":"IF(U4924=\"\",\"\",IF(ISERROR(edata(U4924)),\"FORMATO INCORRECTO\",\"FORMATO CORRECTO\"))","v":""},{"$f":"IF(N4924=\"\",\"\",IF(ISERROR(edata(N4924)),\"FORMATO INCORRECTO\",\"FORMATO CORRECTO\"))","v":""}]
["1924-06-05","",null,null,null,null,null,null,"",null,null,null,null,null,null,null,null,"",null,null,null,null,null,null,null,null,"",null,"",null,null,"",null,null,null,null,null,0,0,0,0,0,{"$f":"IF(AO4925<>0,SUMIFS($AP$6:$AP$1001,$AN$6:$AN$1001,AN4925,$F$6:$F$1001,F4925,$AX$6:$AX$1001,AX4925),0)","v":0},0,{"$f":"IF(AO4925<>0,SUMIFS($AP$6:$AP$1001,$AR$6:$AR$1001,AR4925,$F$6:$F$1001,F4925,$AX$6:$AX$1001,AX4925),0)","v":0},0,0,0,{"$f":"IF(AU4925<>0,SUMIFS($AV$6:$AV$1001,$AT$6:$AT$1001,AT4925,$F$6:$F$1001,F4925,$AY$6:$AY$1001,AY4925),0)","v":0},1900,1900,0,0,0,0,0,0,0,0,0,"","",0,0,0,"FORMATO INCORRECTO","FORMATO INCORRECTO","FORMATO INCORRECTO",{"$f":"IF(L4925=\"\",\"\",IF(ISERROR(edata(L4925)),\"FORMATO INCORRECTO\",\"FORMATO CORRECTO\"))","v":""},{"$f":"IF(U4925=\"\",\"\",IF(ISERROR(edata(U4925)),\"FORMATO INCORRECTO\",\"FORMATO CORRECTO\"))","v":""},{"$f":"IF(N4925=\"\",\"\",IF(ISERROR(edata(N4925)),\"FORMATO INCORRECTO\",\"FORMATO CORRECTO\"))","v":""}]
["1924-06-06","",null,null,null,null,null,null,"",null,null,null,null,null,null,null,null,"",null,null,null,null,null,null,null,null,"",null,"",null,null,"",null,null,null,null,null,0,0,0,0,0,{"$f":"IF(AO4926<>0,SUMIFS($AP$6:$AP$1001,$AN$6:$AN$1001,AN4926,$F$6:$F$1001,F4926,$AX$6:$AX$1001,AX4926),0)","v":0},0,{"$f":"IF(AO4926<>0,SUMIFS($AP$6:$AP$1001,$AR$6:$AR$1001,AR4926,$F$6:$F$1001,F4926,$AX$6:$AX$1001,AX4926),0)","v":0},0,0,0,{"$f":"IF(AU4926<>0,SUMIFS($AV$6:$AV$1001,$AT$6:$AT$1001,AT4926,$F$6:$F$1001,F4926,$AY$6:$AY$1001,AY4926),0)","v":0},1900,1900,0,0,0,0,0,0,0,0,0,"","",0,0,0,"FORMATO INCORRECTO","FORMATO INCORRECTO","FORMATO INCORRECTO",{"$f":"IF(L4926=\"\",\"\",IF(ISERROR(edata(L4926)),\"FORMATO INCORRECTO\",\"FORMATO CORRECTO\"))","v":""},{"$f":"IF(U4926=\"\",\"\",IF(ISERROR(edata(U4926)),\"FORMATO INCORRECTO\",\"FORMATO CORRECTO\"))","v":""},{"$f":"IF(N4926=\"\",\"\",IF(ISERROR(edata(N4926)),\"FORMATO INCORRECTO\",\"FORMATO CORRECTO\"))","v":""}]
["1924-06-07","",null,null,null,null,null,null,"",null,null,null,null,null,null,null,null,"",null,null,null,null,null,null,null,null,"",null,"",null,null,"",null,null,null,null,null,0,0,0,0,0,{"$f":"IF(AO4927<>0,SUMIFS($AP$6:$AP$1001,$AN$6:$AN$1001,AN4927,$F$6:$F$1001,F4927,$AX$6:$AX$1001,AX4927),0)","v":0},0,{"$f":"IF(AO4927<>0,SUMIFS($AP$6:$AP$1001,$AR$6:$AR$1001,AR4927,$F$6:$F$1001,F4927,$AX$6:$AX$1001,AX4927),0)","v":0},0,0,0,{"$f":"IF(AU4927<>0,SUMIFS($AV$6:$AV$1001,$AT$6:$AT$1001,AT4927,$F$6:$F$1001,F4927,$AY$6:$AY$1001,AY4927),0)","v":0},1900,1900,0,0,0,0,0,0,0,0,0,"","",0,0,0,"FORMATO INCORRECTO","FORMATO INCORRECTO","FORMATO INCORRECTO",{"$f":"IF(L4927=\"\",\"\",IF(ISERROR(edata(L4927)),\"FORMATO INCORRECTO\",\"FORMATO CORRECTO\"))","v":""},{"$f":"IF(U4927=\"\",\"\",IF(ISERROR(edata(U4927)),\"FORMATO INCORRECTO\",\"FORMATO CORRECTO\"))","v":""},{"$f":"IF(N4927=\"\",\"\",IF(ISERROR(edata(N4927)),\"FORMATO INCORRECTO\",\"FORMATO CORRECTO\"))","v":""}]
["1924-06-08","",null,null,null,null,null,null,"",null,null,null,null,null,null,null,null,"",null,null,null,null,null,null,null,null,"",null,"",null,null,"",null,null,null,null,null,0,0,0,0,0,{"$f":"IF(AO4928<>0,SUMIFS($AP$6:$AP$1001,$AN$6:$AN$1001,AN4928,$F$6:$F$1001,F4928,$AX$6:$AX$1001,AX4928),0)","v":0},0,{"$f":"IF(AO4928<>0,SUMIFS($AP$6:$AP$1001,$AR$6:$AR$1001,AR4928,$F$6:$F$1001,F4928,$AX$6:$AX$1001,AX4928),0)","v":0},0,0,0,{"$f":"IF(AU4928<>0,SUMIFS($AV$6:$AV$1001,$AT$6:$AT$1001,AT4928,$F$6:$F$1001,F4928,$AY$6:$AY$1001,AY4928),0)","v":0},1900,1900,0,0,0,0,0,0,0,0,0,"","",0,0,0,"FORMATO INCORRECTO","FORMATO INCORRECTO","FORMATO INCORRECTO",{"$f":"IF(L4928=\"\",\"\",IF(ISERROR(edata(L4928)),\"FORMATO INCORRECTO\",\"FORMATO CORRECTO\"))","v":""},{"$f":"IF(U4928=\"\",\"\",IF(ISERROR(edata(U4928)),\"FORMATO INCORRECTO\",\"FORMATO CORRECTO\"))","v":""},{"$f":"IF(N4928=\"\",\"\",IF(ISERROR(edata(N4928)),\"FORMATO INCORRECTO\",\"FORMATO CORRECTO\"))","v":""}]
["1924-06-09","",null,null,null,null,null,null,"",null,null,null,null,null,null,null,null,"",null,null,null,null,null,null,null,null,"",null,"",null,null,"",null,null,null,null,null,0,0,0,0,0,{"$f":"IF(AO4929<>0,SUMIFS($AP$6:$AP$1001,$AN$6:$AN$1001,AN4929,$F$6:$F$1001,F4929,$AX$6:$AX$1001,AX4929),0)","v":0},0,{"$f":"IF(AO4929<>0,SUMIFS($AP$6:$AP$1001,$AR$6:$AR$1001,AR4929,$F$6:$F$1001,F4929,$AX$6:$AX$1001,AX4929),0)","v":0},0,0,0,{"$f":"IF(AU4929<>0,SUMIFS($AV$6:$AV$1001,$AT$6:$AT$1001,AT4929,$F$6:$F$1001,F4929,$AY$6:$AY$1001,AY4929),0)","v":0},1900,1900,0,0,0,0,0,0,0,0,0,"","",0,0,0,"FORMATO INCORRECTO","FORMATO INCORRECTO","FORMATO INCORRECTO",{"$f":"IF(L4929=\"\",\"\",IF(ISERROR(edata(L4929)),\"FORMATO INCORRECTO\",\"FORMATO CORRECTO\"))","v":""},{"$f":"IF(U4929=\"\",\"\",IF(ISERROR(edata(U4929)),\"FORMATO INCORRECTO\",\"FORMATO CORRECTO\"))","v":""},{"$f":"IF(N4929=\"\",\"\",IF(ISERROR(edata(N4929)),\"FORMATO INCORRECTO\",\"FORMATO CORRECTO\"))","v":""}]
["1924-06-10","",null,null,null,null,null,null,"",null,null,null,null,null,null,null,null,"",null,null,null,null,null,null,null,null,"",null,"",null,null,"",null,null,null,null,null,0,0,0,0,0,{"$f":"IF(AO4930<>0,SUMIFS($AP$6:$AP$1001,$AN$6:$AN$1001,AN4930,$F$6:$F$1001,F4930,$AX$6:$AX$1001,AX4930),0)","v":0},0,{"$f":"IF(AO4930<>0,SUMIFS($AP$6:$AP$1001,$AR$6:$AR$1001,AR4930,$F$6:$F$1001,F4930,$AX$6:$AX$1001,AX4930),0)","v":0},0,0,0,{"$f":"IF(AU4930<>0,SUMIFS($AV$6:$AV$1001,$AT$6:$AT$1001,AT4930,$F$6:$F$1001,F4930,$AY$6:$AY$1001,AY4930),0)","v":0},1900,1900,0,0,0,0,0,0,0,0,0,"","",0,0,0,"FORMATO INCORRECTO","FORMATO INCORRECTO","FORMATO INCORRECTO",{"$f":"IF(L4930=\"\",\"\",IF(ISERROR(edata(L4930)),\"FORMATO INCORRECTO\",\"FORMATO CORRECTO\"))","v":""},{"$f":"IF(U4930=\"\",\"\",IF(ISERROR(edata(U4930)),\"FORMATO INCORRECTO\",\"FORMATO CORRECTO\"))","v":""},{"$f":"IF(N4930=\"\",\"\",IF(ISERROR(edata(N4930)),\"FORMATO INCORRECTO\",\"FORMATO CORRECTO\"))","v":""}]
["1924-06-11","",null,null,null,null,null,null,"",null,null,null,null,null,null,null,null,"",null,null,null,null,null,null,null,null,"",null,"",null,null,"",null,null,null,null,null,0,0,0,0,0,{"$f":"IF(AO4931<>0,SUMIFS($AP$6:$AP$1001,$AN$6:$AN$1001,AN4931,$F$6:$F$1001,F4931,$AX$6:$AX$1001,AX4931),0)","v":0},0,{"$f":"IF(AO4931<>0,SUMIFS($AP$6:$AP$1001,$AR$6:$AR$1001,AR4931,$F$6:$F$1001,F4931,$AX$6:$AX$1001,AX4931),0)","v":0},0,0,0,{"$f":"IF(AU4931<>0,SUMIFS($AV$6:$AV$1001,$AT$6:$AT$1001,AT4931,$F$6:$F$1001,F4931,$AY$6:$AY$1001,AY4931),0)","v":0},1900,1900,0,0,0,0,0,0,0,0,0,"","",0,0,0,"FORMATO INCORRECTO","FORMATO INCORRECTO","FORMATO INCORRECTO",{"$f":"IF(L4931=\"\",\"\",IF(ISERROR(edata(L4931)),\"FORMATO INCORRECTO\",\"FORMATO CORRECTO\"))","v":""},{"$f":"IF(U4931=\"\",\"\",IF(ISERROR(edata(U4931)),\"FORMATO INCORRECTO\",\"FORMATO CORRECTO\"))","v":""},{"$f":"IF(N4931=\"\",\"\",IF(ISERROR(edata(N4931)),\"FORMATO INCORRECTO\",\"FORMATO CORRECTO\"))","v":""}]
["1924-06-12","",null,null,null,null,null,null,"",null,null,null,null,null,null,null,null,"",null,null,null,null,null,null,null,null,"",null,"",null,null,"",null,null,null,null,null,0,0,0,0,0,{"$f":"IF(AO4932<>0,SUMIFS($AP$6:$AP$1001,$AN$6:$AN$1001,AN4932,$F$6:$F$1001,F4932,$AX$6:$AX$1001,AX4932),0)","v":0},0,{"$f":"IF(AO4932<>0,SUMIFS($AP$6:$AP$1001,$AR$6:$AR$1001,AR4932,$F$6:$F$1001,F4932,$AX$6:$AX$1001,AX4932),0)","v":0},0,0,0,{"$f":"IF(AU4932<>0,SUMIFS($AV$6:$AV$1001,$AT$6:$AT$1001,AT4932,$F$6:$F$1001,F4932,$AY$6:$AY$1001,AY4932),0)","v":0},1900,1900,0,0,0,0,0,0,0,0,0,"","",0,0,0,"FORMATO INCORRECTO","FORMATO INCORRECTO","FORMATO INCORRECTO",{"$f":"IF(L4932=\"\",\"\",IF(ISERROR(edata(L4932)),\"FORMATO INCORRECTO\",\"FORMATO CORRECTO\"))","v":""},{"$f":"IF(U4932=\"\",\"\",IF(ISERROR(edata(U4932)),\"FORMATO INCORRECTO\",\"FORMATO CORRECTO\"))","v":""},{"$f":"IF(N4932=\"\",\"\",IF(ISERROR(edata(N4932)),\"FORMATO INCORRECTO\",\"FORMATO CORRECTO\"))","v":""}]
["1924-06-13","",null,null,null,null,null,null,"",null,null,null,null,null,null,null,null,"",null,null,null,null,null,null,null,null,"",null,"",null,null,"",null,null,null,null,null,0,0,0,0,0,{"$f":"IF(AO4933<>0,SUMIFS($AP$6:$AP$1001,$AN$6:$AN$1001,AN4933,$F$6:$F$1001,F4933,$AX$6:$AX$1001,AX4933),0)","v":0},0,{"$f":"IF(AO4933<>0,SUMIFS($AP$6:$AP$1001,$AR$6:$AR$1001,AR4933,$F$6:$F$1001,F4933,$AX$6:$AX$1001,AX4933),0)","v":0},0,0,0,{"$f":"IF(AU4933<>0,SUMIFS($AV$6:$AV$1001,$AT$6:$AT$1001,AT4933,$F$6:$F$1001,F4933,$AY$6:$AY$1001,AY4933),0)","v":0},1900,1900,0,0,0,0,0,0,0,0,0,"","",0,0,0,"FORMATO INCORRECTO","FORMATO INCORRECTO","FORMATO INCORRECTO",{"$f":"IF(L4933=\"\",\"\",IF(ISERROR(edata(L4933)),\"FORMATO INCORRECTO\",\"FORMATO CORRECTO\"))","v":""},{"$f":"IF(U4933=\"\",\"\",IF(ISERROR(edata(U4933)),\"FORMATO INCORRECTO\",\"FORMATO CORRECTO\"))","v":""},{"$f":"IF(N4933=\"\",\"\",IF(ISERROR(edata(N4933)),\"FORMATO INCORRECTO\",\"FORMATO CORRECTO\"))","v":""}]
["1924-06-14","",null,null,null,null,null,null,"",null,null,null,null,null,null,null,null,"",null,null,null,null,null,null,null,null,"",null,"",null,null,"",null,null,null,null,null,0,0,0,0,0,{"$f":"IF(AO4934<>0,SUMIFS($AP$6:$AP$1001,$AN$6:$AN$1001,AN4934,$F$6:$F$1001,F4934,$AX$6:$AX$1001,AX4934),0)","v":0},0,{"$f":"IF(AO4934<>0,SUMIFS($AP$6:$AP$1001,$AR$6:$AR$1001,AR4934,$F$6:$F$1001,F4934,$AX$6:$AX$1001,AX4934),0)","v":0},0,0,0,{"$f":"IF(AU4934<>0,SUMIFS($AV$6:$AV$1001,$AT$6:$AT$1001,AT4934,$F$6:$F$1001,F4934,$AY$6:$AY$1001,AY4934),0)","v":0},1900,1900,0,0,0,0,0,0,0,0,0,"","",0,0,0,"FORMATO INCORRECTO","FORMATO INCORRECTO","FORMATO INCORRECTO",{"$f":"IF(L4934=\"\",\"\",IF(ISERROR(edata(L4934)),\"FORMATO INCORRECTO\",\"FORMATO CORRECTO\"))","v":""},{"$f":"IF(U4934=\"\",\"\",IF(ISERROR(edata(U4934)),\"FORMATO INCORRECTO\",\"FORMATO CORRECTO\"))","v":""},{"$f":"IF(N4934=\"\",\"\",IF(ISERROR(edata(N4934)),\"FORMATO INCORRECTO\",\"FORMATO CORRECTO\"))","v":""}]
["1924-06-15","",null,null,null,null,null,null,"",null,null,null,null,null,null,null,null,"",null,null,null,null,null,null,null,null,"",null,"",null,null,"",null,null,null,null,null,0,0,0,0,0,{"$f":"IF(AO4935<>0,SUMIFS($AP$6:$AP$1001,$AN$6:$AN$1001,AN4935,$F$6:$F$1001,F4935,$AX$6:$AX$1001,AX4935),0)","v":0},0,{"$f":"IF(AO4935<>0,SUMIFS($AP$6:$AP$1001,$AR$6:$AR$1001,AR4935,$F$6:$F$1001,F4935,$AX$6:$AX$1001,AX4935),0)","v":0},0,0,0,{"$f":"IF(AU4935<>0,SUMIFS($AV$6:$AV$1001,$AT$6:$AT$1001,AT4935,$F$6:$F$1001,F4935,$AY$6:$AY$1001,AY4935),0)","v":0},1900,1900,0,0,0,0,0,0,0,0,0,"","",0,0,0,"FORMATO INCORRECTO","FORMATO INCORRECTO","FORMATO INCORRECTO",{"$f":"IF(L4935=\"\",\"\",IF(ISERROR(edata(L4935)),\"FORMATO INCORRECTO\",\"FORMATO CORRECTO\"))","v":""},{"$f":"IF(U4935=\"\",\"\",IF(ISERROR(edata(U4935)),\"FORMATO INCORRECTO\",\"FORMATO CORRECTO\"))","v":""},{"$f":"IF(N4935=\"\",\"\",IF(ISERROR(edata(N4935)),\"FORMATO INCORRECTO\",\"FORMATO CORRECTO\"))","v":""}]
["1924-06-16","",null,null,null,null,null,null,"",null,null,null,null,null,null,null,null,"",null,null,null,null,null,null,null,null,"",null,"",null,null,"",null,null,null,null,null,0,0,0,0,0,{"$f":"IF(AO4936<>0,SUMIFS($AP$6:$AP$1001,$AN$6:$AN$1001,AN4936,$F$6:$F$1001,F4936,$AX$6:$AX$1001,AX4936),0)","v":0},0,{"$f":"IF(AO4936<>0,SUMIFS($AP$6:$AP$1001,$AR$6:$AR$1001,AR4936,$F$6:$F$1001,F4936,$AX$6:$AX$1001,AX4936),0)","v":0},0,0,0,{"$f":"IF(AU4936<>0,SUMIFS($AV$6:$AV$1001,$AT$6:$AT$1001,AT4936,$F$6:$F$1001,F4936,$AY$6:$AY$1001,AY4936),0)","v":0},1900,1900,0,0,0,0,0,0,0,0,0,"","",0,0,0,"FORMATO INCORRECTO","FORMATO INCORRECTO","FORMATO INCORRECTO",{"$f":"IF(L4936=\"\",\"\",IF(ISERROR(edata(L4936)),\"FORMATO INCORRECTO\",\"FORMATO CORRECTO\"))","v":""},{"$f":"IF(U4936=\"\",\"\",IF(ISERROR(edata(U4936)),\"FORMATO INCORRECTO\",\"FORMATO CORRECTO\"))","v":""},{"$f":"IF(N4936=\"\",\"\",IF(ISERROR(edata(N4936)),\"FORMATO INCORRECTO\",\"FORMATO CORRECTO\"))","v":""}]
["1924-06-17","",null,null,null,null,null,null,"",null,null,null,null,null,null,null,null,"",null,null,null,null,null,null,null,null,"",null,"",null,null,"",null,null,null,null,null,0,0,0,0,0,{"$f":"IF(AO4937<>0,SUMIFS($AP$6:$AP$1001,$AN$6:$AN$1001,AN4937,$F$6:$F$1001,F4937,$AX$6:$AX$1001,AX4937),0)","v":0},0,{"$f":"IF(AO4937<>0,SUMIFS($AP$6:$AP$1001,$AR$6:$AR$1001,AR4937,$F$6:$F$1001,F4937,$AX$6:$AX$1001,AX4937),0)","v":0},0,0,0,{"$f":"IF(AU4937<>0,SUMIFS($AV$6:$AV$1001,$AT$6:$AT$1001,AT4937,$F$6:$F$1001,F4937,$AY$6:$AY$1001,AY4937),0)","v":0},1900,1900,0,0,0,0,0,0,0,0,0,"","",0,0,0,"FORMATO INCORRECTO","FORMATO INCORRECTO","FORMATO INCORRECTO",{"$f":"IF(L4937=\"\",\"\",IF(ISERROR(edata(L4937)),\"FORMATO INCORRECTO\",\"FORMATO CORRECTO\"))","v":""},{"$f":"IF(U4937=\"\",\"\",IF(ISERROR(edata(U4937)),\"FORMATO INCORRECTO\",\"FORMATO CORRECTO\"))","v":""},{"$f":"IF(N4937=\"\",\"\",IF(ISERROR(edata(N4937)),\"FORMATO INCORRECTO\",\"FORMATO CORRECTO\"))","v":""}]
["1924-06-18","",null,null,null,null,null,null,"",null,null,null,null,null,null,null,null,"",null,null,null,null,null,null,null,null,"",null,"",null,null,"",null,null,null,null,null,0,0,0,0,0,{"$f":"IF(AO4938<>0,SUMIFS($AP$6:$AP$1001,$AN$6:$AN$1001,AN4938,$F$6:$F$1001,F4938,$AX$6:$AX$1001,AX4938),0)","v":0},0,{"$f":"IF(AO4938<>0,SUMIFS($AP$6:$AP$1001,$AR$6:$AR$1001,AR4938,$F$6:$F$1001,F4938,$AX$6:$AX$1001,AX4938),0)","v":0},0,0,0,{"$f":"IF(AU4938<>0,SUMIFS($AV$6:$AV$1001,$AT$6:$AT$1001,AT4938,$F$6:$F$1001,F4938,$AY$6:$AY$1001,AY4938),0)","v":0},1900,1900,0,0,0,0,0,0,0,0,0,"","",0,0,0,"FORMATO INCORRECTO","FORMATO INCORRECTO","FORMATO INCORRECTO",{"$f":"IF(L4938=\"\",\"\",IF(ISERROR(edata(L4938)),\"FORMATO INCORRECTO\",\"FORMATO CORRECTO\"))","v":""},{"$f":"IF(U4938=\"\",\"\",IF(ISERROR(edata(U4938)),\"FORMATO INCORRECTO\",\"FORMATO CORRECTO\"))","v":""},{"$f":"IF(N4938=\"\",\"\",IF(ISERROR(edata(N4938)),\"FORMATO INCORRECTO\",\"FORMATO CORRECTO\"))","v":""}]
["1924-06-19","",null,null,null,null,null,null,"",null,null,null,null,null,null,null,null,"",null,null,null,null,null,null,null,null,"",null,"",null,null,"",null,null,null,null,null,0,0,0,0,0,{"$f":"IF(AO4939<>0,SUMIFS($AP$6:$AP$1001,$AN$6:$AN$1001,AN4939,$F$6:$F$1001,F4939,$AX$6:$AX$1001,AX4939),0)","v":0},0,{"$f":"IF(AO4939<>0,SUMIFS($AP$6:$AP$1001,$AR$6:$AR$1001,AR4939,$F$6:$F$1001,F4939,$AX$6:$AX$1001,AX4939),0)","v":0},0,0,0,{"$f":"IF(AU4939<>0,SUMIFS($AV$6:$AV$1001,$AT$6:$AT$1001,AT4939,$F$6:$F$1001,F4939,$AY$6:$AY$1001,AY4939),0)","v":0},1900,1900,0,0,0,0,0,0,0,0,0,"","",0,0,0,"FORMATO INCORRECTO","FORMATO INCORRECTO","FORMATO INCORRECTO",{"$f":"IF(L4939=\"\",\"\",IF(ISERROR(edata(L4939)),\"FORMATO INCORRECTO\",\"FORMATO CORRECTO\"))","v":""},{"$f":"IF(U4939=\"\",\"\",IF(ISERROR(edata(U4939)),\"FORMATO INCORRECTO\",\"FORMATO CORRECTO\"))","v":""},{"$f":"IF(N4939=\"\",\"\",IF(ISERROR(edata(N4939)),\"FORMATO INCORRECTO\",\"FORMATO CORRECTO\"))","v":""}]
["1924-06-20","",null,null,null,null,null,null,"",null,null,null,null,null,null,null,null,"",null,null,null,null,null,null,null,null,"",null,"",null,null,"",null,null,null,null,null,0,0,0,0,0,{"$f":"IF(AO4940<>0,SUMIFS($AP$6:$AP$1001,$AN$6:$AN$1001,AN4940,$F$6:$F$1001,F4940,$AX$6:$AX$1001,AX4940),0)","v":0},0,{"$f":"IF(AO4940<>0,SUMIFS($AP$6:$AP$1001,$AR$6:$AR$1001,AR4940,$F$6:$F$1001,F4940,$AX$6:$AX$1001,AX4940),0)","v":0},0,0,0,{"$f":"IF(AU4940<>0,SUMIFS($AV$6:$AV$1001,$AT$6:$AT$1001,AT4940,$F$6:$F$1001,F4940,$AY$6:$AY$1001,AY4940),0)","v":0},1900,1900,0,0,0,0,0,0,0,0,0,"","",0,0,0,"FORMATO INCORRECTO","FORMATO INCORRECTO","FORMATO INCORRECTO",{"$f":"IF(L4940=\"\",\"\",IF(ISERROR(edata(L4940)),\"FORMATO INCORRECTO\",\"FORMATO CORRECTO\"))","v":""},{"$f":"IF(U4940=\"\",\"\",IF(ISERROR(edata(U4940)),\"FORMATO INCORRECTO\",\"FORMATO CORRECTO\"))","v":""},{"$f":"IF(N4940=\"\",\"\",IF(ISERROR(edata(N4940)),\"FORMATO INCORRECTO\",\"FORMATO CORRECTO\"))","v":""}]
["1924-06-21","",null,null,null,null,null,null,"",null,null,null,null,null,null,null,null,"",null,null,null,null,null,null,null,null,"",null,"",null,null,"",null,null,null,null,null,0,0,0,0,0,{"$f":"IF(AO4941<>0,SUMIFS($AP$6:$AP$1001,$AN$6:$AN$1001,AN4941,$F$6:$F$1001,F4941,$AX$6:$AX$1001,AX4941),0)","v":0},0,{"$f":"IF(AO4941<>0,SUMIFS($AP$6:$AP$1001,$AR$6:$AR$1001,AR4941,$F$6:$F$1001,F4941,$AX$6:$AX$1001,AX4941),0)","v":0},0,0,0,{"$f":"IF(AU4941<>0,SUMIFS($AV$6:$AV$1001,$AT$6:$AT$1001,AT4941,$F$6:$F$1001,F4941,$AY$6:$AY$1001,AY4941),0)","v":0},1900,1900,0,0,0,0,0,0,0,0,0,"","",0,0,0,"FORMATO INCORRECTO","FORMATO INCORRECTO","FORMATO INCORRECTO",{"$f":"IF(L4941=\"\",\"\",IF(ISERROR(edata(L4941)),\"FORMATO INCORRECTO\",\"FORMATO CORRECTO\"))","v":""},{"$f":"IF(U4941=\"\",\"\",IF(ISERROR(edata(U4941)),\"FORMATO INCORRECTO\",\"FORMATO CORRECTO\"))","v":""},{"$f":"IF(N4941=\"\",\"\",IF(ISERROR(edata(N4941)),\"FORMATO INCORRECTO\",\"FORMATO CORRECTO\"))","v":""}]
["1924-06-22","",null,null,null,null,null,null,"",null,null,null,null,null,null,null,null,"",null,null,null,null,null,null,null,null,"",null,"",null,null,"",null,null,null,null,null,0,0,0,0,0,{"$f":"IF(AO4942<>0,SUMIFS($AP$6:$AP$1001,$AN$6:$AN$1001,AN4942,$F$6:$F$1001,F4942,$AX$6:$AX$1001,AX4942),0)","v":0},0,{"$f":"IF(AO4942<>0,SUMIFS($AP$6:$AP$1001,$AR$6:$AR$1001,AR4942,$F$6:$F$1001,F4942,$AX$6:$AX$1001,AX4942),0)","v":0},0,0,0,{"$f":"IF(AU4942<>0,SUMIFS($AV$6:$AV$1001,$AT$6:$AT$1001,AT4942,$F$6:$F$1001,F4942,$AY$6:$AY$1001,AY4942),0)","v":0},1900,1900,0,0,0,0,0,0,0,0,0,"","",0,0,0,"FORMATO INCORRECTO","FORMATO INCORRECTO","FORMATO INCORRECTO",{"$f":"IF(L4942=\"\",\"\",IF(ISERROR(edata(L4942)),\"FORMATO INCORRECTO\",\"FORMATO CORRECTO\"))","v":""},{"$f":"IF(U4942=\"\",\"\",IF(ISERROR(edata(U4942)),\"FORMATO INCORRECTO\",\"FORMATO CORRECTO\"))","v":""},{"$f":"IF(N4942=\"\",\"\",IF(ISERROR(edata(N4942)),\"FORMATO INCORRECTO\",\"FORMATO CORRECTO\"))","v":""}]
["1924-06-23","",null,null,null,null,null,null,"",null,null,null,null,null,null,null,null,"",null,null,null,null,null,null,null,null,"",null,"",null,null,"",null,null,null,null,null,0,0,0,0,0,{"$f":"IF(AO4943<>0,SUMIFS($AP$6:$AP$1001,$AN$6:$AN$1001,AN4943,$F$6:$F$1001,F4943,$AX$6:$AX$1001,AX4943),0)","v":0},0,{"$f":"IF(AO4943<>0,SUMIFS($AP$6:$AP$1001,$AR$6:$AR$1001,AR4943,$F$6:$F$1001,F4943,$AX$6:$AX$1001,AX4943),0)","v":0},0,0,0,{"$f":"IF(AU4943<>0,SUMIFS($AV$6:$AV$1001,$AT$6:$AT$1001,AT4943,$F$6:$F$1001,F4943,$AY$6:$AY$1001,AY4943),0)","v":0},1900,1900,0,0,0,0,0,0,0,0,0,"","",0,0,0,"FORMATO INCORRECTO","FORMATO INCORRECTO","FORMATO INCORRECTO",{"$f":"IF(L4943=\"\",\"\",IF(ISERROR(edata(L4943)),\"FORMATO INCORRECTO\",\"FORMATO CORRECTO\"))","v":""},{"$f":"IF(U4943=\"\",\"\",IF(ISERROR(edata(U4943)),\"FORMATO INCORRECTO\",\"FORMATO CORRECTO\"))","v":""},{"$f":"IF(N4943=\"\",\"\",IF(ISERROR(edata(N4943)),\"FORMATO INCORRECTO\",\"FORMATO CORRECTO\"))","v":""}]
["1924-06-24","",null,null,null,null,null,null,"",null,null,null,null,null,null,null,null,"",null,null,null,null,null,null,null,null,"",null,"",null,null,"",null,null,null,null,null,0,0,0,0,0,{"$f":"IF(AO4944<>0,SUMIFS($AP$6:$AP$1001,$AN$6:$AN$1001,AN4944,$F$6:$F$1001,F4944,$AX$6:$AX$1001,AX4944),0)","v":0},0,{"$f":"IF(AO4944<>0,SUMIFS($AP$6:$AP$1001,$AR$6:$AR$1001,AR4944,$F$6:$F$1001,F4944,$AX$6:$AX$1001,AX4944),0)","v":0},0,0,0,{"$f":"IF(AU4944<>0,SUMIFS($AV$6:$AV$1001,$AT$6:$AT$1001,AT4944,$F$6:$F$1001,F4944,$AY$6:$AY$1001,AY4944),0)","v":0},1900,1900,0,0,0,0,0,0,0,0,0,"","",0,0,0,"FORMATO INCORRECTO","FORMATO INCORRECTO","FORMATO INCORRECTO",{"$f":"IF(L4944=\"\",\"\",IF(ISERROR(edata(L4944)),\"FORMATO INCORRECTO\",\"FORMATO CORRECTO\"))","v":""},{"$f":"IF(U4944=\"\",\"\",IF(ISERROR(edata(U4944)),\"FORMATO INCORRECTO\",\"FORMATO CORRECTO\"))","v":""},{"$f":"IF(N4944=\"\",\"\",IF(ISERROR(edata(N4944)),\"FORMATO INCORRECTO\",\"FORMATO CORRECTO\"))","v":""}]
["1924-06-25","",null,null,null,null,null,null,"",null,null,null,null,null,null,null,null,"",null,null,null,null,null,null,null,null,"",null,"",null,null,"",null,null,null,null,null,0,0,0,0,0,{"$f":"IF(AO4945<>0,SUMIFS($AP$6:$AP$1001,$AN$6:$AN$1001,AN4945,$F$6:$F$1001,F4945,$AX$6:$AX$1001,AX4945),0)","v":0},0,{"$f":"IF(AO4945<>0,SUMIFS($AP$6:$AP$1001,$AR$6:$AR$1001,AR4945,$F$6:$F$1001,F4945,$AX$6:$AX$1001,AX4945),0)","v":0},0,0,0,{"$f":"IF(AU4945<>0,SUMIFS($AV$6:$AV$1001,$AT$6:$AT$1001,AT4945,$F$6:$F$1001,F4945,$AY$6:$AY$1001,AY4945),0)","v":0},1900,1900,0,0,0,0,0,0,0,0,0,"","",0,0,0,"FORMATO INCORRECTO","FORMATO INCORRECTO","FORMATO INCORRECTO",{"$f":"IF(L4945=\"\",\"\",IF(ISERROR(edata(L4945)),\"FORMATO INCORRECTO\",\"FORMATO CORRECTO\"))","v":""},{"$f":"IF(U4945=\"\",\"\",IF(ISERROR(edata(U4945)),\"FORMATO INCORRECTO\",\"FORMATO CORRECTO\"))","v":""},{"$f":"IF(N4945=\"\",\"\",IF(ISERROR(edata(N4945)),\"FORMATO INCORRECTO\",\"FORMATO CORRECTO\"))","v":""}]
["1924-06-26","",null,null,null,null,null,null,"",null,null,null,null,null,null,null,null,"",null,null,null,null,null,null,null,null,"",null,"",null,null,"",null,null,null,null,null,0,0,0,0,0,{"$f":"IF(AO4946<>0,SUMIFS($AP$6:$AP$1001,$AN$6:$AN$1001,AN4946,$F$6:$F$1001,F4946,$AX$6:$AX$1001,AX4946),0)","v":0},0,{"$f":"IF(AO4946<>0,SUMIFS($AP$6:$AP$1001,$AR$6:$AR$1001,AR4946,$F$6:$F$1001,F4946,$AX$6:$AX$1001,AX4946),0)","v":0},0,0,0,{"$f":"IF(AU4946<>0,SUMIFS($AV$6:$AV$1001,$AT$6:$AT$1001,AT4946,$F$6:$F$1001,F4946,$AY$6:$AY$1001,AY4946),0)","v":0},1900,1900,0,0,0,0,0,0,0,0,0,"","",0,0,0,"FORMATO INCORRECTO","FORMATO INCORRECTO","FORMATO INCORRECTO",{"$f":"IF(L4946=\"\",\"\",IF(ISERROR(edata(L4946)),\"FORMATO INCORRECTO\",\"FORMATO CORRECTO\"))","v":""},{"$f":"IF(U4946=\"\",\"\",IF(ISERROR(edata(U4946)),\"FORMATO INCORRECTO\",\"FORMATO CORRECTO\"))","v":""},{"$f":"IF(N4946=\"\",\"\",IF(ISERROR(edata(N4946)),\"FORMATO INCORRECTO\",\"FORMATO CORRECTO\"))","v":""}]
["1924-06-27","",null,null,null,null,null,null,"",null,null,null,null,null,null,null,null,"",null,null,null,null,null,null,null,null,"",null,"",null,null,"",null,null,null,null,null,0,0,0,0,0,{"$f":"IF(AO4947<>0,SUMIFS($AP$6:$AP$1001,$AN$6:$AN$1001,AN4947,$F$6:$F$1001,F4947,$AX$6:$AX$1001,AX4947),0)","v":0},0,{"$f":"IF(AO4947<>0,SUMIFS($AP$6:$AP$1001,$AR$6:$AR$1001,AR4947,$F$6:$F$1001,F4947,$AX$6:$AX$1001,AX4947),0)","v":0},0,0,0,{"$f":"IF(AU4947<>0,SUMIFS($AV$6:$AV$1001,$AT$6:$AT$1001,AT4947,$F$6:$F$1001,F4947,$AY$6:$AY$1001,AY4947),0)","v":0},1900,1900,0,0,0,0,0,0,0,0,0,"","",0,0,0,"FORMATO INCORRECTO","FORMATO INCORRECTO","FORMATO INCORRECTO",{"$f":"IF(L4947=\"\",\"\",IF(ISERROR(edata(L4947)),\"FORMATO INCORRECTO\",\"FORMATO CORRECTO\"))","v":""},{"$f":"IF(U4947=\"\",\"\",IF(ISERROR(edata(U4947)),\"FORMATO INCORRECTO\",\"FORMATO CORRECTO\"))","v":""},{"$f":"IF(N4947=\"\",\"\",IF(ISERROR(edata(N4947)),\"FORMATO INCORRECTO\",\"FORMATO CORRECTO\"))","v":""}]
["1924-06-28","",null,null,null,null,null,null,"",null,null,null,null,null,null,null,null,"",null,null,null,null,null,null,null,null,"",null,"",null,null,"",null,null,null,null,null,0,0,0,0,0,{"$f":"IF(AO4948<>0,SUMIFS($AP$6:$AP$1001,$AN$6:$AN$1001,AN4948,$F$6:$F$1001,F4948,$AX$6:$AX$1001,AX4948),0)","v":0},0,{"$f":"IF(AO4948<>0,SUMIFS($AP$6:$AP$1001,$AR$6:$AR$1001,AR4948,$F$6:$F$1001,F4948,$AX$6:$AX$1001,AX4948),0)","v":0},0,0,0,{"$f":"IF(AU4948<>0,SUMIFS($AV$6:$AV$1001,$AT$6:$AT$1001,AT4948,$F$6:$F$1001,F4948,$AY$6:$AY$1001,AY4948),0)","v":0},1900,1900,0,0,0,0,0,0,0,0,0,"","",0,0,0,"FORMATO INCORRECTO","FORMATO INCORRECTO","FORMATO INCORRECTO",{"$f":"IF(L4948=\"\",\"\",IF(ISERROR(edata(L4948)),\"FORMATO INCORRECTO\",\"FORMATO CORRECTO\"))","v":""},{"$f":"IF(U4948=\"\",\"\",IF(ISERROR(edata(U4948)),\"FORMATO INCORRECTO\",\"FORMATO CORRECTO\"))","v":""},{"$f":"IF(N4948=\"\",\"\",IF(ISERROR(edata(N4948)),\"FORMATO INCORRECTO\",\"FORMATO CORRECTO\"))","v":""}]
["1924-06-29","",null,null,null,null,null,null,"",null,null,null,null,null,null,null,null,"",null,null,null,null,null,null,null,null,"",null,"",null,null,"",null,null,null,null,null,0,0,0,0,0,{"$f":"IF(AO4949<>0,SUMIFS($AP$6:$AP$1001,$AN$6:$AN$1001,AN4949,$F$6:$F$1001,F4949,$AX$6:$AX$1001,AX4949),0)","v":0},0,{"$f":"IF(AO4949<>0,SUMIFS($AP$6:$AP$1001,$AR$6:$AR$1001,AR4949,$F$6:$F$1001,F4949,$AX$6:$AX$1001,AX4949),0)","v":0},0,0,0,{"$f":"IF(AU4949<>0,SUMIFS($AV$6:$AV$1001,$AT$6:$AT$1001,AT4949,$F$6:$F$1001,F4949,$AY$6:$AY$1001,AY4949),0)","v":0},1900,1900,0,0,0,0,0,0,0,0,0,"","",0,0,0,"FORMATO INCORRECTO","FORMATO INCORRECTO","FORMATO INCORRECTO",{"$f":"IF(L4949=\"\",\"\",IF(ISERROR(edata(L4949)),\"FORMATO INCORRECTO\",\"FORMATO CORRECTO\"))","v":""},{"$f":"IF(U4949=\"\",\"\",IF(ISERROR(edata(U4949)),\"FORMATO INCORRECTO\",\"FORMATO CORRECTO\"))","v":""},{"$f":"IF(N4949=\"\",\"\",IF(ISERROR(edata(N4949)),\"FORMATO INCORRECTO\",\"FORMATO CORRECTO\"))","v":""}]
["1924-06-30","",null,null,null,null,null,null,"",null,null,null,null,null,null,null,null,"",null,null,null,null,null,null,null,null,"",null,"",null,null,"",null,null,null,null,null,0,0,0,0,0,{"$f":"IF(AO4950<>0,SUMIFS($AP$6:$AP$1001,$AN$6:$AN$1001,AN4950,$F$6:$F$1001,F4950,$AX$6:$AX$1001,AX4950),0)","v":0},0,{"$f":"IF(AO4950<>0,SUMIFS($AP$6:$AP$1001,$AR$6:$AR$1001,AR4950,$F$6:$F$1001,F4950,$AX$6:$AX$1001,AX4950),0)","v":0},0,0,0,{"$f":"IF(AU4950<>0,SUMIFS($AV$6:$AV$1001,$AT$6:$AT$1001,AT4950,$F$6:$F$1001,F4950,$AY$6:$AY$1001,AY4950),0)","v":0},1900,1900,0,0,0,0,0,0,0,0,0,"","",0,0,0,"FORMATO INCORRECTO","FORMATO INCORRECTO","FORMATO INCORRECTO",{"$f":"IF(L4950=\"\",\"\",IF(ISERROR(edata(L4950)),\"FORMATO INCORRECTO\",\"FORMATO CORRECTO\"))","v":""},{"$f":"IF(U4950=\"\",\"\",IF(ISERROR(edata(U4950)),\"FORMATO INCORRECTO\",\"FORMATO CORRECTO\"))","v":""},{"$f":"IF(N4950=\"\",\"\",IF(ISERROR(edata(N4950)),\"FORMATO INCORRECTO\",\"FORMATO CORRECTO\"))","v":""}]
["1924-07-01","",null,null,null,null,null,null,"",null,null,null,null,null,null,null,null,"",null,null,null,null,null,null,null,null,"",null,"",null,null,"",null,null,null,null,null,0,0,0,0,0,{"$f":"IF(AO4951<>0,SUMIFS($AP$6:$AP$1001,$AN$6:$AN$1001,AN4951,$F$6:$F$1001,F4951,$AX$6:$AX$1001,AX4951),0)","v":0},0,{"$f":"IF(AO4951<>0,SUMIFS($AP$6:$AP$1001,$AR$6:$AR$1001,AR4951,$F$6:$F$1001,F4951,$AX$6:$AX$1001,AX4951),0)","v":0},0,0,0,{"$f":"IF(AU4951<>0,SUMIFS($AV$6:$AV$1001,$AT$6:$AT$1001,AT4951,$F$6:$F$1001,F4951,$AY$6:$AY$1001,AY4951),0)","v":0},1900,1900,0,0,0,0,0,0,0,0,0,"","",0,0,0,"FORMATO INCORRECTO","FORMATO INCORRECTO","FORMATO INCORRECTO",{"$f":"IF(L4951=\"\",\"\",IF(ISERROR(edata(L4951)),\"FORMATO INCORRECTO\",\"FORMATO CORRECTO\"))","v":""},{"$f":"IF(U4951=\"\",\"\",IF(ISERROR(edata(U4951)),\"FORMATO INCORRECTO\",\"FORMATO CORRECTO\"))","v":""},{"$f":"IF(N4951=\"\",\"\",IF(ISERROR(edata(N4951)),\"FORMATO INCORRECTO\",\"FORMATO CORRECTO\"))","v":""}]
["1924-07-02","",null,null,null,null,null,null,"",null,null,null,null,null,null,null,null,"",null,null,null,null,null,null,null,null,"",null,"",null,null,"",null,null,null,null,null,0,0,0,0,0,{"$f":"IF(AO4952<>0,SUMIFS($AP$6:$AP$1001,$AN$6:$AN$1001,AN4952,$F$6:$F$1001,F4952,$AX$6:$AX$1001,AX4952),0)","v":0},0,{"$f":"IF(AO4952<>0,SUMIFS($AP$6:$AP$1001,$AR$6:$AR$1001,AR4952,$F$6:$F$1001,F4952,$AX$6:$AX$1001,AX4952),0)","v":0},0,0,0,{"$f":"IF(AU4952<>0,SUMIFS($AV$6:$AV$1001,$AT$6:$AT$1001,AT4952,$F$6:$F$1001,F4952,$AY$6:$AY$1001,AY4952),0)","v":0},1900,1900,0,0,0,0,0,0,0,0,0,"","",0,0,0,"FORMATO INCORRECTO","FORMATO INCORRECTO","FORMATO INCORRECTO",{"$f":"IF(L4952=\"\",\"\",IF(ISERROR(edata(L4952)),\"FORMATO INCORRECTO\",\"FORMATO CORRECTO\"))","v":""},{"$f":"IF(U4952=\"\",\"\",IF(ISERROR(edata(U4952)),\"FORMATO INCORRECTO\",\"FORMATO CORRECTO\"))","v":""},{"$f":"IF(N4952=\"\",\"\",IF(ISERROR(edata(N4952)),\"FORMATO INCORRECTO\",\"FORMATO CORRECTO\"))","v":""}]
["1924-07-03","",null,null,null,null,null,null,"",null,null,null,null,null,null,null,null,"",null,null,null,null,null,null,null,null,"",null,"",null,null,"",null,null,null,null,null,0,0,0,0,0,{"$f":"IF(AO4953<>0,SUMIFS($AP$6:$AP$1001,$AN$6:$AN$1001,AN4953,$F$6:$F$1001,F4953,$AX$6:$AX$1001,AX4953),0)","v":0},0,{"$f":"IF(AO4953<>0,SUMIFS($AP$6:$AP$1001,$AR$6:$AR$1001,AR4953,$F$6:$F$1001,F4953,$AX$6:$AX$1001,AX4953),0)","v":0},0,0,0,{"$f":"IF(AU4953<>0,SUMIFS($AV$6:$AV$1001,$AT$6:$AT$1001,AT4953,$F$6:$F$1001,F4953,$AY$6:$AY$1001,AY4953),0)","v":0},1900,1900,0,0,0,0,0,0,0,0,0,"","",0,0,0,"FORMATO INCORRECTO","FORMATO INCORRECTO","FORMATO INCORRECTO",{"$f":"IF(L4953=\"\",\"\",IF(ISERROR(edata(L4953)),\"FORMATO INCORRECTO\",\"FORMATO CORRECTO\"))","v":""},{"$f":"IF(U4953=\"\",\"\",IF(ISERROR(edata(U4953)),\"FORMATO INCORRECTO\",\"FORMATO CORRECTO\"))","v":""},{"$f":"IF(N4953=\"\",\"\",IF(ISERROR(edata(N4953)),\"FORMATO INCORRECTO\",\"FORMATO CORRECTO\"))","v":""}]
["1924-07-04","",null,null,null,null,null,null,"",null,null,null,null,null,null,null,null,"",null,null,null,null,null,null,null,null,"",null,"",null,null,"",null,null,null,null,null,0,0,0,0,0,{"$f":"IF(AO4954<>0,SUMIFS($AP$6:$AP$1001,$AN$6:$AN$1001,AN4954,$F$6:$F$1001,F4954,$AX$6:$AX$1001,AX4954),0)","v":0},0,{"$f":"IF(AO4954<>0,SUMIFS($AP$6:$AP$1001,$AR$6:$AR$1001,AR4954,$F$6:$F$1001,F4954,$AX$6:$AX$1001,AX4954),0)","v":0},0,0,0,{"$f":"IF(AU4954<>0,SUMIFS($AV$6:$AV$1001,$AT$6:$AT$1001,AT4954,$F$6:$F$1001,F4954,$AY$6:$AY$1001,AY4954),0)","v":0},1900,1900,0,0,0,0,0,0,0,0,0,"","",0,0,0,"FORMATO INCORRECTO","FORMATO INCORRECTO","FORMATO INCORRECTO",{"$f":"IF(L4954=\"\",\"\",IF(ISERROR(edata(L4954)),\"FORMATO INCORRECTO\",\"FORMATO CORRECTO\"))","v":""},{"$f":"IF(U4954=\"\",\"\",IF(ISERROR(edata(U4954)),\"FORMATO INCORRECTO\",\"FORMATO CORRECTO\"))","v":""},{"$f":"IF(N4954=\"\",\"\",IF(ISERROR(edata(N4954)),\"FORMATO INCORRECTO\",\"FORMATO CORRECTO\"))","v":""}]
["1924-07-05","",null,null,null,null,null,null,"",null,null,null,null,null,null,null,null,"",null,null,null,null,null,null,null,null,"",null,"",null,null,"",null,null,null,null,null,0,0,0,0,0,{"$f":"IF(AO4955<>0,SUMIFS($AP$6:$AP$1001,$AN$6:$AN$1001,AN4955,$F$6:$F$1001,F4955,$AX$6:$AX$1001,AX4955),0)","v":0},0,{"$f":"IF(AO4955<>0,SUMIFS($AP$6:$AP$1001,$AR$6:$AR$1001,AR4955,$F$6:$F$1001,F4955,$AX$6:$AX$1001,AX4955),0)","v":0},0,0,0,{"$f":"IF(AU4955<>0,SUMIFS($AV$6:$AV$1001,$AT$6:$AT$1001,AT4955,$F$6:$F$1001,F4955,$AY$6:$AY$1001,AY4955),0)","v":0},1900,1900,0,0,0,0,0,0,0,0,0,"","",0,0,0,"FORMATO INCORRECTO","FORMATO INCORRECTO","FORMATO INCORRECTO",{"$f":"IF(L4955=\"\",\"\",IF(ISERROR(edata(L4955)),\"FORMATO INCORRECTO\",\"FORMATO CORRECTO\"))","v":""},{"$f":"IF(U4955=\"\",\"\",IF(ISERROR(edata(U4955)),\"FORMATO INCORRECTO\",\"FORMATO CORRECTO\"))","v":""},{"$f":"IF(N4955=\"\",\"\",IF(ISERROR(edata(N4955)),\"FORMATO INCORRECTO\",\"FORMATO CORRECTO\"))","v":""}]
["1924-07-06","",null,null,null,null,null,null,"",null,null,null,null,null,null,null,null,"",null,null,null,null,null,null,null,null,"",null,"",null,null,"",null,null,null,null,null,0,0,0,0,0,{"$f":"IF(AO4956<>0,SUMIFS($AP$6:$AP$1001,$AN$6:$AN$1001,AN4956,$F$6:$F$1001,F4956,$AX$6:$AX$1001,AX4956),0)","v":0},0,{"$f":"IF(AO4956<>0,SUMIFS($AP$6:$AP$1001,$AR$6:$AR$1001,AR4956,$F$6:$F$1001,F4956,$AX$6:$AX$1001,AX4956),0)","v":0},0,0,0,{"$f":"IF(AU4956<>0,SUMIFS($AV$6:$AV$1001,$AT$6:$AT$1001,AT4956,$F$6:$F$1001,F4956,$AY$6:$AY$1001,AY4956),0)","v":0},1900,1900,0,0,0,0,0,0,0,0,0,"","",0,0,0,"FORMATO INCORRECTO","FORMATO INCORRECTO","FORMATO INCORRECTO",{"$f":"IF(L4956=\"\",\"\",IF(ISERROR(edata(L4956)),\"FORMATO INCORRECTO\",\"FORMATO CORRECTO\"))","v":""},{"$f":"IF(U4956=\"\",\"\",IF(ISERROR(edata(U4956)),\"FORMATO INCORRECTO\",\"FORMATO CORRECTO\"))","v":""},{"$f":"IF(N4956=\"\",\"\",IF(ISERROR(edata(N4956)),\"FORMATO INCORRECTO\",\"FORMATO CORRECTO\"))","v":""}]
["1924-07-07","",null,null,null,null,null,null,"",null,null,null,null,null,null,null,null,"",null,null,null,null,null,null,null,null,"",null,"",null,null,"",null,null,null,null,null,0,0,0,0,0,{"$f":"IF(AO4957<>0,SUMIFS($AP$6:$AP$1001,$AN$6:$AN$1001,AN4957,$F$6:$F$1001,F4957,$AX$6:$AX$1001,AX4957),0)","v":0},0,{"$f":"IF(AO4957<>0,SUMIFS($AP$6:$AP$1001,$AR$6:$AR$1001,AR4957,$F$6:$F$1001,F4957,$AX$6:$AX$1001,AX4957),0)","v":0},0,0,0,{"$f":"IF(AU4957<>0,SUMIFS($AV$6:$AV$1001,$AT$6:$AT$1001,AT4957,$F$6:$F$1001,F4957,$AY$6:$AY$1001,AY4957),0)","v":0},1900,1900,0,0,0,0,0,0,0,0,0,"","",0,0,0,"FORMATO INCORRECTO","FORMATO INCORRECTO","FORMATO INCORRECTO",{"$f":"IF(L4957=\"\",\"\",IF(ISERROR(edata(L4957)),\"FORMATO INCORRECTO\",\"FORMATO CORRECTO\"))","v":""},{"$f":"IF(U4957=\"\",\"\",IF(ISERROR(edata(U4957)),\"FORMATO INCORRECTO\",\"FORMATO CORRECTO\"))","v":""},{"$f":"IF(N4957=\"\",\"\",IF(ISERROR(edata(N4957)),\"FORMATO INCORRECTO\",\"FORMATO CORRECTO\"))","v":""}]
["1924-07-08","",null,null,null,null,null,null,"",null,null,null,null,null,null,null,null,"",null,null,null,null,null,null,null,null,"",null,"",null,null,"",null,null,null,null,null,0,0,0,0,0,{"$f":"IF(AO4958<>0,SUMIFS($AP$6:$AP$1001,$AN$6:$AN$1001,AN4958,$F$6:$F$1001,F4958,$AX$6:$AX$1001,AX4958),0)","v":0},0,{"$f":"IF(AO4958<>0,SUMIFS($AP$6:$AP$1001,$AR$6:$AR$1001,AR4958,$F$6:$F$1001,F4958,$AX$6:$AX$1001,AX4958),0)","v":0},0,0,0,{"$f":"IF(AU4958<>0,SUMIFS($AV$6:$AV$1001,$AT$6:$AT$1001,AT4958,$F$6:$F$1001,F4958,$AY$6:$AY$1001,AY4958),0)","v":0},1900,1900,0,0,0,0,0,0,0,0,0,"","",0,0,0,"FORMATO INCORRECTO","FORMATO INCORRECTO","FORMATO INCORRECTO",{"$f":"IF(L4958=\"\",\"\",IF(ISERROR(edata(L4958)),\"FORMATO INCORRECTO\",\"FORMATO CORRECTO\"))","v":""},{"$f":"IF(U4958=\"\",\"\",IF(ISERROR(edata(U4958)),\"FORMATO INCORRECTO\",\"FORMATO CORRECTO\"))","v":""},{"$f":"IF(N4958=\"\",\"\",IF(ISERROR(edata(N4958)),\"FORMATO INCORRECTO\",\"FORMATO CORRECTO\"))","v":""}]
["1924-07-09","",null,null,null,null,null,null,"",null,null,null,null,null,null,null,null,"",null,null,null,null,null,null,null,null,"",null,"",null,null,"",null,null,null,null,null,0,0,0,0,0,{"$f":"IF(AO4959<>0,SUMIFS($AP$6:$AP$1001,$AN$6:$AN$1001,AN4959,$F$6:$F$1001,F4959,$AX$6:$AX$1001,AX4959),0)","v":0},0,{"$f":"IF(AO4959<>0,SUMIFS($AP$6:$AP$1001,$AR$6:$AR$1001,AR4959,$F$6:$F$1001,F4959,$AX$6:$AX$1001,AX4959),0)","v":0},0,0,0,{"$f":"IF(AU4959<>0,SUMIFS($AV$6:$AV$1001,$AT$6:$AT$1001,AT4959,$F$6:$F$1001,F4959,$AY$6:$AY$1001,AY4959),0)","v":0},1900,1900,0,0,0,0,0,0,0,0,0,"","",0,0,0,"FORMATO INCORRECTO","FORMATO INCORRECTO","FORMATO INCORRECTO",{"$f":"IF(L4959=\"\",\"\",IF(ISERROR(edata(L4959)),\"FORMATO INCORRECTO\",\"FORMATO CORRECTO\"))","v":""},{"$f":"IF(U4959=\"\",\"\",IF(ISERROR(edata(U4959)),\"FORMATO INCORRECTO\",\"FORMATO CORRECTO\"))","v":""},{"$f":"IF(N4959=\"\",\"\",IF(ISERROR(edata(N4959)),\"FORMATO INCORRECTO\",\"FORMATO CORRECTO\"))","v":""}]
["1924-07-10","",null,null,null,null,null,null,"",null,null,null,null,null,null,null,null,"",null,null,null,null,null,null,null,null,"",null,"",null,null,"",null,null,null,null,null,0,0,0,0,0,{"$f":"IF(AO4960<>0,SUMIFS($AP$6:$AP$1001,$AN$6:$AN$1001,AN4960,$F$6:$F$1001,F4960,$AX$6:$AX$1001,AX4960),0)","v":0},0,{"$f":"IF(AO4960<>0,SUMIFS($AP$6:$AP$1001,$AR$6:$AR$1001,AR4960,$F$6:$F$1001,F4960,$AX$6:$AX$1001,AX4960),0)","v":0},0,0,0,{"$f":"IF(AU4960<>0,SUMIFS($AV$6:$AV$1001,$AT$6:$AT$1001,AT4960,$F$6:$F$1001,F4960,$AY$6:$AY$1001,AY4960),0)","v":0},1900,1900,0,0,0,0,0,0,0,0,0,"","",0,0,0,"FORMATO INCORRECTO","FORMATO INCORRECTO","FORMATO INCORRECTO",{"$f":"IF(L4960=\"\",\"\",IF(ISERROR(edata(L4960)),\"FORMATO INCORRECTO\",\"FORMATO CORRECTO\"))","v":""},{"$f":"IF(U4960=\"\",\"\",IF(ISERROR(edata(U4960)),\"FORMATO INCORRECTO\",\"FORMATO CORRECTO\"))","v":""},{"$f":"IF(N4960=\"\",\"\",IF(ISERROR(edata(N4960)),\"FORMATO INCORRECTO\",\"FORMATO CORRECTO\"))","v":""}]
["1924-07-11","",null,null,null,null,null,null,"",null,null,null,null,null,null,null,null,"",null,null,null,null,null,null,null,null,"",null,"",null,null,"",null,null,null,null,null,0,0,0,0,0,{"$f":"IF(AO4961<>0,SUMIFS($AP$6:$AP$1001,$AN$6:$AN$1001,AN4961,$F$6:$F$1001,F4961,$AX$6:$AX$1001,AX4961),0)","v":0},0,{"$f":"IF(AO4961<>0,SUMIFS($AP$6:$AP$1001,$AR$6:$AR$1001,AR4961,$F$6:$F$1001,F4961,$AX$6:$AX$1001,AX4961),0)","v":0},0,0,0,{"$f":"IF(AU4961<>0,SUMIFS($AV$6:$AV$1001,$AT$6:$AT$1001,AT4961,$F$6:$F$1001,F4961,$AY$6:$AY$1001,AY4961),0)","v":0},1900,1900,0,0,0,0,0,0,0,0,0,"","",0,0,0,"FORMATO INCORRECTO","FORMATO INCORRECTO","FORMATO INCORRECTO",{"$f":"IF(L4961=\"\",\"\",IF(ISERROR(edata(L4961)),\"FORMATO INCORRECTO\",\"FORMATO CORRECTO\"))","v":""},{"$f":"IF(U4961=\"\",\"\",IF(ISERROR(edata(U4961)),\"FORMATO INCORRECTO\",\"FORMATO CORRECTO\"))","v":""},{"$f":"IF(N4961=\"\",\"\",IF(ISERROR(edata(N4961)),\"FORMATO INCORRECTO\",\"FORMATO CORRECTO\"))","v":""}]
["1924-07-12","",null,null,null,null,null,null,"",null,null,null,null,null,null,null,null,"",null,null,null,null,null,null,null,null,"",null,"",null,null,"",null,null,null,null,null,0,0,0,0,0,{"$f":"IF(AO4962<>0,SUMIFS($AP$6:$AP$1001,$AN$6:$AN$1001,AN4962,$F$6:$F$1001,F4962,$AX$6:$AX$1001,AX4962),0)","v":0},0,{"$f":"IF(AO4962<>0,SUMIFS($AP$6:$AP$1001,$AR$6:$AR$1001,AR4962,$F$6:$F$1001,F4962,$AX$6:$AX$1001,AX4962),0)","v":0},0,0,0,{"$f":"IF(AU4962<>0,SUMIFS($AV$6:$AV$1001,$AT$6:$AT$1001,AT4962,$F$6:$F$1001,F4962,$AY$6:$AY$1001,AY4962),0)","v":0},1900,1900,0,0,0,0,0,0,0,0,0,"","",0,0,0,"FORMATO INCORRECTO","FORMATO INCORRECTO","FORMATO INCORRECTO",{"$f":"IF(L4962=\"\",\"\",IF(ISERROR(edata(L4962)),\"FORMATO INCORRECTO\",\"FORMATO CORRECTO\"))","v":""},{"$f":"IF(U4962=\"\",\"\",IF(ISERROR(edata(U4962)),\"FORMATO INCORRECTO\",\"FORMATO CORRECTO\"))","v":""},{"$f":"IF(N4962=\"\",\"\",IF(ISERROR(edata(N4962)),\"FORMATO INCORRECTO\",\"FORMATO CORRECTO\"))","v":""}]
["1924-07-13","",null,null,null,null,null,null,"",null,null,null,null,null,null,null,null,"",null,null,null,null,null,null,null,null,"",null,"",null,null,"",null,null,null,null,null,0,0,0,0,0,{"$f":"IF(AO4963<>0,SUMIFS($AP$6:$AP$1001,$AN$6:$AN$1001,AN4963,$F$6:$F$1001,F4963,$AX$6:$AX$1001,AX4963),0)","v":0},0,{"$f":"IF(AO4963<>0,SUMIFS($AP$6:$AP$1001,$AR$6:$AR$1001,AR4963,$F$6:$F$1001,F4963,$AX$6:$AX$1001,AX4963),0)","v":0},0,0,0,{"$f":"IF(AU4963<>0,SUMIFS($AV$6:$AV$1001,$AT$6:$AT$1001,AT4963,$F$6:$F$1001,F4963,$AY$6:$AY$1001,AY4963),0)","v":0},1900,1900,0,0,0,0,0,0,0,0,0,"","",0,0,0,"FORMATO INCORRECTO","FORMATO INCORRECTO","FORMATO INCORRECTO",{"$f":"IF(L4963=\"\",\"\",IF(ISERROR(edata(L4963)),\"FORMATO INCORRECTO\",\"FORMATO CORRECTO\"))","v":""},{"$f":"IF(U4963=\"\",\"\",IF(ISERROR(edata(U4963)),\"FORMATO INCORRECTO\",\"FORMATO CORRECTO\"))","v":""},{"$f":"IF(N4963=\"\",\"\",IF(ISERROR(edata(N4963)),\"FORMATO INCORRECTO\",\"FORMATO CORRECTO\"))","v":""}]
["1924-07-14","",null,null,null,null,null,null,"",null,null,null,null,null,null,null,null,"",null,null,null,null,null,null,null,null,"",null,"",null,null,"",null,null,null,null,null,0,0,0,0,0,{"$f":"IF(AO4964<>0,SUMIFS($AP$6:$AP$1001,$AN$6:$AN$1001,AN4964,$F$6:$F$1001,F4964,$AX$6:$AX$1001,AX4964),0)","v":0},0,{"$f":"IF(AO4964<>0,SUMIFS($AP$6:$AP$1001,$AR$6:$AR$1001,AR4964,$F$6:$F$1001,F4964,$AX$6:$AX$1001,AX4964),0)","v":0},0,0,0,{"$f":"IF(AU4964<>0,SUMIFS($AV$6:$AV$1001,$AT$6:$AT$1001,AT4964,$F$6:$F$1001,F4964,$AY$6:$AY$1001,AY4964),0)","v":0},1900,1900,0,0,0,0,0,0,0,0,0,"","",0,0,0,"FORMATO INCORRECTO","FORMATO INCORRECTO","FORMATO INCORRECTO",{"$f":"IF(L4964=\"\",\"\",IF(ISERROR(edata(L4964)),\"FORMATO INCORRECTO\",\"FORMATO CORRECTO\"))","v":""},{"$f":"IF(U4964=\"\",\"\",IF(ISERROR(edata(U4964)),\"FORMATO INCORRECTO\",\"FORMATO CORRECTO\"))","v":""},{"$f":"IF(N4964=\"\",\"\",IF(ISERROR(edata(N4964)),\"FORMATO INCORRECTO\",\"FORMATO CORRECTO\"))","v":""}]
["1924-07-15","",null,null,null,null,null,null,"",null,null,null,null,null,null,null,null,"",null,null,null,null,null,null,null,null,"",null,"",null,null,"",null,null,null,null,null,0,0,0,0,0,{"$f":"IF(AO4965<>0,SUMIFS($AP$6:$AP$1001,$AN$6:$AN$1001,AN4965,$F$6:$F$1001,F4965,$AX$6:$AX$1001,AX4965),0)","v":0},0,{"$f":"IF(AO4965<>0,SUMIFS($AP$6:$AP$1001,$AR$6:$AR$1001,AR4965,$F$6:$F$1001,F4965,$AX$6:$AX$1001,AX4965),0)","v":0},0,0,0,{"$f":"IF(AU4965<>0,SUMIFS($AV$6:$AV$1001,$AT$6:$AT$1001,AT4965,$F$6:$F$1001,F4965,$AY$6:$AY$1001,AY4965),0)","v":0},1900,1900,0,0,0,0,0,0,0,0,0,"","",0,0,0,"FORMATO INCORRECTO","FORMATO INCORRECTO","FORMATO INCORRECTO",{"$f":"IF(L4965=\"\",\"\",IF(ISERROR(edata(L4965)),\"FORMATO INCORRECTO\",\"FORMATO CORRECTO\"))","v":""},{"$f":"IF(U4965=\"\",\"\",IF(ISERROR(edata(U4965)),\"FORMATO INCORRECTO\",\"FORMATO CORRECTO\"))","v":""},{"$f":"IF(N4965=\"\",\"\",IF(ISERROR(edata(N4965)),\"FORMATO INCORRECTO\",\"FORMATO CORRECTO\"))","v":""}]
["1924-07-16","",null,null,null,null,null,null,"",null,null,null,null,null,null,null,null,"",null,null,null,null,null,null,null,null,"",null,"",null,null,"",null,null,null,null,null,0,0,0,0,0,{"$f":"IF(AO4966<>0,SUMIFS($AP$6:$AP$1001,$AN$6:$AN$1001,AN4966,$F$6:$F$1001,F4966,$AX$6:$AX$1001,AX4966),0)","v":0},0,{"$f":"IF(AO4966<>0,SUMIFS($AP$6:$AP$1001,$AR$6:$AR$1001,AR4966,$F$6:$F$1001,F4966,$AX$6:$AX$1001,AX4966),0)","v":0},0,0,0,{"$f":"IF(AU4966<>0,SUMIFS($AV$6:$AV$1001,$AT$6:$AT$1001,AT4966,$F$6:$F$1001,F4966,$AY$6:$AY$1001,AY4966),0)","v":0},1900,1900,0,0,0,0,0,0,0,0,0,"","",0,0,0,"FORMATO INCORRECTO","FORMATO INCORRECTO","FORMATO INCORRECTO",{"$f":"IF(L4966=\"\",\"\",IF(ISERROR(edata(L4966)),\"FORMATO INCORRECTO\",\"FORMATO CORRECTO\"))","v":""},{"$f":"IF(U4966=\"\",\"\",IF(ISERROR(edata(U4966)),\"FORMATO INCORRECTO\",\"FORMATO CORRECTO\"))","v":""},{"$f":"IF(N4966=\"\",\"\",IF(ISERROR(edata(N4966)),\"FORMATO INCORRECTO\",\"FORMATO CORRECTO\"))","v":""}]
["1924-07-17","",null,null,null,null,null,null,"",null,null,null,null,null,null,null,null,"",null,null,null,null,null,null,null,null,"",null,"",null,null,"",null,null,null,null,null,0,0,0,0,0,{"$f":"IF(AO4967<>0,SUMIFS($AP$6:$AP$1001,$AN$6:$AN$1001,AN4967,$F$6:$F$1001,F4967,$AX$6:$AX$1001,AX4967),0)","v":0},0,{"$f":"IF(AO4967<>0,SUMIFS($AP$6:$AP$1001,$AR$6:$AR$1001,AR4967,$F$6:$F$1001,F4967,$AX$6:$AX$1001,AX4967),0)","v":0},0,0,0,{"$f":"IF(AU4967<>0,SUMIFS($AV$6:$AV$1001,$AT$6:$AT$1001,AT4967,$F$6:$F$1001,F4967,$AY$6:$AY$1001,AY4967),0)","v":0},1900,1900,0,0,0,0,0,0,0,0,0,"","",0,0,0,"FORMATO INCORRECTO","FORMATO INCORRECTO","FORMATO INCORRECTO",{"$f":"IF(L4967=\"\",\"\",IF(ISERROR(edata(L4967)),\"FORMATO INCORRECTO\",\"FORMATO CORRECTO\"))","v":""},{"$f":"IF(U4967=\"\",\"\",IF(ISERROR(edata(U4967)),\"FORMATO INCORRECTO\",\"FORMATO CORRECTO\"))","v":""},{"$f":"IF(N4967=\"\",\"\",IF(ISERROR(edata(N4967)),\"FORMATO INCORRECTO\",\"FORMATO CORRECTO\"))","v":""}]
["1924-07-18","",null,null,null,null,null,null,"",null,null,null,null,null,null,null,null,"",null,null,null,null,null,null,null,null,"",null,"",null,null,"",null,null,null,null,null,0,0,0,0,0,{"$f":"IF(AO4968<>0,SUMIFS($AP$6:$AP$1001,$AN$6:$AN$1001,AN4968,$F$6:$F$1001,F4968,$AX$6:$AX$1001,AX4968),0)","v":0},0,{"$f":"IF(AO4968<>0,SUMIFS($AP$6:$AP$1001,$AR$6:$AR$1001,AR4968,$F$6:$F$1001,F4968,$AX$6:$AX$1001,AX4968),0)","v":0},0,0,0,{"$f":"IF(AU4968<>0,SUMIFS($AV$6:$AV$1001,$AT$6:$AT$1001,AT4968,$F$6:$F$1001,F4968,$AY$6:$AY$1001,AY4968),0)","v":0},1900,1900,0,0,0,0,0,0,0,0,0,"","",0,0,0,"FORMATO INCORRECTO","FORMATO INCORRECTO","FORMATO INCORRECTO",{"$f":"IF(L4968=\"\",\"\",IF(ISERROR(edata(L4968)),\"FORMATO INCORRECTO\",\"FORMATO CORRECTO\"))","v":""},{"$f":"IF(U4968=\"\",\"\",IF(ISERROR(edata(U4968)),\"FORMATO INCORRECTO\",\"FORMATO CORRECTO\"))","v":""},{"$f":"IF(N4968=\"\",\"\",IF(ISERROR(edata(N4968)),\"FORMATO INCORRECTO\",\"FORMATO CORRECTO\"))","v":""}]
["1924-07-19","",null,null,null,null,null,null,"",null,null,null,null,null,null,null,null,"",null,null,null,null,null,null,null,null,"",null,"",null,null,"",null,null,null,null,null,0,0,0,0,0,{"$f":"IF(AO4969<>0,SUMIFS($AP$6:$AP$1001,$AN$6:$AN$1001,AN4969,$F$6:$F$1001,F4969,$AX$6:$AX$1001,AX4969),0)","v":0},0,{"$f":"IF(AO4969<>0,SUMIFS($AP$6:$AP$1001,$AR$6:$AR$1001,AR4969,$F$6:$F$1001,F4969,$AX$6:$AX$1001,AX4969),0)","v":0},0,0,0,{"$f":"IF(AU4969<>0,SUMIFS($AV$6:$AV$1001,$AT$6:$AT$1001,AT4969,$F$6:$F$1001,F4969,$AY$6:$AY$1001,AY4969),0)","v":0},1900,1900,0,0,0,0,0,0,0,0,0,"","",0,0,0,"FORMATO INCORRECTO","FORMATO INCORRECTO","FORMATO INCORRECTO",{"$f":"IF(L4969=\"\",\"\",IF(ISERROR(edata(L4969)),\"FORMATO INCORRECTO\",\"FORMATO CORRECTO\"))","v":""},{"$f":"IF(U4969=\"\",\"\",IF(ISERROR(edata(U4969)),\"FORMATO INCORRECTO\",\"FORMATO CORRECTO\"))","v":""},{"$f":"IF(N4969=\"\",\"\",IF(ISERROR(edata(N4969)),\"FORMATO INCORRECTO\",\"FORMATO CORRECTO\"))","v":""}]
["1924-07-20",{"$f":"IF(G4970<>\"\",+B4969+1,\"\")","v":""},null,null,null,null,null,null,{"$f":"IF(ISERROR(VLOOKUP(J4970,tipoDocDesp,2,FALSE)),\"\",VLOOKUP(J4970,tipoDocDesp,2,FALSE))","v":""},null,null,null,null,null,null,null,null,{"$f":"IF(ISERROR(VLOOKUP(S4970,tipoDocQuit,2,FALSE)),\"\",VLOOKUP(S4970,tipoDocQuit,2,FALSE))","v":""},null,null,null,null,null,null,null,null,{"$f":"IF(ISERROR(VLOOKUP(AB4970,DESPESASGERAL,3,FALSE)),\"\",VLOOKUP(AB4970,DESPESASGERAL,3,FALSE))","v":""},null,{"$f":"IF(ISERROR(VLOOKUP(AD4970,RUBRICASGERAL,2,FALSE)),\"\",VLOOKUP(AD4970,RUBRICASGERAL,2,FALSE))","v":""},null,null,{"$f":"IF(ISERROR(VLOOKUP(AG4970,CONCELHOGERAL,2,FALSE)),\"\",VLOOKUP(AG4970,CONCELHOGERAL,2,FALSE))","v":""},null,null,null,null,null,{"$f":"+O4970+P4970+Q4970-N4970","v":0},{"$f":"+O4970+P4970+Q4970-W4970","v":0},{"$f":"+D4970","v":0},{"$f":"+M4970","v":0},{"$f":"+N4970","v":0},{"$f":"IF(AO4970<>0,SUMIFS($AP$6:$AP$1001,$AN$6:$AN$1001,AN4970,$F$6:$F$1001,F4970,$AX$6:$AX$1001,AX4970),0)","v":0},{"$f":"+K4970","v":0},{"$f":"IF(AO4970<>0,SUMIFS($AP$6:$AP$1001,$AR$6:$AR$1001,AR4970,$F$6:$F$1001,F4970,$AX$6:$AX$1001,AX4970),0)","v":0},{"$f":"+T4970","v":0},{"$f":"+V4970","v":0},{"$f":"+W4970","v":0},{"$f":"IF(AU4970<>0,SUMIFS($AV$6:$AV$1001,$AT$6:$AT$1001,AT4970,$F$6:$F$1001,F4970,$AY$6:$AY$1001,AY4970),0)","v":0},{"$f":"YEAR(L4970)","v":1900},{"$f":"YEAR(U4970)","v":1900},{"$f":"+AN4970","v":0},{"$f":"+AQ4970","v":0},{"$f":"+M4970-BA4970","v":0},{"$f":"+AR4970","v":0},{"$f":"ROUND(AS4970,2)","v":0},{"$f":"+M4970-BD4970","v":0},{"$f":"+AT4970","v":0},{"$f":"ROUND(AW4970,2)","v":0},{"$f":"+V4970-BG4970","v":0},{"$f":"IF(ISERROR(L4970<=U4970),\"FORMATO INCORRECTO\",IF(AND(L4970=0,U4970=0),\"\",IF(L4970<=U4970,\"VALIDADO\",\"NÃO VALIDADO\")))","v":""},{"$f":"IF(AND(L4970=\"\",U4970=\"\",Y4970=\"\"),\"\",IF(OR(ISERROR(BK4970),ISERROR(BL4970),ISERROR(BM4970)),\"ERRO NO FORMATO\",\"FORMATO CORRECTO\"))","v":""},{"$f":"convdata(L4970)","v":0},{"$f":"convdata(U4970)","v":0},{"$f":"convdata(Y4970)","v":0},{"$f":"ENULO(L4970)","v":"FORMATO INCORRECTO"},{"$f":"ENULO(U4970)","v":"FORMATO INCORRECTO"},{"$f":"ENULO(Y4970)","v":"FORMATO INCORRECTO"},{"$f":"IF(L4970=\"\",\"\",IF(ISERROR(edata(L4970)),\"FORMATO INCORRECTO\",\"FORMATO CORRECTO\"))","v":""},{"$f":"IF(U4970=\"\",\"\",IF(ISERROR(edata(U4970)),\"FORMATO INCORRECTO\",\"FORMATO CORRECTO\"))","v":""},{"$f":"IF(N4970=\"\",\"\",IF(ISERROR(edata(N4970)),\"FORMATO INCORRECTO\",\"FORMATO CORRECTO\"))","v":""}]
["1924-07-21","",null,null,null,null,null,null,"",null,null,null,null,null,null,null,null,"",null,null,null,null,null,null,null,null,"",null,"",null,null,"",null,null,null,null,null,0,0,0,0,0,{"$f":"IF(AO4971<>0,SUMIFS($AP$6:$AP$1001,$AN$6:$AN$1001,AN4971,$F$6:$F$1001,F4971,$AX$6:$AX$1001,AX4971),0)","v":0},0,{"$f":"IF(AO4971<>0,SUMIFS($AP$6:$AP$1001,$AR$6:$AR$1001,AR4971,$F$6:$F$1001,F4971,$AX$6:$AX$1001,AX4971),0)","v":0},0,0,0,{"$f":"IF(AU4971<>0,SUMIFS($AV$6:$AV$1001,$AT$6:$AT$1001,AT4971,$F$6:$F$1001,F4971,$AY$6:$AY$1001,AY4971),0)","v":0},1900,1900,0,0,0,0,0,0,0,0,0,"","",0,0,0,"FORMATO INCORRECTO","FORMATO INCORRECTO","FORMATO INCORRECTO",{"$f":"IF(L4971=\"\",\"\",IF(ISERROR(edata(L4971)),\"FORMATO INCORRECTO\",\"FORMATO CORRECTO\"))","v":""},{"$f":"IF(U4971=\"\",\"\",IF(ISERROR(edata(U4971)),\"FORMATO INCORRECTO\",\"FORMATO CORRECTO\"))","v":""},{"$f":"IF(N4971=\"\",\"\",IF(ISERROR(edata(N4971)),\"FORMATO INCORRECTO\",\"FORMATO CORRECTO\"))","v":""}]
["1924-07-22","",null,null,null,null,null,null,"",null,null,null,null,null,null,null,null,"",null,null,null,null,null,null,null,null,"",null,"",null,null,"",null,null,null,null,null,0,0,0,0,0,{"$f":"IF(AO4972<>0,SUMIFS($AP$6:$AP$1001,$AN$6:$AN$1001,AN4972,$F$6:$F$1001,F4972,$AX$6:$AX$1001,AX4972),0)","v":0},0,{"$f":"IF(AO4972<>0,SUMIFS($AP$6:$AP$1001,$AR$6:$AR$1001,AR4972,$F$6:$F$1001,F4972,$AX$6:$AX$1001,AX4972),0)","v":0},0,0,0,{"$f":"IF(AU4972<>0,SUMIFS($AV$6:$AV$1001,$AT$6:$AT$1001,AT4972,$F$6:$F$1001,F4972,$AY$6:$AY$1001,AY4972),0)","v":0},1900,1900,0,0,0,0,0,0,0,0,0,"","",0,0,0,"FORMATO INCORRECTO","FORMATO INCORRECTO","FORMATO INCORRECTO",{"$f":"IF(L4972=\"\",\"\",IF(ISERROR(edata(L4972)),\"FORMATO INCORRECTO\",\"FORMATO CORRECTO\"))","v":""},{"$f":"IF(U4972=\"\",\"\",IF(ISERROR(edata(U4972)),\"FORMATO INCORRECTO\",\"FORMATO CORRECTO\"))","v":""},{"$f":"IF(N4972=\"\",\"\",IF(ISERROR(edata(N4972)),\"FORMATO INCORRECTO\",\"FORMATO CORRECTO\"))","v":""}]
["1924-07-23","",null,null,null,null,null,null,"",null,null,null,null,null,null,null,null,"",null,null,null,null,null,null,null,null,"",null,"",null,null,"",null,null,null,null,null,0,0,0,0,0,{"$f":"IF(AO4973<>0,SUMIFS($AP$6:$AP$1001,$AN$6:$AN$1001,AN4973,$F$6:$F$1001,F4973,$AX$6:$AX$1001,AX4973),0)","v":0},0,{"$f":"IF(AO4973<>0,SUMIFS($AP$6:$AP$1001,$AR$6:$AR$1001,AR4973,$F$6:$F$1001,F4973,$AX$6:$AX$1001,AX4973),0)","v":0},0,0,0,{"$f":"IF(AU4973<>0,SUMIFS($AV$6:$AV$1001,$AT$6:$AT$1001,AT4973,$F$6:$F$1001,F4973,$AY$6:$AY$1001,AY4973),0)","v":0},1900,1900,0,0,0,0,0,0,0,0,0,"","",0,0,0,"FORMATO INCORRECTO","FORMATO INCORRECTO","FORMATO INCORRECTO",{"$f":"IF(L4973=\"\",\"\",IF(ISERROR(edata(L4973)),\"FORMATO INCORRECTO\",\"FORMATO CORRECTO\"))","v":""},{"$f":"IF(U4973=\"\",\"\",IF(ISERROR(edata(U4973)),\"FORMATO INCORRECTO\",\"FORMATO CORRECTO\"))","v":""},{"$f":"IF(N4973=\"\",\"\",IF(ISERROR(edata(N4973)),\"FORMATO INCORRECTO\",\"FORMATO CORRECTO\"))","v":""}]
["1924-07-24","",null,null,null,null,null,null,"",null,null,null,null,null,null,null,null,"",null,null,null,null,null,null,null,null,"",null,"",null,null,"",null,null,null,null,null,0,0,0,0,0,{"$f":"IF(AO4974<>0,SUMIFS($AP$6:$AP$1001,$AN$6:$AN$1001,AN4974,$F$6:$F$1001,F4974,$AX$6:$AX$1001,AX4974),0)","v":0},0,{"$f":"IF(AO4974<>0,SUMIFS($AP$6:$AP$1001,$AR$6:$AR$1001,AR4974,$F$6:$F$1001,F4974,$AX$6:$AX$1001,AX4974),0)","v":0},0,0,0,{"$f":"IF(AU4974<>0,SUMIFS($AV$6:$AV$1001,$AT$6:$AT$1001,AT4974,$F$6:$F$1001,F4974,$AY$6:$AY$1001,AY4974),0)","v":0},1900,1900,0,0,0,0,0,0,0,0,0,"","",0,0,0,"FORMATO INCORRECTO","FORMATO INCORRECTO","FORMATO INCORRECTO",{"$f":"IF(L4974=\"\",\"\",IF(ISERROR(edata(L4974)),\"FORMATO INCORRECTO\",\"FORMATO CORRECTO\"))","v":""},{"$f":"IF(U4974=\"\",\"\",IF(ISERROR(edata(U4974)),\"FORMATO INCORRECTO\",\"FORMATO CORRECTO\"))","v":""},{"$f":"IF(N4974=\"\",\"\",IF(ISERROR(edata(N4974)),\"FORMATO INCORRECTO\",\"FORMATO CORRECTO\"))","v":""}]
["1924-07-25","",null,null,null,null,null,null,"",null,null,null,null,null,null,null,null,"",null,null,null,null,null,null,null,null,"",null,"",null,null,"",null,null,null,null,null,0,0,0,0,0,{"$f":"IF(AO4975<>0,SUMIFS($AP$6:$AP$1001,$AN$6:$AN$1001,AN4975,$F$6:$F$1001,F4975,$AX$6:$AX$1001,AX4975),0)","v":0},0,{"$f":"IF(AO4975<>0,SUMIFS($AP$6:$AP$1001,$AR$6:$AR$1001,AR4975,$F$6:$F$1001,F4975,$AX$6:$AX$1001,AX4975),0)","v":0},0,0,0,{"$f":"IF(AU4975<>0,SUMIFS($AV$6:$AV$1001,$AT$6:$AT$1001,AT4975,$F$6:$F$1001,F4975,$AY$6:$AY$1001,AY4975),0)","v":0},1900,1900,0,0,0,0,0,0,0,0,0,"","",0,0,0,"FORMATO INCORRECTO","FORMATO INCORRECTO","FORMATO INCORRECTO",{"$f":"IF(L4975=\"\",\"\",IF(ISERROR(edata(L4975)),\"FORMATO INCORRECTO\",\"FORMATO CORRECTO\"))","v":""},{"$f":"IF(U4975=\"\",\"\",IF(ISERROR(edata(U4975)),\"FORMATO INCORRECTO\",\"FORMATO CORRECTO\"))","v":""},{"$f":"IF(N4975=\"\",\"\",IF(ISERROR(edata(N4975)),\"FORMATO INCORRECTO\",\"FORMATO CORRECTO\"))","v":""}]
["1924-07-26","",null,null,null,null,null,null,"",null,null,null,null,null,null,null,null,"",null,null,null,null,null,null,null,null,"",null,"",null,null,"",null,null,null,null,null,0,0,0,0,0,{"$f":"IF(AO4976<>0,SUMIFS($AP$6:$AP$1001,$AN$6:$AN$1001,AN4976,$F$6:$F$1001,F4976,$AX$6:$AX$1001,AX4976),0)","v":0},0,{"$f":"IF(AO4976<>0,SUMIFS($AP$6:$AP$1001,$AR$6:$AR$1001,AR4976,$F$6:$F$1001,F4976,$AX$6:$AX$1001,AX4976),0)","v":0},0,0,0,{"$f":"IF(AU4976<>0,SUMIFS($AV$6:$AV$1001,$AT$6:$AT$1001,AT4976,$F$6:$F$1001,F4976,$AY$6:$AY$1001,AY4976),0)","v":0},1900,1900,0,0,0,0,0,0,0,0,0,"","",0,0,0,"FORMATO INCORRECTO","FORMATO INCORRECTO","FORMATO INCORRECTO",{"$f":"IF(L4976=\"\",\"\",IF(ISERROR(edata(L4976)),\"FORMATO INCORRECTO\",\"FORMATO CORRECTO\"))","v":""},{"$f":"IF(U4976=\"\",\"\",IF(ISERROR(edata(U4976)),\"FORMATO INCORRECTO\",\"FORMATO CORRECTO\"))","v":""},{"$f":"IF(N4976=\"\",\"\",IF(ISERROR(edata(N4976)),\"FORMATO INCORRECTO\",\"FORMATO CORRECTO\"))","v":""}]
["1924-07-27","",null,null,null,null,null,null,"",null,null,null,null,null,null,null,null,"",null,null,null,null,null,null,null,null,"",null,"",null,null,"",null,null,null,null,null,0,0,0,0,0,{"$f":"IF(AO4977<>0,SUMIFS($AP$6:$AP$1001,$AN$6:$AN$1001,AN4977,$F$6:$F$1001,F4977,$AX$6:$AX$1001,AX4977),0)","v":0},0,{"$f":"IF(AO4977<>0,SUMIFS($AP$6:$AP$1001,$AR$6:$AR$1001,AR4977,$F$6:$F$1001,F4977,$AX$6:$AX$1001,AX4977),0)","v":0},0,0,0,{"$f":"IF(AU4977<>0,SUMIFS($AV$6:$AV$1001,$AT$6:$AT$1001,AT4977,$F$6:$F$1001,F4977,$AY$6:$AY$1001,AY4977),0)","v":0},1900,1900,0,0,0,0,0,0,0,0,0,"","",0,0,0,"FORMATO INCORRECTO","FORMATO INCORRECTO","FORMATO INCORRECTO",{"$f":"IF(L4977=\"\",\"\",IF(ISERROR(edata(L4977)),\"FORMATO INCORRECTO\",\"FORMATO CORRECTO\"))","v":""},{"$f":"IF(U4977=\"\",\"\",IF(ISERROR(edata(U4977)),\"FORMATO INCORRECTO\",\"FORMATO CORRECTO\"))","v":""},{"$f":"IF(N4977=\"\",\"\",IF(ISERROR(edata(N4977)),\"FORMATO INCORRECTO\",\"FORMATO CORRECTO\"))","v":""}]
["1924-07-28","",null,null,null,null,null,null,"",null,null,null,null,null,null,null,null,"",null,null,null,null,null,null,null,null,"",null,"",null,null,"",null,null,null,null,null,0,0,0,0,0,{"$f":"IF(AO4978<>0,SUMIFS($AP$6:$AP$1001,$AN$6:$AN$1001,AN4978,$F$6:$F$1001,F4978,$AX$6:$AX$1001,AX4978),0)","v":0},0,{"$f":"IF(AO4978<>0,SUMIFS($AP$6:$AP$1001,$AR$6:$AR$1001,AR4978,$F$6:$F$1001,F4978,$AX$6:$AX$1001,AX4978),0)","v":0},0,0,0,{"$f":"IF(AU4978<>0,SUMIFS($AV$6:$AV$1001,$AT$6:$AT$1001,AT4978,$F$6:$F$1001,F4978,$AY$6:$AY$1001,AY4978),0)","v":0},1900,1900,0,0,0,0,0,0,0,0,0,"","",0,0,0,"FORMATO INCORRECTO","FORMATO INCORRECTO","FORMATO INCORRECTO",{"$f":"IF(L4978=\"\",\"\",IF(ISERROR(edata(L4978)),\"FORMATO INCORRECTO\",\"FORMATO CORRECTO\"))","v":""},{"$f":"IF(U4978=\"\",\"\",IF(ISERROR(edata(U4978)),\"FORMATO INCORRECTO\",\"FORMATO CORRECTO\"))","v":""},{"$f":"IF(N4978=\"\",\"\",IF(ISERROR(edata(N4978)),\"FORMATO INCORRECTO\",\"FORMATO CORRECTO\"))","v":""}]
["1924-07-29","",null,null,null,null,null,null,"",null,null,null,null,null,null,null,null,"",null,null,null,null,null,null,null,null,"",null,"",null,null,"",null,null,null,null,null,0,0,0,0,0,{"$f":"IF(AO4979<>0,SUMIFS($AP$6:$AP$1001,$AN$6:$AN$1001,AN4979,$F$6:$F$1001,F4979,$AX$6:$AX$1001,AX4979),0)","v":0},0,{"$f":"IF(AO4979<>0,SUMIFS($AP$6:$AP$1001,$AR$6:$AR$1001,AR4979,$F$6:$F$1001,F4979,$AX$6:$AX$1001,AX4979),0)","v":0},0,0,0,{"$f":"IF(AU4979<>0,SUMIFS($AV$6:$AV$1001,$AT$6:$AT$1001,AT4979,$F$6:$F$1001,F4979,$AY$6:$AY$1001,AY4979),0)","v":0},1900,1900,0,0,0,0,0,0,0,0,0,"","",0,0,0,"FORMATO INCORRECTO","FORMATO INCORRECTO","FORMATO INCORRECTO",{"$f":"IF(L4979=\"\",\"\",IF(ISERROR(edata(L4979)),\"FORMATO INCORRECTO\",\"FORMATO CORRECTO\"))","v":""},{"$f":"IF(U4979=\"\",\"\",IF(ISERROR(edata(U4979)),\"FORMATO INCORRECTO\",\"FORMATO CORRECTO\"))","v":""},{"$f":"IF(N4979=\"\",\"\",IF(ISERROR(edata(N4979)),\"FORMATO INCORRECTO\",\"FORMATO CORRECTO\"))","v":""}]
["1924-07-30","",null,null,null,null,null,null,"",null,null,null,null,null,null,null,null,"",null,null,null,null,null,null,null,null,"",null,"",null,null,"",null,null,null,null,null,0,0,0,0,0,{"$f":"IF(AO4980<>0,SUMIFS($AP$6:$AP$1001,$AN$6:$AN$1001,AN4980,$F$6:$F$1001,F4980,$AX$6:$AX$1001,AX4980),0)","v":0},0,{"$f":"IF(AO4980<>0,SUMIFS($AP$6:$AP$1001,$AR$6:$AR$1001,AR4980,$F$6:$F$1001,F4980,$AX$6:$AX$1001,AX4980),0)","v":0},0,0,0,{"$f":"IF(AU4980<>0,SUMIFS($AV$6:$AV$1001,$AT$6:$AT$1001,AT4980,$F$6:$F$1001,F4980,$AY$6:$AY$1001,AY4980),0)","v":0},1900,1900,0,0,0,0,0,0,0,0,0,"","",0,0,0,"FORMATO INCORRECTO","FORMATO INCORRECTO","FORMATO INCORRECTO",{"$f":"IF(L4980=\"\",\"\",IF(ISERROR(edata(L4980)),\"FORMATO INCORRECTO\",\"FORMATO CORRECTO\"))","v":""},{"$f":"IF(U4980=\"\",\"\",IF(ISERROR(edata(U4980)),\"FORMATO INCORRECTO\",\"FORMATO CORRECTO\"))","v":""},{"$f":"IF(N4980=\"\",\"\",IF(ISERROR(edata(N4980)),\"FORMATO INCORRECTO\",\"FORMATO CORRECTO\"))","v":""}]
["1924-07-31","",null,null,null,null,null,null,"",null,null,null,null,null,null,null,null,"",null,null,null,null,null,null,null,null,"",null,"",null,null,"",null,null,null,null,null,0,0,0,0,0,{"$f":"IF(AO4981<>0,SUMIFS($AP$6:$AP$1001,$AN$6:$AN$1001,AN4981,$F$6:$F$1001,F4981,$AX$6:$AX$1001,AX4981),0)","v":0},0,{"$f":"IF(AO4981<>0,SUMIFS($AP$6:$AP$1001,$AR$6:$AR$1001,AR4981,$F$6:$F$1001,F4981,$AX$6:$AX$1001,AX4981),0)","v":0},0,0,0,{"$f":"IF(AU4981<>0,SUMIFS($AV$6:$AV$1001,$AT$6:$AT$1001,AT4981,$F$6:$F$1001,F4981,$AY$6:$AY$1001,AY4981),0)","v":0},1900,1900,0,0,0,0,0,0,0,0,0,"","",0,0,0,"FORMATO INCORRECTO","FORMATO INCORRECTO","FORMATO INCORRECTO",{"$f":"IF(L4981=\"\",\"\",IF(ISERROR(edata(L4981)),\"FORMATO INCORRECTO\",\"FORMATO CORRECTO\"))","v":""},{"$f":"IF(U4981=\"\",\"\",IF(ISERROR(edata(U4981)),\"FORMATO INCORRECTO\",\"FORMATO CORRECTO\"))","v":""},{"$f":"IF(N4981=\"\",\"\",IF(ISERROR(edata(N4981)),\"FORMATO INCORRECTO\",\"FORMATO CORRECTO\"))","v":""}]
["1924-08-01","",null,null,null,null,null,null,"",null,null,null,null,null,null,null,null,"",null,null,null,null,null,null,null,null,"",null,"",null,null,"",null,null,null,null,null,0,0,0,0,0,{"$f":"IF(AO4982<>0,SUMIFS($AP$6:$AP$1001,$AN$6:$AN$1001,AN4982,$F$6:$F$1001,F4982,$AX$6:$AX$1001,AX4982),0)","v":0},0,{"$f":"IF(AO4982<>0,SUMIFS($AP$6:$AP$1001,$AR$6:$AR$1001,AR4982,$F$6:$F$1001,F4982,$AX$6:$AX$1001,AX4982),0)","v":0},0,0,0,{"$f":"IF(AU4982<>0,SUMIFS($AV$6:$AV$1001,$AT$6:$AT$1001,AT4982,$F$6:$F$1001,F4982,$AY$6:$AY$1001,AY4982),0)","v":0},1900,1900,0,0,0,0,0,0,0,0,0,"","",0,0,0,"FORMATO INCORRECTO","FORMATO INCORRECTO","FORMATO INCORRECTO",{"$f":"IF(L4982=\"\",\"\",IF(ISERROR(edata(L4982)),\"FORMATO INCORRECTO\",\"FORMATO CORRECTO\"))","v":""},{"$f":"IF(U4982=\"\",\"\",IF(ISERROR(edata(U4982)),\"FORMATO INCORRECTO\",\"FORMATO CORRECTO\"))","v":""},{"$f":"IF(N4982=\"\",\"\",IF(ISERROR(edata(N4982)),\"FORMATO INCORRECTO\",\"FORMATO CORRECTO\"))","v":""}]
["1924-08-02","",null,null,null,null,null,null,"",null,null,null,null,null,null,null,null,"",null,null,null,null,null,null,null,null,"",null,"",null,null,"",null,null,null,null,null,0,0,0,0,0,{"$f":"IF(AO4983<>0,SUMIFS($AP$6:$AP$1001,$AN$6:$AN$1001,AN4983,$F$6:$F$1001,F4983,$AX$6:$AX$1001,AX4983),0)","v":0},0,{"$f":"IF(AO4983<>0,SUMIFS($AP$6:$AP$1001,$AR$6:$AR$1001,AR4983,$F$6:$F$1001,F4983,$AX$6:$AX$1001,AX4983),0)","v":0},0,0,0,{"$f":"IF(AU4983<>0,SUMIFS($AV$6:$AV$1001,$AT$6:$AT$1001,AT4983,$F$6:$F$1001,F4983,$AY$6:$AY$1001,AY4983),0)","v":0},1900,1900,0,0,0,0,0,0,0,0,0,"","",0,0,0,"FORMATO INCORRECTO","FORMATO INCORRECTO","FORMATO INCORRECTO",{"$f":"IF(L4983=\"\",\"\",IF(ISERROR(edata(L4983)),\"FORMATO INCORRECTO\",\"FORMATO CORRECTO\"))","v":""},{"$f":"IF(U4983=\"\",\"\",IF(ISERROR(edata(U4983)),\"FORMATO INCORRECTO\",\"FORMATO CORRECTO\"))","v":""},{"$f":"IF(N4983=\"\",\"\",IF(ISERROR(edata(N4983)),\"FORMATO INCORRECTO\",\"FORMATO CORRECTO\"))","v":""}]
["1924-08-03","",null,null,null,null,null,null,"",null,null,null,null,null,null,null,null,"",null,null,null,null,null,null,null,null,"",null,"",null,null,"",null,null,null,null,null,0,0,0,0,0,{"$f":"IF(AO4984<>0,SUMIFS($AP$6:$AP$1001,$AN$6:$AN$1001,AN4984,$F$6:$F$1001,F4984,$AX$6:$AX$1001,AX4984),0)","v":0},0,{"$f":"IF(AO4984<>0,SUMIFS($AP$6:$AP$1001,$AR$6:$AR$1001,AR4984,$F$6:$F$1001,F4984,$AX$6:$AX$1001,AX4984),0)","v":0},0,0,0,{"$f":"IF(AU4984<>0,SUMIFS($AV$6:$AV$1001,$AT$6:$AT$1001,AT4984,$F$6:$F$1001,F4984,$AY$6:$AY$1001,AY4984),0)","v":0},1900,1900,0,0,0,0,0,0,0,0,0,"","",0,0,0,"FORMATO INCORRECTO","FORMATO INCORRECTO","FORMATO INCORRECTO",{"$f":"IF(L4984=\"\",\"\",IF(ISERROR(edata(L4984)),\"FORMATO INCORRECTO\",\"FORMATO CORRECTO\"))","v":""},{"$f":"IF(U4984=\"\",\"\",IF(ISERROR(edata(U4984)),\"FORMATO INCORRECTO\",\"FORMATO CORRECTO\"))","v":""},{"$f":"IF(N4984=\"\",\"\",IF(ISERROR(edata(N4984)),\"FORMATO INCORRECTO\",\"FORMATO CORRECTO\"))","v":""}]
["1924-08-04","",null,null,null,null,null,null,"",null,null,null,null,null,null,null,null,"",null,null,null,null,null,null,null,null,"",null,"",null,null,"",null,null,null,null,null,0,0,0,0,0,{"$f":"IF(AO4985<>0,SUMIFS($AP$6:$AP$1001,$AN$6:$AN$1001,AN4985,$F$6:$F$1001,F4985,$AX$6:$AX$1001,AX4985),0)","v":0},0,{"$f":"IF(AO4985<>0,SUMIFS($AP$6:$AP$1001,$AR$6:$AR$1001,AR4985,$F$6:$F$1001,F4985,$AX$6:$AX$1001,AX4985),0)","v":0},0,0,0,{"$f":"IF(AU4985<>0,SUMIFS($AV$6:$AV$1001,$AT$6:$AT$1001,AT4985,$F$6:$F$1001,F4985,$AY$6:$AY$1001,AY4985),0)","v":0},1900,1900,0,0,0,0,0,0,0,0,0,"","",0,0,0,"FORMATO INCORRECTO","FORMATO INCORRECTO","FORMATO INCORRECTO",{"$f":"IF(L4985=\"\",\"\",IF(ISERROR(edata(L4985)),\"FORMATO INCORRECTO\",\"FORMATO CORRECTO\"))","v":""},{"$f":"IF(U4985=\"\",\"\",IF(ISERROR(edata(U4985)),\"FORMATO INCORRECTO\",\"FORMATO CORRECTO\"))","v":""},{"$f":"IF(N4985=\"\",\"\",IF(ISERROR(edata(N4985)),\"FORMATO INCORRECTO\",\"FORMATO CORRECTO\"))","v":""}]
["1924-08-05","",null,null,null,null,null,null,"",null,null,null,null,null,null,null,null,"",null,null,null,null,null,null,null,null,"",null,"",null,null,"",null,null,null,null,null,0,0,0,0,0,{"$f":"IF(AO4986<>0,SUMIFS($AP$6:$AP$1001,$AN$6:$AN$1001,AN4986,$F$6:$F$1001,F4986,$AX$6:$AX$1001,AX4986),0)","v":0},0,{"$f":"IF(AO4986<>0,SUMIFS($AP$6:$AP$1001,$AR$6:$AR$1001,AR4986,$F$6:$F$1001,F4986,$AX$6:$AX$1001,AX4986),0)","v":0},0,0,0,{"$f":"IF(AU4986<>0,SUMIFS($AV$6:$AV$1001,$AT$6:$AT$1001,AT4986,$F$6:$F$1001,F4986,$AY$6:$AY$1001,AY4986),0)","v":0},1900,1900,0,0,0,0,0,0,0,0,0,"","",0,0,0,"FORMATO INCORRECTO","FORMATO INCORRECTO","FORMATO INCORRECTO",{"$f":"IF(L4986=\"\",\"\",IF(ISERROR(edata(L4986)),\"FORMATO INCORRECTO\",\"FORMATO CORRECTO\"))","v":""},{"$f":"IF(U4986=\"\",\"\",IF(ISERROR(edata(U4986)),\"FORMATO INCORRECTO\",\"FORMATO CORRECTO\"))","v":""},{"$f":"IF(N4986=\"\",\"\",IF(ISERROR(edata(N4986)),\"FORMATO INCORRECTO\",\"FORMATO CORRECTO\"))","v":""}]
["1924-08-06","",null,null,null,null,null,null,"",null,null,null,null,null,null,null,null,"",null,null,null,null,null,null,null,null,"",null,"",null,null,"",null,null,null,null,null,0,0,0,0,0,{"$f":"IF(AO4987<>0,SUMIFS($AP$6:$AP$1001,$AN$6:$AN$1001,AN4987,$F$6:$F$1001,F4987,$AX$6:$AX$1001,AX4987),0)","v":0},0,{"$f":"IF(AO4987<>0,SUMIFS($AP$6:$AP$1001,$AR$6:$AR$1001,AR4987,$F$6:$F$1001,F4987,$AX$6:$AX$1001,AX4987),0)","v":0},0,0,0,{"$f":"IF(AU4987<>0,SUMIFS($AV$6:$AV$1001,$AT$6:$AT$1001,AT4987,$F$6:$F$1001,F4987,$AY$6:$AY$1001,AY4987),0)","v":0},1900,1900,0,0,0,0,0,0,0,0,0,"","",0,0,0,"FORMATO INCORRECTO","FORMATO INCORRECTO","FORMATO INCORRECTO",{"$f":"IF(L4987=\"\",\"\",IF(ISERROR(edata(L4987)),\"FORMATO INCORRECTO\",\"FORMATO CORRECTO\"))","v":""},{"$f":"IF(U4987=\"\",\"\",IF(ISERROR(edata(U4987)),\"FORMATO INCORRECTO\",\"FORMATO CORRECTO\"))","v":""},{"$f":"IF(N4987=\"\",\"\",IF(ISERROR(edata(N4987)),\"FORMATO INCORRECTO\",\"FORMATO CORRECTO\"))","v":""}]
["1924-08-07","",null,null,null,null,null,null,"",null,null,null,null,null,null,null,null,"",null,null,null,null,null,null,null,null,"",null,"",null,null,"",null,null,null,null,null,0,0,0,0,0,{"$f":"IF(AO4988<>0,SUMIFS($AP$6:$AP$1001,$AN$6:$AN$1001,AN4988,$F$6:$F$1001,F4988,$AX$6:$AX$1001,AX4988),0)","v":0},0,{"$f":"IF(AO4988<>0,SUMIFS($AP$6:$AP$1001,$AR$6:$AR$1001,AR4988,$F$6:$F$1001,F4988,$AX$6:$AX$1001,AX4988),0)","v":0},0,0,0,{"$f":"IF(AU4988<>0,SUMIFS($AV$6:$AV$1001,$AT$6:$AT$1001,AT4988,$F$6:$F$1001,F4988,$AY$6:$AY$1001,AY4988),0)","v":0},1900,1900,0,0,0,0,0,0,0,0,0,"","",0,0,0,"FORMATO INCORRECTO","FORMATO INCORRECTO","FORMATO INCORRECTO",{"$f":"IF(L4988=\"\",\"\",IF(ISERROR(edata(L4988)),\"FORMATO INCORRECTO\",\"FORMATO CORRECTO\"))","v":""},{"$f":"IF(U4988=\"\",\"\",IF(ISERROR(edata(U4988)),\"FORMATO INCORRECTO\",\"FORMATO CORRECTO\"))","v":""},{"$f":"IF(N4988=\"\",\"\",IF(ISERROR(edata(N4988)),\"FORMATO INCORRECTO\",\"FORMATO CORRECTO\"))","v":""}]
["1924-08-08","",null,null,null,null,null,null,"",null,null,null,null,null,null,null,null,"",null,null,null,null,null,null,null,null,"",null,"",null,null,"",null,null,null,null,null,0,0,0,0,0,{"$f":"IF(AO4989<>0,SUMIFS($AP$6:$AP$1001,$AN$6:$AN$1001,AN4989,$F$6:$F$1001,F4989,$AX$6:$AX$1001,AX4989),0)","v":0},0,{"$f":"IF(AO4989<>0,SUMIFS($AP$6:$AP$1001,$AR$6:$AR$1001,AR4989,$F$6:$F$1001,F4989,$AX$6:$AX$1001,AX4989),0)","v":0},0,0,0,{"$f":"IF(AU4989<>0,SUMIFS($AV$6:$AV$1001,$AT$6:$AT$1001,AT4989,$F$6:$F$1001,F4989,$AY$6:$AY$1001,AY4989),0)","v":0},1900,1900,0,0,0,0,0,0,0,0,0,"","",0,0,0,"FORMATO INCORRECTO","FORMATO INCORRECTO","FORMATO INCORRECTO",{"$f":"IF(L4989=\"\",\"\",IF(ISERROR(edata(L4989)),\"FORMATO INCORRECTO\",\"FORMATO CORRECTO\"))","v":""},{"$f":"IF(U4989=\"\",\"\",IF(ISERROR(edata(U4989)),\"FORMATO INCORRECTO\",\"FORMATO CORRECTO\"))","v":""},{"$f":"IF(N4989=\"\",\"\",IF(ISERROR(edata(N4989)),\"FORMATO INCORRECTO\",\"FORMATO CORRECTO\"))","v":""}]
["1924-08-09","",null,null,null,null,null,null,"",null,null,null,null,null,null,null,null,"",null,null,null,null,null,null,null,null,"",null,"",null,null,"",null,null,null,null,null,0,0,0,0,0,{"$f":"IF(AO4990<>0,SUMIFS($AP$6:$AP$1001,$AN$6:$AN$1001,AN4990,$F$6:$F$1001,F4990,$AX$6:$AX$1001,AX4990),0)","v":0},0,{"$f":"IF(AO4990<>0,SUMIFS($AP$6:$AP$1001,$AR$6:$AR$1001,AR4990,$F$6:$F$1001,F4990,$AX$6:$AX$1001,AX4990),0)","v":0},0,0,0,{"$f":"IF(AU4990<>0,SUMIFS($AV$6:$AV$1001,$AT$6:$AT$1001,AT4990,$F$6:$F$1001,F4990,$AY$6:$AY$1001,AY4990),0)","v":0},1900,1900,0,0,0,0,0,0,0,0,0,"","",0,0,0,"FORMATO INCORRECTO","FORMATO INCORRECTO","FORMATO INCORRECTO",{"$f":"IF(L4990=\"\",\"\",IF(ISERROR(edata(L4990)),\"FORMATO INCORRECTO\",\"FORMATO CORRECTO\"))","v":""},{"$f":"IF(U4990=\"\",\"\",IF(ISERROR(edata(U4990)),\"FORMATO INCORRECTO\",\"FORMATO CORRECTO\"))","v":""},{"$f":"IF(N4990=\"\",\"\",IF(ISERROR(edata(N4990)),\"FORMATO INCORRECTO\",\"FORMATO CORRECTO\"))","v":""}]
["1924-08-10","",null,null,null,null,null,null,"",null,null,null,null,null,null,null,null,"",null,null,null,null,null,null,null,null,"",null,"",null,null,"",null,null,null,null,null,0,0,0,0,0,{"$f":"IF(AO4991<>0,SUMIFS($AP$6:$AP$1001,$AN$6:$AN$1001,AN4991,$F$6:$F$1001,F4991,$AX$6:$AX$1001,AX4991),0)","v":0},0,{"$f":"IF(AO4991<>0,SUMIFS($AP$6:$AP$1001,$AR$6:$AR$1001,AR4991,$F$6:$F$1001,F4991,$AX$6:$AX$1001,AX4991),0)","v":0},0,0,0,{"$f":"IF(AU4991<>0,SUMIFS($AV$6:$AV$1001,$AT$6:$AT$1001,AT4991,$F$6:$F$1001,F4991,$AY$6:$AY$1001,AY4991),0)","v":0},1900,1900,0,0,0,0,0,0,0,0,0,"","",0,0,0,"FORMATO INCORRECTO","FORMATO INCORRECTO","FORMATO INCORRECTO",{"$f":"IF(L4991=\"\",\"\",IF(ISERROR(edata(L4991)),\"FORMATO INCORRECTO\",\"FORMATO CORRECTO\"))","v":""},{"$f":"IF(U4991=\"\",\"\",IF(ISERROR(edata(U4991)),\"FORMATO INCORRECTO\",\"FORMATO CORRECTO\"))","v":""},{"$f":"IF(N4991=\"\",\"\",IF(ISERROR(edata(N4991)),\"FORMATO INCORRECTO\",\"FORMATO CORRECTO\"))","v":""}]
["1924-08-11","",null,null,null,null,null,null,"",null,null,null,null,null,null,null,null,"",null,null,null,null,null,null,null,null,"",null,"",null,null,"",null,null,null,null,null,0,0,0,0,0,{"$f":"IF(AO4992<>0,SUMIFS($AP$6:$AP$1001,$AN$6:$AN$1001,AN4992,$F$6:$F$1001,F4992,$AX$6:$AX$1001,AX4992),0)","v":0},0,{"$f":"IF(AO4992<>0,SUMIFS($AP$6:$AP$1001,$AR$6:$AR$1001,AR4992,$F$6:$F$1001,F4992,$AX$6:$AX$1001,AX4992),0)","v":0},0,0,0,{"$f":"IF(AU4992<>0,SUMIFS($AV$6:$AV$1001,$AT$6:$AT$1001,AT4992,$F$6:$F$1001,F4992,$AY$6:$AY$1001,AY4992),0)","v":0},1900,1900,0,0,0,0,0,0,0,0,0,"","",0,0,0,"FORMATO INCORRECTO","FORMATO INCORRECTO","FORMATO INCORRECTO",{"$f":"IF(L4992=\"\",\"\",IF(ISERROR(edata(L4992)),\"FORMATO INCORRECTO\",\"FORMATO CORRECTO\"))","v":""},{"$f":"IF(U4992=\"\",\"\",IF(ISERROR(edata(U4992)),\"FORMATO INCORRECTO\",\"FORMATO CORRECTO\"))","v":""},{"$f":"IF(N4992=\"\",\"\",IF(ISERROR(edata(N4992)),\"FORMATO INCORRECTO\",\"FORMATO CORRECTO\"))","v":""}]
["1924-08-12","",null,null,null,null,null,null,"",null,null,null,null,null,null,null,null,"",null,null,null,null,null,null,null,null,"",null,"",null,null,"",null,null,null,null,null,0,0,0,0,0,{"$f":"IF(AO4993<>0,SUMIFS($AP$6:$AP$1001,$AN$6:$AN$1001,AN4993,$F$6:$F$1001,F4993,$AX$6:$AX$1001,AX4993),0)","v":0},0,{"$f":"IF(AO4993<>0,SUMIFS($AP$6:$AP$1001,$AR$6:$AR$1001,AR4993,$F$6:$F$1001,F4993,$AX$6:$AX$1001,AX4993),0)","v":0},0,0,0,{"$f":"IF(AU4993<>0,SUMIFS($AV$6:$AV$1001,$AT$6:$AT$1001,AT4993,$F$6:$F$1001,F4993,$AY$6:$AY$1001,AY4993),0)","v":0},1900,1900,0,0,0,0,0,0,0,0,0,"","",0,0,0,"FORMATO INCORRECTO","FORMATO INCORRECTO","FORMATO INCORRECTO",{"$f":"IF(L4993=\"\",\"\",IF(ISERROR(edata(L4993)),\"FORMATO INCORRECTO\",\"FORMATO CORRECTO\"))","v":""},{"$f":"IF(U4993=\"\",\"\",IF(ISERROR(edata(U4993)),\"FORMATO INCORRECTO\",\"FORMATO CORRECTO\"))","v":""},{"$f":"IF(N4993=\"\",\"\",IF(ISERROR(edata(N4993)),\"FORMATO INCORRECTO\",\"FORMATO CORRECTO\"))","v":""}]
["1924-08-13","",null,null,null,null,null,null,"",null,null,null,null,null,null,null,null,"",null,null,null,null,null,null,null,null,"",null,"",null,null,"",null,null,null,null,null,0,0,0,0,0,{"$f":"IF(AO4994<>0,SUMIFS($AP$6:$AP$1001,$AN$6:$AN$1001,AN4994,$F$6:$F$1001,F4994,$AX$6:$AX$1001,AX4994),0)","v":0},0,{"$f":"IF(AO4994<>0,SUMIFS($AP$6:$AP$1001,$AR$6:$AR$1001,AR4994,$F$6:$F$1001,F4994,$AX$6:$AX$1001,AX4994),0)","v":0},0,0,0,{"$f":"IF(AU4994<>0,SUMIFS($AV$6:$AV$1001,$AT$6:$AT$1001,AT4994,$F$6:$F$1001,F4994,$AY$6:$AY$1001,AY4994),0)","v":0},1900,1900,0,0,0,0,0,0,0,0,0,"","",0,0,0,"FORMATO INCORRECTO","FORMATO INCORRECTO","FORMATO INCORRECTO",{"$f":"IF(L4994=\"\",\"\",IF(ISERROR(edata(L4994)),\"FORMATO INCORRECTO\",\"FORMATO CORRECTO\"))","v":""},{"$f":"IF(U4994=\"\",\"\",IF(ISERROR(edata(U4994)),\"FORMATO INCORRECTO\",\"FORMATO CORRECTO\"))","v":""},{"$f":"IF(N4994=\"\",\"\",IF(ISERROR(edata(N4994)),\"FORMATO INCORRECTO\",\"FORMATO CORRECTO\"))","v":""}]
["1924-08-14","",null,null,null,null,null,null,"",null,null,null,null,null,null,null,null,"",null,null,null,null,null,null,null,null,"",null,"",null,null,"",null,null,null,null,null,0,0,0,0,0,{"$f":"IF(AO4995<>0,SUMIFS($AP$6:$AP$1001,$AN$6:$AN$1001,AN4995,$F$6:$F$1001,F4995,$AX$6:$AX$1001,AX4995),0)","v":0},0,{"$f":"IF(AO4995<>0,SUMIFS($AP$6:$AP$1001,$AR$6:$AR$1001,AR4995,$F$6:$F$1001,F4995,$AX$6:$AX$1001,AX4995),0)","v":0},0,0,0,{"$f":"IF(AU4995<>0,SUMIFS($AV$6:$AV$1001,$AT$6:$AT$1001,AT4995,$F$6:$F$1001,F4995,$AY$6:$AY$1001,AY4995),0)","v":0},1900,1900,0,0,0,0,0,0,0,0,0,"","",0,0,0,"FORMATO INCORRECTO","FORMATO INCORRECTO","FORMATO INCORRECTO",{"$f":"IF(L4995=\"\",\"\",IF(ISERROR(edata(L4995)),\"FORMATO INCORRECTO\",\"FORMATO CORRECTO\"))","v":""},{"$f":"IF(U4995=\"\",\"\",IF(ISERROR(edata(U4995)),\"FORMATO INCORRECTO\",\"FORMATO CORRECTO\"))","v":""},{"$f":"IF(N4995=\"\",\"\",IF(ISERROR(edata(N4995)),\"FORMATO INCORRECTO\",\"FORMATO CORRECTO\"))","v":""}]
["1924-08-15","",null,null,null,null,null,null,"",null,null,null,null,null,null,null,null,"",null,null,null,null,null,null,null,null,"",null,"",null,null,"",null,null,null,null,null,0,0,0,0,0,{"$f":"IF(AO4996<>0,SUMIFS($AP$6:$AP$1001,$AN$6:$AN$1001,AN4996,$F$6:$F$1001,F4996,$AX$6:$AX$1001,AX4996),0)","v":0},0,{"$f":"IF(AO4996<>0,SUMIFS($AP$6:$AP$1001,$AR$6:$AR$1001,AR4996,$F$6:$F$1001,F4996,$AX$6:$AX$1001,AX4996),0)","v":0},0,0,0,{"$f":"IF(AU4996<>0,SUMIFS($AV$6:$AV$1001,$AT$6:$AT$1001,AT4996,$F$6:$F$1001,F4996,$AY$6:$AY$1001,AY4996),0)","v":0},1900,1900,0,0,0,0,0,0,0,0,0,"","",0,0,0,"FORMATO INCORRECTO","FORMATO INCORRECTO","FORMATO INCORRECTO",{"$f":"IF(L4996=\"\",\"\",IF(ISERROR(edata(L4996)),\"FORMATO INCORRECTO\",\"FORMATO CORRECTO\"))","v":""},{"$f":"IF(U4996=\"\",\"\",IF(ISERROR(edata(U4996)),\"FORMATO INCORRECTO\",\"FORMATO CORRECTO\"))","v":""},{"$f":"IF(N4996=\"\",\"\",IF(ISERROR(edata(N4996)),\"FORMATO INCORRECTO\",\"FORMATO CORRECTO\"))","v":""}]
["1924-08-16","",null,null,null,null,null,null,"",null,null,null,null,null,null,null,null,"",null,null,null,null,null,null,null,null,"",null,"",null,null,"",null,null,null,null,null,0,0,0,0,0,{"$f":"IF(AO4997<>0,SUMIFS($AP$6:$AP$1001,$AN$6:$AN$1001,AN4997,$F$6:$F$1001,F4997,$AX$6:$AX$1001,AX4997),0)","v":0},0,{"$f":"IF(AO4997<>0,SUMIFS($AP$6:$AP$1001,$AR$6:$AR$1001,AR4997,$F$6:$F$1001,F4997,$AX$6:$AX$1001,AX4997),0)","v":0},0,0,0,{"$f":"IF(AU4997<>0,SUMIFS($AV$6:$AV$1001,$AT$6:$AT$1001,AT4997,$F$6:$F$1001,F4997,$AY$6:$AY$1001,AY4997),0)","v":0},1900,1900,0,0,0,0,0,0,0,0,0,"","",0,0,0,"FORMATO INCORRECTO","FORMATO INCORRECTO","FORMATO INCORRECTO",{"$f":"IF(L4997=\"\",\"\",IF(ISERROR(edata(L4997)),\"FORMATO INCORRECTO\",\"FORMATO CORRECTO\"))","v":""},{"$f":"IF(U4997=\"\",\"\",IF(ISERROR(edata(U4997)),\"FORMATO INCORRECTO\",\"FORMATO CORRECTO\"))","v":""},{"$f":"IF(N4997=\"\",\"\",IF(ISERROR(edata(N4997)),\"FORMATO INCORRECTO\",\"FORMATO CORRECTO\"))","v":""}]
["1924-08-17","",null,null,null,null,null,null,"",null,null,null,null,null,null,null,null,"",null,null,null,null,null,null,null,null,"",null,"",null,null,"",null,null,null,null,null,0,0,0,0,0,{"$f":"IF(AO4998<>0,SUMIFS($AP$6:$AP$1001,$AN$6:$AN$1001,AN4998,$F$6:$F$1001,F4998,$AX$6:$AX$1001,AX4998),0)","v":0},0,{"$f":"IF(AO4998<>0,SUMIFS($AP$6:$AP$1001,$AR$6:$AR$1001,AR4998,$F$6:$F$1001,F4998,$AX$6:$AX$1001,AX4998),0)","v":0},0,0,0,{"$f":"IF(AU4998<>0,SUMIFS($AV$6:$AV$1001,$AT$6:$AT$1001,AT4998,$F$6:$F$1001,F4998,$AY$6:$AY$1001,AY4998),0)","v":0},1900,1900,0,0,0,0,0,0,0,0,0,"","",0,0,0,"FORMATO INCORRECTO","FORMATO INCORRECTO","FORMATO INCORRECTO",{"$f":"IF(L4998=\"\",\"\",IF(ISERROR(edata(L4998)),\"FORMATO INCORRECTO\",\"FORMATO CORRECTO\"))","v":""},{"$f":"IF(U4998=\"\",\"\",IF(ISERROR(edata(U4998)),\"FORMATO INCORRECTO\",\"FORMATO CORRECTO\"))","v":""},{"$f":"IF(N4998=\"\",\"\",IF(ISERROR(edata(N4998)),\"FORMATO INCORRECTO\",\"FORMATO CORRECTO\"))","v":""}]
["1924-08-18","",null,null,null,null,null,null,"",null,null,null,null,null,null,null,null,"",null,null,null,null,null,null,null,null,"",null,"",null,null,"",null,null,null,null,null,0,0,0,0,0,{"$f":"IF(AO4999<>0,SUMIFS($AP$6:$AP$1001,$AN$6:$AN$1001,AN4999,$F$6:$F$1001,F4999,$AX$6:$AX$1001,AX4999),0)","v":0},0,{"$f":"IF(AO4999<>0,SUMIFS($AP$6:$AP$1001,$AR$6:$AR$1001,AR4999,$F$6:$F$1001,F4999,$AX$6:$AX$1001,AX4999),0)","v":0},0,0,0,{"$f":"IF(AU4999<>0,SUMIFS($AV$6:$AV$1001,$AT$6:$AT$1001,AT4999,$F$6:$F$1001,F4999,$AY$6:$AY$1001,AY4999),0)","v":0},1900,1900,0,0,0,0,0,0,0,0,0,"","",0,0,0,"FORMATO INCORRECTO","FORMATO INCORRECTO","FORMATO INCORRECTO",{"$f":"IF(L4999=\"\",\"\",IF(ISERROR(edata(L4999)),\"FORMATO INCORRECTO\",\"FORMATO CORRECTO\"))","v":""},{"$f":"IF(U4999=\"\",\"\",IF(ISERROR(edata(U4999)),\"FORMATO INCORRECTO\",\"FORMATO CORRECTO\"))","v":""},{"$f":"IF(N4999=\"\",\"\",IF(ISERROR(edata(N4999)),\"FORMATO INCORRECTO\",\"FORMATO CORRECTO\"))","v":""}]
["1924-08-19","",null,null,null,null,null,null,"",null,null,null,null,null,null,null,null,"",null,null,null,null,null,null,null,null,"",null,"",null,null,"",null,null,null,null,null,0,0,0,0,0,{"$f":"IF(AO5000<>0,SUMIFS($AP$6:$AP$1001,$AN$6:$AN$1001,AN5000,$F$6:$F$1001,F5000,$AX$6:$AX$1001,AX5000),0)","v":0},0,{"$f":"IF(AO5000<>0,SUMIFS($AP$6:$AP$1001,$AR$6:$AR$1001,AR5000,$F$6:$F$1001,F5000,$AX$6:$AX$1001,AX5000),0)","v":0},0,0,0,{"$f":"IF(AU5000<>0,SUMIFS($AV$6:$AV$1001,$AT$6:$AT$1001,AT5000,$F$6:$F$1001,F5000,$AY$6:$AY$1001,AY5000),0)","v":0},1900,1900,0,0,0,0,0,0,0,0,0,"","",0,0,0,"FORMATO INCORRECTO","FORMATO INCORRECTO","FORMATO INCORRECTO",{"$f":"IF(L5000=\"\",\"\",IF(ISERROR(edata(L5000)),\"FORMATO INCORRECTO\",\"FORMATO CORRECTO\"))","v":""},{"$f":"IF(U5000=\"\",\"\",IF(ISERROR(edata(U5000)),\"FORMATO INCORRECTO\",\"FORMATO CORRECTO\"))","v":""},{"$f":"IF(N5000=\"\",\"\",IF(ISERROR(edata(N5000)),\"FORMATO INCORRECTO\",\"FORMATO CORRECTO\"))","v":""}]
["1913-09-08","_Fim","_Fim","_Fim","_Fim","_Fim","_Fim","_Fim","_Fim","_Fim","_Fim","_Fim","_Fim","_Fim","_Fim","_Fim","_Fim","_Fim","_Fim","_Fim","_Fim","_Fim","_Fim","_Fim","_Fim","_Fim","_Fim","_Fim","_Fim","_Fim","_Fim","_Fim","_Fim","_Fim",null,"_Fim",null,"_Fim","_Fim","_Fim","_Fim","_Fim","_Fim","_Fim",{"$f":"IF(AO5001<>0,SUMIFS($AP$6:$AP$1001,$AR$6:$AR$1001,AR5001,$F$6:$F$1001,F5001,$AX$6:$AX$1001,AX5001),0)","v":0},"_Fim","_Fim","_Fim","_Fim","_Fim","_Fim","_Fim",{"$f":"+AO5001","v":"_Fim"},{"$f":"+AP5001","v":"_Fim"},{"$f":"+AQ5001","v":"_Fim"},{"$f":"+AR5001","v":"_Fim"},{"$f":"+AS5001","v":0},"_Fim",{"$f":"+AU5001","v":"_Fim"},{"$f":"+AV5001","v":"_Fim"},{"$f":"+AW5001","v":"_Fim"},{"$f":"+AX5001","v":"_Fim"},{"$f":"+AY5001","v":"_Fim"},{"$f":"+AZ5001","v":"_Fim"},{"$f":"+BA5001","v":"_Fim"},{"$f":"+BB5001","v":"_Fim"},{"$f":"+BC5001","v":"_Fim"},{"$f":"+BD5001","v":"_Fim"},{"$f":"+BE5001","v":0},{"$f":"+BF5001","v":"_Fim"},{"$f":"+BG5001","v":"_Fim"}]

{"sheet":"FINANCIAMENTO","index":10,"n_rows":51,"n_cols":25,"rows_kept":51,"cut":false,"hidden":false,"merged":[[2,2,2,29],[7,3,7,8],[7,9,7,11],[7,12,7,14],[7,15,7,18],[7,19,7,23],[7,24,7,28],[10,3,10,8],[10,9,10,11],[10,12,10,14],[10,15,10,18],[10,19,10,23],[10,24,10,28],[8,3,8,28],[9,3,9,8],[9,9,9,11],[9,12,9,14],[9,15,9,18],[9,19,9,23],[9,24,9,28],[11,9,11,11],[11,12,11,14],[11,15,11,18],[11,19,11,23],[11,24,11,28],[12,3,12,8],[12,9,12,11],[12,12,12,14],[12,15,12,18],[12,19,12,23],[14,3,14,8],[14,9,14,11],[14,12,14,14],[14,15,14,18],[14,19,14,23],[14,24,14,28],[12,24,12,28],[13,3,13,8],[13,9,13,11],[13,12,13,14],[13,15,13,18],[13,19,13,23],[13,24,13,28],[16,3,16,28],[17,3,17,8],[17,9,17,11],[17,12,17,14],[17,15,17,18],[17,19,17,23],[17,24,17,28],[15,3,15,8],[15,9,15,11],[15,12,15,14],[15,15,15,18],[15,19,15,23],[15,24,15,28],[19,9,19,11],[19,12,19,14],[19,15,19,18],[19,19,19,23],[19,24,19,28],[18,3,18,8],[18,9,18,11],[18,12,18,14],[18,15,18,18],[18,19,18,23],[18,24,18,28],[21,3,21,8],[21,9,21,11],[21,12,21,14],[21,15,21,18],[21,19,21,23],[21,24,21,28],[20,3,20,8],[20,9,20,11],[20,12,20,14],[20,15,20,18],[20,19,20,23],[20,24,20,28],[23,3,23,8],[23,9,23,11],[23,12,23,14],[23,15,23,18],[23,19,23,23],[23,24,23,28],[22,3,22,8],[22,9,22,11],[22,12,22,14],[22,15,22,18],[22,19,22,23],[22,24,22,28],[25,3,25,8],[25,9,25,11],[25,12,25,14],[25,15,25,18],[25,19,25,23],[25,24,25,28],[24,3,24,8],[24,9,24,11],[24,12,24,14],[24,15,24,18],[24,19,24,23],[24,24,24,28],[27,3,27,8],[27,9,27,11],[27,12,27,14],[27,15,27,18],[27,19,27,23],[27,24,27,28],[26,3,26,8],[26,9,26,11],[26,12,26,14],[26,15,26,18],[26,19,26,23],[26,24,26,28],[29,3,29,28],[34,3,35,29],[36,3,36,9],[36,13,36,24],[38,21,38,23],[39,21,39,23],[28,3,28,8],[28,9,28,11],[28,12,28,14],[28,15,28,18],[28,19,28,23],[28,24,28,28],[45,23,45,27],[46,3,46,5],[47,13,50,27],[66,2,66,28],[68,2,68,28],[42,3,42,10],[42,13,42,21],[42,23,42,27],[43,13,43,21],[43,23,43,27],[44,3,44,5],[44,14,44,20],[44,23,44,27]]}
[]
[]
[null,null,"FINANCIAMENTO DO PROJECTO"]
[]
[]
[null,null,null," Estrutura de Financiamento (Recursos Financeiros)  "]
[null,null,null,"Este quadro é de preenchimento obrigatório com a apresentação do Pedido a Título de Reembolso Final"]
[null,null,null,"Fontes",null,null,null,null,null,"n",null,null,"n+1",null,null,"n+2",null,null,null,"Total",null,null,null,null,"% Investimento"]
[null,null,null,"1. Capitais Próprios (1)"]
[null,null,null,"Capital",null,null,null,null,null,null,null,null,null,null,null,null,null,null,null,{"$f":"SUM(J10:S10)","v":0},null,null,null,null,{"$f":"IF(ISERROR(T10/$T$29),\"0%\",T10/$T$29)","v":"0%"}]
[null,null,null,"Prestações Suplementares de Capital",null,null,null,null,null,null,null,null,null,null,null,null,null,null,null,{"$f":"SUM(J11:S11)","v":0},null,null,null,null,"0%"]
[null,null,null,"Surprimentos (2)",null,null,null,null,null,null,null,null,null,null,null,null,null,null,null,{"$f":"SUM(J12:S12)","v":0},null,null,null,null,"0%"]
[null,null,null,"Sub-Total (2)",null,null,null,null,null,{"$f":"SUM(J10:L12)","v":0},null,null,{"$f":"SUM(M10:O12)","v":0},null,null,{"$f":"SUM(P10:S12)","v":0},null,null,null,{"$f":"SUM(T10:X11)","v":0},null,null,null,null,"0%"]
[null,null,null,"2. Autofinanciamento (3)",null,null,null,null,null,null,null,null,null,null,null,null,null,null,null,{"$f":"SUM(J14:S14)","v":0},null,null,null,null,"0%"]
[null,null,null,"3. Outros (4)",null,null,null,null,null,null,null,null,null,null,null,null,null,null,null,{"$f":"SUM(J15:S15)","v":0},null,null,null,null,"0%"]
[null,null,null,"Sub-Total (3)",null,null,null,null,null,{"$f":"+J15+J14","v":0},null,null,{"$f":"+M15+M14","v":0},null,null,{"$f":"+P15+P14","v":0},null,null,null,{"$f":"+P16+M16+J16","v":0},null,null,null,null,"0%"]
[null,null,null,"4. Capitais Alheios"]
[null,null,null,"Dívidas a Instituições de Crédito",null,null,null,null,null,null,null,null,null,null,null,null,null,null,null,{"$f":"SUM(J18:S18)","v":0},null,null,null,null,{"$f":"IF(ISERROR(T18/$T$29),\"0%\",T18/$T$29)","v":"0%"}]
[null,null,null,"Empréstimos Obrigacionistas",null,null,null,null,null,null,null,null,null,null,null,null,null,null,null,{"$f":"SUM(J19:S19)","v":0},null,null,null,null,"0%"]
[null,null,null,"Outras dívidas a Sócios / accionistas",null,null,null,null,null,null,null,null,null,null,null,null,null,null,null,{"$f":"SUM(J20:S20)","v":0},null,null,null,null,"0%"]
[null,null,null,"Fornecedores Imobilizado",null,null,null,null,null,null,null,null,null,null,null,null,null,null,null,0,null,null,null,null,"0%"]
[null,null,null,"Locação Financeira",null,null,null,null,null,null,null,null,null,null,null,null,null,null,null,0,null,null,null,null,"0%"]
[null,null,null,"Outros",null,null,null,null,null,null,null,null,null,null,null,null,null,null,null,0,null,null,null,null,"0%"]
[null,null,null,"Sub-Total (4)",null,null,null,null,null,{"$f":"+J23+J22+J21+J20+J19+J18","v":0},null,null,{"$f":"+M23+M22+M21+M20+M19+M18","v":0},null,null,0,null,null,null,0,null,null,null,null,"0%"]
[null,null,null,"Incentivo Não Reembolsável (INR)",null,null,null,null,null,null,null,null,null,null,null,null,null,null,null,0,null,null,null,null,"0%"]
[null,null,null,"Incentivo Reembolsável (IR)",null,null,null,null,null,0,null,null,0,null,null,0,null,null,null,0,null,null,null,null,"0%"]
[null,null,null,"Sub-Total 3",null,null,null,null,null,{"$f":"+J25+J26","v":0},null,null,{"$f":"+M25+M26","v":0},null,null,{"$f":"+P25+P26","v":0},null,null,null,{"$f":"+M27+P27+J27","v":0},null,null,null,null,"0%"]
[null,null,null,"FINANCIAMENTO TOTAL",null,null,null,null,null,{"$f":"+J27+J24+J13","v":0},null,null,{"$f":"+M27+M24+M13","v":0},null,null,{"$f":"+P27+P24+P13","v":0},null,null,null,{"$f":"+P28+M28+J28","v":0},null,null,null,null,"0%"]
[null,null,null,"INVESTIMENTO TOTAL (5)",null,null,null,null,null,null,null,null,null,null,null,null,null,null,null,{"$f":"+J29+M29+P29","v":0},null,null,null,null,{"$f":"IF(ISERROR(T29/$T$29),\"0%\",T29/$T$29)","v":"0%"}]
[null,null,null,"(1) Novos capitais próprios"]
[null,null,null,"(2) Novos suprimentos a incorporar em capital próprio até ao encerramento do projecto, para efeitos de cumprimento da condição de elegibilidade do projeto e do Critério seleção"]
[null,null,null,"(3) Resultado líquido do exercício + imparidades + provisões + gastos/reversões de depreciação e amortização, do ano pré-projecto e no decurso do projeto"]
[null,null,null,"(4) Reafectação de valores do activo sem reflexo no autofinanciamento"]
[null,null,null,"(5) Investimento total de preencimento obrigatório"]
[]
[]
[null,null,null,"Financiamento Bancário Assegurado",null,null,null,null,null,null,null,null,null,"Modalidades de Intervenção da Instituição de Crédito"]
[null,null,null,null,null,null,null,null,null,null,null,null,null,"Pedido de Financiamento à Instituição de Crédito:"]
[null,null,null,null,"Sim",null,null,"Não",null,null,null,null,null,"Crédito Bancário",null,null,null,null,null,"Montante:",null,0]
[null,null,null,null,null,null,null,null,null,null,null,null,null,"Locação Financeira",null,null,null,null,null,"Montante:",null,0]
[null,null,null,null,null,null,null,null,null,null,null,null,null,"Prestação de Garantia Bancária"]
[]
[null,null,null,"Outras Formas Financiamento"]
[]
[null,null,null,"Garantia Mútua",null,null,null,null,"Outra"]
[]
[null,null,null,"Capital Risco"]
[]
[]
[]
[null,null,null,"Demonstração das Fontes de Financiamento"]

{"sheet":"CONDICOES","index":11,"n_rows":75,"n_cols":4,"rows_kept":75,"cut":false,"hidden":false,"merged":[[69,17,69,30],[72,2,72,30],[74,2,74,30],[19,3,20,30],[3,2,3,31],[32,3,32,30],[44,3,45,30]]}
[]
[]
[]
[null,null,"CONDIÇÕES CONTRATUAIS  E OBRIGAÇÕES CONTRATUAIS"]
[]
[]
[]
[null,null,null,"Condições estabelecidas no Termo de Aceitação (preenchimento obrigatório)"]
[]
[]
[]
[]
[]
[]
[]
[]
[]
[]
[]
[null,null,null,"Manutenção/Criação de postos de trabalho e suas qualificações (anexar os currículos) (preenchimento obrigatório)"]
[]
[]
[]
[]
[]
[]
[]
[]
[]
[]
[]
[]
[null,null,null,"Análise económica-financeira (preenchimento obrigatório)"]
[]
[]
[]
[]
[]
[]
[]
[]
[]
[]
[]
[null,null,null,"Cumprimento das Regras Ambientais / Igualdade de Oportunidade / Disciplina da Contratação Pública e preenchimento das respectivas Cheklists (preenchimento obrigatório)"]
[]
[]
[]
[]
[]
[]
[]
[]
[]
[]
[]
[]
[null,null,null,"Observações finais (preenchimento obrigatório)"]
[]
[]
[]
[]
[]
[]
[]
[]
[]
[]
[]
[]
[]
[]
[null,null,{"$f":"CAPA!I29","v":0}]
[]
[null,null,{"$f":"+FORMALIZACAO!C105","v":"PROCiência 2020 - Individuais"}]

{"sheet":"VENDAS EXTERIOR","index":12,"n_rows":59,"n_cols":8,"rows_kept":59,"cut":false,"hidden":true,"merged":[[3,2,3,14],[77,2,77,13],[42,3,44,3],[42,4,44,4],[42,5,42,7],[43,5,44,5],[43,6,43,7],[79,2,79,13],[9,3,10,3],[9,4,10,4],[9,5,10,5],[9,6,9,7]]}
[]
[]
[]
[null,null,"ATIVIDADE ECONOMICA E VENDAS AO EXTERIOR"]
[]
[]
[]
[null,null,null,"ATIVIDADE ECONÓMICA POR MERCADO"]
[]
[null,null,null,"Tipo","Bem/Serviço","Mercado (país)","Ano Fim Proj "]
[null,null,null,null,null,null,"Quantidade","Valor"]
[]
[]
[]
[]
[]
[]
[]
[]
[]
[]
[]
[]
[]
[null,null,null,"Fundamentação e caraterização da atividade económica por mercado com a implementação do projeto"]
[]
[]
[]
[]
[]
[]
[]
[]
[]
[]
[]
[]
[]
[]
[]
[null,null,null,"Vendas ao Exterior Indiretas"]
[]
[null,null,null,"NIF","Designação do cliente Exportador","Ano Fim Projeto"]
[null,null,null,null,null,"Vendas do Beneficiário ao Cliente","Volume de Negócios do Cliente"]
[null,null,null,null,null,null,"Internacional","Total"]
[]
[]
[]
[]
[]
[]
[]
[]
[]
[]
[]
[]
[]
[null,null,null,"Fundamentação e caraterização das Vendas ao Exterior Indiretas"]

{"sheet":"INDICADORESRESULTADO","index":13,"n_rows":62,"n_cols":28,"rows_kept":62,"cut":false,"hidden":true,"merged":[[11,3,11,10],[11,11,11,13],[11,14,11,16],[11,17,11,19],[12,3,12,10],[12,11,12,19],[3,2,3,23],[9,3,9,10],[9,11,9,13],[9,14,9,16],[9,17,9,19],[10,3,10,10],[10,11,10,13],[10,14,10,16],[10,17,10,19],[18,3,18,10],[18,11,18,13],[18,14,18,16],[18,17,18,19],[19,3,19,10],[19,11,19,13],[19,14,19,16],[19,17,19,19],[13,3,13,10],[13,11,13,13],[13,14,13,16],[13,17,13,19],[17,3,17,10],[17,11,17,13],[17,14,17,16],[17,17,17,19],[25,3,25,10],[25,11,25,13],[25,14,25,16],[25,17,25,19],[26,3,26,10],[26,11,26,13],[26,14,26,16],[26,17,26,19],[20,3,20,10],[20,11,20,19],[21,3,21,10],[21,11,21,13],[21,14,21,16],[21,17,21,19],[29,3,29,10],[29,11,29,13],[29,14,29,16],[29,17,29,19],[30,3,30,10],[30,11,30,13],[30,14,30,16],[30,17,30,19],[27,3,27,10],[27,11,27,13],[27,14,27,16],[27,17,27,19],[28,3,28,10],[28,11,28,13],[28,14,28,16],[28,17,28,19],[33,3,33,10],[33,11,33,13],[33,14,33,16],[33,17,33,19],[34,3,34,10],[34,11,34,13],[34,14,34,16],[34,17,34,19],[31,3,31,10],[31,11,31,13],[31,14,31,16],[31,17,31,19],[32,3,32,10],[32,11,32,13],[32,14,32,16],[32,17,32,19],[37,3,37,10],[37,11,37,13],[37,14,37,16],[37,17,37,19],[38,3,38,10],[38,11,38,13],[38,14,38,16],[38,17,38,19],[35,3,35,10],[35,11,35,13],[35,14,35,16],[35,17,35,19],[36,3,36,10],[36,11,36,13],[36,14,36,16],[36,17,36,19],[41,3,41,10],[41,11,41,13],[41,14,41,16],[41,17,41,19],[42,3,42,10],[42,11,42,19],[39,3,39,10],[39,11,39,13],[39,14,39,16],[39,17,39,19],[40,3,40,10],[40,11,40,13],[40,14,40,16],[40,17,40,19],[51,2,51,22],[53,2,53,22],[43,3,43,10],[43,11,43,13],[43,14,43,16],[43,17,43,19],[46,11,46,13],[46,14,46,16],[46,17,46,19]]}
[]
[]
[]
[null,null,"INDICADORES DE RESULTADO"]
[]
[]
[]
[null,null,null,"Emprego Jovem"]
[]
[null,null,null,"Indicador Resultado",null,null,null,null,null,null,null,"Unidade",null,null,"Valor aprovado",null,null,"Valor pós projeto"]
[null,null,null,"Homens - Emprego Jovem",null,null,null,null,null,null,null,"nº",null,null,0,null,null,null,null,null,{"$f":"IF(O11=R11,0,IF(O11>R11,-1,2))","v":0}]
[null,null,null,"Mulheres - Emprego Jovem",null,null,null,null,null,null,null,"nº",null,null,0,null,null,null,null,null,{"$f":"IF(O12=R12,0,IF(O12>R12,-1,2))","v":0}]
[null,null,null,"Variação Total Emprego Jovem:",null,null,null,null,null,null,null,{"$f":"+R11+R12-O11-O12","v":0},null,null,null,null,null,null,null,null,{"$f":"IF(L13=0,0,IF(L13<0,-1,2))","v":0}]
[null,null,null,"Total:",null,null,null,null,null,null,null,"nº",null,null,{"$f":"+O12+O11","v":0},null,null,{"$f":"+R12+R11","v":0}]
[]
[null,null,null,"Emprego Não Qualificado"]
[]
[null,null,null,"Indicador Resultado",null,null,null,null,null,null,null,"Unidade",null,null,"Valor aprovado",null,null,"Valor pós projeto"]
[null,null,null,"Homens - Emprego Não Qualificado",null,null,null,null,null,null,null,"nº",null,null,0,null,null,null,null,null,{"$f":"IF(O19=R19,0,IF(O19>R19,-1,2))","v":0}]
[null,null,null,"Mulheres - Emprego Não Qualificado",null,null,null,null,null,null,null,"nº",null,null,0,null,null,null,null,null,{"$f":"IF(O20=R20,0,IF(O20>R20,-1,2))","v":0}]
[null,null,null,"Variação Total emprego não qualificado:",null,null,null,null,null,null,null,{"$f":"+R19+R20-O19-O20","v":0},null,null,null,null,null,null,null,null,{"$f":"IF(L21=0,0,IF(L21<0,-1,2))","v":0}]
[null,null,null,"Total:",null,null,null,null,null,null,null,"nº",null,null,{"$f":"+O20+O19","v":0},null,null,{"$f":"+R20+R19","v":0}]
[]
[null,null,null,"Emprego Qualificado"]
[]
[null,null,null,"Indicador Resultado",null,null,null,null,null,null,null,"Unidade",null,null,"Valor aprovado",null,null,"Valor pós projeto"]
[null,null,null,"Homens - Emprego Qualificado Nivel I",null,null,null,null,null,null,null,"nº",null,null,0,null,null,null,null,null,{"$f":"IF(O27=R27,0,IF(O27>R27,-1,2))","v":0}]
[null,null,null,"Mulheres - Emprego Qualificado Nivel I",null,null,null,null,null,null,null,"nº",null,null,0,null,null,null,null,null,{"$f":"IF(O28=R28,0,IF(O28>R28,-1,2))","v":0}]
[null,null,null,"Homens - Emprego Qualificado Nivel II",null,null,null,null,null,null,null,"nº",null,null,0,null,null,null,null,null,0]
[null,null,null,"Mulheres - Emprego Qualificado  Nivel II",null,null,null,null,null,null,null,"nº",null,null,0,null,null,null,null,null,0]
[null,null,null,"Homens - Emprego Qualificado Nivel III",null,null,null,null,null,null,null,"nº",null,null,0,null,null,null,null,null,0]
[null,null,null,"Mulheres - Emprego Qualificado Nivel III",null,null,null,null,null,null,null,"nº",null,null,0,null,null,null,null,null,0]
[null,null,null,"Homens - Emprego Qualificado Nivel IV",null,null,null,null,null,null,null,"nº",null,null,0,null,null,null,null,null,0]
[null,null,null,"Mulheres  - Emprego QualificadoNivel IV",null,null,null,null,null,null,null,"nº",null,null,0,null,null,null,null,null,0]
[null,null,null,"Homens - Emprego Qualificado Nivel V",null,null,null,null,null,null,null,"nº",null,null,0,null,null,null,null,null,0]
[null,null,null,"Mulheres - Emprego Qualificado Nivel V",null,null,null,null,null,null,null,"nº",null,null,0,null,null,null,null,null,0]
[null,null,null,"Homens - Emprego Qualificado Nivel VI",null,null,null,null,null,null,null,"nº",null,null,0,null,null,null,null,null,0]
[null,null,null,"Mulheres - Emprego Qualificado Nivel VI",null,null,null,null,null,null,null,"nº",null,null,0,null,null,null,null,null,0]
[null,null,null,"Homens - Emprego Qualificado Nivel VII",null,null,null,null,null,null,null,"nº",null,null,0,null,null,null,null,null,0]
[null,null,null,"Mulheres - Emprego Qualificado Nivel VII",null,null,null,null,null,null,null,"nº",null,null,0,null,null,null,null,null,0]
[null,null,null,"Homens - Emprego Qualificado Nivel VIII",null,null,null,null,null,null,null,"nº",null,null,0,null,null,null,null,null,0]
[null,null,null,"Mulheres - Emprego Qualificado Nivel VIII",null,null,null,null,null,null,null,"nº",null,null,0,null,null,null,null,null,0]
[null,null,null,"Variação Total Emprego qualificado:",null,null,null,null,null,null,null,{"$f":"+R27+R28+R29+R30+R31+R32+R33+R34+R35+R36+R37+R38+R39+R40+R41+R42-O27-O28-O29-O30-O31-O32-O33-O34-O35-O36-O37-O38-O39-O40-O41-O42","v":0},null,null,null,null,null,null,null,null,{"$f":"IF(L43=0,0,IF(L43<0,-1,2))","v":0}]
[null,null,null,"Total:",null,null,null,null,null,null,null,"nº",null,null,{"$f":"SUM(O27:Q42)","v":0},null,null,{"$f":"SUM(R27:T42)","v":0}]
[]
[]
[null,null,null,"Total Emprego",null,null,null,null,null,null,null,"nº",null,null,{"$f":"+O44+O22","v":0},null,null,{"$f":"+R44+R22","v":0}]
[]
[]
[]
[]
[null,null,{"$f":"+FORMALIZACAO!C103","v":0}]
[]
[null,null,{"$f":"+FORMALIZACAO!C105","v":"PROCiência 2020 - Individuais"}]
[]
[]
[]
[]
[]
[]
[]
[null,null,null,null,null,null,null,null,null,null,null,null,null,null,null,null,null,null,null,null,null,null,null,null,null,null,null,{"$f":"+INDICADORESRESULTADO!R356","v":0}]

{"sheet":"INDICADORESRESULTADO (2)","index":14,"n_rows":72,"n_cols":28,"rows_kept":72,"cut":false,"hidden":true,"merged":[[61,2,61,22],[63,2,63,22],[54,3,54,10],[54,11,54,13],[54,14,54,16],[54,17,54,19],[56,3,56,10],[56,11,56,13],[56,17,56,19],[51,3,51,10],[51,11,51,13],[51,14,51,16],[51,17,51,19],[52,3,52,10],[52,11,52,13],[52,14,52,16],[52,17,52,19],[43,3,43,10],[43,11,43,13],[43,14,43,16],[43,17,43,19],[46,11,46,13],[46,14,46,16],[46,17,46,19],[41,3,41,10],[41,11,41,13],[41,14,41,16],[41,17,41,19],[42,3,42,10],[42,11,42,19],[39,3,39,10],[39,11,39,13],[39,14,39,16],[39,17,39,19],[40,3,40,10],[40,11,40,13],[40,14,40,16],[40,17,40,19],[37,3,37,10],[37,11,37,13],[37,14,37,16],[37,17,37,19],[38,3,38,10],[38,11,38,13],[38,14,38,16],[38,17,38,19],[35,3,35,10],[35,11,35,13],[35,14,35,16],[35,17,35,19],[36,3,36,10],[36,11,36,13],[36,14,36,16],[36,17,36,19],[33,3,33,10],[33,11,33,13],[33,14,33,16],[33,17,33,19],[34,3,34,10],[34,11,34,13],[34,14,34,16],[34,17,34,19],[31,3,31,10],[31,11,31,13],[31,14,31,16],[31,17,31,19],[32,3,32,10],[32,11,32,13],[32,14,32,16],[32,17,32,19],[29,3,29,10],[29,11,29,13],[29,14,29,16],[29,17,29,19],[30,3,30,10],[30,11,30,13],[30,14,30,16],[30,17,30,19],[27,3,27,10],[27,11,27,13],[27,14,27,16],[27,17,27,19],[28,3,28,10],[28,11,28,13],[28,14,28,16],[28,17,28,19],[25,3,25,10],[25,11,25,13],[25,14,25,16],[25,17,25,19],[26,3,26,10],[26,11,26,13],[26,14,26,16],[26,17,26,19],[20,3,20,10],[20,11,20,19],[21,3,21,10],[21,11,21,13],[21,14,21,16],[21,17,21,19],[18,3,18,10],[18,11,18,13],[18,14,18,16],[18,17,18,19],[19,3,19,10],[19,11,19,13],[19,14,19,16],[19,17,19,19],[13,3,13,10],[13,11,13,13],[13,14,13,16],[13,17,13,19],[17,3,17,10],[17,11,17,13],[17,14,17,16],[17,17,17,19],[11,3,11,10],[11,11,11,13],[11,14,11,16],[11,17,11,19],[12,3,12,10],[12,11,12,19],[3,2,3,23],[9,3,9,10],[9,11,9,13],[9,14,9,16],[9,17,9,19],[10,3,10,10],[10,11,10,13],[10,14,10,16],[10,17,10,19]]}
[]
[]
[]
[null,null,"INDICADORES DE RESULTADO"]
[]
[]
[]
[null,null,null,"Emprego Jovem"]
[]
[null,null,null,"Indicador Resultado",null,null,null,null,null,null,null,"Unidade",null,null,"Valor aprovado",null,null,"Valor pós projeto"]
[null,null,null,"Homens - Emprego Jovem",null,null,null,null,null,null,null,"nº",null,null,0,null,null,null,null,null,{"$f":"IF(O11=R11,0,IF(O11>R11,-1,2))","v":0}]
[null,null,null,"Mulheres - Emprego Jovem",null,null,null,null,null,null,null,"nº",null,null,0,null,null,null,null,null,{"$f":"IF(O12=R12,0,IF(O12>R12,-1,2))","v":0}]
[null,null,null,"Variação Total Emprego Jovem:",null,null,null,null,null,null,null,{"$f":"+R11+R12-O11-O12","v":0},null,null,null,null,null,null,null,null,{"$f":"IF(L13=0,0,IF(L13<0,-1,2))","v":0}]
[null,null,null,"Total:",null,null,null,null,null,null,null,"nº",null,null,{"$f":"+O12+O11","v":0},null,null,{"$f":"+R12+R11","v":0}]
[]
[null,null,null,"Emprego Não Qualificado"]
[]
[null,null,null,"Indicador Resultado",null,null,null,null,null,null,null,"Unidade",null,null,"Valor aprovado",null,null,"Valor pós projeto"]
[null,null,null,"Homens - Emprego Não Qualificado",null,null,null,null,null,null,null,"nº",null,null,0,null,null,null,null,null,{"$f":"IF(O19=R19,0,IF(O19>R19,-1,2))","v":0}]
[null,null,null,"Mulheres - Emprego Não Qualificado",null,null,null,null,null,null,null,"nº",null,null,0,null,null,null,null,null,{"$f":"IF(O20=R20,0,IF(O20>R20,-1,2))","v":0}]
[null,null,null,"Variação Total emprego não qualificado:",null,null,null,null,null,null,null,{"$f":"+R19+R20-O19-O20","v":0},null,null,null,null,null,null,null,null,{"$f":"IF(L21=0,0,IF(L21<0,-1,2))","v":0}]
[null,null,null,"Total:",null,null,null,null,null,null,null,"nº",null,null,{"$f":"+O20+O19","v":0},null,null,{"$f":"+R20+R19","v":0}]
[]
[null,null,null,"Emprego Qualificado"]
[]
[null,null,null,"Indicador Resultado",null,null,null,null,null,null,null,"Unidade",null,null,"Valor aprovado",null,null,"Valor pós projeto"]
[null,null,null,"Homens - Emprego Qualificado Nivel I",null,null,null,null,null,null,null,"nº",null,null,0,null,null,null,null,null,{"$f":"IF(O27=R27,0,IF(O27>R27,-1,2))","v":0}]
[null,null,null,"Mulheres - Emprego Qualificado Nivel I",null,null,null,null,null,null,null,"nº",null,null,0,null,null,null,null,null,{"$f":"IF(O28=R28,0,IF(O28>R28,-1,2))","v":0}]
[null,null,null,"Homens - Emprego Qualificado Nivel II",null,null,null,null,null,null,null,"nº",null,null,0,null,null,null,null,null,0]
[null,null,null,"Mulheres - Emprego Qualificado  Nivel II",null,null,null,null,null,null,null,"nº",null,null,0,null,null,null,null,null,0]
[null,null,null,"Homens - Emprego Qualificado Nivel III",null,null,null,null,null,null,null,"nº",null,null,0,null,null,null,null,null,0]
[null,null,null,"Mulheres - Emprego Qualificado Nivel III",null,null,null,null,null,null,null,"nº",null,null,0,null,null,null,null,null,0]
[null,null,null,"Homens - Emprego Qualificado Nivel IV",null,null,null,null,null,null,null,"nº",null,null,0,null,null,null,null,null,0]
[null,null,null,"Mulheres  - Emprego QualificadoNivel IV",null,null,null,null,null,null,null,"nº",null,null,0,null,null,null,null,null,0]
[null,null,null,"Homens - Emprego Qualificado Nivel V",null,null,null,null,null,null,null,"nº",null,null,0,null,null,null,null,null,0]
[null,null,null,"Mulheres - Emprego Qualificado Nivel V",null,null,null,null,null,null,null,"nº",null,null,0,null,null,null,null,null,0]
[null,null,null,"Homens - Emprego Qualificado Nivel VI",null,null,null,null,null,null,null,"nº",null,null,0,null,null,null,null,null,0]
[null,null,null,"Mulheres - Emprego Qualificado Nivel VI",null,null,null,null,null,null,null,"nº",null,null,0,null,null,null,null,null,0]
[null,null,null,"Homens - Emprego Qualificado Nivel VII",null,null,null,null,null,null,null,"nº",null,null,0,null,null,null,null,null,0]
[null,null,null,"Mulheres - Emprego Qualificado Nivel VII",null,null,null,null,null,null,null,"nº",null,null,0,null,null,null,null,null,0]
[null,null,null,"Homens - Emprego Qualificado Nivel VIII",null,null,null,null,null,null,null,"nº",null,null,0,null,null,null,null,null,0]
[null,null,null,"Mulheres - Emprego Qualificado Nivel VIII",null,null,null,null,null,null,null,"nº",null,null,0,null,null,null,null,null,0]
[null,null,null,"Variação Total Emprego qualificado:",null,null,null,null,null,null,null,{"$f":"+R27+R28+R29+R30+R31+R32+R33+R34+R35+R36+R37+R38+R39+R40+R41+R42-O27-O28-O29-O30-O31-O32-O33-O34-O35-O36-O37-O38-O39-O40-O41-O42","v":0},null,null,null,null,null,null,null,null,{"$f":"IF(L43=0,0,IF(L43<0,-1,2))","v":0}]
[null,null,null,"Total:",null,null,null,null,null,null,null,"nº",null,null,{"$f":"SUM(O27:Q42)","v":0},null,null,{"$f":"SUM(R27:T42)","v":0}]
[]
[]
[null,null,null,"Total Emprego",null,null,null,null,null,null,null,"nº",null,null,{"$f":"+O44+O22","v":0},null,null,{"$f":"+R44+R22","v":0}]
[]
[null,null,null,"Valorizar 2020"]
[]
[]
[null,null,null,"Tipo",null,null,null,null,null,null,null,"Unidade",null,null,"Valor Base",null,null,"Valor pós projeto"]
[null,null,null,"PME apoiadas para introdução de produtos novos na empresa",null,null,null,null,null,null,null,"nº",null,null,0]
[]
[null,null,null,"PME com 10 e mais pessoas ao serviço (CAE Ver. 3 B a H, J, K, M e Q) com atividades de inovação no total de PME do Inquérito Comunitário à Inovação",null,null,null,null,null,null,null,"nº",null,null,0]
[]
[null,null,null,"Vendas ao Exterior",null,null,null,null,null,null,null,"€"]
[]
[]
[]
[]
[null,null,{"$f":"+FORMALIZACAO!C103","v":0}]
[]
[null,null,{"$f":"+FORMALIZACAO!C105","v":"PROCiência 2020 - Individuais"}]
[]
[]
[]
[]
[]
[]
[]
[null,null,null,null,null,null,null,null,null,null,null,null,null,null,null,null,null,null,null,null,null,null,null,null,null,null,null,{"$f":"+'INDICADORESRESULTADO (2)'!R352","v":0}]

{"sheet":"INDICADORESRESULTADO (3)","index":15,"n_rows":68,"n_cols":28,"rows_kept":68,"cut":false,"hidden":true,"merged":[[57,2,57,22],[59,2,59,22],[53,3,53,10],[53,11,53,13],[53,14,53,16],[53,17,53,19],[50,3,50,10],[50,11,50,13],[50,14,50,16],[50,17,50,19],[51,3,51,10],[51,11,51,13],[51,14,51,16],[51,17,51,19],[43,3,43,10],[43,11,43,13],[43,14,43,16],[43,17,43,19],[46,11,46,13],[46,14,46,16],[46,17,46,19],[41,3,41,10],[41,11,41,13],[41,14,41,16],[41,17,41,19],[42,3,42,10],[42,11,42,19],[39,3,39,10],[39,11,39,13],[39,14,39,16],[39,17,39,19],[40,3,40,10],[40,11,40,13],[40,14,40,16],[40,17,40,19],[37,3,37,10],[37,11,37,13],[37,14,37,16],[37,17,37,19],[38,3,38,10],[38,11,38,13],[38,14,38,16],[38,17,38,19],[35,3,35,10],[35,11,35,13],[35,14,35,16],[35,17,35,19],[36,3,36,10],[36,11,36,13],[36,14,36,16],[36,17,36,19],[33,3,33,10],[33,11,33,13],[33,14,33,16],[33,17,33,19],[34,3,34,10],[34,11,34,13],[34,14,34,16],[34,17,34,19],[31,3,31,10],[31,11,31,13],[31,14,31,16],[31,17,31,19],[32,3,32,10],[32,11,32,13],[32,14,32,16],[32,17,32,19],[29,3,29,10],[29,11,29,13],[29,14,29,16],[29,17,29,19],[30,3,30,10],[30,11,30,13],[30,14,30,16],[30,17,30,19],[27,3,27,10],[27,11,27,13],[27,14,27,16],[27,17,27,19],[28,3,28,10],[28,11,28,13],[28,14,28,16],[28,17,28,19],[25,3,25,10],[25,11,25,13],[25,14,25,16],[25,17,25,19],[26,3,26,10],[26,11,26,13],[26,14,26,16],[26,17,26,19],[20,3,20,10],[20,11,20,19],[21,3,21,10],[21,11,21,13],[21,14,21,16],[21,17,21,19],[18,3,18,10],[18,11,18,13],[18,14,18,16],[18,17,18,19],[19,3,19,10],[19,11,19,13],[19,14,19,16],[19,17,19,19],[13,3,13,10],[13,11,13,13],[13,14,13,16],[13,17,13,19],[17,3,17,10],[17,11,17,13],[17,14,17,16],[17,17,17,19],[11,3,11,10],[11,11,11,13],[11,14,11,16],[11,17,11,19],[12,3,12,10],[12,11,12,19],[3,2,3,23],[9,3,9,10],[9,11,9,13],[9,14,9,16],[9,17,9,19],[10,3,10,10],[10,11,10,13],[10,14,10,16],[10,17,10,19]]}
[]
[]
[]
[null,null,"INDICADORES DE RESULTADO"]
[]
[]
[]
[null,null,null,"Emprego Jovem"]
[]
[null,null,null,"Indicador Resultado",null,null,null,null,null,null,null,"Unidade",null,null,"Valor aprovado",null,null,"Valor pós projeto"]
[null,null,null,"Homens - Emprego Jovem",null,null,null,null,null,null,null,"nº",null,null,0,null,null,null,null,null,{"$f":"IF(O11=R11,0,IF(O11>R11,-1,2))","v":0}]
[null,null,null,"Mulheres - Emprego Jovem",null,null,null,null,null,null,null,"nº",null,null,0,null,null,null,null,null,{"$f":"IF(O12=R12,0,IF(O12>R12,-1,2))","v":0}]
[null,null,null,"Variação Total Emprego Jovem:",null,null,null,null,null,null,null,{"$f":"+R11+R12-O11-O12","v":0},null,null,null,null,null,null,null,null,{"$f":"IF(L13=0,0,IF(L13<0,-1,2))","v":0}]
[null,null,null,"Total:",null,null,null,null,null,null,null,"nº",null,null,{"$f":"+O12+O11","v":0},null,null,{"$f":"+R12+R11","v":0}]
[]
[null,null,null,"Emprego Não Qualificado"]
[]
[null,null,null,"Indicador Resultado",null,null,null,null,null,null,null,"Unidade",null,null,"Valor aprovado",null,null,"Valor pós projeto"]
[null,null,null,"Homens - Emprego Não Qualificado",null,null,null,null,null,null,null,"nº",null,null,0,null,null,null,null,null,{"$f":"IF(O19=R19,0,IF(O19>R19,-1,2))","v":0}]
[null,null,null,"Mulheres - Emprego Não Qualificado",null,null,null,null,null,null,null,"nº",null,null,0,null,null,null,null,null,{"$f":"IF(O20=R20,0,IF(O20>R20,-1,2))","v":0}]
[null,null,null,"Variação Total emprego não qualificado:",null,null,null,null,null,null,null,{"$f":"+R19+R20-O19-O20","v":0},null,null,null,null,null,null,null,null,{"$f":"IF(L21=0,0,IF(L21<0,-1,2))","v":0}]
[null,null,null,"Total:",null,null,null,null,null,null,null,"nº",null,null,{"$f":"+O20+O19","v":0},null,null,{"$f":"+R20+R19","v":0}]
[]
[null,null,null,"Emprego Qualificado"]
[]
[null,null,null,"Indicador Resultado",null,null,null,null,null,null,null,"Unidade",null,null,"Valor aprovado",null,null,"Valor pós projeto"]
[null,null,null,"Homens - Emprego Qualificado Nivel I",null,null,null,null,null,null,null,"nº",null,null,0,null,null,null,null,null,{"$f":"IF(O27=R27,0,IF(O27>R27,-1,2))","v":0}]
[null,null,null,"Mulheres - Emprego Qualificado Nivel I",null,null,null,null,null,null,null,"nº",null,null,0,null,null,null,null,null,{"$f":"IF(O28=R28,0,IF(O28>R28,-1,2))","v":0}]
[null,null,null,"Homens - Emprego Qualificado Nivel II",null,null,null,null,null,null,null,"nº",null,null,0,null,null,null,null,null,0]
[null,null,null,"Mulheres - Emprego Qualificado  Nivel II",null,null,null,null,null,null,null,"nº",null,null,0,null,null,null,null,null,0]
[null,null,null,"Homens - Emprego Qualificado Nivel III",null,null,null,null,null,null,null,"nº",null,null,0,null,null,null,null,null,0]
[null,null,null,"Mulheres - Emprego Qualificado Nivel III",null,null,null,null,null,null,null,"nº",null,null,0,null,null,null,null,null,0]
[null,null,null,"Homens - Emprego Qualificado Nivel IV",null,null,null,null,null,null,null,"nº",null,null,0,null,null,null,null,null,0]
[null,null,null,"Mulheres  - Emprego QualificadoNivel IV",null,null,null,null,null,null,null,"nº",null,null,0,null,null,null,null,null,0]
[null,null,null,"Homens - Emprego Qualificado Nivel V",null,null,null,null,null,null,null,"nº",null,null,0,null,null,null,null,null,0]
[null,null,null,"Mulheres - Emprego Qualificado Nivel V",null,null,null,null,null,null,null,"nº",null,null,0,null,null,null,null,null,0]
[null,null,null,"Homens - Emprego Qualificado Nivel VI",null,null,null,null,null,null,null,"nº",null,null,0,null,null,null,null,null,0]
[null,null,null,"Mulheres - Emprego Qualificado Nivel VI",null,null,null,null,null,null,null,"nº",null,null,0,null,null,null,null,null,0]
[null,null,null,"Homens - Emprego Qualificado Nivel VII",null,null,null,null,null,null,null,"nº",null,null,0,null,null,null,null,null,0]
[null,null,null,"Mulheres - Emprego Qualificado Nivel VII",null,null,null,null,null,null,null,"nº",null,null,0,null,null,null,null,null,0]
[null,null,null,"Homens - Emprego Qualificado Nivel VIII",null,null,null,null,null,null,null,"nº",null,null,0,null,null,null,null,null,0]
[null,null,null,"Mulheres - Emprego Qualificado Nivel VIII",null,null,null,null,null,null,null,"nº",null,null,0,null,null,null,null,null,0]
[null,null,null,"Variação Total Emprego qualificado:",null,null,null,null,null,null,null,{"$f":"+R27+R28+R29+R30+R31+R32+R33+R34+R35+R36+R37+R38+R39+R40+R41+R42-O27-O28-O29-O30-O31-O32-O33-O34-O35-O36-O37-O38-O39-O40-O41-O42","v":0},null,null,null,null,null,null,null,null,{"$f":"IF(L43=0,0,IF(L43<0,-1,2))","v":0}]
[null,null,null,"Total:",null,null,null,null,null,null,null,"nº",null,null,{"$f":"SUM(O27:Q42)","v":0},null,null,{"$f":"SUM(R27:T42)","v":0}]
[]
[]
[null,null,null,"Total Emprego",null,null,null,null,null,null,null,"nº",null,null,{"$f":"+O44+O22","v":0},null,null,{"$f":"+R44+R22","v":0}]
[]
[null,null,null,"Internacionalizar 2020"]
[]
[null,null,null,"Tipo",null,null,null,null,null,null,null,"Unidade",null,null,"Valor Base",null,null,"Valor pós projeto"]
[null,null,null,"Vendas ao Exterior",null,null,null,null,null,null,null,"€",null,null,0]
[]
[null,null,null,"Valor das Exportações no volume de negócios das PME",null,null,null,null,null,null,null,"%",null,null,0]
[]
[]
[]
[null,null,{"$f":"+FORMALIZACAO!C103","v":0}]
[]
[null,null,{"$f":"+FORMALIZACAO!C105","v":"PROCiência 2020 - Individuais"}]
[]
[]
[]
[]
[]
[]
[]
[null,null,null,null,null,null,null,null,null,null,null,null,null,null,null,null,null,null,null,null,null,null,null,null,null,null,null,{"$f":"+'INDICADORESRESULTADO (3)'!R362","v":0}]

{"sheet":"INDICADORESRESULTADO (4)","index":16,"n_rows":68,"n_cols":28,"rows_kept":68,"cut":false,"hidden":true,"merged":[[57,2,57,22],[59,2,59,22],[51,3,51,10],[51,11,51,13],[51,14,51,16],[51,17,51,19],[53,3,53,10],[53,11,53,13],[53,14,53,16],[53,17,53,19],[50,3,50,10],[50,11,50,13],[50,14,50,16],[50,17,50,19],[43,3,43,10],[43,11,43,13],[43,14,43,16],[43,17,43,19],[46,11,46,13],[46,14,46,16],[46,17,46,19],[41,3,41,10],[41,11,41,13],[41,14,41,16],[41,17,41,19],[42,3,42,10],[42,11,42,19],[39,3,39,10],[39,11,39,13],[39,14,39,16],[39,17,39,19],[40,3,40,10],[40,11,40,13],[40,14,40,16],[40,17,40,19],[37,3,37,10],[37,11,37,13],[37,14,37,16],[37,17,37,19],[38,3,38,10],[38,11,38,13],[38,14,38,16],[38,17,38,19],[35,3,35,10],[35,11,35,13],[35,14,35,16],[35,17,35,19],[36,3,36,10],[36,11,36,13],[36,14,36,16],[36,17,36,19],[33,3,33,10],[33,11,33,13],[33,14,33,16],[33,17,33,19],[34,3,34,10],[34,11,34,13],[34,14,34,16],[34,17,34,19],[31,3,31,10],[31,11,31,13],[31,14,31,16],[31,17,31,19],[32,3,32,10],[32,11,32,13],[32,14,32,16],[32,17,32,19],[29,3,29,10],[29,11,29,13],[29,14,29,16],[29,17,29,19],[30,3,30,10],[30,11,30,13],[30,14,30,16],[30,17,30,19],[27,3,27,10],[27,11,27,13],[27,14,27,16],[27,17,27,19],[28,3,28,10],[28,11,28,13],[28,14,28,16],[28,17,28,19],[25,3,25,10],[25,11,25,13],[25,14,25,16],[25,17,25,19],[26,3,26,10],[26,11,26,13],[26,14,26,16],[26,17,26,19],[20,3,20,10],[20,11,20,19],[21,3,21,10],[21,11,21,13],[21,14,21,16],[21,17,21,19],[18,3,18,10],[18,11,18,13],[18,14,18,16],[18,17,18,19],[19,3,19,10],[19,11,19,13],[19,14,19,16],[19,17,19,19],[13,3,13,10],[13,11,13,13],[13,14,13,16],[13,17,13,19],[17,3,17,10],[17,11,17,13],[17,14,17,16],[17,17,17,19],[11,3,11,10],[11,11,11,13],[11,14,11,16],[11,17,11,19],[12,3,12,10],[12,11,12,19],[3,2,3,23],[9,3,9,10],[9,11,9,13],[9,14,9,16],[9,17,9,19],[10,3,10,10],[10,11,10,13],[10,14,10,16],[10,17,10,19]]}
[]
[]
[]
[null,null,"INDICADORES DE RESULTADO"]
[]
[]
[]
[null,null,null,"Emprego Jovem"]
[]
[null,null,null,"Indicador Resultado",null,null,null,null,null,null,null,"Unidade",null,null,"Valor aprovado",null,null,"Valor pós projeto"]
[null,null,null,"Homens - Emprego Jovem",null,null,null,null,null,null,null,"nº",null,null,0,null,null,null,null,null,{"$f":"IF(O11=R11,0,IF(O11>R11,-1,2))","v":0}]
[null,null,null,"Mulheres - Emprego Jovem",null,null,null,null,null,null,null,"nº",null,null,0,null,null,null,null,null,{"$f":"IF(O12=R12,0,IF(O12>R12,-1,2))","v":0}]
[null,null,null,"Variação Total Emprego Jovem:",null,null,null,null,null,null,null,{"$f":"+R11+R12-O11-O12","v":0},null,null,null,null,null,null,null,null,{"$f":"IF(L13=0,0,IF(L13<0,-1,2))","v":0}]
[null,null,null,"Total:",null,null,null,null,null,null,null,"nº",null,null,{"$f":"+O12+O11","v":0},null,null,{"$f":"+R12+R11","v":0}]
[]
[null,null,null,"Emprego Não Qualificado"]
[]
[null,null,null,"Indicador Resultado",null,null,null,null,null,null,null,"Unidade",null,null,"Valor aprovado",null,null,"Valor pós projeto"]
[null,null,null,"Homens - Emprego Não Qualificado",null,null,null,null,null,null,null,"nº",null,null,0,null,null,null,null,null,{"$f":"IF(O19=R19,0,IF(O19>R19,-1,2))","v":0}]
[null,null,null,"Mulheres - Emprego Não Qualificado",null,null,null,null,null,null,null,"nº",null,null,0,null,null,null,null,null,{"$f":"IF(O20=R20,0,IF(O20>R20,-1,2))","v":0}]
[null,null,null,"Variação Total emprego não qualificado:",null,null,null,null,null,null,null,{"$f":"+R19+R20-O19-O20","v":0},null,null,null,null,null,null,null,null,{"$f":"IF(L21=0,0,IF(L21<0,-1,2))","v":0}]
[null,null,null,"Total:",null,null,null,null,null,null,null,"nº",null,null,{"$f":"+O20+O19","v":0},null,null,{"$f":"+R20+R19","v":0}]
[]
[null,null,null,"Emprego Qualificado"]
[]
[null,null,null,"Indicador Resultado",null,null,null,null,null,null,null,"Unidade",null,null,"Valor aprovado",null,null,"Valor pós projeto"]
[null,null,null,"Homens - Emprego Qualificado Nivel I",null,null,null,null,null,null,null,"nº",null,null,0,null,null,null,null,null,{"$f":"IF(O27=R27,0,IF(O27>R27,-1,2))","v":0}]
[null,null,null,"Mulheres - Emprego Qualificado Nivel I",null,null,null,null,null,null,null,"nº",null,null,0,null,null,null,null,null,{"$f":"IF(O28=R28,0,IF(O28>R28,-1,2))","v":0}]
[null,null,null,"Homens - Emprego Qualificado Nivel II",null,null,null,null,null,null,null,"nº",null,null,0,null,null,null,null,null,0]
[null,null,null,"Mulheres - Emprego Qualificado  Nivel II",null,null,null,null,null,null,null,"nº",null,null,0,null,null,null,null,null,0]
[null,null,null,"Homens - Emprego Qualificado Nivel III",null,null,null,null,null,null,null,"nº",null,null,0,null,null,null,null,null,0]
[null,null,null,"Mulheres - Emprego Qualificado Nivel III",null,null,null,null,null,null,null,"nº",null,null,0,null,null,null,null,null,0]
[null,null,null,"Homens - Emprego Qualificado Nivel IV",null,null,null,null,null,null,null,"nº",null,null,0,null,null,null,null,null,0]
[null,null,null,"Mulheres  - Emprego QualificadoNivel IV",null,null,null,null,null,null,null,"nº",null,null,0,null,null,null,null,null,0]
[null,null,null,"Homens - Emprego Qualificado Nivel V",null,null,null,null,null,null,null,"nº",null,null,0,null,null,null,null,null,0]
[null,null,null,"Mulheres - Emprego Qualificado Nivel V",null,null,null,null,null,null,null,"nº",null,null,0,null,null,null,null,null,0]
[null,null,null,"Homens - Emprego Qualificado Nivel VI",null,null,null,null,null,null,null,"nº",null,null,0,null,null,null,null,null,0]
[null,null,null,"Mulheres - Emprego Qualificado Nivel VI",null,null,null,null,null,null,null,"nº",null,null,0,null,null,null,null,null,0]
[null,null,null,"Homens - Emprego Qualificado Nivel VII",null,null,null,null,null,null,null,"nº",null,null,0,null,null,null,null,null,0]
[null,null,null,"Mulheres - Emprego Qualificado Nivel VII",null,null,null,null,null,null,null,"nº",null,null,0,null,null,null,null,null,0]
[null,null,null,"Homens - Emprego Qualificado Nivel VIII",null,null,null,null,null,null,null,"nº",null,null,0,null,null,null,null,null,0]
[null,null,null,"Mulheres - Emprego Qualificado Nivel VIII",null,null,null,null,null,null,null,"nº",null,null,0,null,null,null,null,null,0]
[null,null,null,"Variação Total Emprego qualificado:",null,null,null,null,null,null,null,{"$f":"+R27+R28+R29+R30+R31+R32+R33+R34+R35+R36+R37+R38+R39+R40+R41+R42-O27-O28-O29-O30-O31-O32-O33-O34-O35-O36-O37-O38-O39-O40-O41-O42","v":0},null,null,null,null,null,null,null,null,{"$f":"IF(L43=0,0,IF(L43<0,-1,2))","v":0}]
[null,null,null,"Total:",null,null,null,null,null,null,null,"nº",null,null,{"$f":"SUM(O27:Q42)","v":0},null,null,{"$f":"SUM(R27:T42)","v":0}]
[]
[]
[null,null,null,"Total Emprego",null,null,null,null,null,null,null,"nº",null,null,{"$f":"+O44+O22","v":0},null,null,{"$f":"+R44+R22","v":0}]
[]
[]
[]
[]
[]
[]
[]
[]
[]
[]
[null,null,{"$f":"CAPA!I29","v":0}]
[]
[null,null,{"$f":"+FORMALIZACAO!C105","v":"PROCiência 2020 - Individuais"}]
[]
[]
[]
[]
[]
[]
[]
[null,null,null,null,null,null,null,null,null,null,null,null,null,null,null,null,null,null,null,null,null,null,null,null,null,null,null,{"$f":"+'INDICADORESRESULTADO (4)'!R362","v":0}]

{"sheet":"IGUALDADE_OPORTUNIDADES","index":17,"n_rows":133,"n_cols":26,"rows_kept":133,"cut":false,"hidden":false,"merged":[[61,4,61,25],[57,4,57,25],[50,4,50,25],[117,4,117,25],[104,4,104,25],[73,4,73,25],[114,4,114,25],[106,4,106,25],[105,4,105,25],[97,4,97,25],[95,4,95,25],[74,4,74,25],[115,5,115,25],[116,5,116,25],[99,5,99,25],[100,5,100,25],[101,5,101,25],[102,5,102,25],[103,5,103,25],[107,5,107,25],[91,5,91,25],[92,5,92,25],[93,5,93,25],[94,5,94,25],[119,5,119,25],[120,5,120,25],[122,5,122,25],[123,5,123,25],[121,4,121,25],[118,4,118,25],[108,5,108,25],[109,5,109,25],[110,5,110,25],[111,5,111,25],[112,5,112,25],[113,5,113,25],[96,5,96,25],[98,5,98,25],[85,5,85,25],[86,5,86,25],[87,5,87,25],[88,5,88,25],[89,5,89,25],[90,5,90,25],[79,5,79,25],[80,5,80,25],[81,5,81,25],[82,5,82,25],[83,5,83,25],[84,5,84,25],[71,5,71,25],[72,5,72,25],[75,5,75,25],[76,5,76,25],[77,5,77,25],[78,5,78,25],[64,5,64,25],[65,5,65,25],[66,5,66,25],[68,5,68,25],[69,5,69,25],[70,5,70,25],[67,4,67,25],[130,2,130,26],[132,2,132,26],[29,4,29,25],[33,5,33,17],[51,5,51,25],[52,5,52,25],[127,18,127,26],[53,5,53,25],[54,5,54,25],[55,5,55,25],[56,5,56,25],[59,5,59,25],[60,5,60,25],[62,5,62,25],[63,5,63,25],[58,5,58,25],[42,5,42,17],[43,5,43,17],[40,4,40,25],[41,5,41,17],[37,4,37,25],[38,5,38,17],[39,5,39,17],[34,4,34,25],[35,5,35,17],[36,5,36,17],[30,5,30,17],[31,5,31,17],[32,5,32,17],[26,4,26,25],[27,5,27,17],[28,5,28,17],[24,4,25,4],[24,5,25,17],[24,21,25,21],[24,24,25,24],[24,25,25,25],[24,18,24,20],[24,23,25,23],[17,4,17,15],[19,4,19,15],[23,4,23,17],[23,18,23,21],[23,23,23,25],[3,2,3,27],[11,4,13,25],[15,4,15,15],[8,4,8,21],[9,4,10,21],[15,16,15,21],[17,16,17,21],[19,16,19,21]]}
[]
[]
[]
[null,null,"CHECK-LIST VERIFICAÇÃO DO CUMPRIMENTO DA LEGISLAÇÃO AMBIENTAL EM PROJETOS COFINANCIADOS"]
[]
[]
[]
[]
[null,null,null,null,"Igualdade entre Homens e Mulheres e Igualdade de Oportunidades e da não descriminação"]
[null,null,null,null,"Regulamento (UE) n.º 1303/2013 do Parlamento Europeu e do Conselho, de 17 de dezembro"]
[]
[null,null,null,null,"Outra legislação aplicável: Em anexo outra legislação nacional relevante no domínio da igualdade entre homens e mulheres e igualdade de oportunidades e da não discriminação"]
[]
[]
[]
[null,null,null,null,"Identificação da Operação:"]
[]
[null,null,null,null,"Código da Operação:"]
[]
[null,null,null,null,"Identificação do Beneficiário:"]
[]
[]
[]
[null,null,null,null,null,null,null,null,null,null,null,null,null,null,null,null,null,null,"A preencher pelos beneficiários",null,null,null,null,"A preencher pelas AG"]
[null,null,null,null,"N.º","Questão a verificar",null,null,null,null,null,null,null,null,null,null,null,null,"S/ N/ NA",null,null,"[1] Evidência Documental\n (em anexo)",null,"Verificação pela AG","Confirma doc. \nanexa (S/N)","Obs"]
[null,null,null,null,null,null,null,null,null,null,null,null,null,null,null,null,null,null,"S","N","NA"]
[null,null,null,null,"1 - Avaliação Global"]
[null,null,null,null,"1.1","A Operação teve em conta as prioridades nacionais e/ou Europeias em matéria de igualdade entre homens e mulheres, igualdade de oportunidades e da não discriminação em razão da deficiência, raça ou origem étnica, religião ou crença, região, idade ou orientação sexual?"]
[null,null,null,null,"1.2","A organização dispõe de indicadores numéricos e qualitativos desagregados por sexo?"]
[null,null,null,null,"2 - Igualdade no acesso ao emprego, no trabalho, no ensino e na formação profissional"]
[null,null,null,null,"2.1","Foram previstas ações destinadas a promover uma gestão igualitária e não discriminatória dos recursos humanos?"]
[null,null,null,null,"2.1.1","A Operação promoveu a igualdade salarial entre todos, nomeadamente entre mulheres e homens?"]
[null,null,null,null,"2.1.2","Nos mecanismos de gestão das carreiras dos recursos humanos foram estabelecidos práticas não discriminatórias que assegurem o acesso ao ensino e formação profissional e a progressão nas carreiras?"]
[null,null,null,null,"2.1.2","Foram estabelecidos mecanismos e estratégias para aumentar a proporção do sexo sub-representado nos processos de decisão?"]
[null,null,null,null,"3 - Promoção da integração de pessoa com deficiência"]
[null,null,null,null,"3.1","A organização adotou medidas que permitam responder aos objetivos estratégicos do Plano de Ação para a Integração das Pessoas com Deficiências ou Incapacidade?"]
[null,null,null,null,"3.2","A organização adotou políticas de gestão de recursos humanos que seja favorável à inclusão de pessoa com deficiência e à melhoria das acessibilidades?"]
[null,null,null,null,"4 - Promoção da conciliação da vida profissional e familiar"]
[null,null,null,null,"4.1","Foram previstas ações destinadas a facilitar a conciliação entre a vida profissional, familiar e pessoal?"]
[null,null,null,null,"4.2","Foram desenvolvidas ações de apoio a uma parentalidade responsável, em conformidade e respeito pelas diferentes formas de organização familiar?"]
[null,null,null,null,"5 - Prevenção de práticas discriminatórias"]
[null,null,null,null,"5.1","Foram adotadas orientações e/ou procedimentos que promovam a utilização de linguagem não sexista e inclusiva na comunicação interna e externa?"]
[null,null,null,null,"5.2","Foram desenvolvidas medidas de prevenção a situações de assédio, nomeadamente comportamentos indesejados com o objetivo de perturbar ou constranger a pessoa, afetar a sua dignidade ou de lhe criar um ambiente intimidativo, hostil, degradante, humilhante ou desestabilizador?"]
[null,null,null,null,"5.3","A Organização registou alguma iniciativa visando a integração no ambiente sócio laboral da empresa de pessoas com deficiência, nomeadamente promovendo o desenvolvimento de comportamentos pessoais e sociais adequados ao estatuto de trabalhador?"]
[]
[]
[]
[null,null,null,null,"Anexos"]
[null,null,null,null,"Legislação na área da Igualdade de Género"]
[]
[null,null,null,null,"Compromissos internacionais "]
[null,null,null,null,"-","Pacto Europeu para a Igualdade entre Homens e Mulheres (2011-2020), aprovado a 7 de março de 2011"]
[null,null,null,null,"-","Estratégia para a Igualdade entre Mulheres e Homens (2010-2015), adotada a 21 de dezembro de 2010"]
[null,null,null,null,"-","Estratégia da União Europeia para o Emprego e o Crescimento-Europa 2020, adotada a 17 de junho de 2010"]
[null,null,null,null,"-","Carta das Mulheres, adotada a 5 de março de 2010"]
[null,null,null,null,"-","Tratado de Lisboa, de 13 de dezembro de 2007"]
[null,null,null,null,"-","Carta dos Direitos Fundamentais, adotada em Nice em dezembro de 2000"]
[null,null,null,null,"Bases Gerais"]
[null,null,null,null,"-","V Plano Nacional para a Igualdade – Género, Cidadania e Não Discriminação 2014-2017"]
[null,null,null,null,"-","Declaração de Retificação n.º 14/2014"]
[null,null,null,null,"-","Código do Trabalho, aprovado pela Lei n.º 7/2009, de 12 de fevereiro, na sua atual redação"]
[null,null,null,null,"Trabalho, emprego e empreendedorismo "]
[null,null,null,null,"-","Lei n.º 133/2015, de 7 de setembro, que cria um mecanismo de proteção para trabalhadoras gravidas, puérperas e lactantes"]
[null,null,null,null,"-","Portaria n.º 84/2015, de 20 de março – diploma que cria e regulamenta a medida de Promoção de Igualdade de Género no Mercado de Trabalho"]
[null,null,null,null,"-","Resolução do Conselho de Ministros n.º 11-A/2015, de 6 de março – diploma que mandata a Secretária de Estado dos Assuntos Parlamentares e da Igualdade, o Secretário de Estado do Desenvolvimento Regional, o Secretário de Estado Adjunto e da Economia e o Secretário de Estado de Emprego para, (i) no prazo de 90 dias a contar da data da publicação, desenvolverem diligências com vista à celebração, com as empresas cotadas em Bolsa, de um compromisso que promova um maior equilíbrio na representação de mulheres e de homens nos respetivos conselhos de administração, pressupondo, por parte das empresas, a vinculação a um objetivo de representação de 30% do sexo sub-representado, até ao final de 2018, bem como (ii) para promoverem a criação e o fornecimento, sem custos para as empresas, de um mecanismo de apoio para identificação e análise das diferenças salariais entre homens e mulheres."]
[null,null,null,null,"-","Lei n.º 46/2014, de 28 de julho – diploma que autoriza o Governo, no âmbito da transposição da Diretiva n.º 2013/36/UE do Parlamento Europeu e do Conselho, a proceder à alteração ao Regime Geral das Instituições de Crédito e Sociedades Financeiras, definindo, como um dos objetivos estabelecer que a política interna de seleção e avaliação dos membros dos órgãos de administração e fiscalização deve promover a diversidade de qualificações e competências necessárias para o exercício da função, fixando objetivos para a representação de homens e mulheres e concebendo uma política destinada a aumentar o número de pessoas do género sub-representado com vista a atingir os referidos objetivos."]
[null,null,null,null,"-","Resolução do Conselho de Ministros n.º 18/2014, de 5 de março de 2014 – diploma que estabelece um conjunto de medidas a adotar para contrariar a tendência histórica de desigualdade salarial penalizadora para as mulheres, tendo em vista alcançar uma efetiva igualdade de género."]
[null,null,null,null,"Conciliação vida profissional com a vida privada "]
[null,null,null,null,"-","Resolução da Assembleia da República nº 116/2012, de 13 de julho – diploma que recomenda ao Governo que tome medidas de valorização da família que facilitem a conciliação entre a vida familiar e a vida profissional."]
[null,null,null,null,"-","Despacho n.º 8683/2011, de 16 de junho – diploma que determina que os estabelecimentos de ensino pré-escolar e do 1.º ciclo do ensino básico se mantenham obrigatoriamente abertos, pelo menos até às 17h30 e, no mínimo, por oito horas."]
[null,null,null,null,"-","Decisão do Conselho da Europa, de 21 de outubro de 2010 – diploma que estabelece que as políticas de conciliação da vida profissional com a familiar, juntamente com o acesso a estruturas de acolhimento de crianças a preços acessíveis e a inovação na forma como o trabalho é organizado, devem visar aumentar as taxas de emprego, nomeadamente entre os jovens, os trabalhadores mais idosos e as mulheres."]
[null,null,null,null,"-","Despacho n.º 14460/2008, de 15 de maio – diploma que define as normas a observar no período de funcionamento dos respetivos estabelecimentos bem como na oferta das atividades de enriquecimento curricular e de animação e de apoio à família."]
[null,null,null,null,"-","Portaria n.º 426/2006, de 2 de maio – diploma que visa criar o Programa de Alargamento da Rede de Equipamentos Sociais (PARES), que tem por finalidade apoiar o desenvolvimento e consolidar a rede de equipamentos sociais, que visa essencialmente estimular, através dos recursos financeiros provenientes dos jogos sociais, o investimento privado em equipamentos sociais, com o objetivo de aumentar a capacidade instalada em respostas nas áreas de infância e juventude, pessoas com deficiência e população idosa."]
[]
[null,null,null,null,"Discriminação"]
[null,null,null,null,"-","Portaria n.º 84/2015, de 20 de março – diploma que cria e regulamenta a medida de Promoção de Igualdade de Género no Mercado de Trabalho."]
[null,null,null,null,"-","Resolução do Conselho de Ministros n.º 11-A/2015, de 6 de março – diploma que mandata a Secretária de Estado dos Assuntos Parlamentares e da Igualdade, o Secretário de Estado do Desenvolvimento Regional, o Secretário de Estado Adjunto e da Economia e o Secretário de Estado de Emprego para, (i) no prazo de 90 dias a contar da data da publicação, desenvolverem diligências com vista à celebração, com as empresas cotadas em Bolsa, de um compromisso que promova um maior equilíbrio na representação de mulheres e de homens nos respetivos conselhos de administração, pressupondo, por parte das empresas, a vinculação a um objetivo de representação de 30% do sexo sub-representado, até ao final de 2018, bem como (ii) para promoverem a criação e o fornecimento, sem custos para as empresas, de um mecanismo de apoio para identificação e análise das diferenças salariais entre homens e mulheres."]
[null,null,null,null,"-","Lei n.º 40/2014, de 9 de Julho - diploma que procede à segunda alteração a Lei n.º 27/2007, de 30 de julho (Lei da televisão e dos Serviços Audiovisuais a Pedido), integrando a promoção da igualdade de género como um dos temas dos programas televisivos de acesso livre."]
[null,null,null,null,"-","Resolução da Assembleia da República n.º 46/2013, de 4 de abril – diploma que recomenda ao Governo a não discriminação laboral de mulheres."]
[null,null,null,null,"-","Resolução da Assembleia da República n.º 45/2013, de 4 de abril – diploma que recomenda ao Governo o combate às discriminações salariais, diretas e indiretas."]
[null,null,null,null,"-","Resolução da Assembleia da República n.º 41/2013, de 8 de março – diploma que recomenda ao governo um conjunto de medidas, em matéria de combate às práticas discriminatórias entre homens e mulheres no mundo do trabalho, nomeadamente a disponibilização, na página eletrónica da autoridade para as Condições do trabalho, de informação estatística atualizada e de qualidade, com desagregação futura dos dados em função do género."]
[null,null,null,null,"-","Resolução do Conselho de Ministros de 13/2013, de 8 de março – diploma que aprova um conjunto de medidas que visam garantir e promover a igualdade de oportunidades e de resultados entre mulheres e homens no mercado de trabalho, designadamente na eliminação das diferenças salariais, da promoção da conciliação entre a vida profissional e a vida familiar e pessoal, do incentivo ao aprofundamento da responsabilidade social das empresas, da eliminação da segregação do mercado de trabalho e de outras discriminações."]
[null,null,null,null,"-","Resolução do Conselho de Ministros n.º 19/2012, de 8 de março – diploma que sublinha a necessidade de promover uma efetiva pluralidade na representação de mulheres e de homens em lugares de decisão, tanto para o sector público como para o privado e incentiva a adoção de práticas de bom governo, suscetíveis de contribuir para a sustentabilidade económica de Portugal."]
[null,null,null,null,"-","Lei n.º 7/2011, de 15 de março – diploma que cria o procedimento de mudança de sexo e de nome próprio no registo civil e procede à décima sétima alteração ao Código do Registo Civil."]
[null,null,null,null,"-","Lei n.º 3/2011, de 15 de fevereiro – diploma que proíbe qualquer discriminação no acesso e no exercício do trabalho independente e transpõe a Diretiva n.º 2000/43/CE, do Conselho, de 29 de Junho, a Diretiva n.º2000/78/CE, do Conselho, de 27 de novembro, e a Diretiva n.º 2006/54/CE, do Parlamento Europeu e do Conselho, de 5 de julho."]
[null,null,null,null,"-","Carta dos Direitos Fundamentais da União Europeia, de 30 de dezembro de 2010 – diploma que, no artigo 21.º, proíbe de forma genérica a discriminação em razão de uma vasta série de motivações, incluindo em função da orientação sexual."]
[null,null,null,null,"-","Convenção Europeia dos Direitos do Homem, de 4 de novembro 1950 – diploma que consagra os Direitos da Humanidade"]
[null,null,null,null,"-","Resolução da Assembleia da República n.º 39/2010, de 6 de maio – diploma que recomenda ao Governo a adoção de medidas que visem combater a atual discriminação dos homossexuais e bissexuais nos serviços de recolha de sangue."]
[null,null,null,null,"-","Lei n.º 14/2008, de 12 de março, diploma que proíbe e sanciona a discriminação em função do sexo no acesso a bens e serviços e seu fornecimento, transpondo para a ordem jurídica interna a Diretiva n.º 2004/113/CE, do Conselho, de 13 de dezembro."]
[null,null,null,null,"-","Lei n.º 59/2007, de 4 de setembro, e Decreto-Lei n.º 48/95, de 15 de março – diplomas que alteram o Decreto-Lei n.º 400/82, de 23 de Setembro, nomeadamente, a alínea c) do n.º 2 do artigo 240.º do Código Penal Português, criminalizando o incitamento à discriminação racial, religiosa e sexual com uma pena de prisão de 6 meses a 5 anos."]
[null,null,null,null,"-","Portaria n.º 111/2007, de 24 de janeiro – diploma que cria o Programa Todos Diferentes, Todos Iguais (Programa TDTI)."]
[null,null,null,null,"-","Lei n.º 18/2004, 11 de maio – diploma que transpõe para a ordem jurídica nacional a Diretiva n.º 2000/43/CE, do Conselho, de 29 de Junho, que aplica o princípio da igualdade de tratamento entre as pessoas, sem distinção de origem racial ou étnica, e tem por objetivo estabelecer um quadro jurídico para o combate à discriminação baseada em motivos de origem racial ou étnica."]
[null,null,null,null,"-","Lei n.º 9/2001, de 21 de maio – diploma que reforça os mecanismos de fiscalização e punição das práticas laborais discriminatórias em função do sexo."]
[null,null,null,null,"-","Lei n.º 134/1999, de 28 de agosto – diploma que proíbe as discriminações no exercício de direitos por motivos baseados na raça, cor, nacionalidade ou origem étnica."]
[null,null,null,null,"-","Declaração Universal dos Direitos do Homem, de 10 de Dezembro de 1948."]
[null,null,null,null,"Mainstreaming "]
[null,null,null,null,"-","Resolução do Conselho de Ministros de nº 19/2012, de 8 de março – diploma que determina a obrigatoriedade de adoção de planos para a igualdade em todas as entidades do Setor Empresarial do Estado (SEE) e a presença plural de mulheres e homens nas nomeações ou designações para cargos de administração e de fiscalização; enquanto acionista de empresas privadas, deve propor aos restantes acionistas a adoção de políticas de promoção da igualdade de género; quanto às empresas do setor privado cotadas em bolsa, recomenda a adoção de planos de igualdade e de medidas, designadamente de autorregulação e de avaliação, que conduzam à participação equilibrada de mulheres e de homens nos cargos de administração e de fiscalização."]
[null,null,null,null,"Parentalidade "]
[null,null,null,null,"-","Constituição da República Portuguesa (artigo 68.º) – diploma que reconhece a maternidade e a paternidade como valores sociais eminentes."]
[null,null,null,null,"-","Declaração de Retificação n.º 40/2009, de 5 de junho – diploma que retifica o n.º 4 do artigo 38.º do Decreto-Lei n.º 89/2009, de 9 de abril, que regulamenta a proteção na parentalidade, no âmbito da eventualidade maternidade, paternidade e adoção, dos trabalhadores que exercem funções públicas integrados no regime de proteção social convergente."]
[null,null,null,null,"-","Decreto-Lei n.º 91/2009, de 9 de abril, alterado pelo Decreto-lei n.º 70/2010, de 16 de junho, pelo Decreto-lei n.º 133/2012, de 27 de junho e pelo Decreto-lei n.º 120/2015, de 1 de setembro – diploma que estabelece o regime jurídico de proteção social na parentalidade no âmbito do sistema previdencial e no subsistema de solidariedade, e o quadro legal da proteção da parentalidade, em termos gerais."]
[null,null,null,null,"-","Decreto-Lei n.º 89/2009, de 9 de abril – diploma que regulamenta a proteção na parentalidade, no âmbito da eventualidade maternidade, paternidade e adoção, dos trabalhadores que exercem funções públicas integrados no regime de proteção social convergente."]
[null,null,null,null,"-","Lei n.º 61/2008, de 31 de outubro – diploma que altera os artigos 1906.º a 1912.º do Código Civil, os quais dispõem sobre responsabilidades parentais."]
[null,null,null,null,"-","Lei n.º 90/2001, de 20 de agosto – diploma que define medidas de apoio social aos pais e mães estudantes."]
[]
[null,null,null,null,"Legislação na área da Violência Doméstica"]
[null,null,null,null,"Vigilância eletrónica "]
[null,null,null,null,"-","Portaria n.º 63/2011, de 3 de fevereiro – diploma que estabelece a primeira alteração à Portaria n.º 220-A/2010, de 16 de abril, dando nova redação aos seus artigos 4.º e 7.º e revogando o artigo 5.º."]
[null,null,null,null,"-","Lei n.º 40/2010, de 3 de setembro – diploma que estabelece que a segunda alteração à Lei n.º 115/2009, de 12 de outubro, que aprova o Código da Execução das Penas e Medidas Privativas da Liberdade e 26ª alteração ao Código Penal."]
[null,null,null,null,"-","Lei n.º 33/2010, de 2 de setembro – diploma que regula a utilização de meios técnicos de controlo à distância (vigilância eletrónica) e revoga a Lei n.º 122/99, de 20 de agosto, que regula a vigilância eletrónica prevista no artigo 201.º do Código de Processo Penal, e o artigo 2.º da Lei n.º 115/2009, de 12 de outubro."]
[null,null,null,null,"-","Portaria n.º 220-A/2010, de 16 de abril – diploma que estabelece as condições de utilização inicial dos meios técnicos de teleassistência, previstos nos n.ºs 4 e 5 do artigo 20.º, e dos meios técnicos de controlo à distância previstos no artigo 35.º, ambos da Lei n.º 112/2009, de 16 de setembro, que aprova o regime jurídico aplicável à prevenção da violência doméstica, à proteção e à assistência das suas vítimas."]
[null,null,null,null,"-","Resolução do Conselho de Ministros n.º 17/2006, de 21 de julho – diploma que prorroga por mais um ano o mandato da estrutura de missão que tem vindo a desenvolver a estratégia de implementação da vigilância eletrónica."]
[null,null,null,null,"-","Decreto-Lei n.º 121/2009, de 21 de maio – diploma que cria a Unidade de tecnologias, Informação e Segurança."]
[null,null,null,null,"-","Resolução do Conselho de Ministros n.º 1/2001, de 6 de janeiro – diploma que cria, no âmbito do Ministério da Justiça, uma estrutura de missão com o objetivo de desenvolver as estratégias de implementação do sistema da monitorização eletrónica de arguidos sujeitos à medida de coação prevista no artigo 201.º do Código de Processo Penal."]
[null,null,null,null,"Violência doméstica – Técnicos de apoio à vítima"]
[null,null,null,null,"-","Despacho n.º 6810-A/2010, de 15 de Abril, D.R. (II série) de 16 de Abril (suplemento): – diploma que define, no âmbito do artigo 83.º da Lei n.º 112/2009, de 16 de setembro, os requisitos e qualificações necessários à habilitação dos técnicos de apoio à vítima."]
[null,null,null,null,"-","Legislação na área não discriminação em razão da deficiência"]
[]
[null,null,null,null,"Bases gerais "]
[null,null,null,null,"-","Lei nº 38/2004, de 18 de agosto – diploma que define as bases gerais do regime jurídico da prevenção, habilitação, reabilitação e participação da pessoa com deficiência."]
[null,null,null,null,"-","Código do Trabalho, aprovado pela Lei n.º 7/2009, de 12 de fevereiro, na sua atual redação."]
[null,null,null,null,"Igualdade no acesso ao emprego e à formação"]
[null,null,null,null,"-","Decreto-lei n.º 290/2009, de 12 de outubro, com as alterações introduzidas pela lei n.º 24/2011, de 16 de junho, pelo Decreto-lei n.º 131/2013, de 11 de setembro e pelo Decreto-lei n.º 108/2015, de 17 de junho, que o republica – diploma que cria o Programa de Emprego e Apoio à Qualificação das Pessoas com Deficiência e Incapacidade e define o regime de concessão de apoio técnico e financeiro para o desenvolvimento das políticas de emprego e apoio à qualificação das pessoas com deficiência e incapacidade."]
[null,null,null,null,"-","Despacho n.º 8376-B/2015, de 30 de julho, que define os aspetos técnicos necessários à execução do Programa de emprego e apoio à qualificação das pessoas com deficiência e incapacidade."]
[]
[]
[]
[]
[]
[]
[null,null,{"$f":"+FORMALIZACAO!C103","v":0}]
[]
[null,null,{"$f":"+FORMALIZACAO!C105","v":"PROCiência 2020 - Individuais"}]

{"sheet":"REGRAS_AMBIENTAIS","index":18,"n_rows":103,"n_cols":24,"rows_kept":103,"cut":false,"hidden":false,"merged":[[92,4,92,24],[3,2,3,25],[97,18,97,24],[100,2,100,24],[102,2,102,24],[15,4,15,15],[69,4,70,4],[86,5,86,17],[87,5,87,17],[85,4,85,23],[88,5,88,17],[81,4,81,23],[23,4,23,17],[24,5,25,17],[26,5,26,17],[8,4,8,23],[9,4,10,23],[11,4,13,23],[15,16,15,23],[17,4,17,15],[19,4,19,15],[17,16,17,23],[19,16,19,23],[38,4,38,23],[46,4,46,23],[31,4,31,23],[28,4,28,23],[39,5,39,17],[29,5,29,17],[30,5,30,17],[32,5,32,17],[33,5,33,17],[41,4,43,4],[35,5,35,17],[32,4,33,4],[34,5,34,17],[40,5,40,17],[44,5,45,17],[44,4,45,4],[72,4,72,23],[77,4,77,23],[64,5,64,17],[66,5,66,17],[67,5,67,17],[69,5,70,17],[75,5,75,17],[71,5,71,17],[73,5,73,17],[74,5,74,17],[76,5,76,17],[65,4,65,23],[68,4,68,23],[50,4,51,4],[51,5,51,17],[52,5,52,17],[63,5,63,17],[47,4,49,4],[59,4,59,23],[62,4,62,23],[56,4,56,23],[53,4,53,23],[54,5,54,17],[41,5,43,17],[47,5,47,17],[48,5,48,17],[49,5,49,17],[50,5,50,17],[23,18,23,19],[23,21,23,23],[93,4,93,23],[82,5,82,17],[83,5,83,17],[84,5,84,17],[24,18,25,18],[24,19,25,19],[78,5,78,17],[79,5,79,17],[80,5,80,17],[55,5,55,17],[57,5,57,17],[58,5,58,17],[60,5,60,17],[61,5,61,17],[24,22,25,22],[24,23,25,23],[36,7,36,17],[36,4,36,6],[37,7,37,17],[37,4,37,6],[27,4,27,23],[24,4,25,4]]}
[]
[]
[]
[null,null,"CHECK-LIST VERIFICAÇÃO DO CUMPRIMENTO DA LEGISLAÇÃO AMBIENTAL EM PROJETOS COFINANCIADOS"]
[]
[]
[]
[]
[null,null,null,null,"AMBIENTE"]
[null,null,null,null,"Regulamento (UE) n.º 1303/20013 do Parlamento Europeu e do Conselho, de 17 de dezembro "]
[]
[null,null,null,null,"A consecução dos objetivos dos FEEI é feita em consonância com o princípio do desenvolvimento sustentável e com o objetivo da União de preservar, proteger e melhorar a qualidade do ambiente, tal como previsto nos artigos 11.º e artigo 191º , n.º 1, do TFUE, tendo em conta o princípio do poluidor-pagador."]
[]
[]
[]
[null,null,null,null,"Identificação da Operação:"]
[]
[null,null,null,null,"Código da Operação:"]
[]
[null,null,null,null,"Identificação do Beneficiário:"]
[]
[]
[]
[null,null,null,null,null,null,null,null,null,null,null,null,null,null,null,null,null,null,"A preencher pelos beneficiários",null,null,"A preencher pelas AG"]
[null,null,null,null,"N.º","Questão a verificar",null,null,null,null,null,null,null,null,null,null,null,null,"S/ N/ NA","[1] Evidência Documental / justificação caso NA",null,"Verificação pela AG","Confirma doc. anexa (S/N)","Obs"]
[null,null,null,null,null,null,null,null,null,null,null,null,null,null,null,null,null,null,null,null,null,"Confirma declaração beneficiário (S/N)"]
[null,null,null,null,"(a)","(b)",null,null,null,null,null,null,null,null,null,null,null,null,"(c)","(d)",null,"(e)","(f)","(g)"]
[null,null,null,null,"A operação é abrangida pelo âmbito de aplicação da seguinte legislação:"]
[null,null,null,null,"1 - Avaliação Ambiental Estratégica (AAE)"]
[null,null,null,null,"1.1","A operação consiste na elaboração de um plano ou programa mencionado no artigo 3.º do Decreto-Lei nº 232/2007, de 15 de junho, alterado pelo Decreto-Lei nº 58/2011, de 4 de maio?"]
[null,null,null,null,"1.2","Em caso afirmativo, a Declaração Ambiental foi disponibilizada ao público nos termos previstos no artigo 10.º do referido diploma?"]
[null,null,null,null,"2 - Titulo Único Ambiental (TUA)"]
[null,null,null,null,"2.1","A operação está abrangida pelo licenciamento ambiental Único previsto no Decreto-Lei n.º 75/2015, de 11 de maio? "]
[null,null,null,null,null,"(Em caso negativo passar à questão 3):"]
[null,null,null,null,"2.1.1","Em caso afirmativo o TUA foi emitido ?"]
[null,null,null,null,"2.1.2","Se o TUA não foi emitido."]
[null,null,null,null,"2.1.2.1",null,null,"Indicar ponto de situação do processo;"]
[null,null,null,null,"2.1.2.2",null,null,"Existem condicionantes dos Pareceres ? Indicar em Anexo. "]
[null,null,null,null,"3 - Regime Jurídico de Avaliação de impacte ambiental (RJAIA)"]
[null,null,null,null,"3.1","A operação está sujeita a avaliação de impacte ambiental, nos termos definidos nos n.º 3, 4 e 5 do art.º 1.º do Decreto-Lei nº 151-B/2013, de 31 de outubro, alterado pelos Decreto-Lei nº 47/2014, de 24 de março e Decreto-Lei n.º179/2015, de 27 de agosto?"]
[null,null,null,null,"3.2","Em caso afirmativo, foi apresentada a Declaração de Impacte Ambiental (DIA) favorável ou condicionalmente favorável (art.18.º do Decreto-Lei nº n.º 151-B/2013)?"]
[null,null,null,null,"3.3","No caso da DIA ter sido emitida sobre um projeto sujeito a AIA em fase de estudo-prévio ou anteprojeto, foi apresentada a decisão favorável da Autoridade de AIA(a) sobre a conformidade ambiental (DCAPE) do projeto de execução com a respetiva DIA (art.º 21.º do Decreto-Lei nº n.º 151-B/2013)?\n(a) Agência Portuguesa do Ambiente (APA) ou Comissão de Coordenação e Desenvolvimento Regional (CCDR) territorialmente competente, conforme os casos referidos no art.º 8.º"]
[]
[]
[null,null,null,null,"3.4","Existe evidência da execução e cumprimento das medidas de minimização/compensação, condicionantes e programas de monitorização impostos na DIA e/ou DCAPE (p.e através dos relatórios ad-hoc ou de acompanhamento da gestão ambiental da obra)?"]
[]
[null,null,null,null,"4 - Ocupação Domínio Hídrico /Utilização dos Recursos Hídricos: (Caso a operação seja objeto de AIA ou PCIP e não haja utilização dos recursos hídricos, passar à questão 9, caso aplicável)"]
[null,null,null,null,"4.1","A operação:"]
[null,null,null,null,null,"a)       Encontra-se localizada em domínio hídrico, nos termos da Lei n.º 54/2005, de 15 de Novembro, alterada pela Lei nº 34/2014, de 19 de Junho?"]
[null,null,null,null,null,"b)      Inclui algum uso dos recursos hídricos sujeito à atribuição de um Título de Utilização dos Recursos Hídricos (TURH), nos termos da Lei n.º 58/2005, de 29 de dezembro alterada e republicada pelo Decreto-Lei nº 130/2012 de 22 de junho e do Decreto-Lei n.º 226-A/2007, de 31 de maio?"]
[null,null,null,null,"4.2","Em caso afirmativo, foi apresentado o respetivo Título de Utilização de Recursos Hídricos (TURH)5, nos termos da Lei n.º 58/2005, de 29 de Dezembro alterada e republicada pelo Decreto-Lei nº 130/2012, de 22 de Junho e do Decreto-Lei n.º 226-A/2007, de 31 de Maio ou o requerimento para a sua regularização?"]
[null,null,null,null,null,"(5) A autorização, licença ou concessão constituem títulos de utilização dos recursos hídricos"]
[null,null,null,null,"4.3","Existe evidência do cumprimento das condicionantes impostas (caso existam) pelo Respetivo TURH, designadamente e quando aplicável os reportes relativos aos Programas de autocontrolo  e de Monitorização do Meio Recetor?"]
[null,null,null,null,"5 - Licenciamento de Operações de Tratamento de Resíduos:"]
[null,null,null,null,"5.1","A operação inclui alguma atividade sujeita a licenciamento nos termos  do artigo 23º do Decreto-Lei n.º 178/2006, de 5 de Setembro, na actual redacção dada pelo  Decreto-Lei n.º 73/2011, de 17 de junho?"]
[null,null,null,null,"5.2","Em caso afirmativo, foi apresentada a respetiva licença (artigos 29º e 31º)?"]
[null,null,null,null,"6 - Deposição de resíduos em aterros:"]
[null,null,null,null,"6.1","A operação inclui a constituição de aterros, nos termos do artigo 2.º do Decreto-Lei n.º 183/2009 de 10 de agosto, alterado pelo Decreto-Lei n.º 84/2011 de 20 de junho e Decreto-Lei n.º 88/2013 de 9 de julho?"]
[null,null,null,null,"6.2","Em caso afirmativo, foi apresentado a respetiva licença?"]
[null,null,null,null,"7 - Instalação e exploração de centros integrados de recuperação, valorização e eliminação de resíduos perigosos:"]
[null,null,null,null,"7.1","A operação envolve a instalação e a exploração de centros integrados de recuperação, valorização e eliminação de resíduos perigosos, nos termos do artigo 1.º do Decreto-Lei n.º 3/2004 de 3 janeiro alterado pelo Decreto-Lei nº 178/2006 de 5 setembro?"]
[null,null,null,null,"7.2","Em caso afirmativo, foi apresentado a respetiva licença?"]
[null,null,null,null,"8 - Prevenção de acidentes graves que envolvam substâncias perigosas (RPAG):"]
[null,null,null,null,"8.1","A operação inclui estabelecimentos onde estejam presentes substâncias perigosas em quantidades iguais ou superiores às quantidades indicadas no anexo I e nos termos do artigo 3.º do Decreto -Lei n.º 254/2007 de 12 de julho, alterado pelo Decreto-Lei n.º 42/2014, de 18 de março?"]
[null,null,null,null,"8.2","Em caso afirmativo, foi apresentada a respetiva notificação ?"]
[null,null,null,null,"9 - Gestão de resíduos das explorações de depósitos minerais e de massas minerais:"]
[null,null,null,null,"9.1","A operação envolve a produção de resíduos resultantes da prospecção, extracção, tratamento, transformação e armazenagem de recursos minerais, bem como da exploração das pedreiras, nos termos do artigo 2.º do Decreto -Lei n.º10/2010 de 4 de fevereiro, alterado pelo Decreto-Lei n.31/2013, de 22 de fevereiro?"]
[null,null,null,null,"9.2","Em caso afirmativo, foi apresentado a respetiva licença ?"]
[null,null,null,null,"10 - Licenciamento ambiental (Prevenção e Controlo Integrado da Poluição-PCIP)"]
[null,null,null,null,"10.1","A operação inclui alguma instalação na qual são desenvolvidas uma ou mais atividades constantes do anexo I(2) do Decreto-Lei n.º 127/2013, de 30 de Agosto, relativo ao regime de Emissões Industriais?\n(2) As atividades incluídas no anexo I dizem respeito a atividades industriais, agro-alimentares e de gestão de resíduos."]
[]
[null,null,null,null,"10.2","Em caso afirmativo, foi apresentada a respetiva Licença Ambiental (artigo 11.º), ou em alternativa, foi apresentado o parecer da Agência Portuguesa do Ambiente (APA) em como a operação não configura uma alteração substancial (art.º 19.º)?"]
[null,null,null,null,"11 - Localização do Projeto na Rede Natura 2000"]
[null,null,null,null,"11.1","A operação encontra-se localizada num Sítio da Rede Natura 2000(3)?\n(3) De modo a aferir se uma determinada operação se localiza em Rede Natura 2000 poderá ser consultado o seguinte endereço de internet: Natura Viewer - http://natura2000.eea.europa.eu"]
[null,null,null,null,"11.2","[2] Em caso afirmativo, foi apresentada Declaração de Conformidade com a Rede Natura 2000?"]
[null,null,null,null,"11.3","Existe evidência do cumprimento das condicionantes impostas (caso existam) pela Declaração de Conformidade com a Rede Natura 2000?"]
[null,null,null,null,"11.4","A operação é susceptível de envolver actos ou actividades sujeitos a parecer nos termos do nº 2 do art.º 9º ou a licença nos termos do art. 20º do Decreto-Lei nº 140/99, de 24 de Abril, alterado e republicado pelo Decreto-Lei nº 49/2005, de 24 de fevereiro?"]
[null,null,null,null,"12 - Avaliação de incidências ambientais (AINCAS) – Áreas Protegidas ou da Rede Natura "]
[null,null,null,null,"12.1","A operação tem incidência territorial em Áreas Protegidas ou da Rede Natura 2000 com regimes de gestão territorial eficazes inscritos nos regulamentos dos planos de ordenamento de áreas protegidas ou de planos diretores municipais ou, quando aplicável nos regulamentos específicos dos programas especiais de ordenamento ou de criação de áreas protegidas"]
[null,null,null,null,"12.2.","A operação está sujeita e obteve os pareceres, autorizações ou licenças previstos nos regulamentos dos referidos planos?"]
[null,null,null,null,"12.3","Existe evidência da execução e cumprimento das condicionantes impostas na autorização ou licença emitida, quando aplicável?"]
[null,null,null,null," [3] 13 - Avaliação de incidências ambientais (AIncA) da instalação ou sobre-equipamento de centros eletroprodutores que utilizem fontes de energia renováveis"]
[null,null,null,null,"13.1","O projecto está sujeito a avaliação de incidências ambientais nos termos do artº 5º e em conformidade com o procedimento previsto no art. 6º do Decreto-Lei nº 225/2007, de 31 de maio, alterado pelo Decreto-Lei nº 94/2014, de 24 de Junho?"]
[null,null,null,null,"13.2","Em caso afirmativo, foi apresentada a decisão do procedimento de avaliação de incidências ambientais (DIncA) favorável ou condicionalmente favorável (art. 7º do Decreto-Lei nº 225/2007, de 31 de maio, alterado pelo Decreto-Lei nº 94/2014, de 24 de Junho)?"]
[null,null,null,null,"13.3","Existe evidência da execução e cumprimento das medidas de minimização/compensação, condicionantes e programas de monitorização impostos na DIncA  (p.e através dos relatórios ad-hoc ou de acompanhamento da gestão ambiental da obra)?"]
[null,null,null,null,"[4] 14 - Avaliação de incidências ambientais (AIncA) de planos ou projectos não directamente relacionados com a gestão de um sítio de interesse comunitário, de uma ZEC ou de uma ZPE da Rede Natura 2000 e não necessários para essa gestão, mas susceptíveis de afectar essa zona de forma significativa, individualmente ou em conjugação com outras acções, planos ou projectos"]
[null,null,null,null,"14.1","O projecto está sujeito a avaliação de incidências ambientais nos termos e em conformidade com o procedimento dos nºs 1 a 8 do artº 10º do Decreto-Lei nº 140/99, de 24 de Abril, alterado e republicado pelo Decreto-Lei nº 49/2005, de 24 de fevereiro?"]
[null,null,null,null,"14.2","Em caso afirmativo, foi apresentada a decisão do procedimento de avaliação de incidências ambientais (DIncA, DIA e/ou DCAPE) favorável ou condicionalmente favorável, em conformidade com os nºs 9 a 13 do art. 10º do Decreto-Lei nº 140/99, de 24 de Abril, alterado e republicado pelo Decreto-Lei nº 49/2005, de 24 de fevereiro?"]
[null,null,null,null,"14.3","Existe evidência da execução e cumprimento das medidas de minimização, e/ou compensação, condicionantes e programas de monitorização impostos na DIncA, DIA ou DCAPE  (p.e através dos relatórios ad-hoc ou de acompanhamento da gestão ambiental da obra)?"]
[]
[]
[null,null,null,null,"(1)-Anexar informação ou indicar página da Internet onde pode ser consultada;"]
[null,null,null,null,"[2] As normas orientadoras destas declarações de conformidade estão em revisão e serão disponibilizadas no site do ICNF e no portal do Portugal 2020."]
[null,null,null,null,"[3] Referente a projetos que não se encontrem abrangidos pelo Decreto-lei nº 151-B/2013, de 31 de outubro, alterado pelo Decreto-lei nº 47/2014, de 24 de março e DL n.º 47/2014, de 24 de março, e cuja localização esteja prevista em áreas da Reserva Ecológica Nacional, Sítios da Rede Natura 2000 ou da Rede Nacional de Áreas Protegidas"]
[null,null,null,null,"[4] Referente a planos ou projetos cuja avaliação se encontra abrangida ou não nos regimes de AAE ou AIA "]
[]
[]
[]
[]
[]
[null,null,{"$f":"+FORMALIZACAO!C103","v":0}]
[]
[null,null,{"$f":"+FORMALIZACAO!C105","v":"PROCiência 2020 - Individuais"}]

{"sheet":"CONTRATACAO_PUBLICA","index":19,"n_rows":264,"n_cols":32,"rows_kept":264,"cut":false,"hidden":false,"merged":[[21,11,21,16],[21,18,21,21],[21,22,21,27],[25,11,25,27],[31,4,32,10],[31,11,31,14],[32,11,32,14],[3,2,3,33],[8,3,8,32],[11,11,11,27],[13,11,13,27],[15,11,15,27],[17,15,17,16],[17,20,17,21],[45,4,45,10],[45,12,45,27],[47,4,47,10],[47,12,47,27],[49,4,49,10],[49,12,49,27],[33,4,34,10],[33,11,33,14],[34,11,34,14],[35,4,35,10],[35,11,35,14],[36,4,39,10],[36,11,36,14],[37,11,37,14],[38,11,38,14],[39,11,39,14],[51,4,51,10],[51,12,51,27],[53,4,53,10],[53,12,53,27],[59,4,71,10],[59,12,59,21],[59,22,59,31],[60,12,60,21],[60,22,60,31],[61,12,61,21],[65,12,65,21],[65,22,65,31],[66,12,66,21],[66,22,66,31],[67,12,67,21],[67,22,67,31],[61,22,61,31],[62,12,62,21],[62,22,62,31],[63,12,63,21],[63,22,63,31],[64,12,64,21],[64,22,64,31],[71,12,71,21],[71,22,71,31],[73,4,73,10],[73,12,73,21],[75,4,75,10],[75,12,75,21],[68,12,68,21],[68,22,68,31],[69,12,69,21],[69,22,69,31],[70,12,70,21],[70,22,70,31],[83,30,85,30],[83,31,85,31],[86,5,86,22],[86,23,86,27],[87,5,87,22],[87,23,87,27],[77,4,77,10],[77,12,77,21],[83,4,85,22],[83,23,85,27],[83,28,85,28],[83,29,85,29],[91,5,91,22],[91,23,91,27],[92,5,92,22],[92,23,92,27],[93,5,93,22],[93,23,93,27],[88,5,88,22],[88,23,88,27],[89,5,89,22],[89,23,89,27],[90,5,90,22],[90,23,90,27],[97,5,97,22],[97,23,97,27],[98,5,98,22],[98,23,98,27],[99,5,99,22],[99,23,99,27],[94,5,94,22],[94,23,94,27],[95,5,95,22],[95,23,95,27],[96,5,96,22],[96,23,96,27],[103,5,103,22],[103,23,103,27],[104,5,104,22],[104,23,104,27],[105,5,105,22],[105,23,105,27],[100,5,100,22],[100,23,100,27],[101,5,101,22],[101,23,101,27],[102,5,102,22],[102,23,102,27],[109,5,109,22],[109,23,109,27],[110,5,110,22],[110,23,110,27],[111,5,111,22],[111,23,111,27],[106,5,106,22],[106,23,106,27],[107,5,107,22],[107,23,107,27],[108,5,108,22],[108,23,108,27],[115,5,115,22],[115,23,115,27],[116,5,116,22],[116,23,116,27],[117,5,117,22],[117,23,117,27],[112,5,112,22],[112,23,112,27],[113,5,113,22],[113,23,113,27],[114,5,114,22],[114,23,114,27],[121,5,121,22],[121,23,121,27],[122,5,122,22],[122,23,122,27],[123,5,123,22],[123,23,123,27],[118,5,118,22],[118,23,118,27],[119,5,119,22],[119,23,119,27],[120,5,120,22],[120,23,120,27],[127,5,127,22],[127,23,127,27],[128,5,128,22],[128,23,128,27],[129,5,129,22],[129,23,129,27],[124,5,124,22],[124,23,124,27],[125,5,125,22],[125,23,125,27],[126,5,126,22],[126,23,126,27],[139,29,141,29],[139,30,141,30],[139,31,141,31],[130,5,130,22],[130,23,130,27],[131,5,131,22],[131,23,131,27],[132,5,132,22],[132,23,132,27],[142,5,142,22],[142,23,142,27],[143,5,143,22],[143,23,143,27],[144,5,144,22],[144,23,144,27],[139,4,141,22],[139,23,141,27],[139,28,141,28],[148,5,148,22],[148,23,148,27],[149,5,149,22],[149,23,149,27],[150,5,150,22],[150,23,150,27],[145,5,145,22],[145,23,145,27],[146,5,146,22],[146,23,146,27],[147,5,147,22],[147,23,147,27],[156,4,158,4],[156,5,156,22],[156,23,158,27],[156,28,158,28],[151,5,151,22],[151,23,152,27],[152,5,152,22],[153,5,153,22],[153,23,153,27],[154,5,154,22],[154,23,154,27],[156,29,158,29],[156,30,158,30],[156,31,158,31],[157,5,157,22],[158,5,158,22],[159,5,159,22],[159,23,159,27],[155,5,155,22],[155,23,155,27],[183,4,183,17],[183,18,184,24],[183,25,184,31],[184,4,184,8],[184,9,184,14],[184,15,184,17],[160,5,160,22],[160,23,160,27],[161,5,161,22],[161,23,161,27],[162,5,162,22],[162,23,162,27],[185,4,185,8],[185,9,185,14],[185,15,185,17],[185,18,185,24],[185,25,185,31],[186,4,186,8],[186,9,186,14],[186,15,186,17],[186,18,186,24],[186,25,186,31],[187,4,187,8],[187,9,187,14],[187,15,187,17],[187,18,187,24],[187,25,187,31],[188,4,188,8],[188,9,188,14],[188,15,188,17],[188,18,188,24],[188,25,188,31],[191,25,191,31],[192,4,192,8],[192,9,192,14],[192,15,192,17],[192,18,192,24],[192,25,192,31],[189,4,189,8],[189,9,189,14],[189,15,189,17],[189,18,189,24],[189,25,189,31],[190,4,190,8],[190,9,190,14],[190,15,190,17],[190,18,190,24],[190,25,190,31],[196,12,196,24],[198,16,198,17],[200,12,200,24],[202,12,202,24],[204,16,204,17],[206,12,206,24],[191,4,191,8],[191,9,191,14],[191,15,191,17],[191,18,191,24],[217,4,217,21],[217,22,217,31],[218,4,218,31],[220,4,220,31],[221,4,221,21],[221,22,221,31],[213,4,213,31],[214,4,214,21],[214,22,214,31],[215,4,215,21],[215,22,215,31],[216,4,216,21],[216,22,216,31],[227,4,227,21],[227,22,227,31],[228,4,228,21],[228,22,228,31],[229,4,229,21],[229,22,229,31],[222,4,222,21],[222,22,222,31],[223,4,223,21],[223,22,223,31],[224,4,224,31],[226,4,226,31],[235,4,236,21],[235,22,235,31],[236,22,236,31],[238,4,238,31],[239,4,239,21],[239,22,239,31],[230,4,230,31],[232,4,232,31],[233,4,233,21],[233,22,233,31],[234,4,234,21],[234,22,234,31],[245,4,245,21],[245,22,245,31],[246,4,246,21],[246,22,246,31],[247,4,247,21],[247,22,247,31],[240,4,240,21],[240,22,240,31],[241,4,241,21],[241,22,241,31],[242,4,242,31],[244,4,244,31],[253,4,253,21],[253,22,253,31],[254,4,254,31],[258,18,258,32],[261,2,261,32],[263,2,263,32],[248,4,248,31],[250,4,250,31],[251,4,251,21],[251,22,251,31],[252,4,252,21],[252,22,252,31]]}
[]
[]
[]
[null,null,"FICHA DE VERIFICAÇÃO DE PROCEDIMENTOS DE CONTRATAÇÃO PÚBLICA"]
[]
[]
[]
[]
[null,null,null,"CONTRATAÇÃO PÚBLICA *"]
[null,null,null,"* (aplicável apenas aos contratos celebrados na sequência de procedimentos iniciados a partir do dia 01.01.2018)"]
[]
[null,null,null,null,"Identificação da Operação:"]
[]
[null,null,null,null,"Código da Operação:"]
[]
[null,null,null,null,"Identificação do Beneficiário:"]
[]
[null,null,null,null,"O benefeciário está sujeito a contratação pública",null,null,null,null,null,null,null,null,null,"sim",null,null,null,null,"Não"]
[]
[null,null,null,null,"Momento em que se está a preencher a presente check-list:"]
[]
[null,null,null,null,null,null,"Pedido de Pagamento n.º:",null,null,null,null,null,null,null,null,null,null,null," (Registo Despesa):"]
[]
[null,null,null,null,null,null,"Relatório Final:"]
[]
[null,null,null,null,null,null,"Outro (especificar):"]
[]
[]
[]
[null,null,null,null,"Enquadramento:"]
[]
[null,null,null,null,"Entidade adjudicante",null,null,null,null,null,null,"Artigo 2.º, n.º 1"]
[null,null,null,null,null,null,null,null,null,null,null,"Artigo 2.º, n.º 2"]
[null,null,null,null,"Contratos subsidiados",null,null,null,null,null,null,"Artigo 275.º, n.º 1, alínea a)"]
[null,null,null,null,null,null,null,null,null,null,null,"Artigo 275.º, n.º 2, alínea b)"]
[null,null,null,null,"Contratos excluídos",null,null,null,null,null,null,"Artigo 4.º"]
[null,null,null,null,"Contratação excluída",null,null,null,null,null,null,"Artigo 5.º"]
[null,null,null,null,null,null,null,null,null,null,null,"Artigo 5.º-A"]
[null,null,null,null,null,null,null,null,null,null,null,"Artigo 6.º-A"]
[null,null,null,null,null,null,null,null,null,null,null,"Artigo 275.º, n.º 3"]
[]
[]
[]
[null,null,null,null,"Caracterização do contrato"]
[]
[null,null,null,null,"Objeto do contrato"]
[]
[null,null,null,null,"Adjudicatário"]
[]
[null,null,null,null,"Valor do contrato (s/IVA) (euros)"]
[]
[null,null,null,null,"Data do contrato"]
[]
[null,null,null,null,"Prazo do contrato"]
[]
[]
[]
[null,null,null,null,"Procedimento pré-contratual"]
[]
[null,null,null,null,"Tipo de procedimento ",null,null,null,null,null,null,null,"Ajuste direto - regime geral (em função do valor do contrato)"]
[null,null,null,null,null,null,null,null,null,null,null,null,"Ajuste direto - regime simplificado"]
[null,null,null,null,null,null,null,null,null,null,null,null,"Ajuste direto em função de critério material"]
[null,null,null,null,null,null,null,null,null,null,null,null,"Consulta prévia (em função do valor do contrato)"]
[null,null,null,null,null,null,null,null,null,null,null,null,"Consulta prévia (em função de critério material - artigo 27.º-A)",null,null,null,null,null,null,null,null,null,"O art.º 27º-A do CCP, não se aplica à RAM em virtude da alteração introduzida no DLR 34/2008/M, de 14/08, pelo DLR 6/2018/M, de 15 de março"]
[null,null,null,null,null,null,null,null,null,null,null,null,"Concurso público com publicidade internacional"]
[null,null,null,null,null,null,null,null,null,null,null,null,"Concurso público sem publicidade internacional"]
[null,null,null,null,null,null,null,null,null,null,null,null,"Concurso público urgente"]
[null,null,null,null,null,null,null,null,null,null,null,null,"Concurso limitado por prévia qualificação com publicidade internacional"]
[null,null,null,null,null,null,null,null,null,null,null,null,"Concurso limitado por prévia qualificação sem publicidade internacional"]
[null,null,null,null,null,null,null,null,null,null,null,null,"Procedimento de negociação"]
[null,null,null,null,null,null,null,null,null,null,null,null,"Diálogo concorrencial"]
[null,null,null,null,null,null,null,null,null,null,null,null,"Parceria para a inovação"]
[]
[null,null,null,null,"Preço base"]
[]
[null,null,null,null,"Data da decisão de contratar "]
[]
[null,null,null,null,"Data da decisão de adjudicação"]
[]
[]
[]
[null,null,null,null,"Análise do procedimento"]
[]
[null,null,null,null,"Tramitação procedimental",null,null,null,null,null,null,null,null,null,null,null,null,null,null,null,null,null,null,"Base legal (CCP)",null,null,null,null,"SIM","NÃO","N.A.","OBS."]
[]
[]
[null,null,null,null,1,"Existe uma decisão juridicamente válida a autorizar a abertura do procedimento (decisão de contratar) e a realização da despesa?",null,null,null,null,null,null,null,null,null,null,null,null,null,null,null,null,null,"Artigos 17.º a 21.º do DL n.º 197/99 e artigo 36.º "]
[null,null,null,null,2,"A decisão de contratar encontra-se fundamentada?",null,null,null,null,null,null,null,null,null,null,null,null,null,null,null,null,null,"Artigo 36.º, n.º 1"]
[null,null,null,null,3,"No caso de o valor do contrato ser superior a € 5.000.000 (ou a € 2.500.000 se o procedimento adotado for o da parceria para a invocação), foi realizada uma análise custo-benefício previamente à adoção da decisão de contratar?",null,null,null,null,null,null,null,null,null,null,null,null,null,null,null,null,null,"Artigo 36.º, n.ºs 2, 3 e 4",null,null,null,null,null,null,null,"De acordo com o n.º 1 do art.º 4º do Decreto Legislativo Regional n.º 34/2008/M, de 14/08, com as alterações introduzidas pelo Decreto Legislativo Regional n.º 6/2018/M, de 15 de março, aos valores constantes neste artigo (n.ºs 3 e 4 do artigo 36º do CCP), é aplicado na RAM um coeficiente de 1,35"]
[null,null,null,null,4,"Foi fixado e fundamentado o valor estimado do contrato?",null,null,null,null,null,null,null,null,null,null,null,null,null,null,null,null,null,"Artigo 17.º, n.º 7"]
[null,null,null,null,5,"A decisão de escolha do procedimento encontra-se fundamentada?",null,null,null,null,null,null,null,null,null,null,null,null,null,null,null,null,null,"Artigo 38.º"]
[null,null,null,null,6,"No caso de o procedimento ter sido escolhido em função de critério material, existe fundamentação legal e factual que justifique adequadamente a escolha do mesmo?",null,null,null,null,null,null,null,null,null,null,null,null,null,null,null,null,null,"Empreitada de obras públicas: artigos 24.º, 25.º, 29.º e 30.º-A Locação ou fornecimento de bens: artigos 24.º, 26.º, 29.º e 30.º-A Prestação de serviços: artigos 24.º, 27.º, 29.º e 30.º-A"]
[null,null,null,null,7,"No caso de o procedimento escolhido ter sido o do ajuste direto em função de critério material, encontra-se legal e factualmente justificada a opção pelo não recurso ao procedimento de consulta prévia?",null,null,null,null,null,null,null,null,null,null,null,null,null,null,null,null,null,"Artigo 27.º-A",null,null,null,null,null,null,null,"O art.º 27º-A do CCP, não se aplica à RAM em virtude da alteração introduzida no DLR 34/2008/M, de 14/08, pelo DLR 6/2018/M, de 15 de março"]
[null,null,null,null,8,"A obra, o bem ou o serviço a contratar esgota-se neste procedimento?",null,null,null,null,null,null,null,null,null,null,null,null,null,null,null,null,null,"Artigo 16.º do DL n.º 197/99 "]
[null,null,null,null,9,"No caso de prestações do mesmo tipo (empreitada de obras públicas, locação ou fornecimento de bens ou prestação de serviços), suscetíveis de constituírem objeto de um único contrato, terem sido adjudicadas através de vários procedimentos, a escolha de cada um desses procedimentos respeitou o regime da “divisão em lotes”?",null,null,null,null,null,null,null,null,null,null,null,null,null,null,null,null,null,"Artigo 22.º",null,null,null,null,null,null,null,"De acordo com o n.º 1 do art.º 4º do Decreto Legislativo Regional n.º 34/2008/M, de 14/08, com as alterações introduzidas pelo Decreto Legislativo Regional n.º 6/2018/M, de 15 de março, aos valores constantes neste artigo (22º, n.º 2), é aplicado na RAM um coeficiente de 1,35"]
[null,null,null,null,10,"No caso de contratos de aquisição de serviços ou de aquisição ou locação de bens móveis de valor superior a € 135.000,00 e de contratos de empreitada de obras públicas de valor superior a € 500.000,00, foi ponderada a divisão do procedimento em lotes e, no caso de se ter optado pela não divisão, a mesma encontra-se fundamentada?",null,null,null,null,null,null,null,null,null,null,null,null,null,null,null,null,null,"Artigo 46.º-A, n.º 2",null,null,null,null,null,null,null,"De acordo com o n.º 1 do art.º 4º do Decreto Legislativo Regional n.º 34/2008/M, de 14/08, com as alterações introduzidas pelo Decreto Legislativo Regional n.º 6/2018/M, de 15 de março, aos valores constantes neste artigo (46º A, n.º 2), é aplicado na RAM um coeficiente de 1,35"]
[null,null,null,null,11,"No caso de procedimento de ajuste direto ou de consulta prévia, foi respeitada a limitação quanto às entidades convidadas para apresentar proposta?",null,null,null,null,null,null,null,null,null,null,null,null,null,null,null,null,null,"Artigo 113.º, n.º 2",null,null,null,null,null,null,null,"O n.º 2 (bem como os n.ºs 3 e 4) do art.º 113º do CCP, não se aplica à RAM, em virtude da alteração introduzida no DLR 34/2008/M de 14/08, e mantida em vigor pela redação introduzida pelo  DLR 6/2018/M, de 15 de março"]
[null,null,null,null,12,"Existe uma descrição suficiente do objeto do procedimento no caderno de encargos?",null,null,null,null,null,null,null,null,null,null,null,null,null,null,null,null,null,"Existe uma descrição suficiente do objeto do procedimento no caderno de encargos?"]
[null,null,null,null,"12.1","O caderno de encargos do procedimento de formação de contrato de empreitada de obras públicas integrou os elementos indicados na lei?",null,null,null,null,null,null,null,null,null,null,null,null,null,null,null,null,null,"O caderno de encargos do procedimento de formação de contrato de empreitada de obras públicas integrou os elementos indicados na lei?"]
[null,null,null,null,13,"O caderno de encargos fixa o preço base?",null,null,null,null,null,null,null,null,null,null,null,null,null,null,null,null,null,"O caderno de encargos fixa o preço base?"]
[null,null,null,null,14,"O preço base respeita os limites de valor até aos quais pode ser utilizado o tipo de procedimento em causa e os limites máximos de autorização de despesa, se aplicáveis?",null,null,null,null,null,null,null,null,null,null,null,null,null,null,null,null,null,"O preço base respeita os limites de valor até aos quais pode ser utilizado o tipo de procedimento em causa e os limites máximos de autorização de despesa, se aplicáveis?"]
[null,null,null,null,15,"A fixação do preço base encontra-se fundamentada?",null,null,null,null,null,null,null,null,null,null,null,null,null,null,null,null,null,"A fixação do preço base encontra-se fundamentada?"]
[null,null,null,null,16,"No caso de se tratar de contrato de locação ou aquisição de bens móveis ou de aquisição de serviços, a fixação de um prazo de vigência contratual superior a 3 anos foi devidamente fundamentada?",null,null,null,null,null,null,null,null,null,null,null,null,null,null,null,null,null,"No caso de se tratar de contrato de locação ou aquisição de bens móveis ou de aquisição de serviços, a fixação de um prazo de vigência contratual superior a 3 anos foi devidamente fundamentada?"]
[null,null,null,null,17,"No caso de se tratar de um acordo-quadro, a fixação de um prazo de vigência superior a 4 anos foi devidamente fundamentada?",null,null,null,null,null,null,null,null,null,null,null,null,null,null,null,null,null,"No caso de se tratar de um acordo-quadro, a fixação de um prazo de vigência superior a 4 anos foi devidamente fundamentada?"]
[null,null,null,null,18,"No caso de o convite ou programa do procedimento fixar um limiar do preço anormalmente baixo, essa fixação encontra-se fundamentada (designadamente na decisão de contratar e ou na decisão de aprovação das peças procedimentais)?",null,null,null,null,null,null,null,null,null,null,null,null,null,null,null,null,null,"No caso de o convite ou programa do procedimento fixar um limiar do preço anormalmente baixo, essa fixação encontra-se fundamentada (designadamente na decisão de contratar e ou na decisão de aprovação das peças procedimentais)?"]
[null,null,null,null,19,"O procedimento foi publicitado? ",null,null,null,null,null,null,null,null,null,null,null,null,null,null,null,null,null,"O procedimento foi publicitado? "]
[null,null,null,null,20,"O anúncio do concurso (e eventuais retificações) contém todos os elementos legalmente exigidos?",null,null,null,null,null,null,null,null,null,null,null,null,null,null,null,null,null,"O anúncio do concurso (e eventuais retificações) contém todos os elementos legalmente exigidos?"]
[null,null,null,null,21,"Foi respeitado o prazo mínimo para apresentação de propostas /candidaturas?",null,null,null,null,null,null,null,null,null,null,null,null,null,null,null,null,null,"Concurso público: artigos 135.º e 136.º Concurso público urgente: artigo 158.º Concurso limitado por prévia qualificação: artigos 173.º e 174.º Procedimento de negociação: artigo 198.º Diálogo concorrencial: artigos 204.º, 173.º e 174º"]
[null,null,null,null,22,"No caso de ter sido estabelecido um prazo para apresentação de propostas ou candidaturas inferior ao previsto na lei, essa opção encontra-se devidamente fundamentada?",null,null,null,null,null,null,null,null,null,null,null,null,null,null,null,null,null,"Artigos 135.º, n.º 2, 136.º, n.º 3, 174.º, n.º 2, e 191.º, n.º 5"]
[null,null,null,null,23,"O critério de adjudicação e respetivos fatores e subfactores encontram-se devidamente explicitados nas peças do procedimento?",null,null,null,null,null,null,null,null,null,null,null,null,null,null,null,null,null,"Consulta prévia: artigo 115.º, n.º 2, alínea b) Concurso público ou concurso público urgente: artigo 132.º, n.º 1, alínea n) Concurso limitado por prévia qualificação, procedimento de negociação e diálogo concorrencial: artigos 164.º, n.º 1, alínea q), 193.º e 204.º"]
[null,null,null,null,24,"O critério de adjudicação, respetivos fatores e subfactores, são conformes com a legislação, comunitária / nacional, aplicável e foram os únicos aplicados em sede de apreciação das propostas?",null,null,null,null,null,null,null,null,null,null,null,null,null,null,null,null,null,"Artigos 74.º e 75.º"]
[null,null,null,null,25,"A capacidade técnica e/ou económica e/ou financeira dos concorrentes consta do critério de adjudicação e/ou foi considerada em sede de apreciação das propostas?",null,null,null,null,null,null,null,null,null,null,null,null,null,null,null,null,null,"Artigo 75.º, n.º 3 (mas ter em atenção o disposto no artigo 75.º, n.º 2, alínea b))"]
[null,null,null,null,26,"A modalidade do critério de adjudicação (proposta economicamente mais vantajosa) adotado foi o da melhor relação qualidade-preço ou o do preço mais baixo?",null,null,null,null,null,null,null,null,null,null,null,null,null,null,null,null,null,"Artigo 74.º, n.º 1 (verificar qual o critério, e respetivos fatores e subfactores, quando aplicável)"]
[null,null,null,null,27,"No caso de o critério de adjudicação não incluir, como fator, o preço ou custo das propostas, essa opção encontra-se devidamente fundamentada (designadamente na decisão de contratar e ou na decisão de aprovação das peças procedimentais)?",null,null,null,null,null,null,null,null,null,null,null,null,null,null,null,null,null,"Artigo 74.º, n.º 2"]
[null,null,null,null,28,"No caso de os custos do ciclo terem sido submetidos à concorrência, o programa do procedimento ou convite indicam a metodologia que será utilizada para os calcular?",null,null,null,null,null,null,null,null,null,null,null,null,null,null,null,null,null,"Artigo 75.º, n.º 8"]
[null,null,null,null,29,"Nas peças do procedimento existem referências discriminatórias (nomeadamente fabricante, marcas, patentes ou modelos, proveniência)?",null,null,null,null,null,null,null,null,null,null,null,null,null,null,null,null,null,"Artigo 49.º, n.ºs 8 e 9"]
[null,null,null,null,30,"A entidade adjudicante disponibilizou eletronicamente as peças do procedimento (anúncio, programa do procedimento e caderno de encargos, e eventuais anexos) de forma completa, gratuita e livre?",null,null,null,null,null,null,null,null,null,null,null,null,null,null,null,null,null,"Concurso público: artigo 133.º Concurso limitado por prévia qualificação: artigos 133.º e 162.º Procedimento de negociação: artigos 133.º, 162.º e 193.º Diálogo concorrencial: artigos 133.º, 162.º, 204.º e 207.º"]
[null,null,null,null,31,"Foram pedidos esclarecimentos e/ou retificações das peças do procedimento?",null,null,null,null,null,null,null,null,null,null,null,null,null,null,null,null,null,"Artigos 50.º e 64.º"]
[null,null,null,null,32,"As propostas consideradas apresentam um preço anormalmente baixo ou preço total superior ao preço base?",null,null,null,null,null,null,null,null,null,null,null,null,null,null,null,null,null,"Artigos 71.º, 47.º e 70.º, n.º 2, alínea d)"]
[null,null,null,null,33,"Foram pedidos esclarecimentos ao concorrente que apresentou proposta com preço anormalmente baixo?",null,null,null,null,null,null,null,null,null,null,null,null,null,null,null,null,null,"Artigo 71.º, n.º 3 e 70.º n.º 2, alínea e)"]
[null,null,null,null,34,"Foram consideradas propostas com preço superior ao preço base?",null,null,null,null,null,null,null,null,null,null,null,null,null,null,null,null,null,"Artigo 70.º, n.º 2, alínea d)"]
[null,null,null,null,35,"As propostas / candidaturas dos concorrentes/candidatos foram avaliadas de forma transparente, baseando-se estrita e unicamente no critério de adjudicação/qualificação? Deve ser apresentado o relatório final de avaliação das propostas/candidaturas para se aferir da transparência da deliberação do júri do procedimento ",null,null,null,null,null,null,null,null,null,null,null,null,null,null,null,null,null,"Consulta prévia: artigo 124.º Concurso público: artigos 146.º a 148.º Concurso limitado por prévia qualificação e procedimento de negociação: artigos 186.º e 193.º Diálogo concorrencial: artigos 204.º e 212.º"]
[null,null,null,null,36,"Foi realizada a audiência prévia dos concorrentes? Existe análise e decisão das eventuais reclamações apresentadas pelos concorrentes?",null,null,null,null,null,null,null,null,null,null,null,null,null,null,null,null,null,"Ajuste direto: artigo 123º Consulta prévia: artigos 118.º, n.º 3, e 123.º Concurso público: artigo 147.º Concurso limitado por prévia qualificação: artigo 185.º Procedimento por negociação: artigos 185.º e 193.º Diálogo concorrencial: artigo 212.º, n.º 3"]
[null,null,null,null,37,"Existe uma decisão juridicamente válida (Despacho / Deliberação) de adjudicação?",null,null,null,null,null,null,null,null,null,null,null,null,null,null,null,null,null,"Artigo 73.º"]
[null,null,null,null,38,"Foi realizada a notificação da decisão de adjudicação a todos os concorrentes (escolhido e preteridos)?",null,null,null,null,null,null,null,null,null,null,null,null,null,null,null,null,null,"Artigo 77.º"]
[null,null,null,null,39,"O adjudicatário prestou a qualquer título, direta ou indiretamente assessoria ou apoio técnico, na preparação e elaboração das peças do procedimento?",null,null,null,null,null,null,null,null,null,null,null,null,null,null,null,null,null,"Artigo 55.º, n.º 1, alínea i)"]
[null,null,null,null,40,"Em caso afirmativo, tal situação conferiu uma situação de vantagem à entidade adjudicatária, falseando as condições normais de concorrência?",null,null,null,null,null,null,null,null,null,null,null,null,null,null,null,null,null,"Artigo 55.º, n.º 1, alínea i)"]
[null,null,null,null,41,"Foi publicado o anúncio de adjudicação (quando aplicável)?",null,null,null,null,null,null,null,null,null,null,null,null,null,null,null,null,null,"Artigo 78.º"]
[null,null,null,null,42,"Foram apresentados os documentos de habilitação?",null,null,null,null,null,null,null,null,null,null,null,null,null,null,null,null,null,"Artigos 81.º a 86.º"]
[null,null,null,null,43,"Foi prestada caução para garantia do contrato (quando exigida)?",null,null,null,null,null,null,null,null,null,null,null,null,null,null,null,null,null,"Artigos 88.º a 91.º",null,null,null,null,null,null,null,"De acordo com o art.º 8ºA do Decreto Legislativo Regional n.º 34/2008/M, de 14/08, com as alterações introduzidas pelo Decreto Legislativo Regional n.º 6/2018/M, de 15 de março, o valor da caução é no máximo de 3% do preço contratual (n. º1 do art.º 8º A); ou de 3% ou 10%, na falta de fixação para efeitos do n.º 6 do art.º 89º do CCP (n.º 2 do art.º 8º A)."]
[null,null,null,null,44,"Foi celebrado contrato escrito (quando exigido ou não dispensado)? Confirmar se foi celebrado contrato escrito. Caso o contrato não tenha sido reduzido a escrito, referir se se trata de um incumprimento da lei ou de um caso de não exigência ou de dispensa do mesmo.",null,null,null,null,null,null,null,null,null,null,null,null,null,null,null,null,null,"Artigos 94.º e 95.º ",null,null,null,null,null,null,null,"De acordo com o n.º 4 do art.º 4º do Decreto Legislativo Regional n.º 34/2008/M, de 14/08, com as alterações introduzidas pelo Decreto Legislativo Regional n.º 6/2018/M, de 15 de março, aos valores que determinam a não exequibilidade de redução a contrato escrito previstas nas alíneas a) e d) do n.º 1 do art.º 95º do CCP, é aplicado na RAM um coeficiente de 1,35"]
[null,null,null,null,45,"A celebração do contrato foi publicitada no portal da internet dedicado aos contratos públicos (www.base.gov.pt), através de ficha conforme o respetivo modelo constante do anexo III do CCP? Importa ter em consideração que, no caso de ajuste direto e consulta prévia, a publicitação constitui condição de eficácia do respetivo contrato, independentemente da sua redução ou não a escrito, nomeadamente para efeitos de quaisquer pagamentos",null,null,null,null,null,null,null,null,null,null,null,null,null,null,null,null,null,"Artigo 127.º e 465.º"]
[null,null,null,null,46,"O contrato foi objeto de fiscalização prévia (visto ou declaração de conformidade) pelo Tribunal de Contas",null,null,null,null,null,null,null,null,null,null,null,null,null,null,null,null,null,"Artigos 46.º a 48.º, 83.º e 85.º da LOPTC"]
[]
[]
[]
[]
[null,null,null,null,"Análise do Contrato"]
[]
[null,null,null,null,"Tramitação procedimental",null,null,null,null,null,null,null,null,null,null,null,null,null,null,null,null,null,null,"Base legal (CCP)",null,null,null,null,"SIM","NÃO","N.A.","OBS."]
[]
[]
[null,null,null,null,1,"Foi elaborado o respetivo auto de consignação (data; respeitou o prazo legalmente estabelecido?) - empreitada de obras públicas",null,null,null,null,null,null,null,null,null,null,null,null,null,null,null,null,null,"Artigos 355.º a 360.º"]
[null,null,null,null,2,"Foram efetuados ajustamentos (erros ou omissões) ao objeto do contrato dentro dos prazos fixados?",null,null,null,null,null,null,null,null,null,null,null,null,null,null,null,null,null,"Artigo 378.º, n.ºs 3 e 4"]
[null,null,null,null,3,"Os erros ou as omissões foram considerados trabalhos complementares? Em caso afirmativo, a análise dos mesmos deverá ser efetuada à luz dos dispositivos legais aplicáveis aos trabalhos complementares",null,null,null,null,null,null,null,null,null,null,null,null,null,null,null,null,null,"Artigo 370.º, n.º 2 "]
[null,null,null,null,4,"Os ajustamentos efetuados reduzem o objeto do contrato e, neste sentido, foi o valor do mesmo alterado em conformidade?",null,null,null,null,null,null,null,null,null,null,null,null,null,null,null,null,null,"Artigo 379.º"]
[null,null,null,null,"4.1","As alterações ao contrato inicial respeitam a aspetos essenciais do mesmo? A essencialidade da alteração introduzida num contrato em execução terá que ser averiguada casuisticamente, em função do objeto desse contrato e dos elementos da contratação sem os quais, previsivelmente, as propostas apresentadas no procedimento de formação do contrato seriam substancialmente diferentes.",null,null,null,null,null,null,null,null,null,null,null,null,null,null,null,null,null,"Artigos 370.º e 378.º"]
[null,null,null,null,5,"São trabalhos / serviços complementares cuja espécie ou quantidade não consta do projeto inicialmente adjudicado e / ou do contrato inicial celebrado? Só se não tiverem sido incluídos ou previstos no contrato inicial é que são trabalhos / serviços complementares face aos previstos no contrato inicial e deve tratar-se de executar algo que não foi projetado ou contratado, mas que é indispensável para a execução da obra / dos serviços descritos no projeto ou no contrato",null,null,null,null,null,null,null,null,null,null,null,null,null,null,null,null,null,"Artigos 370.º e 373.º Artigo 454.º"]
[null,null,null,null,6,"São trabalhos complementares que se destinam à realização da empreitada inicialmente adjudicada / dos serviços descritos no projeto ou no contrato inicial? Para que se possa responder afirmativamente à questão, importa concluir que os trabalhos/serviços complementares não podem ou não devem ser objeto de uma empreitada / prestação de serviços autónoma, pois sem os mesmos o resultado do objeto do projeto e contrato iniciais não realizaria o fim a que se propõe, ou não realizaria de modo satisfatório o objetivo de interesse público que se pretende realizar.De salientar que os trabalhos só se destinam à realização da mesma empreitada se puder dizer-se que, sob o ponto de vista lógico, técnico e funcional, deveriam dela fazer parte desde o início, o que só não sucedeu por circunstâncias imprevistas mas ligadas ao processo de elaboração do projeto, ou mesmo à melhor forma de conceber e realizar o interesse público subjacente à obra. De igual modo, no que concerne a prestação de serviços.",null,null,null,null,null,null,null,null,null,null,null,null,null,null,null,null,null,"Artigos 370.º e 454.º"]
[null,null,null,null,7,"São trabalhos / serviços complementares que se tornaram necessários na sequência de uma circunstância imprevista, ou seja tornaram-se necessários porquê? Þ Houve uma alteração factual relacionada com a execução da obra? Þ E a possibilidade de ocorrência de novas circunstâncias não foi prevista pela entidade adjudicante, porque não eram previsíveis no momento da elaboração do projeto? Se o dono da obra/contraente público tivesse previsto a verificação das novas circunstâncias, teria incluído os trabalhos/serviços complementares no projeto inicialmente adjudicado”? Se sim, então os trabalhos / serviços são necessários, mas para que possam ser adjudicados com dispensa de procedimento, terá que se averiguar ainda se era adequado exigir à entidade adjudicante que previsse as circunstâncias motivadoras dessa necessidade, respondendo às questões enunciadas neste ponto.",null,null,null,null,null,null,null,null,null,null,null,null,null,null,null,null,null,"Artigos 370.º, n.º 4, e 454.º"]
[null,null,null,null,8,"Os trabalhos / serviços complementares foram adjudicados ao mesmo adjudicatário da empreitada inicial / dos serviços iniciais?",null,null,null,null,null,null,null,null,null,null,null,null,null,null,null,null,null,"Artigos 370.º e 454.º"]
[null,null,null,null,9,"Os trabalhos / serviços complementares não podiam técnica ou economicamente ser separados do contrato inicial sem inconvenientes graves para o dono da obra/contraente público?",null,null,null,null,null,null,null,null,null,null,null,null,null,null,null,null,null,"Artigos 370.º e 454.º"]
[null,null,null,null,"9.1","OU\nEmbora separáveis do contrato inicial, os trabalhos / serviços são estritamente necessários à conclusão da obra ou do objeto do contrato?"]
[null,null,null,null,10,"O valor acumulado dos contratos relativos a trabalhos complementares é igual ou inferior ao limite percentual legalmente estabelecido face ao valor do contrato inicial? O dono da obra/contraente público não pode, em caso algum, autorizar a realização de trabalhos / serviços complementares caso o valor acumulado dos mencionados trabalhos / serviços durante a execução de uma empreitada de obras públicas / prestação de serviços exceda, face ao valor do contrato inicial, o limite percentual legalmente fixado.",null,null,null,null,null,null,null,null,null,null,null,null,null,null,null,null,null,"Artigos 370.º e 454.º"]
[null,null,null,null,11,"Houve revisão de preços de acordo com o legalmente estabelecido ou com a respetiva cláusula contratual – empreitada de obras públicas?",null,null,null,null,null,null,null,null,null,null,null,null,null,null,null,null,null,"Artigo 300.º"]
[null,null,null,null,12,"Foram autorizadas prorrogações do prazo - empreitada de obras públicas/ prestação de serviços e locação ou fornecimento de bens? ",null,null,null,null,null,null,null,null,null,null,null,null,null,null,null,null,null,"Artigos 365.º a 369.º, 373.º, n.º 1, 374.º e 403.º"]
[null,null,null,null,13,"O valor acumulado dos trabalhos /serviços complementares situa-se dentro do limite legalmente permitido? Caso existam trabalhos previstos no contrato que foram suprimidos da empreitada, o seu valor deve ser deduzido ao valor inicial da adjudicação. Só depois de “corrigido” tal valor inicial é que se deve apurar se o montante dos “trabalhos complementares” excede ou não o limite legalmente estabelecido consoante o tipo de contrato e a legislação aplicável",null,null,null,null,null,null,null,null,null,null,null,null,null,null,null,null,null,"Artigos 370.º, n.º 2, alínea a), e n.º 4, alínea b); Artigo 454.º, n.º 2, alínea b), e n.º 3, alínea b)"]
[]
[null,null,null,null,null,"(*) O valor total dos trabalhos/serviços complementares e a menos contratados deve ser decomposto e para cada parcela, correspondente a cada tipo de trabalho/serviços, devem ser verificadas as condições factuais e técnicas que conduziram à necessidade da respetiva contratação."]
[null,null,null,null,14,"As medições dos trabalhos executados ocorreram nos termos da lei e foram elaborados os respetivos autos?",null,null,null,null,null,null,null,null,null,null,null,null,null,null,null,null,null,"Artigos 387.º e 388.º"]
[null,null,null,null,15,"A receção provisória da obra ocorreu nos termos legais, foi realizada a vistoria e elaborado o respetivo auto?",null,null,null,null,null,null,null,null,null,null,null,null,null,null,null,null,null,"Artigo 394.º"]
[null,null,null,null,16,"Foi elaborada a conta final de empreitada dentro do prazo fixado e nos termos legalmente estabelecidos?",null,null,null,null,null,null,null,null,null,null,null,null,null,null,null,null,null,"Artigos 399.º a 401.º"]
[null,null,null,null,17,"A receção definitiva da obra ocorreu nos termos legais, foi realizada a vistoria e elaborado o respetivo auto?",null,null,null,null,null,null,null,null,null,null,null,null,null,null,null,null,null,"Artigo 398.º"]
[]
[]
[null,null,null,null,"Observações"]
[]
[]
[]
[]
[]
[]
[]
[]
[]
[]
[]
[]
[]
[]
[]
[null,null,null,null,"Conclusões e correções financeiras"]
[]
[null,null,null,null,"Decisão da Comissão de 19.12.2013",null,null,null,null,null,null,null,null,null,null,null,null,null,"Despesa imputada",null,null,null,null,null,null,"Despesa não Elegível"]
[null,null,null,null,"Tipo Irregularidade",null,null,null,null,"Descrição da Irregularidade",null,null,null,null,null,"Taxa"]
[]
[]
[]
[]
[]
[]
[]
[]
[]
[]
[]
[null,null,null,null,"O Técnico"]
[]
[null,null,null,null,"(Data)",null,null,null,null,null,null,null,null,"/",null,"/"]
[]
[null,null,null,null,"(Assinatura)"]
[]
[null,null,null,null,"O Responsável"]
[]
[null,null,null,null,"(Data)",null,null,null,null,null,null,null,null,"/",null,"/"]
[]
[null,null,null,null,"(Assinatura)"]
[]
[]
[]
[]
[null,null,null,null,"Anexo"]
[]
[null,null,null,null,"Ajuste direto (regime normal)"]
[null,null,null,null,"Objeto do contrato",null,null,null,null,null,null,null,null,null,null,null,null,null,null,null,null,null,"Valor do contrato (1)"]
[null,null,null,null,"Empreitada de obras públicas",null,null,null,null,null,null,null,null,null,null,null,null,null,null,null,null,null,"< 40.500€ "]
[null,null,null,null,"Bens ou serviços",null,null,null,null,null,null,null,null,null,null,null,null,null,null,null,null,null,"< 27.000€ "]
[null,null,null,null,"Outros",null,null,null,null,null,null,null,null,null,null,null,null,null,null,null,null,null,"< 67.500 €"]
[null,null,null,null,"(1)  De acordo com o n.º 1 do art.º 4º do Decreto Legislativo Regional n.º 34/2008/M, de 14/08, com as alterações introduzidas pelo Decreto Legislativo Regional n.º 6/2018/M, de 15 de março, aos valores que determinam a escolha do procedimento de formação de contratos, é aplicado na RAM um coeficiente de 1,35."]
[]
[null,null,null,null,"Ajuste direto (regime simplificado)"]
[null,null,null,null,"Objeto do contrato",null,null,null,null,null,null,null,null,null,null,null,null,null,null,null,null,null,"Valor do contrato (1)"]
[null,null,null,null,"Empreitada de obras públicas",null,null,null,null,null,null,null,null,null,null,null,null,null,null,null,null,null,"< 13.500€ "]
[null,null,null,null,"Bens ou serviços",null,null,null,null,null,null,null,null,null,null,null,null,null,null,null,null,null,"< 6.750€ "]
[null,null,null,null,"(1)  De acordo com o n.º 1 do art.º 4º do Decreto Legislativo Regional n.º 34/2008/M, de 14/08, com as alterações introduzidas pelo Decreto Legislativo Regional n.º 6/2018/M, de 15 de março, aos valores que determinam a escolha do procedimento de formação de contratos, é aplicado na RAM um coeficiente de 1,35."]
[]
[null,null,null,null,"Consulta prévia"]
[null,null,null,null,"Objeto do contrato",null,null,null,null,null,null,null,null,null,null,null,null,null,null,null,null,null,"Valor do contrato (1)"]
[null,null,null,null,"Empreitada de obras públicas",null,null,null,null,null,null,null,null,null,null,null,null,null,null,null,null,null,"< 202.500€ "]
[null,null,null,null,"Bens ou serviços",null,null,null,null,null,null,null,null,null,null,null,null,null,null,null,null,null,"< 101.250€ "]
[null,null,null,null,"(1)  De acordo com o n.º 1 do art.º 4º do Decreto Legislativo Regional n.º 34/2008/M, de 14/08, com as alterações introduzidas pelo Decreto Legislativo Regional n.º 6/2018/M, de 15 de março, aos valores que determinam a escolha do procedimento de formação de contratos, é aplicado na RAM um coeficiente de 1,35."]
[]
[null,null,null,null,"Concurso público ou limitado por prévia qualificação sem publicidade no JOUE"]
[null,null,null,null,"Objeto do contrato",null,null,null,null,null,null,null,null,null,null,null,null,null,null,null,null,null,"Valor do contrato (1)"]
[null,null,null,null,"Empreitada de obras públicas",null,null,null,null,null,null,null,null,null,null,null,null,null,null,null,null,null,"< 5.548.000€"]
[null,null,null,null,"Bens ou serviços",null,null,null,null,null,null,null,null,null,null,null,null,null,null,null,null,null,"< 144.000€ (Estado)"]
[null,null,null,null,null,null,null,null,null,null,null,null,null,null,null,null,null,null,null,null,null,null,"OU\n< 221.000€ (restantes entidades)"]
[]
[null,null,null,null,"Concurso público urgente"]
[null,null,null,null,"Objeto do contrato",null,null,null,null,null,null,null,null,null,null,null,null,null,null,null,null,null,"Valor do contrato (1)"]
[null,null,null,null,"Empreitada de obras públicas",null,null,null,null,null,null,null,null,null,null,null,null,null,null,null,null,null,"≤ 405.000€ (1)"]
[null,null,null,null,"Bens ou serviços",null,null,null,null,null,null,null,null,null,null,null,null,null,null,null,null,null,"≤ 221.000€"]
[null,null,null,null,"(1)  De acordo com o n.º 1 do art.º 4º do Decreto Legislativo Regional n.º 34/2008/M, de 14/08, com as alterações introduzidas pelo Decreto Legislativo Regional n.º 6/2018/M, de 15 de março, aos valores que determinam a escolha do procedimento de formação de contratos, é aplicado na RAM um coeficiente de 1,35."]
[]
[null,null,null,null,"Lotes"]
[null,null,null,null,"Objeto do contrato",null,null,null,null,null,null,null,null,null,null,null,null,null,null,null,null,null,"Valor do contrato (1)"]
[null,null,null,null,"Empreitada de obras públicas",null,null,null,null,null,null,null,null,null,null,null,null,null,null,null,null,null,"< 675.000€"]
[null,null,null,null,"Bens ou serviços",null,null,null,null,null,null,null,null,null,null,null,null,null,null,null,null,null,"< 182.250€"]
[null,null,null,null,"(1)  Foi introduzido este quadro pela Autoridade de Gestão do Programa Madeira 14-20, a fim de contemplar os valores que determinam a decisão de contratação por lotes, que de acordo com o n.º 1 do art.º 4º do Decreto Legislativo Regional n.º 34/2008/M, de 14/08, com as alterações introduzidas pelo Decreto Legislativo Regional n.º 6/2018/M, de 15 de março, é aplicado na RAM um coeficiente de 1,35."]
[]
[null,null,null,null,"Exigibilidade de celebração de contrato"]
[null,null,null,null,"Objeto do contrato",null,null,null,null,null,null,null,null,null,null,null,null,null,null,null,null,null,"Valor do contrato (1)"]
[null,null,null,null,"Empreitada de obras públicas",null,null,null,null,null,null,null,null,null,null,null,null,null,null,null,null,null,"< 20.250€"]
[null,null,null,null,"Bens ou serviços",null,null,null,null,null,null,null,null,null,null,null,null,null,null,null,null,null,"< 13.500€"]
[null,null,null,null,"(1)      Foi introduzido este quadro pela Autoridade de Gestão do Programa Madeira 14-20, a fim de contemplar os valores que determinam a não exequibilidade de redução a contrato escrito previstas nas alíneas a) e d) do n.º 1 do art.º 95º do CCP, na medida em que aos mesmos é aplicado na RAM um coeficiente de 1,35, de acordo com o n.º 4 do art.º 4º do Decreto Legislativo Regional n.º 34/2008/M, de 14/08, com as alterações introduzidas pelo Decreto Legislativo Regional n.º 6/2018/M, de 15 de março."]
[]
[]
[]
[]
[]
[]
[null,null,{"$f":"+[2]FORMALIZACAO!C103","v":0}]
[]
[null,null,{"$f":"+[2]FORMALIZACAO!C105","v":"Escolha o Sistema acima, de acordo com a legislação aplicável à candidatura"}]

{"sheet":"CHECKLIST SI INV.","index":20,"n_rows":181,"n_cols":24,"rows_kept":181,"cut":false,"hidden":false,"merged":[[1,2,1,23],[3,2,3,23],[4,2,4,23],[5,2,5,8],[5,9,5,23],[6,2,6,8],[6,9,6,23],[9,2,9,8],[14,3,14,20],[17,3,17,20],[18,3,18,20],[7,2,7,8],[7,9,7,14],[7,16,7,19],[7,20,7,23],[8,2,8,8],[8,9,8,14],[8,16,8,19],[15,3,15,20],[16,3,16,20],[26,3,26,20],[27,3,27,20],[28,3,28,20],[29,3,29,20],[30,3,30,20],[31,3,31,20],[19,3,19,20],[23,3,23,20],[24,3,24,20],[25,3,25,20],[22,2,22,20],[37,3,37,20],[38,3,38,20],[39,3,39,20],[40,3,40,20],[41,3,41,20],[42,3,42,20],[32,3,32,20],[33,3,33,20],[34,3,34,20],[35,3,35,20],[36,3,36,20],[49,3,49,20],[50,3,50,20],[51,3,51,20],[52,3,52,20],[58,3,58,20],[59,3,59,20],[43,3,43,20],[44,3,44,20],[45,3,45,20],[46,3,46,20],[47,3,47,20],[48,3,48,20],[56,2,56,20],[53,3,53,20],[66,3,66,20],[70,3,70,20],[71,3,71,20],[72,3,72,20],[60,3,60,20],[61,3,61,20],[62,3,62,20],[63,3,63,20],[64,3,64,20],[65,3,65,20],[79,3,79,20],[80,3,80,20],[81,3,81,20],[82,3,82,20],[83,3,83,20],[84,3,84,20],[73,3,73,20],[74,3,74,20],[75,3,75,20],[76,3,76,20],[77,3,77,20],[78,3,78,20],[97,3,97,20],[98,3,98,20],[91,3,91,20],[92,3,92,20],[93,3,93,20],[94,3,94,20],[95,3,95,20],[96,3,96,20],[85,3,85,20],[86,3,86,20],[87,3,87,20],[88,3,88,20],[89,3,89,20],[90,3,90,20],[104,3,104,20],[105,3,105,20],[106,3,106,20],[107,3,107,20],[108,3,108,20],[112,3,112,20],[99,3,99,20],[100,3,100,20],[101,3,101,20],[102,3,102,20],[103,3,103,20],[119,3,119,20],[120,3,120,20],[121,3,121,20],[122,3,122,20],[123,3,123,20],[124,3,124,20],[113,3,113,20],[114,3,114,20],[115,3,115,20],[116,3,116,20],[117,3,117,20],[118,3,118,20],[131,3,131,20],[132,3,132,20],[133,3,133,20],[134,3,134,20],[135,3,135,20],[136,3,136,20],[125,3,125,20],[126,3,126,20],[127,3,127,20],[128,3,128,20],[129,3,129,20],[130,3,130,20],[143,3,143,20],[144,3,144,20],[145,3,145,20],[146,3,146,20],[147,3,147,20],[137,3,137,20],[138,3,138,20],[139,3,139,20],[140,3,140,20],[141,3,141,20],[142,3,142,20],[176,3,176,20],[177,3,177,20],[178,3,178,20],[148,3,148,20],[149,3,149,20],[150,3,150,20],[151,3,151,20],[152,3,152,20],[153,3,153,20],[165,3,165,20],[166,3,166,20],[170,3,170,20],[171,3,171,20],[172,3,172,20],[154,3,154,20],[158,3,158,20],[160,3,160,20],[164,3,164,20],[159,3,159,20]]}
[]
[]
[]
[null,null,"CHECK-List da  Organização Dossier Projecto / Pedido de Pagamento "]
[]
[null,null,"Sistema de Incentivo:",null,null,null,null,null,null,{"$f":"+CAPA!C15","v":"PROCiência 2020 - Sistema de Incentivos à Produção de Conhecimento Científico e Tecnológico da Região Autónoma da Madeira"}]
[null,null,"Beneficiário:",null,null,null,null,null,null,{"$f":"+CAPA!I26","v":0}]
[null,null,"N.º do Projeto:",null,null,null,null,null,null,{"$f":"+CAPA!I29","v":0}]
[]
[]
[null,null,"Nota: Todos os documentos deverão constar do dossier do projeto"]
[]
[null,null,"Formulário e declarações"]
[null,null,null,null,null,null,null,null,null,null,null,null,null,null,null,null,null,null,null,null,null,"SIM","NÃO","N.A."]
[null,null,1,"Formulário do Pedido de Pós - Contratação devidamente preenchido, assinado e datado pelo beneficiário (deverá entregar a folha da \"Formalização\" devidamente assinada e carimbada no IDE, IP-RAM)"]
[null,null,2,"Declarações: \n(Para aceder às respetivas declarações clicar no link)\n\n- Declaração de responsabilidade do beneficiário reconhecida na qualidade;\n- Declaração de Responsabilidade do ROC/ CC com a vinheta;\n- Declaração de Fiabilidade para os pagamentos em numerário (quando aplicável);\n- Declaração de inexistência de pagamentos em numerários.\n- Declaração de conflito de interesses"]
[null,null,3,"Declaração de afectação do projeto à localização geográfica e à actividade pelo período estabelecido no Sistema a que se candidata."]
[null,null,4,"\nDeclaração de criação/manutenção dos postos de trabalho e sua manutenção  pelo período estabelecido no Sistema a que se candidata (quando aplicável)."]
[null,null,5,"Comprovativos da situação regularizada perante o Estado, a Segurança Social e as entidades pagadoras do incentivo (preferencialmente através da consulta on-line)"]
[null,null,6,"Garantia Bancária - conforme Normas de Pagamento"]
[]
[null,null,"Comprovativos de despesa "]
[null,null,"(Atenção: os comprovativos da despesa abaixo mencionados, serão solicitados pelo IDE à posteriori, aquando da identificação da amostra da despesa)",null,null,null,null,null,null,null,null,null,null,null,null,null,null,null,null,null,null,"SIM","NÃO","N.A."]
[null,null,1,"Facturas e recibos - originais e cópias (devidamente classificadas e inutilizadas com o carimbo do Programa)                                                                                                              Entregar no IDE-RAM apenas as cópias devidamente carimbadas\n"]
[null,null,2,"Facturas relacionadas com serviços de Construção Civil, sujeitas à Regra de Inversão do Sujeito Passivo (desde 2007-04-01), o promotor deve entregar os seguintes elementos:"]
[null,null,null,"Declaração de Iva do período das facturas em questão"]
[null,null,null,"Listagem discriminada dos valores de IVA declarados "]
[null,null,null,"Extractos contabilísticos da conta 2433 e 2432 dos valores inseridos na declaração IVA"]
[null,null,null,"Na ausência dos documentos referidos nos pontos anteriores, deverá o TOC entregar uma declaração em como irá proceder à entrega da Declaração de IVA com as alterações propostas"]
[null,null,null,"Conter a menção “IVA devido pelo adquirente” "]
[null,null,3,"As facturas que foram objecto da inversão do Sujeito Passivo do IVA sem se enquadrarem nas referidas regras, deverão:"]
[null,null,null,"Emitir Nota de Crédito nos termos do Artigo 71.º CIVA"]
[null,null,null,"Emitir nova factura a substituir a anteriormente emitida"]
[null,null,null,"Extractos contabilísticos das contas rectificadas"]
[null,null,4,"Existem Nota(s) de débito/ crédito?"]
[null,null,5,"Existem Letra(s)?"]
[null,null,6,"Existem Livrança(s)?"]
[null,null,7,"Recorreu a Contrato de Leasing ?"]
[null,null,null,"Plano financeiro do Leasing"]
[null,null,null,"Auto de recepção e factura do fornecedor"]
[null,null,null," Recibo das Rendas Leasing vencidas"]
[null,null,null,"Opção de Compra"]
[null,null,null,"Declaração em como irá exercer a Opção de Compra"]
[null,null,8,"Autos de Medição de Obras"]
[null,null,9,"Orçamentos (apresentados no descritivo das facturas)"]
[null,null,10,"Contratos de suporte das transacções"]
[null,null,11,"Contratos de Assistência Técnica"]
[null,null,12,"Licenças de Software"]
[null,null,13,"Cópia dos Cheques que evidencie o pagamento das facturas\n"]
[null,null,14,"Cópia dos Extractos Bancários que evidenciem o desconto dos cheques que pagaram as facturas imputadas ao projecto\n"]
[null,null,15,"Todas as Facturas cumprem com o artigo 171.º do Código das Sociedades Comerciais"]
[null,null,16,"Todas as facturas cumprem com os requisitos do Artigo 35.º do CIVA"]
[null,null,17,"Verificação das facturas no Sistema de Intercâmbio de Informações sobre o IVA (VIES)"]
[null,null,18,"Mapa de Amortizações"]
[]
[null,null,"Contabilização do incentivo e do imobilizado"]
[null,null,"(Atenção: os extratos contabilisticos relativos à despesa efetuada e abaixo mencionados, será solicitado pelo IDE à posteriori aquando da identificação da amostra da despesa)"]
[null,null,null,null,null,null,null,null,null,null,null,null,null,null,null,null,null,null,null,null,null,"SIM","NÃO","N.A."]
[null,null,19,"Extractos da contabilidade comprovando a contabilização do incentivo pelo contrato (593 e 27)"]
[null,null,20,"Extractos da contabilidade comprovando a contabilização do incentivo pelo recebimento (pagamento intercalar - 27 e 12)"]
[null,null,21,"Extractos contabilísticos comprovando a contabilização do Proveito inerente ao Incentivo (593 e 7883)"]
[null,null,22,"Extractos contabilísticos comprovando a contabilização do investimento (classe 4)"]
[null,null,23,"Extractos contabilísticos comprovando a contabilização do pagamento aos fornecedores:"]
[null,null,null,"Classe 27x"]
[null,null,null,"Classe 12x"]
[null,null,null,"Classe 11x"]
[null,null,null,"Classe 26x"]
[]
[null,null,"Financiamento do projecto"]
[null,null,null,null,null,null,null,null,null,null,null,null,null,null,null,null,null,null,null,null,null,"SIM","NÃO","N.A."]
[null,null,24,"Aumento do Capital Social/ Capital Individual (conforme a natureza jurídica da empresa):"]
[null,null,null,"Acta da Assembleia-Geral deliberando o aumento do Capital Social ou Escritura do aumento de Capital"]
[null,null,null,"Pacto Social Actualizado"]
[null,null,null,"Certidão do Registo Comercial actualizada"]
[null,null,null,"Extracto da conta 51x (sub contas)"]
[null,null,null,"Extracto da conta 12x"]
[null,null,null,"Extracto bancário reflectindo o depósito a título de capital social"]
[null,null,null,"Cópia cheque/ Transferência bancária/ Talão de depósito"]
[null,null,25,"Prestações Suplementares/ Prestações Acessórias de Capital (conforme natureza jurídica):"]
[null,null,null,"Escritura Pública, onde conste que os sócios podem realizar prestações suplementares, até que montante e em que proporção "]
[null,null,null,"Acta da Assembleia-Geral deliberando a realização das prestações suplementares"]
[null,null,null,"Caso não conste a possibilidade de realizar Prestações Suplementares e/ou o montante previsto é inferior ao realizado:"]
[null,null,null,"Pacto Social actualizado devidamente registado na Conservatória Comercial"]
[null,null,null,"Extracto da conta 53x (sub contas)"]
[null,null,null,"Extracto da conta 12x"]
[null,null,null,"Extracto bancário reflectindo o depósito a título de Prestações Suplementares"]
[null,null,null,"Cópia cheque/ Transferência bancária/ Talão de depósito"]
[null,null,26,"Suprimentos de Sócios:"]
[null,null,null,"Acta deliberando a realização dos suprimentos assim como o não pagamento de juros sobre o mesmos. Deverá igualmente constar o prazo para o seu reembolso aos sócios, o que determinará o seu grau de exigibilidade (conta de curto ou médio e longo prazo)"]
[null,null,null,"No caso de se tratar de suprimentos consolidados, declaração dos sócios de que os empréstimos por si concedidos não serão levantados durante a vida do projecto"]
[null,null,null,"Extracto da conta 26x (sub contas)"]
[null,null,null,"Extracto da conta 12x"]
[null,null,null,"Extracto bancário reflectindo o depósito a título de Suprimentos"]
[null,null,null,"Cópia cheque/ Transferência bancária/ Talão de depósito"]
[null,null,27,"Empréstimo Bancário:"]
[null,null,null,"Contrato de Empréstimo"]
[null,null,null,"Extracto da conta 25x"]
[null,null,null,"Extracto da conta 12x"]
[null,null,null,"Extractos Bancários reflectindo a sua utilização"]
[null,null,28,"Leasing:"]
[null,null,null,"Contrato leasing"]
[null,null,null,"Extracto da conta 27x"]
[null,null,null,"Extracto da conta 12x"]
[null,null,29,"Incentivo (já recebido):"]
[null,null,null,"Extracto da conta 27x"]
[null,null,null,"Extracto da conta 12x"]
[null,null,null,"Extracto bancário reflectindo o depósito"]
[null,null,30,"Autofinanciamento:"]
[null,null,null,"Declaração Anual relativa ao(s) exercício(s) anterior(es) à realização do investimento e do exercício da realização do investimento (RL + Amort. +Provisões)"]
[]
[null,null,"Licenciamento (Comprovativos dos espaços onde o investimento foi realizado)"]
[null,null,null,null,null,null,null,null,null,null,null,null,null,null,null,null,null,null,null,null,null,"SIM","NÃO","N.A."]
[null,null,31,"Comprovativo da titularidade das instalações (Contrato de Arrendamento, contrato comodato, escritura de compra e registo predial, etc.) - quando aplicável"]
[null,null,32,"Autorização do Senhorio à realização das obras (se aplicável, contrato de arrendamento)"]
[null,null,33,"Certidão de aprovação da localização do projecto (quando aplicável)"]
[null,null,34,"Projecto de arquitectura e/ou memória descritiva (quando aplicável)"]
[null,null,35,"Licença de Obras emitida pela Câmara Municipal competente, quando aplicável"]
[null,null,36,"Agências de Viagens e Turismo:"]
[null,null,null,"Licença de Utilização emitida pela Câmara Municipal competente"]
[null,null,null,"Período de Funcionamento (Câmara Municipal) (quando aplicável)"]
[null,null,null,"Alvará de Agência de Viagens e Turismo emitido pela Direcção Regional do Turismo"]
[null,null,37,"Empresas de Animação Turística:"]
[null,null,null,"Licença de Utilização emitida pela Câmara Municipal competente, quando aplicável"]
[null,null,null,"Período de Funcionamento (Câmara Municipal) (quando aplicável)"]
[null,null,null,"Alvará de empresa de animação turística emitido pela Direcção Regional do Turismo"]
[null,null,38,"Actividades Marítimo-Turísticas:"]
[null,null,null,"Licença de Utilização emitida pela Câmara Municipal competente, quando aplicável"]
[null,null,null,"Período de Funcionamento (Câmara Municipal) (quando aplicável)"]
[null,null,null,"Alvará de empresa de animação turística emitido pela Direcção Regional do Turismo"]
[null,null,null,"Certificado de Navegabilidade"]
[null,null,null,"Título de registo de propriedade da(s) embarcação(ões) (Livrete)"]
[null,null,null,"Declaração da infra-estrutura portuária onde irá operar a embarcação(ões) com autorização dos cais ou locais de embarque e acostagem ou o respectivo contrato, caso já tenha sido celebrado"]
[null,null,39,"Actividades de Rent-a-car:"]
[null,null,null,"Licença de Utilização emitido pela Câmara Municipal competente"]
[null,null,null,"Período de Funcionamento (Câmara Municipal) (quando aplicável)"]
[null,null,null,"Alvará a autorizar o exercício da indústria de aluguer de veículos sem condutor emitido pela Direcção Regional de Transportes Terrestres"]
[null,null,40,"Empreendimentos Turísticos:"]
[null,null,null,"Licença de Utilização emitido pela Câmara Municipal competente"]
[null,null,null,"Período de Funcionamento (Câmara Municipal) (quando aplicável)"]
[null,null,null,"Documento da classificação atribuída ao Empreendimento pela Direcção Regional Turismo"]
[null,null,41,"Estabelecimentos de Restauração e Bebidas:"]
[null,null,null,"Licença de Utilização emitido pela Câmara Municipal competente"]
[null,null,null,"Período de Funcionamento (Câmara Municipal) (quando aplicável)"]
[null,null,42,"Licença de Utilização emitido pela Câmara Municipal competente"]
[null,null,43,"Período de Funcionamento (Câmara Municipal) (quando aplicável)"]
[null,null,44,"Cadastro Comercial (DRET)"]
[null,null,45,"Licença Laboração - Licenciamento Industrial (DRET)"]
[null,null,46,"Isenção de Licenciamento Industrial:"]
[null,null,null,"Menos de 5 Trabalhadores"]
[null,null,null,"Potência Inferior a 25 Kva (cópia de factura da electricidade)"]
[null,null,null,"Posto de venda ao público"]
[null,null,47,"Para a Zona Franca - o Licenciamento é da responsabilidade da SDM"]
[null,null,48,"Licenciamento de Pedreiras - DRET"]
[null,null,49,"Licenciamento de extracção de Inertes do leito da Ribeira e/ ou MAR (Equipam. Social)"]
[null,null,50,"Reciclagem de Óleos Usados - Contrato de prestação de serviços"]
[]
[null,null,"Postos de Trabalho (Comprovativos da manutenção e criação dos postos de trabalho previstos)"]
[null,null,null,null,null,null,null,null,null,null,null,null,null,null,null,null,null,null,null,null,null,"SIM","NÃO","N.A."]
[null,null,51,"Curriculos dos postos de trabalho criados"]
[null,null,52,"Certificado de habilitações dos postos de trabalho criados"]
[null,null,53,"Folhas de remuneração do mês de conclusão do projecto e respectiva guia de pagamento mais recente à data do pagamento."]
[]
[null,null,"Documentos Financeiros"]
[null,null,null,null,null,null,null,null,null,null,null,null,null,null,null,null,null,null,null,null,null,"SIM","NÃO","N.A."]
[null,null,54,"Balancete Analítico do mês de conclusão física e financeira do investimento, ou o mais recente"]
[null,null,55,"Declaração de Rendimentos (Modelos 3 e 10 do IRS) / Modelo 22 e IES dos anos da realização do Investimento (analisar a evolução dos RLE e dos CP)"]
[null,null,56,"Balanço Intercalar devidamente assinado pelo TOC ou ROC (quando o Capital Próprio for negativo/ situação de Falência técnica)"]
[]
[null,null,"Outros"]
[null,null,null,null,null,null,null,null,null,null,null,null,null,null,null,null,null,null,null,null,null,"SIM","NÃO","N.A."]
[null,null,57,"Contratação Pública – Procedimentos – Check List"]
[null,null,58,"Igualdade de Oportunidades – Procedimentos – Check List"]
[null,null,59,"Regras Ambientais – Procedimentos – Check List"]
[]
[null,null,"Validação da Elegibilidade"]
[null,null,null,null,null,null,null,null,null,null,null,null,null,null,null,null,null,null,null,null,null,"SIM","NÃO","N.A."]
[null,null,60,"Foi verificada a elegibilidade Formal (conformidade legal e fiscal dos documentos de despesa e a conformidade da classificação contabilística dos documentos, sendo os originais dos justificativos da despesa carimbados com a identificação do programa e do fundo estrutural)"]
[null,null,61,"Foi verificada a elegibilidade Normativa (conformidade da despesa face aos normativos legais nacionais e comunitários)"]
[null,null,62,"Foi verificada a elegibilidade Estrita (conformidade da despesa realizada com a prevista no contrato de concessão do incentivo, a evidência documental dos fluxos financeiros e do cumprimento das condições de financiamento do projecto)"]
[]
[null,null,"Observações"]

{"sheet":"Instrucoes","index":21,"n_rows":87,"n_cols":4,"rows_kept":87,"cut":false,"hidden":false,"merged":[[18,3,18,4],[17,3,17,4],[0,12,0,40],[2,1,2,29],[4,1,4,29],[5,1,5,29],[6,1,6,29],[7,1,7,29],[14,1,14,8],[8,1,8,29],[9,1,9,29],[10,1,10,29],[12,1,12,27],[16,3,16,4],[21,1,21,27],[35,3,35,4],[24,2,24,22],[26,2,26,22],[36,3,36,4],[37,3,37,4],[49,1,49,22],[74,1,74,29],[58,2,58,17],[66,1,66,20],[67,1,67,20],[71,1,71,20],[72,1,72,26],[73,1,73,29],[64,1,65,23],[69,1,69,27],[70,1,70,27],[57,2,57,17],[59,2,59,26],[60,2,60,26],[61,2,61,26],[86,1,86,27],[75,1,78,29],[79,1,79,29],[80,1,80,29],[81,1,81,29],[82,1,82,29],[85,1,85,27]]}
[null,"Instruções de preenchimento:"]
[]
[null,"Preenchimento do “Mapa de Classificação das Despesas do Projeto”:"]
[]
[null,"ID: preenchimento automático"]
[null,"Id: Colocar o número do item associado à despesa (bem/serviço) aprovado em candidatura (mapa anexo ao termo de aceitação)"]
[null,"Id.Seq.F: Número sequencial dos documentos de despesa no pedido de pagamento (organização do dossier), para a mesma fatura o número é o mesmo"]
[null,"Estab: Identificação do n.º do estabelecimento (1, 2, 3, 4, 5, …) onde a despesa ocorreu. Deverá selecionar o respetivo número."]
[null,"NIF: Contribuinte a quem foi pago"]
[null,"Nome: Nome da entidade a quem foi pago"]
[null,"Descrição bem /serviço: Descrição da despesa efetuada (de acordo com o documento apresentado)"]
[null,"Tipo Doc. Desp , Tipo Doc. Quit. idC_I, IdR_I, Id_C: Preenchimento automático"]
[null,"Documento de Despesa: Preencher tendo em conta a elegibilidade ou não da despesa em causa conforme o contrato. Discriminar todos os investimentos realizados associados ao projecto, mesmo os que não tenham sido considerados elegíveis pelo IDE, IP-RAM"]
[]
[null,"Doc. Despesa: Preenchimento automático"]
[null,"Tipo Doc. Despesa: Selecionar o tipo de documento de despesa:"]
[null,null,null,"Aviso/Recibo"]
[null,null,null,"Factura"]
[null,null,null,"entre outros"]
[null,"N.º Doc. Desp: Indicar o número do documento (no caso de recibos de ordenado para o mesmo trabalhador, o n.º do documentos dos diferentes meses nunca pode ser o mesmo, ou seja, não pode ser repetido)"]
[null,"Data Doc. Despesa: Indicar a data do documento \"DD-MM-AAAA\" (DIA-MÊS-ANO)"]
[null,"Valor Doc. Despesa (Os valores deverão vir arredondados a 2 casas décimais):"]
[null,null,"Investimento: Indicar o valor total da factura deduzido do IVA (sempre que o beneficiário seja sujeito passivo do mesmo imposto e possa exercer o direito à sua dedução). Os valores deverão vir arredondados a 2 casas décimais"]
[null,null,"Funcionamento: Custo com salário o valor a indicar é o valor ilíquido e contribuições obrigatórias para a Segurança Social é o valor total das contribuições (por exemplo 31,25% e os 34,75%)\n"]
[]
[null,"Valor Doc. Des. Imp (Os valores deverão vir arredondados a 2 casas décimais):"]
[null,null,"Investimento: Indicar o valor sem IVA "]
[null,null,"Funcionamento: Encargos com o pessoal é o valor bruto sujeito à contribuição obrigatória para a Segurança Social e no caso das contribuições obrigatórias para a Segurança Social é o valor da responsabilidade da Entidade Patronal (Exemplo: 21,25% (31,25% - 10%) e 23,75% (34,75% - 11%))."]
[null,"Valor elegível (Os valores deverão vir arredondados a 2 casas décimais):"]
[null,null,"Investimento: Valor da fatura sem IVA e elegível nos termos da candidatura"]
[null,null,"Funcionamento: Encargos com o pessoal é o valor bruto sujeito à contribuição obrigatória para a Segurança Social e no caso das contribuições obrigatórias para a Segurança Social é o valor da responsabilidade da Entidade Patronal (Exemplo: 21,25% (31,25% - 10%) e 23,75% (34,75% - 11%))."]
[null,"Valor não elegível: Indicar o valor não elegível do bem/ investimento (os valores deverão vir arredondados a 2 casas décimais)"]
[null,"Valor Elegivel Não Comparticipado: Indicar o valor do bem/ investimento que no respetivo pedido de pagamento não é elegivel, mas em um futuro pedido poderá ser (os valores deverão vir arredondados a 2 casas décimais)"]
[null,"Documento de Quitação: Preencher em conformidade com a forma de pagamento utilizada"]
[null,"Doc. Quit.: Selecionar o tipo de documento de quitação:"]
[null,null,null,"Factura/Recibo"]
[null,null,null,"Transferência Bancária"]
[null,null,null,"entre outros"]
[null,"N.º Doc. Quit.: Indicar o número do documento (no caso de recibos de ordenado para o mesmo trabalhador, o n.º do documentos dos diferentes meses nunca pode ser o mesmo, ou seja, não pode ser repetido)"]
[null,"Data Doc. Quit.: Indicar a data do documento \"DD-MM-AAAA\" (DIA-MÊS-ANO)"]
[null,"Valor Doc. Quit. (Os valores deverão vir arredondados a 2 casas décimais):"]
[null,null,"Investimento: Valor com IVA e elegível nos termos da candidatura"]
[null,null,"Funcionamento: Custo com salário o valor a indicar é o valor ilíquido e no caso das contribuições obrigatórias para a Segurança Social é o seu valor total (Exemplo: 31,25% e 34,75%)."]
[null,"Valor Doc. Quit. Imp.: (Os valores deverão vir arredondados a 2 casas décimais): "]
[null,null,"Investimento: Indicar o valor sem IVA e que é afeto ao projeto"]
[null,null,"Funcionamento: Encargos com o pessoal é o valor bruto sujeito à contribuição obrigatória para a Segurança Social e no caso das contribuições obrigatórias para a Segurança Social é o valor da responsabilidade da Entidade Patronal (Exemplo: 21,25% (31,25% - 10%) e 23,75% (34,75% - 11%))."]
[null,"Contabilização:"]
[null,null,"N.º lançamento: Número de lançamento da fatura na contabilidade"]
[null,null,"Data: Data do lançamento na contabilidade \"DD-MM-AAAA\" (DIA-MÊS-ANO)"]
[null,"N.º Certificado TOC/ ROC (conforme exigência legal): Corresponde ao número de pedidos de pagamento apresentados pela empresa (a não existência de numeração implica que a despesa não se encontra certificada impedindo o seu pagamento)"]
[null,"Componente de Despesa: Classificação das despesas de acordo com a aprovação"]
[null,"Rubricas do SNC: Classificação contabilística do Investimento/ Despesa na contabilidade"]
[null,"Observações: Informações relevantes "]
[null,"Eficiência Energética: Classificar se o investimento tem efeciência energética (Sim / Não), não aplicável ao Funcionamento"]
[null,"Tipo de investigação (PROciência): classificar se o investimento de acordo com o tipo de investigação: Industrial e Experimental, aplicável somente ao Prociência"]
[null,"Cod. Contrato (Contratação Pública): identificar quando o bem está sujeito a contratação publica identificando o número do mesmo "]
[null,"Validações, campo automático (deve ter como valor 0,00)"]
[null,null,"Validação da Despesa = 0, ou seja, Valor Doc. Des. Imp - Valor Elegível - Valor Não Elegivel - Valor Não Elegivel Não Comparticipado = 0"]
[null,null,"Validação do Documento de Quitação = 0 ou seja, Valor Doc. Quit. Imp - Valor Elegível - Valor Não Elegivel - Valor Não Elegivel Não Comparticipado = 0"]
[null,null,"Validacão Valor Doc. Desp. Imp - Id.Seq.F, se esta validação tiver valores negativos (nunca pode acontecer) ou positivos implica que existe para o mesmo  Id.Seq.F, valores de documento de despesa imputado diferentes, para o mesmo nº de contribuinte"]
[null,null,"Validacão Valor Doc. Desp. Imp - N.º Doc. Desp, se esta validação tiver valores negativos (nunca pode acontecer) ou positivos implica que existe para o mesmo  N.º Doc. Desp, valores de documento de despesa imputado diferentes, para o mesmo nº de contribuinte"]
[null,null,"Validacão Valor Doc. Quitação Imp - Nº Doc. Quit., se esta validação tiver valores negativos (nunca pode acontecer) ou positivos implica que existe para o mesmo  Nº Doc. Quit., valores de documento de quitação imputado diferentes, para o mesmo nº de contribuinte"]
[]
[null,"Inutilização dos Originais – Factura/ recibo - para efeito de apoio FEDER"]
[null,"A responsabilidade de inutilização dos originais de todos os documentos de despesa (factura, recibo, etc), é da responsabilidade do beneficiário e do TOC/ ROC, devendo para o efeito: Os originais dos documentos de despesa relativos à operação são objecto de aposição de um carimbo com menção ao Programa Madeira1420; Eixo Prioritário; Código Universal de Projecto PO; Número de lançamento na contabilidade geral; Taxa de imputação da despesa elegível e Rúbrica de investimento."]
[]
[null,"No IDE-RAM deverão ser entregues apenas as cópias dos documentos de despesa solicitados (cópia dos originais já carimbados) "]
[null,"Quanto à Taxa de Imputação da Despesa para a situação das despesas com «Custos salariais» e «Contribuições à Segurança Social», o cálculo das taxas de aplicação é:"]
[]
[null,"- Custos salariais: (custo com salário sujeito à contribuição obrigatória para a segurança social) / (valor ilíquido do salário), sendo que o «valor ilíquido do salário» contempla a remuneração base e outros abonos sujeitos ou não às contribuições obrigatórias para a segurança social, como p. ex. subsídio alimentação."]
[null,"- Contribuições à Segurança Social: (contribuições a cargo da empresa) / (total de contribuições a entregar à SS). Para a situação de contribuições à taxa de 34,75% sobre as remunerações (a mais comum), ficaria uma taxa de imputação de 68,35%."]
[]
[null,"- Faturas de eletricidade: Contribuição audiovisual não é considerada despesa elegível. O respetivo valor não pode ser considerado nas colunas \"Valor Doc. Des. Imp\" e \"Valor Elegível\""]
[null,"Alerta para os custos salariais"]
[null,"Podem ser considerados elegíveis os custos salariais estimados até ao limite máximo de € 1.850 por trabalhador, os quais incluem o salário base mensal, acrescido dos encargos sociais obrigatórios, se preencherem cumulativamente as seguintes condições:"]
[null,"Em alternativa às despesas em ativo corpóreo e incorpóreo previstas nas alíneas a) e b) do número um do artigo 14º da Regulamentação do Valorizar 2020 e EMPREENDER 2020, podem ser considerados elegíveis os custos salariais estimados até ao limite máximo de € 1.850 por trabalhador, os quais incluem o salário base mensal, acrescido dos encargos sociais obrigatórios, se preencherem cumulativamente as seguintes condições:\na) Contratação de postos de trabalho altamente qualificados (com nível de qualificação igual ou superior a VI, nos termos definidos no anexo II da Portaria n.º 782/2009, de 23 de julho), em virtude do investimento inicial em causa e calculados pelo período do projeto e com um limite máximo de um período de 24 meses, para o Valorizar 2020 e 18 meses para EMPREENDER 2020;\nb) O projeto de investimento deve conduzir a uma criação líquida de postos de trabalho, em virtude do investimento inicial em causa, em comparação com a média dos 12 meses anteriores;\nc) Cada posto de trabalho deve ser preenchido dentro do prazo de execução do investimento inicial; \nd) Cada posto de trabalho criado deve ser mantido durante um período mínimo de cinco anos a contar da data da conclusão física e financeira do projeto, ou três anos no caso de PME;\ne) Ter por base a existência de contrato de trabalho entre o trabalhador e o beneficiário;\nf) A data de contratação ser posterior à data de apresentação da candidatura;\ng) Os trabalhadores a contratar não terem tido vínculo de trabalho com a empresa beneficiária ou com empresas parceiras ou associadas desta, durante os 12 meses anteriores à data da candidatura.\n"]
[]
[]
[]
[null,"Nesta situação, o mapa de despesa deverá ser preenchido com os custos salariais as quais deverão ser classificados como despesa elegivel na correspondente componente de despesa. "]
[null,"Deverá igualmente incluir no mapa as despesas relacionadas com o investimento inicial (corpóreo e incorpóreo), considerando para tal como não elegivel."]
[null,"Para efeitos de determinação do período de elegibilidade do projeto, a data de início deverá ser considerado a data da primeira fatura associada ao projeto, quer de investimento inicial quer de custos salariais, a que ocorrer primeiro."]
[null,"A data de conclusão deverá corresponder á data da última fatura associada ao projeto, quer de investimento inicial quer de custos salariais, a que ocorrer por último, não podendo ultrapassar 24 meses."]
[]
[null,"Pagamento do Incentivo relativo aos Pagamentos em Numerário "]
[null,"Não são elegíveis os pagamentos em numerário, exceto nas situações em que se revele ser este o meio de pagamento mais frequente, em função da natureza das despesas, e desde que num quantitativo unitário até 250 euros"]
[null,"Quando se tratar da exceção, há a necessidade de comprovar inequivocamente a liquidação das despesas apoiadas, através de uma Declaração de Fiabilidade (anexa ao Guia do Beneficiário), a qual certifica que todos os documentos estão devidamente contabilizados de acordo com as regras do SNC, que não existe qualquer dívida referente à despesa realizada em numerário e que efetivamente se trata do meio de pagamento mais frequente face à natureza da despesa apresentada e num quantitativo unitário até 250 euros. Esta declaração deverá estar devidamente certificada/ratificada pelo ROC/TOC da empresa, conforme exigência legal, confirmando que os documentos comprovativos da despesa e dos pagamentos por caixa apresentados no IDE, IP-RAM encontram-se lançados na contabilidade da empresa."]

{"sheet":"CHECKLIST SI FUNC.","index":22,"n_rows":36,"n_cols":14,"rows_kept":36,"cut":false,"hidden":true,"merged":[[2,1,2,22],[3,1,3,22],[4,1,4,7],[4,8,4,22],[5,1,5,7],[5,8,5,22],[24,1,24,10],[25,1,25,10],[26,1,26,10],[6,19,6,22],[33,1,33,10],[6,1,6,7],[6,15,6,18],[27,1,27,10],[28,1,28,10],[29,1,29,10],[30,1,30,10],[31,1,31,10],[6,8,6,14],[36,1,45,22],[19,1,19,10],[10,1,10,10],[11,1,11,10],[12,1,12,10],[13,1,13,10],[14,1,14,10],[15,1,15,10],[16,1,16,10],[17,1,17,10],[18,1,18,10],[32,1,32,10],[20,1,20,10],[21,1,21,10],[22,1,22,10],[23,1,23,10]]}
[]
[]
[null,"CHECK-List da  Organização Dossier Projecto / Pedido de Pagamento "]
[]
[null,"Sistema de Incentivo:",null,null,null,null,null,null,{"$f":"+CAPA!C17","v":"PROCiência 2020 - Individuais"}]
[null,"Beneficiário:",null,null,null,null,null,null,{"$f":"+FORMALIZACAO!I16","v":0}]
[null,"N.º do Projecto:",null,null,null,null,null,null,{"$f":"+FORMALIZACAO!I14","v":0}]
[]
[null,"Nota: Todos os documentos deverão constar do dossier do projeto"]
[]
[null,"Requisitos",null,null,null,null,null,null,null,null,null,"S","N","NA"]
[null,"Formulário e declarações"]
[null,"Formulário do Pedido de Pós - Contratação devidamente preenchido, assinado e datado pelo beneficiário (deverá entregar a folha da \"Formalização\" devidamente assinada e carimbada no IDE, IP-RAM)"]
[null,"Declarações: \n(Para aceder às respetivas declarações clicar no link)\n\n- Declaração de responsabilidade do beneficiário reconhecida na qualidade;\n- Declaração de Responsabilidade do ROC/ CC com a vinheta;\n- Declaração de Fiabilidade para os pagamentos em numerário (quando aplicável);\n- Declaração de inexistência de pagamentos em numerários;\n- Declaracão de conflito de interesses.\n"]
[null,"Comprovativos da situação regularizada perante o Estado, a Segurança Social e as entidades pagadoras do incentivo (preferencialmente através da consulta on-line)"]
[null,"Declaração de afectação do projeto à localização geográfica e à actividade pelo período de 2 anos a partir da data da candidatura e no caso de se verificar criação de postos de trabalho, 2 anos a partir da data da última contratação."]
[null,"Comprovativos de Despesa - será solicitado pelo IDE à posteriori"]
[null,"Contabilização e fluxos financeiros da Despesa - será solicitado pelo IDE à posteriori"]
[null,"Postos de Trabalho (Comprovativos da manutenção e criação dos postos de trabalho previstos)"]
[null,"Mapas de declaração de remunerações remetidos à Segurança Social do último mês anterior à data do pedido de pagamento e respectivas guias de pagamento."]
[null,"Horário de Trabalho aprovado pela Direcção Regional do Trabalho (quando não existir contratos de trabalho)"]
[null,"Relatório Único - Anexo A - Quadro de Pessoal (Ministério do Trabalho e da Solidariedade Social) - quando não existir contratos de trabalho"]
[null,"B.I ou Cartão do Cidadão e respetivo contrato de trabalho relativo á criação de postos de trabalho jovens"]
[null,"Documentos Contabilisticos"]
[null,"Balancete Analítico do mês anterior á data do pedido de pagamento"]
[null,"Declaração de Rendimentos (Modelos 3 e 10 do IRS) / Modelo 22 e IES do ano anterior á data do pedido de pagamento do incentivo "]
[null,"Balanço Intercalar devidamente assinado pelo TOC ou ROC (quando o Capital Próprio for negativo/ situação de Falência técnica)"]
[null,"Check Lists"]
[null,"Contratação Pública"]
[null,"Igualdade de Oportunidades"]
[null,"Validação da Elegibilidade"]
[null,"Foi verificada a elegibilidade Formal (conformidade legal e fiscal dos documentos de despesa e a conformidade da classificação contabilística dos documentos, sendo os originais dos justificativos da despesa carimbados com a identificação do programa e do fundo estrutural)"]
[null,"Foi verificada a elegibilidade Normativa (conformidade da despesa face aos normativos legais nacionais e comunitários)"]
[null,"Foi verificada a elegibilidade Estrita (conformidade da despesa realizada com a prevista no contrato de concessão do incentivo, a evidência documental dos fluxos financeiros e do cumprimento das condições de financiamento do projecto)"]
[]
[null,"Observações"]

{"sheet":"AvaliaçãoValorizar","index":23,"n_rows":66,"n_cols":20,"rows_kept":66,"cut":false,"hidden":true,"merged":[[46,3,46,8],[46,9,46,14],[38,8,38,18],[18,3,18,7],[20,8,20,18],[22,8,22,18],[24,8,24,18],[44,3,44,14],[44,15,44,18],[42,8,42,18],[33,8,33,18],[22,3,23,7],[31,3,32,7],[40,3,41,7],[40,8,40,18],[3,2,3,26],[9,8,9,13],[11,8,11,25],[13,8,13,18],[15,8,15,18],[84,2,84,25],[17,3,17,25],[26,3,26,25],[35,3,35,25],[47,9,47,14],[50,3,50,8],[50,9,50,14],[79,17,79,25],[82,2,82,25],[48,3,48,8],[48,9,48,14],[49,3,49,8],[49,9,49,14],[29,8,29,18],[47,3,47,8],[31,8,31,18]]}
[]
[]
[]
[null,null,"AVALIAÇÃO DE RESULTADOS VALORIZAR 2020"]
[]
[]
[]
[null,null,null,"Dados do Beneficiário"]
[]
[null,null,null,"NIF:",null,null,null,null,{"$f":"+FORMALIZACAO!I12","v":0}]
[]
[null,null,null,"Beneficiário:",null,null,null,null,{"$f":"+FORMALIZACAO!I16","v":0}]
[]
[null,null,null,"Nº do Projeto:",null,null,null,null,{"$f":"+FORMALIZACAO!I14","v":0}]
[]
[null,null,null,"Ano pós projeto",null,null,null,null,null,null,null,null,null,null,null,null,null,null,null,"(inserir)"]
[]
[null,null,null,"Indicador I1"]
[null,null,null,"VAB = Valor acrecentado bruto"]
[]
[null,null,null,"VAB  real",null,null,null,null,null,null,null,null,null,null,null,null,null,null,null,"(inserir)"]
[]
[null,null,null,"VAB  previsto (de acordo com o Termo de Aceitação)",null,null,null,null,null,null,null,null,null,null,null,null,null,null,null,"(inserir)"]
[]
[null,null,null,"Cálculo indicador I1",null,null,null,null,{"$f":"+I21/I23","v":{"$error":"#DIV/0!"}}]
[]
[null,null,null,"Indicador I2"]
[null,null,null,"CEQ = Criação de emprego qualificado, com nível de qualificação igual ou superior a VI"]
[]
[null,null,null,"CEQ  real",null,null,null,null,null,null,null,null,null,null,null,null,null,null,null,"(inserir)"]
[]
[null,null,null,"CEQ previsto  (de acordo com o Termo de Aceitação)",null,null,null,null,null,null,null,null,null,null,null,null,null,null,null,"(inserir)"]
[]
[null,null,null,"Cálculo indicador I2",null,null,null,null,{"$f":"+I30/I32","v":{"$error":"#DIV/0!"}}]
[]
[null,null,null,"Indicador I3"]
[null,null,null,"VN = Volume de negócios "]
[]
[null,null,null,"VN real",null,null,null,null,null,null,null,null,null,null,null,null,null,null,null,"(inserir)"]
[]
[null,null,null,"VN previsto (de acordo com o Termo de Aceitação)",null,null,null,null,null,null,null,null,null,null,null,null,null,null,null,"(inserir)"]
[]
[null,null,null,"Cálculo indicador I3",null,null,null,null,{"$f":"+I39/I41","v":{"$error":"#DIV/0!"}}]
[]
[null,null,null,"GC = 0,40I1 + 0,25I2+0,35I3",null,null,null,null,null,null,null,null,null,null,null,{"$f":"0.4*I25+0.25*I34+0.35*I43","v":{"$error":"#DIV/0!"}}]
[]
[null,null,null,"GC – Grau de Cumprimento apurado",null,null,null,null,null,"% de isenção de reembolso"]
[null,null,null,"GC < 0,8",null,null,null,null,null,"sem isenção"]
[null,null,null,"0,8 ≤ GC < 0,9",null,null,null,null,null,0.2]
[null,null,null,"0,9 ≤ GC < 1",null,null,null,null,null,0.3]
[null,null,null,"GC ≥ 1",null,null,null,null,null,0.4]
[]
[null,null,null," Fundamentação da Avaliação de resultado"]
[]
[]
[]
[]
[]
[]
[]
[]
[]
[]
[]
[]
[null,null,null,"Sintese das Anomalias Detectadas"]

{"sheet":"AvaliaçãoProciencia","index":24,"n_rows":72,"n_cols":21,"rows_kept":72,"cut":false,"hidden":false,"merged":[[56,15,56,16],[53,15,53,16],[27,20,33,25],[19,20,25,25],[51,9,51,14],[54,15,54,16],[55,15,55,16],[53,9,53,14],[38,8,38,18],[41,8,41,18],[43,3,43,25],[45,8,45,18],[85,17,85,25],[88,2,88,25],[90,2,90,25],[23,8,23,18],[27,8,27,18],[29,3,29,7],[54,3,54,8],[54,9,54,14],[55,3,55,8],[55,9,55,14],[56,3,56,8],[56,9,56,14],[47,3,48,7],[47,8,47,18],[51,15,51,18],[53,3,53,8],[18,3,18,7],[21,8,21,18],[29,8,29,18],[33,8,33,18],[35,3,35,25],[19,8,19,18],[31,8,31,18],[25,8,25,18],[17,3,17,25],[3,2,3,26],[9,8,9,13],[11,8,11,25],[13,8,13,18],[15,8,15,18]]}
[]
[]
[]
[null,null,"AVALIAÇÃO DE RESULTADOS Prociência"]
[]
[]
[]
[null,null,null,"Dados do Beneficiário"]
[]
[null,null,null,"NIF:",null,null,null,null,{"$f":"+FORMALIZACAO!I12","v":0}]
[]
[null,null,null,"Beneficiário:",null,null,null,null,{"$f":"+FORMALIZACAO!I16","v":0}]
[]
[null,null,null,"Nº do Projeto:",null,null,null,null,{"$f":"+FORMALIZACAO!I14","v":0}]
[]
[null,null,null,"Ano pós projeto",null,null,null,null,null,null,null,null,null,null,null,null,null,null,null,"(inserir)"]
[]
[null,null,null,"Critério C1 - Criação de Valor"]
[]
[null,null,null,"Despesa em I&D pós projeto/VAB real",null,null,null,null,null,null,null,null,null,null,null,null,null,null,null,null,"Pós Projeto"]
[]
[null,null,null,"VAB - Valor acrecentado bruto real"]
[]
[null,null,null,"Despesa em I&D  real"]
[]
[null,null,null,"Critério C1 real"]
[]
[null,null,null,"Despesa em I&D pós projeto/VAB ",null,null,null,null,null,null,null,null,null,null,null,null,null,null,null,null,"Aprovado - Valores de acordo com o Termo de Aceitação "]
[]
[null,null,null,"VAB - Valor acrecentado bruto  "]
[]
[null,null,null,"Despesa em I&D"]
[]
[null,null,null,"Critério C1 aprovado"]
[]
[null,null,null,"Critério C2 - Contributo para criação de emprego qualificado"]
[]
[]
[null,null,null,"Critério  C2 real - pós projeto"]
[]
[]
[null,null,null,"Critério C2 aprovado"]
[]
[null,null,null,"Critério C - Contributo do projeto para a competitividade regional"]
[]
[null,null,null,"C real= 0,5C1 real + 0,5C2 real",null,null,null,null,{"$f":"0.5*I26+0.5*I39","v":0}]
[]
[null,null,null,"C aprovado= 0,5C1 aprovado + 0,5C2 aprovado",null,null,null,null,{"$f":"0.5*I34+0.5*I42","v":0}]
[]
[]
[]
[null,null,null,"Desvio=Critério C aprovado - Critério C real"]
[]
[null,null,null,"D – Desvio",null,null,null,null,null,"% de penalização",null,null,null,null,null,"resultado"]
[null,null,null,"D  ≤ 10",null,null,null,null,null,"sem penalização"]
[null,null,null,"10 < D ≤ 20",null,null,null,null,null,0.05]
[null,null,null,"D > 20",null,null,null,null,null,0.1]
[]
[null,null,null," Fundamentação "]
[]
[]
[]
[]
[]
[]
[]
[]
[]
[]
[]
[]
[null,null,null,"Sintese das Anomalias Detectadas"]

{"sheet":"Avaliação Empreender","index":25,"n_rows":57,"n_cols":20,"rows_kept":57,"cut":false,"hidden":true,"merged":[[29,8,29,18],[3,2,3,26],[9,8,9,13],[11,8,11,25],[13,8,13,18],[15,8,15,18],[20,8,20,18],[22,8,22,18],[24,8,24,18],[18,3,18,7],[17,3,17,25],[26,3,26,25],[22,3,23,7],[31,8,31,18],[33,8,33,18],[35,3,35,14],[35,15,35,18],[37,3,37,8],[37,9,37,14],[31,3,32,7],[38,3,38,8],[38,9,38,14],[39,3,39,8],[39,9,39,14],[40,3,40,8],[40,9,40,14],[41,3,41,8],[41,9,41,14],[70,17,70,25],[73,2,73,25],[75,2,75,25]]}
[]
[]
[]
[null,null,"AVALIAÇÃO DE RESULTADOS EMPREENDER 2020"]
[]
[]
[]
[null,null,null,"Dados do Beneficiário"]
[]
[null,null,null,"NIF:",null,null,null,null,{"$f":"+FORMALIZACAO!I12","v":0}]
[]
[null,null,null,"Beneficiário:",null,null,null,null,{"$f":"+FORMALIZACAO!I16","v":0}]
[]
[null,null,null,"Nº do Projeto:",null,null,null,null,{"$f":"+FORMALIZACAO!I14","v":0}]
[]
[null,null,null,"Ano pós projeto",null,null,null,null,null,null,null,null,null,null,null,null,null,null,null,"(inserir)"]
[]
[null,null,null,"Indicador I1"]
[null,null,null,"VAB = Valor acrecentado bruto"]
[]
[null,null,null,"VAB  real",null,null,null,null,null,null,null,null,null,null,null,null,null,null,null,"(inserir)"]
[]
[null,null,null,"VAB  previsto (de acordo com o Termo de Aceitação)",null,null,null,null,null,null,null,null,null,null,null,null,null,null,null,"(inserir)"]
[]
[null,null,null,"Cálculo indicador I1",null,null,null,null,{"$f":"+I21/I23","v":{"$error":"#DIV/0!"}}]
[]
[null,null,null,"Indicador I2"]
[null,null,null,"CEQ = Criação de emprego qualificado, com nível de qualificação igual ou superior a VI"]
[]
[null,null,null,"CEQ  real",null,null,null,null,null,null,null,null,null,null,null,null,null,null,null,"(inserir)"]
[]
[null,null,null,"CEQ previsto  (de acordo com o Termo de Aceitação)",null,null,null,null,null,null,null,null,null,null,null,null,null,null,null,"(inserir)"]
[]
[null,null,null,"Cálculo indicador I2",null,null,null,null,{"$f":"+I30/I32","v":{"$error":"#DIV/0!"}}]
[]
[null,null,null,"GC = 0,50I1 + 0,50I2",null,null,null,null,null,null,null,null,null,null,null,{"$f":"0.5*I25+0.5*I34","v":{"$error":"#DIV/0!"}}]
[]
[null,null,null,"GC – Grau de Cumprimento apurado",null,null,null,null,null,"% de isenção de reembolso"]
[null,null,null,"GC < 0,8",null,null,null,null,null,"sem isenção"]
[null,null,null,"0,8 ≤ GC < 0,9",null,null,null,null,null,0.3]
[null,null,null,"0,9 ≤ GC < 1",null,null,null,null,null,0.4]
[null,null,null,"GC ≥ 1",null,null,null,null,null,0.6]
[]
[null,null,null," Fundamentação da Avaliação de resultado"]
[]
[]
[]
[]
[]
[]
[]
[]
[]
[]
[]
[]
[null,null,null,"Sintese das Anomalias Detectadas"]

{"sheet":"Avaliação Internacionalizar","index":26,"n_rows":48,"n_cols":20,"rows_kept":48,"cut":false,"hidden":true,"merged":[[61,17,61,25],[64,2,64,25],[66,2,66,25],[19,3,21,7],[23,3,25,7],[30,3,30,8],[30,9,30,14],[31,3,31,8],[31,9,31,14],[32,3,32,8],[32,9,32,14],[27,3,27,14],[27,15,27,18],[29,3,29,8],[29,9,29,14],[17,3,17,18],[18,3,18,7],[20,8,20,18],[24,8,24,18],[3,2,3,26],[9,8,9,13],[11,8,11,25],[13,8,13,18],[15,8,15,18]]}
[]
[]
[]
[null,null,"AVALIAÇÃO DE RESULTADOS INTERNACIONALIZAR 2020"]
[]
[]
[]
[null,null,null,"Dados do Beneficiário"]
[]
[null,null,null,"NIF:",null,null,null,null,{"$f":"+FORMALIZACAO!I12","v":0}]
[]
[null,null,null,"Beneficiário:",null,null,null,null,{"$f":"+FORMALIZACAO!I16","v":0}]
[]
[null,null,null,"Nº do Projeto:",null,null,null,null,{"$f":"+FORMALIZACAO!I14","v":0}]
[]
[null,null,null,"Ano pós projeto",null,null,null,null,null,null,null,null,null,null,null,null,null,null,null,"(inserir)"]
[]
[]
[]
[null,null,null,"Critério B – Grau de abordagem aos mercados internacionais - Aprovado (conforme previsto no Termo de Aceitação)"]
[null,null,null,null,null,null,null,null,null,null,null,null,null,null,null,null,null,null,null,"(inserir)"]
[]
[]
[null,null,null,"Critério B – Grau de abordagem aos mercados internacionais - real"]
[null,null,null,null,null,null,null,null,null,null,null,null,null,null,null,null,null,null,null,"(inserir)"]
[]
[]
[null,null,null,"D= Critério B aprovado -Critério B real",null,null,null,null,null,null,null,null,null,null,null,{"$f":"+I21-I25","v":0}]
[]
[null,null,null,"D - Desvio do critério B em relação ao aprovado",null,null,null,null,null,"% de penalização sobre o total do incentivo apurado"]
[null,null,null,"D ≤ 10 p.p.",null,null,null,null,null,"s/ penalização"]
[null,null,null,"10 p.p. < D ≤ 30 p.p.",null,null,null,null,null,0.05]
[null,null,null,"D >30 p.p.",null,null,null,null,null,0.1]
[]
[null,null,null," Fundamentação da Avaliação de resultado"]
[]
[]
[]
[]
[]
[]
[]
[]
[]
[]
[]
[]
[null,null,null,"Sintese das Anomalias Detectadas"]

{"sheet":"CAES","index":27,"n_rows":772,"n_cols":7,"rows_kept":772,"cut":false,"hidden":true,"merged":[]}
[]
[]
[null,"CAE Executor",null,null,"CAE PROJECTO"]
[]
[null,"01111","Cerealicultura (excepto arroz)","INDÚSTRIA","08111","Extracção de mármore e outras rochas carbonatadas","INDÚSTRIA"]
[null,"01112","Cultura de leguminosas secas e sementes oleaginosas","INDÚSTRIA","08112","Extracção de granito ornamental e rochas similares","INDÚSTRIA"]
[null,"01120","Cultura de arroz","INDÚSTRIA","08113","Extracção de calcário e cré","INDÚSTRIA"]
[null,"01130","Cultura de produtos hortícolas, raízes e tubérculos","INDÚSTRIA","08114","Extracção de gesso","INDÚSTRIA"]
[null,"01140","Cultura de cana -de -açúcar","INDÚSTRIA","08115","Extracção de ardósia","INDÚSTRIA"]
[null,"01150","Cultura de tabaco","INDÚSTRIA","08121","Extracção de saibro, areia e pedra britada","INDÚSTRIA"]
[null,"01160","Cultura de plantas têxteis","INDÚSTRIA","08122","Extracção de argilas e caulino","INDÚSTRIA"]
[null,"01191","Cultura de flores e de plantas ornamentais","INDÚSTRIA","08910","Extracção de minerais para a indústria química e para a fabricação de adubos","INDÚSTRIA"]
[null,"01192","Outras culturas temporárias, n. e.","INDÚSTRIA","08920","Extracção da turfa","INDÚSTRIA"]
[null,"01210","Viticultura","INDÚSTRIA","08931","Extracção de sal marinho","INDÚSTRIA"]
[null,"01220","Cultura de frutos tropicais e subtropicais","INDÚSTRIA","08932","Extracção de sal gema","INDÚSTRIA"]
[null,"01230","Cultura de citrinos","INDÚSTRIA","08991","Extracção de feldspato","INDÚSTRIA"]
[null,"01240","Cultura de pomóideas e prunóideas","INDÚSTRIA","08992","Extracção de outros minerais não metálicos, n.e.","INDÚSTRIA"]
[null,"01251","Cultura de frutos de casca rija","INDÚSTRIA","10130","Fabricação de produtos à base de carne","INDÚSTRIA"]
[null,"01252","Cultura de outros frutos em árvores e arbustos","INDÚSTRIA","10320","Fabricação de sumos de frutos e de produtos hortícolas","INDÚSTRIA"]
[null,"01261","Olivicultura","INDÚSTRIA","10391","Congelação de frutos e de produtos hortícolas","INDÚSTRIA"]
[null,"01262","Cultura de outros frutos oleaginosos","INDÚSTRIA","10392","Secagem e desidratação de frutos e de produtos hortícolas","INDÚSTRIA"]
[null,"01270","Cultura de plantas destinadas à preparação de bebidas","INDÚSTRIA","10393","Fabricação de doces, compotas, geleias e marmelada","INDÚSTRIA"]
[null,"01280","Cultura de especiarias, plantas aromáticas, medicinais e farmacêuticas","INDÚSTRIA","10395","Preparação e conservação de frutos e de produtos hortícolas por outros processos","INDÚSTRIA"]
[null,"01290","Outras culturas permanentes","INDÚSTRIA","10411","Produção de óleos e gorduras animais brutos","INDÚSTRIA"]
[null,"01300","Cultura de materiais de propagação vegetativa","INDÚSTRIA","10412","Produção de azeite","INDÚSTRIA"]
[null,"01410","Criação de bovinos para produção de leite","INDÚSTRIA","10413","Produção de óleos vegetais brutos (excepto azeite)","INDÚSTRIA"]
[null,"01420","Criação de outros bovinos (excepto para produção de leite) e búfalos","INDÚSTRIA","10414","Refinação de azeite, óleos e gorduras","INDÚSTRIA"]
[null,"01430","Criação de equinos, asininos e muares","INDÚSTRIA","10510","Indústrias do leite e derivados","INDÚSTRIA"]
[null,"01440","Criação de camelos e camelídeos","INDÚSTRIA","10520","Fabricação de gelados e sorvetes","INDÚSTRIA"]
[null,"01450","Criação de ovinos e caprinos","INDÚSTRIA","10611","Moagem de cereais","INDÚSTRIA"]
[null,"01460","Suinicultura","INDÚSTRIA","10613","Transformação de cereais","INDÚSTRIA"]
[null,"01470","Avicultura","INDÚSTRIA","10620","Fabricação de amidos, féculas e produtos afins","INDÚSTRIA"]
[null,"01491","Apicultura","INDÚSTRIA","10711","Panificação","INDÚSTRIA"]
[null,"01492","Cunicultura","INDÚSTRIA","10712","Pastelaria","INDÚSTRIA"]
[null,"01493","Criação de animais de companhia","INDÚSTRIA","10720","Fabricação de bolachas, biscoitos, tostas e pastelaria de conservação","INDÚSTRIA"]
[null,"01494","Outra produção animal, n. e.","INDÚSTRIA","10730","Fabricação de massas alimentícias, cuscuz e similares","INDÚSTRIA"]
[null,"01500","Agricultura e produção animal combinadas","INDÚSTRIA","10810","Indústria do Açucar","INDÚSTRIA"]
[null,"01610","Actividades dos serviços relacionados com a agricultura","INDÚSTRIA","10821","Fabricação de cacau e de chocolate","INDÚSTRIA"]
[null,"01620","Actividades dos serviços relacionados com a produção animal, excepto serviços de veterinária","INDÚSTRIA","10822","Fabricação de produtos de confeitaria","INDÚSTRIA"]
[null,"01630","Preparação de produtos agrícolas para venda","INDÚSTRIA","10830","Indústria do café e do chá","INDÚSTRIA"]
[null,"01640","Preparação e tratamento de sementes para propagação","INDÚSTRIA","10840","Fabricação de condimentos e temperos","INDÚSTRIA"]
[null,"01702","Actividades dos serviços relacionados com caça e repovoamento cinegético","INDÚSTRIA","10850","Fabricação de refeições e pratos pré-cozinhados","INDÚSTRIA"]
[null,"02100","Silvicultura e outras actividades florestais","INDÚSTRIA","10860","Fabricação de alimentos homogeneizados e dietéticos","INDÚSTRIA"]
[null,"02200","Exploração florestal","INDÚSTRIA","10891","Fabricação de fermentos, leveduras e adjuvantes para panificação e pastelaria","INDÚSTRIA"]
[null,"02300","Extracção de cortiça, resina e apanha de outros produtos florestais, excepto madeira","INDÚSTRIA","10892","Fabricação de caldos, sopas e sobremesas","INDÚSTRIA"]
[null,"02400","Actividades dos serviços relacionados com a silvicultura e exploração florestal","INDÚSTRIA","10893","Fabricação de outros produtos alimentares diversos, n.e.","INDÚSTRIA"]
[null,"03111","Pesca marítima","INDÚSTRIA","10911","Fabricação de pré-misturas","INDÚSTRIA"]
[null,"03112","Apanha de algas e de outros produtos do mar","INDÚSTRIA","10912","Fabricação de alimentos para animais de criação (excepto para aquicultura)","INDÚSTRIA"]
[null,"03121","Pesca em águas interiores","INDÚSTRIA","10920","Fabricação de alimentos para animais de companhia","INDÚSTRIA"]
[null,"03122","Apanha de produtos em águas interiores","INDÚSTRIA","11011","Fabricação de Aguardentes preparadas","INDÚSTRIA"]
[null,"03210","Aquicultura em águas salgadas e salobras","INDÚSTRIA","11012","Fabricação de aguardentes não preparadas","INDÚSTRIA"]
[null,"03220","Aquicultura em águas doces","INDÚSTRIA","11013","Produção de licores e outras bebidas destiladas","INDÚSTRIA"]
[null,"05100","Extracção de hulha (inclui antracite)","INDÚSTRIA","11021","Produção de vinhos comuns e licorosos","INDÚSTRIA"]
[null,"05200","Extracção de lenhite","INDÚSTRIA","11022","Produção vinhos espumantes e espumosos","INDÚSTRIA"]
[null,"06100","Extracção de petróleo bruto","INDÚSTRIA","11030","Fabricação de cidra e outras bebidas fermentadas de frutos","INDÚSTRIA"]
[null,"06200","Extracção de gás natural","INDÚSTRIA","11040","Fabricação de vermutes e de outras bebidas fermentadas não destiladas","INDÚSTRIA"]
[null,"07100","Extracção e preparação de minérios de ferro","INDÚSTRIA","11050","Fabricação de cerveja","INDÚSTRIA"]
[null,"07210","Extracção e preparação de minérios de urânio e de tório","INDÚSTRIA","11060","Fabricação de malte","INDÚSTRIA"]
[null,"07290","Extracção e preparação de outros minérios metálicos não ferrosos","INDÚSTRIA","11071","Engarrafamento de àguas minerais naturais e de nascente","INDÚSTRIA"]
[null,"08111","Extracção de mármore e outras rochas carbonatadas","INDÚSTRIA","11072","Fabricação de refrigerantes e de outras bebidas não alcoólicas, n.e.","INDÚSTRIA"]
[null,"08112","Extracção de granito ornamental e rochas similares","INDÚSTRIA","12000","Indústria de tabaco","INDÚSTRIA"]
[null,"08113","Extracção de calcário e cré","INDÚSTRIA","13101","Preparação e fiação de fibras do tipo algodão","INDÚSTRIA"]
[null,"08114","Extracção de gesso","INDÚSTRIA","13102","Preparação e fiação de fibras do tipo lã","INDÚSTRIA"]
[null,"08115","Extracção de ardósia","INDÚSTRIA","13104","Fabricação de linhas de costura","INDÚSTRIA"]
[null,"08121","Extracção de saibro, areia e pedra britada","INDÚSTRIA","13105","Preparação e fiação de linho e outras fibras têxteis","INDÚSTRIA"]
[null,"08122","Extracção de argilas e caulino","INDÚSTRIA","13201","Tecelagem de fio do tipo algodão","INDÚSTRIA"]
[null,"08910","Extracção de minerais para a indústria química e para a fabricação de adubos","INDÚSTRIA","13202","Tecelagem de fio do tipo lã","INDÚSTRIA"]
[null,"08920","Extracção da turfa","INDÚSTRIA","13203","Tecelagem de fio do tipo seda e de outros têxteis","INDÚSTRIA"]
[null,"08931","Extracção de sal marinho","INDÚSTRIA","13301","Branqueamento e tingimento","INDÚSTRIA"]
[null,"08932","Extracção de sal gema","INDÚSTRIA","13302","Estampagem","INDÚSTRIA"]
[null,"08991","Extracção de feldspato","INDÚSTRIA","13303","Acabamentos de fios, tecidos e artigos têxteis, n.e.","INDÚSTRIA"]
[null,"46772","Comércio por grosso de desperdícios têxteis, de cartão e papéis velhos","COMÉRCIO","13910","Fabricação de tecidos de malha","INDÚSTRIA"]
[null,"08992","Extracção de outros minerais não metálicos, n.e.","INDÚSTRIA","13920","Fabricação de artigos têxteis confeccionados, excepto vestuário","INDÚSTRIA"]
[null,"09100","Actividades do serviços relacionados com a extracção de petróleo e gás, excepto a prospecção","INDÚSTRIA","13930","Fabricação de tapetes e carpetes","INDÚSTRIA"]
[null,"09900","Outras actividades dos serviços relacionados copm as indústrias extractivas","INDÚSTRIA","13941","Fabricação de cordoaria","INDÚSTRIA"]
[null,"10130","Fabricação de produtos à base de carne","INDÚSTRIA","13942","Fabricação de redes","INDÚSTRIA"]
[null,"10320","Fabricação de sumos de frutos e de produtos hortícolas","INDÚSTRIA","13950","Fabricação de não tecidos e respectivos artigos, excepto vestuário","INDÚSTRIA"]
[null,"10391","Congelação de frutos e de produtos hortícolas","INDÚSTRIA","13961","Fabricação de passamarias e sirgarias","INDÚSTRIA"]
[null,"10392","Secagem e desidratação de frutos e de produtos hortícolas","INDÚSTRIA","13962","Fabricação de têxteis para uso técnico e industrial, n.e.","INDÚSTRIA"]
[null,"10393","Fabricação de doces, compotas, geleias e marmelada","INDÚSTRIA","13991","Fabricação de bordados","INDÚSTRIA"]
[null,"10395","Preparação e conservação de frutos e de produtos hortícolas por outros processos","INDÚSTRIA","13992","Fabricação de rendas","INDÚSTRIA"]
[null,"10411","Produção de óleos e gorduras animais brutos","INDÚSTRIA","13993","Fabricação de outros têxteis diversos, n.e.","INDÚSTRIA"]
[null,"10412","Produção de azeite","INDÚSTRIA","14110","Confecção de vestuário em couro","INDÚSTRIA"]
[null,"10413","Produção de óleos vegetais brutos (excepto azeite)","INDÚSTRIA","14120","Confecção de vestuário de trabalho","INDÚSTRIA"]
[null,"10414","Refinação de azeite, óleos e gorduras","INDÚSTRIA","14131","Confecção de outro vestuário exterior em série","INDÚSTRIA"]
[null,"10420","Fabricação de margarinas e de gorduras alimentares similares","INDÚSTRIA","14132","Confecção de outro vestuário exterior por medida","INDÚSTRIA"]
[null,"10510","Indústrias do leite e derivados","INDÚSTRIA","14133","Actividades de acabamento de artigos de vestuário","INDÚSTRIA"]
[null,"10520","Fabricação de gelados e sorvetes","INDÚSTRIA","14140","Confecção de vestuário interior","INDÚSTRIA"]
[null,"10611","Moagem de cereais","INDÚSTRIA","14190","Confecção de outros artigos e acessórios de vestuário","INDÚSTRIA"]
[null,"10613","Transformação de cereais","INDÚSTRIA","14200","Fabricação de artigos de peles com pêlo","INDÚSTRIA"]
[null,"10620","Fabricação de amidos, féculas e produtos afins","INDÚSTRIA","14310","Fabricação de meias e similares de malha","INDÚSTRIA"]
[null,"10711","Panificação","INDÚSTRIA","14390","Fabricação de outro vestuário de malha","INDÚSTRIA"]
[null,"10712","Pastelaria","INDÚSTRIA","15111","Curtimenta e acabamento de peles sem pêlo","INDÚSTRIA"]
[null,"10720","Fabricação de bolachas, biscoitos, tostas e pastelaria de conservação","INDÚSTRIA","15112","Fabricação de couro reconstituído","INDÚSTRIA"]
[null,"10730","Fabricação de massas alimentícias, cuscuz e similares","INDÚSTRIA","15113","Curtimenta e acabamento de peles com pêlo","INDÚSTRIA"]
[null,"10810","Indústria do Açucar","INDÚSTRIA","15120","Fabricação de artigos de viagem e de uso pessoal, de marroquinaria, de coreeiro e de seleiro","INDÚSTRIA"]
[null,"10821","Fabricação de cacau e de chocolate","INDÚSTRIA","15201","Fabricação de calçado","INDÚSTRIA"]
[null,"10822","Fabricação de produtos de confeitaria","INDÚSTRIA","15202","Fabricação de componentes para calçado","INDÚSTRIA"]
[null,"10830","Indústria do café e do chá","INDÚSTRIA","16101","Serração de madeira","INDÚSTRIA"]
[null,"10840","Fabricação de condimentos e temperos","INDÚSTRIA","16102","Impregnação de madeira","INDÚSTRIA"]
[null,"10850","Fabricação de refeições e pratos pré-cozinhados","INDÚSTRIA","16211","Fabricação de painéis de partículas de madeira","INDÚSTRIA"]
[null,"10860","Fabricação de alimentos homogeneizados e dietéticos","INDÚSTRIA","16212","Fabricação de painéis de fibras de madeira","INDÚSTRIA"]
[null,"10891","Fabricação de fermentos, leveduras e adjuvantes para panificação e pastelaria","INDÚSTRIA","16213","Fabricação de folheados, contraplacados, lamelados e de outros painéis","INDÚSTRIA"]
[null,"10892","Fabricação de caldos, sopas e sobremesas","INDÚSTRIA","16220","Parqueteria","INDÚSTRIA"]
[null,"10893","Fabricação de outros produtos alimentares diversos, n.e.","INDÚSTRIA","16230","Fabricação de outras obras de carpintaria para a construção","INDÚSTRIA"]
[null,"10911","Fabricação de pré-misturas","INDÚSTRIA","16240","Fabricação de embalagens de madeira","INDÚSTRIA"]
[null,"10912","Fabricação de alimentos para animais de criação (excepto para aquicultura)","INDÚSTRIA","16291","Fabricação de outras obras de madeira","INDÚSTRIA"]
[null,"10920","Fabricação de alimentos para animais de companhia","INDÚSTRIA","16292","Fabricação de obras de cesteria e de espartaria","INDÚSTRIA"]
[null,"11011","Fabricação de Aguardentes preparadas","INDÚSTRIA","16293","Indústria de preparação da cortiça","INDÚSTRIA"]
[null,"11012","Fabricação de aguardentes não preparadas","INDÚSTRIA","16294","Fabricação de rolhas de cortiça","INDÚSTRIA"]
[null,"11013","Produção de licores e outras bebidas destiladas","INDÚSTRIA","16295","Fabricação de outros produtos de cortiça","INDÚSTRIA"]
[null,"11021","Produção de vinhos comuns e licorosos","INDÚSTRIA","17110","Fabricação de pasta","INDÚSTRIA"]
[null,"11022","Produção vinhos espumantes e espumosos","INDÚSTRIA","17120","Fabricação de papel e de cartão (excepto canelado)","INDÚSTRIA"]
[null,"11030","Fabricação de cidra e outras bebidas fermentadas de frutos","INDÚSTRIA","17211","Fabricação de papel e de cartão canelados (inclui embalagens)","INDÚSTRIA"]
[null,"11040","Fabricação de vermutes e de outras bebidas fermentadas não destiladas","INDÚSTRIA","17212","Fabricação de outras embalagens de papel e de cartão","INDÚSTRIA"]
[null,"11050","Fabricação de cerveja","INDÚSTRIA","17220","Fabricação de artigos de ppel para uso doméstico e sanitário","INDÚSTRIA"]
[null,"11060","Fabricação de malte","INDÚSTRIA","17230","Fabricação de artigos de papel para papelaria","INDÚSTRIA"]
[null,"11071","Engarrafamento de àguas minerais naturais e de nascente","INDÚSTRIA","17240","Fabricação de papel de parede","INDÚSTRIA"]
[null,"11072","Fabricação de refrigerantes e de outras bebidas não alcoólicas, n.e.","INDÚSTRIA","17290","Fabricação de outros artigos de pasta de papel, de papel e de cartão","INDÚSTRIA"]
[null,"46773","Comércio por grosso de desperdícios de materiais, n. e","COMÉRCIO","18110","Impressão de jornais","INDÚSTRIA"]
[null,"46900","Comércio por grosso não especializado","COMÉRCIO","18120","Outra impressão","INDÚSTRIA"]
[null,"47111","Comércio a retalho em supermercados e hipermercados","COMÉRCIO","18130","Actividades de preparação da impressão e de produtos media","INDÚSTRIA"]
[null,"47112","Comércio a retalho em outros estabelecimentos não especializados, com\npredominância de produtos alimentares, bebidas ou tabaco","COMÉRCIO","18140","Encadernação e actividades relacionadas","INDÚSTRIA"]
[null,"47191","Comércio a retalho não especializado, sem predominância de produtos\nalimentares, bebidas ou tabaco, em grandes armazéns e similares","COMÉRCIO","18200","Reprodução de suportes gravados","INDÚSTRIA"]
[null,"47192","Comércio a retalho em outros estabelecimentos não especializados, sem\npredominância de produtos alimentares, bebidas ou tabaco","COMÉRCIO","20110","Fabricação de gases industriais","INDÚSTRIA"]
[null,"47210","Comércio a retalho de frutas e produtos hortícolas, em estabelecimentos especializados","COMÉRCIO","20120","Fabricação de corantes e pigmentos","INDÚSTRIA"]
[null,"47220","Comércio a retalho de carne e produtos à base de carne, em estabelecimentos especializados","COMÉRCIO","20130","Fabricação de outros produtos químicos inorgânicos de base","INDÚSTRIA"]
[null,"12000","Indústria de tabaco","INDÚSTRIA","20141","Fabricação de resinosos e seus derivados","INDÚSTRIA"]
[null,"13101","Preparação e fiação de fibras do tipo algodão","INDÚSTRIA","20143","Fabricação de álcool etílico de fermentação","INDÚSTRIA"]
[null,"13102","Preparação e fiação de fibras do tipo lã","INDÚSTRIA","20144","Fabricação de outros produtos químicos orgânicos de base, n.e.","INDÚSTRIA"]
[null,"13103","Preparação e fiação da seda e preparção e texturização de filamentos sintéticos e artificiais","INDÚSTRIA","20151","Fabricação de adubos químicos ou minerais e de compostos azotados","INDÚSTRIA"]
[null,"13104","Fabricação de linhas de costura","INDÚSTRIA","20152","Fabricação de adubos orgânicos e organo-minerais","INDÚSTRIA"]
[null,"13105","Preparação e fiação de linho e outras fibras têxteis","INDÚSTRIA","20160","Fabricação de matérias plásticas sob formas primárias","INDÚSTRIA"]
[null,"13201","Tecelagem de fio do tipo algodão","INDÚSTRIA","20170","Fabricação de borracha sintética sob formas primárias","INDÚSTRIA"]
[null,"13202","Tecelagem de fio do tipo lã","INDÚSTRIA","20200","Fabricação de pesticidas e de outros produtos agroquímicos","INDÚSTRIA"]
[null,"13203","Tecelagem de fio do tipo seda e de outros têxteis","INDÚSTRIA","20301","Fabricação de tintas (excepto impressão), vernizes, mastiques e produtos similares","INDÚSTRIA"]
[null,"13302","Estampagem","INDÚSTRIA","20302","Fabricação de tintas de impressão","INDÚSTRIA"]
[null,"13303","Acabamentos de fios, tecidos e artigos têxteis, n.e.","INDÚSTRIA","20303","Fabricação de pigmentos preparados, composições vitrificáveis e afins","INDÚSTRIA"]
[null,"13910","Fabricação de tecidos de malha","INDÚSTRIA","20411","Fabricação de sabões, detergentes e gliccerina","INDÚSTRIA"]
[null,"13920","Fabricação de artigos têxteis confeccionados, excepto vestuário","INDÚSTRIA","20412","Fabricação de produtos de limpeza, polimento e protecção","INDÚSTRIA"]
[null,"13930","Fabricação de tapetes e carpetes","INDÚSTRIA","20420","Fabricação de perfumes, de cosméticos e de produtos de higiene","INDÚSTRIA"]
[null,"13941","Fabricação de cordoaria","INDÚSTRIA","20510","Fabricação de explosivos e artigos de pirotecnia","INDÚSTRIA"]
[null,"13942","Fabricação de redes","INDÚSTRIA","20520","Fabricação de colas","INDÚSTRIA"]
[null,"13950","Fabricação de não tecidos e respectivos artigos, excepto vestuário","INDÚSTRIA","20530","Fabricação de óleos essenciais","INDÚSTRIA"]
[null,"13961","Fabricação de passamarias e sirgarias","INDÚSTRIA","20591","Fabricação de biodiesel","INDÚSTRIA"]
[null,"13962","Fabricação de têxteis para uso técnico e industrial, n.e.","INDÚSTRIA","20592","Fabricação de produtos químicos auxiliares para uso industrial","INDÚSTRIA"]
[null,"13991","Fabricação de bordados","INDÚSTRIA","20593","Fabricação de óleos e massas lubrificantes, com exclusão da efectuada nas refinarias","INDÚSTRIA"]
[null,"13992","Fabricação de rendas","INDÚSTRIA","20594","Fabricação de outros produtos químicos diversos, n.e.","INDÚSTRIA"]
[null,"13993","Fabricação de outros têxteis diversos, n.e.","INDÚSTRIA","21100","Fabricação de produtos farmacêuticos de base","INDÚSTRIA"]
[null,"14110","Confecção de vestuário em couro","INDÚSTRIA","21201","Fabricação de medicamentos","INDÚSTRIA"]
[null,"14120","Confecção de vestuário de trabalho","INDÚSTRIA","21202","Fabricação de outras preparações e de artigos farmacêuticos","INDÚSTRIA"]
[null,"14131","Confecção de outro vestuário exterior em série","INDÚSTRIA","22111","Fabricação de pneus e câmaras de ar","INDÚSTRIA"]
[null,"14132","Confecção de outro vestuário exterior por medida","INDÚSTRIA","22112","Reconstrução de pneus","INDÚSTRIA"]
[null,"14133","Actividades de acabamento de artigos de vestuário","INDÚSTRIA","22191","Fabricação de componentes de borracha para calçado","INDÚSTRIA"]
[null,"14140","Confecção de vestuário interior","INDÚSTRIA","22210","Fabricação de chapas, folhas, tubos e perfis de plástico","INDÚSTRIA"]
[null,"74300","Actividades de tradução e interpretação","SERVIÇOS","22220","Fabricação de embalagens de plástico","INDÚSTRIA"]
[null,"14190","Confecção de outros artigos e acessórios de vestuário","INDÚSTRIA","22230","Fabricação de artigos de plástico para a construção","INDÚSTRIA"]
[null,"14200","Fabricação de artigos de peles com pêlo","INDÚSTRIA","22291","Fabricação de componentes de plástico para calçado","INDÚSTRIA"]
[null,"14310","Fabricação de meias e similares de malha","INDÚSTRIA","22292","Fabricação de outros artigos de plástico, n.e.","INDÚSTRIA"]
[null,"14390","Fabricação de outro vestuário de malha","INDÚSTRIA","23110","Fabricação de vidro plano","INDÚSTRIA"]
[null,"15111","Curtimenta e acabamento de peles sem pêlo","INDÚSTRIA","23120","Moldagem e transformação de vidro plano","INDÚSTRIA"]
[null,"15112","Fabricação de couro reconstituído","INDÚSTRIA","23131","Fabricação de vidro de embalagem","INDÚSTRIA"]
[null,"15113","Curtimenta e acabamento de peles com pêlo","INDÚSTRIA","23132","Cristalaria","INDÚSTRIA"]
[null,"15120","Fabricação de artigos de viagem e de uso pessoal, de marroquinaria, de coreeiro e de seleiro","INDÚSTRIA","23140","Fabricação de fibras de vidro","INDÚSTRIA"]
[null,"15201","Fabricação de calçado","INDÚSTRIA","23190","Fabricação e transformação de outro vidro (inclui vidro técnico)","INDÚSTRIA"]
[null,"15202","Fabricação de componentes para calçado","INDÚSTRIA","23200","Fabricação de produtos cerâmicos refractários","INDÚSTRIA"]
[null,"16101","Serração de madeira","INDÚSTRIA","23311","Fabricação de azulejos","INDÚSTRIA"]
[null,"16102","Impregnação de madeira","INDÚSTRIA","23312","Fabricação de ladrilhos, mosaicos e placas de cerâmica","INDÚSTRIA"]
[null,"16211","Fabricação de painéis de partículas de madeira","INDÚSTRIA","23321","Fabricação de tijolos","INDÚSTRIA"]
[null,"16212","Fabricação de painéis de fibras de madeira","INDÚSTRIA","23322","Fabricação de telhas","INDÚSTRIA"]
[null,"16213","Fabricação de folheados, contraplacados, lamelados e de outros painéis","INDÚSTRIA","23323","Fabricação de abobadilhas","INDÚSTRIA"]
[null,"16220","Parqueteria","INDÚSTRIA","23324","Fabricação de outros produtos cerâmicos para a construção","INDÚSTRIA"]
[null,"16230","Fabricação de outras obras de carpintaria para a construção","INDÚSTRIA","23411","Olaria de barro","INDÚSTRIA"]
[null,"16240","Fabricação de embalagens de madeira","INDÚSTRIA","23412","Fabricação de artigos de uso doméstico de faiança, porcelana e grés fino","INDÚSTRIA"]
[null,"16291","Fabricação de outras obras de madeira","INDÚSTRIA","23413","Fabricação de artigos de ornamentação de faiança, porcelana e grés fino","INDÚSTRIA"]
[null,"16292","Fabricação de obras de cesteria e de espartaria","INDÚSTRIA","23414","Actividades de decoração de artigos cerâmicos de uso doméstico e ornamental","INDÚSTRIA"]
[null,"16293","Indústria de preparação da cortiça","INDÚSTRIA","23420","Fabricação de artigos cerâmicos para usos sanitários","INDÚSTRIA"]
[null,"16294","Fabricação de rolhas de cortiça","INDÚSTRIA","23430","Fabricação de isoladores e peças isolantes em cerâmica","INDÚSTRIA"]
[null,"16295","Fabricação de outros produtos de cortiça","INDÚSTRIA","23440","Fabricação de outros produtos em cerâmica para usos técnicos","INDÚSTRIA"]
[null,"17110","Fabricação de pasta","INDÚSTRIA","23490","Fabricação de outros produtos cerâmicos não refractários","INDÚSTRIA"]
[null,"17120","Fabricação de papel e de cartão (excepto canelado)","INDÚSTRIA","23510","Fabricação de cimento","INDÚSTRIA"]
[null,"17211","Fabricação de papel e de cartão canelados (inclui embalagens)","INDÚSTRIA","23521","Fabricação de cal","INDÚSTRIA"]
[null,"17212","Fabricação de outras embalagens de papel e de cartão","INDÚSTRIA","23522","Fabricação de gesso","INDÚSTRIA"]
[null,"17220","Fabricação de artigos de ppel para uso doméstico e sanitário","INDÚSTRIA","23610","Fabricação de produtos de betão para a construção","INDÚSTRIA"]
[null,"19201","Fabricação de produtos petrolíferos refinados","INDÚSTRIA","23620","Fabricação de produtos de gesso para a construção","INDÚSTRIA"]
[null,"19202","Fabricação de produtos petrolíferos a partir de resíduos","INDÚSTRIA","23630","Fabricação de betão pronto","INDÚSTRIA"]
[null,"19203","Fabricação de briquetes e aglomerados de hulha e lenhite","INDÚSTRIA","23640","Fabricação de argamassas","INDÚSTRIA"]
[null,"20110","Fabricação de gases industriais","INDÚSTRIA","23650","Fabricação de produtos de fibrocimento","INDÚSTRIA"]
[null,"20120","Fabricação de corantes e pigmentos","INDÚSTRIA","23690","Fabricação de outros produtos de betão, gesso e cimento","INDÚSTRIA"]
[null,"20130","Fabricação de outros produtos químicos inorgânicos de base","INDÚSTRIA","23701","Fabricação de artigos de mármores e de rochas similares","INDÚSTRIA"]
[null,"20141","Fabricação de resinosos e seus derivados","INDÚSTRIA","23702","Fabricação de artigos de em ardósia (lousa)","INDÚSTRIA"]
[null,"20142","Fabricação de carvão (vegetal e animal) e produtos associados","INDÚSTRIA","23703","Fabricação de artigos de granito e de rochas, n.e.","INDÚSTRIA"]
[null,"20143","Fabricação de álcool etílico de fermentação","INDÚSTRIA","23910","Fabricação de produtos abrasivos","INDÚSTRIA"]
[null,"20144","Fabricação de outros produtos químicos orgânicos de base, n.e.","INDÚSTRIA","23991","Fabricação de misturas betuminosas","INDÚSTRIA"]
[null,"20151","Fabricação de adubos químicos ou minerais e de compostos azotados","INDÚSTRIA","23992","Fabricação de outros produtos minerais não metálicos diversos, n.e.","INDÚSTRIA"]
[null,"20152","Fabricação de adubos orgânicos e organo-minerais","INDÚSTRIA","25110","Fabricação de estruturas de construções metálicas","INDÚSTRIA"]
[null,"20160","Fabricação de matérias plásticas sob formas primárias","INDÚSTRIA","25120","Fabricação de portas, janelas e elementos similares em metal","INDÚSTRIA"]
[null,"20170","Fabricação de borracha sintética sob formas primárias","INDÚSTRIA","25210","Fabricação de caldeiras e radiadores para aquecimento central","INDÚSTRIA"]
[null,"20200","Fabricação de pesticidas e de outros produtos agroquímicos","INDÚSTRIA","25290","Fabricação de outros reservatórios e recipientes metálicos","INDÚSTRIA"]
[null,"20301","Fabricação de tintas (excepto impressão), vernizes, mastiques e produtos similares","INDÚSTRIA","25300","Fabricação de geradores de vapor (excepto caldeiras para aquecimento central)","INDÚSTRIA"]
[null,"20302","Fabricação de tintas de impressão","INDÚSTRIA","25401","Fabricação de armas de caça, de desporto e defesa","INDÚSTRIA"]
[null,"20303","Fabricação de pigmentos preparados, composições vitrificáveis e afins","INDÚSTRIA","25402","Fabricação de armamento","INDÚSTRIA"]
[null,"20411","Fabricação de sabões, detergentes e gliccerina","INDÚSTRIA","25501","Fabricação de produtos forjados, estampados e laminados","INDÚSTRIA"]
[null,"20412","Fabricação de produtos de limpeza, polimento e protecção","INDÚSTRIA","25502","Fabricação de produtos pulverometalurgia","INDÚSTRIA"]
[null,"20420","Fabricação de perfumes, de cosméticos e de produtos de higiene","INDÚSTRIA","25610","Tratamento e revestimento de metais","INDÚSTRIA"]
[null,"20510","Fabricação de explosivos e artigos de pirotecnia","INDÚSTRIA","25620","Actividades de mecânica geral","INDÚSTRIA"]
[null,"20520","Fabricação de colas","INDÚSTRIA","25710","Fabricação de cutelaria","INDÚSTRIA"]
[null,"20530","Fabricação de óleos essenciais","INDÚSTRIA","25720","Fabricação de fechaduras, dobradiças e de outras ferragens","INDÚSTRIA"]
[null,"20591","Fabricação de biodiesel","INDÚSTRIA","25731","Fabricação de ferramentas manuais","INDÚSTRIA"]
[null,"20592","Fabricação de produtos químicos auxiliares para uso industrial","INDÚSTRIA","25732","Fabricação de ferramentas mecânicas","INDÚSTRIA"]
[null,"20593","Fabricação de óleos e massas lubrificantes, com exclusão da efectuada nas refinarias","INDÚSTRIA","25733","Fabricação de peças sinterizadas","INDÚSTRIA"]
[null,"20594","Fabricação de outros produtos químicos diversos, n.e.","INDÚSTRIA","25734","Fabricação de moldes metálicos","INDÚSTRIA"]
[null,"21100","Fabricação de produtos farmacêuticos de base","INDÚSTRIA","25910","Fabricação de embalagens metálicas pesadas","INDÚSTRIA"]
[null,"21201","Fabricação de medicamentos","INDÚSTRIA","25920","Fabricação de embalagens metálicas ligeiras","INDÚSTRIA"]
[null,"21202","Fabricação de outras preparações e de artigos farmacêuticos","INDÚSTRIA","25931","Fabricação de produtos de arame","INDÚSTRIA"]
[null,"22111","Fabricação de pneus e câmaras de ar","INDÚSTRIA","25932","Fabricação de molas","INDÚSTRIA"]
[null,"22112","Reconstrução de pneus","INDÚSTRIA","25933","Fabricação de correntes metálicas","INDÚSTRIA"]
[null,"22191","Fabricação de componentes de borracha para calçado","INDÚSTRIA","25940","Fabricação de rebites, parafusos e porcas","INDÚSTRIA"]
[null,"22210","Fabricação de chapas, folhas, tubos e perfis de plástico","INDÚSTRIA","25991","Fabricação de louça metálica e artigos de uso doméstico","INDÚSTRIA"]
[null,"22220","Fabricação de embalagens de plástico","INDÚSTRIA","25992","Fabricação de outros produtos metálicos diversos, n.e.","INDÚSTRIA"]
[null,"22230","Fabricação de artigos de plástico para a construção","INDÚSTRIA","26110","Fabricação de componentes electrónicos","INDÚSTRIA"]
[null,"22291","Fabricação de componentes de plástico para calçado","INDÚSTRIA","26120","Fabricação de placas de circuitos electrónicos","INDÚSTRIA"]
[null,"22292","Fabricação de outros artigos de plástico, n.e.","INDÚSTRIA","26200","Fabricação de computadores e de equipamento periférico","INDÚSTRIA"]
[null,"23110","Fabricação de vidro plano","INDÚSTRIA","26300","Fabricação de aparelhos e de equipamentos para comunicações","INDÚSTRIA"]
[null,"23120","Moldagem e transformação de vidro plano","INDÚSTRIA","26400","Fabricação de receptores de rádio e de televisão e bens de consumo similares","INDÚSTRIA"]
[null,"23131","Fabricação de vidro de embalagem","INDÚSTRIA","26511","Fabricação de contadores de electricidade, gás, água e de outros líquidos","INDÚSTRIA"]
[null,"23132","Cristalaria","INDÚSTRIA","26512","Fabricação de instrumentos e aparelhos de medida, verificação, navegação e outros afins, n.e.","INDÚSTRIA"]
[null,"23140","Fabricação de fibras de vidro","INDÚSTRIA","26520","Fabricação de relógios e material de relojoaria","INDÚSTRIA"]
[null,"23190","Fabricação e transformação de outro vidro (inclui vidro técnico)","INDÚSTRIA","26660","Fabricação de equipamentos de radiação, electromedicina e electroterapêutico","INDÚSTRIA"]
[null,"23200","Fabricação de produtos cerâmicos refractários","INDÚSTRIA","26701","Fabricação de instrumentos e equipamentos ópticos não oftálmicos","INDÚSTRIA"]
[null,"23311","Fabricação de azulejos","INDÚSTRIA","26702","Fabricação de material fotográfico e cinematográfico","INDÚSTRIA"]
[null,"23312","Fabricação de ladrilhos, mosaicos e placas de cerâmica","INDÚSTRIA","26702","Fabricação de material fotográfico e cinematográfico.","INDÚSTRIA"]
[null,"23321","Fabricação de tijolos","INDÚSTRIA","26800","Fabricação de suportes de informação magnéticos e ópticos","INDÚSTRIA"]
[null,"23322","Fabricação de telhas","INDÚSTRIA","26800","Fabricação de suportes de informação magnéticos e ópticos.","INDÚSTRIA"]
[null,"23323","Fabricação de abobadilhas","INDÚSTRIA","27110","Fabricação de motores, geradores e transformadores eléctricos","INDÚSTRIA"]
[null,"23324","Fabricação de outros produtos cerâmicos para a construção","INDÚSTRIA","27110","Fabricação de motores, geradores e transformadores eléctricos.","INDÚSTRIA"]
[null,"23411","Olaria de barro","INDÚSTRIA","27121","Fabricação de material de distribuição e de controlo para instalações eléctricas de alta tensão","INDÚSTRIA"]
[null,"23412","Fabricação de artigos de uso doméstico de faiança, porcelana e grés fino","INDÚSTRIA","27122","Fabricação de material de distribuição e de controlo para instalações eléctricas de baixa tensão","INDÚSTRIA"]
[null,"23413","Fabricação de artigos de ornamentação de faiança, porcelana e grés fino","INDÚSTRIA","27200","Fabricação de acumuladores e pilhas","INDÚSTRIA"]
[null,"23640","Fabricação de argamassas","INDÚSTRIA","27200","Fabricação de acumuladores e pilhas","INDÚSTRIA"]
[null,"23414","Actividades de decoração de artigos cerâmicos de uso doméstico e ornamental","INDÚSTRIA","27310","Fabricação de cabos de fibra óptica","INDÚSTRIA"]
[null,"23650","Fabricação de produtos de fibrocimento","INDÚSTRIA","27310","Fabricação de cabos de fibra óptica","INDÚSTRIA"]
[null,"23420","Fabricação de artigos cerâmicos para usos sanitários","INDÚSTRIA","27320","Fabricação de outros fios e cabos eléctricos e electrónicos","INDÚSTRIA"]
[null,"23690","Fabricação de outros produtos de betão, gesso e cimento","INDÚSTRIA","27320","Fabricação de outros fios e cabos eléctricos e electrónicos","INDÚSTRIA"]
[null,"23701","Fabricação de artigos de mármores e de rochas similares","INDÚSTRIA","27330","Fabricação de dispositivos e acessórios para instalações","INDÚSTRIA"]
[null,"23702","Fabricação de artigos de em ardósia (lousa)","INDÚSTRIA","27330","Fabricação de dispositivos e acessórios para instalações eléctricas, de baixa tensão","INDÚSTRIA"]
[null,"23490","Fabricação de outros produtos cerâmicos não refractários","INDÚSTRIA","27400","Fabricação de lâmpadas eléctricas e de outro equipamento de iluminação","INDÚSTRIA"]
[null,"23703","Fabricação de artigos de granito e de rochas, n.e.","INDÚSTRIA","27400","Fabricação de lâmpadas eléctricas e de outro equipamento de iluminação.","INDÚSTRIA"]
[null,"23510","Fabricação de cimento","INDÚSTRIA","27510","Fabricação de electrodomésticos","INDÚSTRIA"]
[null,"23910","Fabricação de produtos abrasivos","INDÚSTRIA","27510","Fabricação de electrodomésticos","INDÚSTRIA"]
[null,"23521","Fabricação de cal","INDÚSTRIA","27520","Fabricação de aparelhos não eléctricos para uso doméstico","INDÚSTRIA"]
[null,"23991","Fabricação de misturas betuminosas","INDÚSTRIA","27520","Fabricação de aparelhos não eléctricos para uso doméstico","INDÚSTRIA"]
[null,"23522","Fabricação de gesso","INDÚSTRIA","27721","Fabricação de material de distribuição e de controlo para instalações eléctricas de alta tensão","INDÚSTRIA"]
[null,"23992","Fabricação de outros produtos minerais não metálicos diversos, n.e.","INDÚSTRIA","27722","Fabricação de material de distribuição e de controlo para instalações eléctricas de baixa tensão","INDÚSTRIA"]
[null,"23610","Fabricação de produtos de betão para a construção","INDÚSTRIA","27900","Fabricação de outro equipamento eléctrico","INDÚSTRIA"]
[null,"25110","Fabricação de estruturas de construções metálicas","INDÚSTRIA","28110","Fabricação de motores e turbinas, excepto motores para aeronaves, automóveis e motociclos","INDÚSTRIA"]
[null,"23620","Fabricação de produtos de gesso para a construção","INDÚSTRIA","28120","Fabricação de equipamento hidráulico e pneumático","INDÚSTRIA"]
[null,"25120","Fabricação de portas, janelas e elementos similares em metal","INDÚSTRIA","28130","Fabricação de outras bombas e compressores","INDÚSTRIA"]
[null,"23630","Fabricação de betão pronto","INDÚSTRIA","28140","Fabricação de outras torneiras e válvulas","INDÚSTRIA"]
[null,"25210","Fabricação de caldeiras e radiadores para aquecimento central","INDÚSTRIA","28150","Fabricação de rolamentos, de engrenagens e de outros órgãos de transmissão","INDÚSTRIA"]
[null,"23430","Fabricação de isoladores e peças isolantes em cerâmica","INDÚSTRIA","28210","Fabricação de fornos e queimadores","INDÚSTRIA"]
[null,"23440","Fabricação de outros produtos em cerâmica para usos técnicos","INDÚSTRIA","28221","Fabricação de ascensores e monta cargas, escadas e passadeiras rolantes","INDÚSTRIA"]
[null,"25290","Fabricação de outros reservatórios e recipientes metálicos","INDÚSTRIA","28222","Fabricação de equipamentos de elevação e de movimentação, n. e.","INDÚSTRIA"]
[null,"25300","Fabricação de geradores de vapor (excepto caldeiras para aquecimento central)","INDÚSTRIA","28230","Fabricação de máquinas e equipamento de escritório, excepto computadores e equipamento periférico.","INDÚSTRIA"]
[null,"25401","Fabricação de armas de caça, de desporto e defesa","INDÚSTRIA","28240","Fabricação de máquinas -ferramentas portáteis com motor","INDÚSTRIA"]
[null,"25402","Fabricação de armamento","INDÚSTRIA","28250","Fabricação de equipamento não doméstico para refrigeração e ventilação","INDÚSTRIA"]
[null,"25501","Fabricação de produtos forjados, estampados e laminados","INDÚSTRIA","28291","Fabricação de máquinas de acondicionamento e de embalagem","INDÚSTRIA"]
[null,"25502","Fabricação de produtos pulverometalurgia","INDÚSTRIA","28292","Fabricação de balanças e de outro equipamento para pesagem","INDÚSTRIA"]
[null,"25610","Tratamento e revestimento de metais","INDÚSTRIA","28293","Fabricação de outras máquinas diversas de uso geral, n. e.","INDÚSTRIA"]
[null,"25620","Actividades de mecânica geral","INDÚSTRIA","28300","Fabricação de máquinas e de tractores para a agricultura, pecuária e silvicultura","INDÚSTRIA"]
[null,"25710","Fabricação de cutelaria","INDÚSTRIA","28410","Fabricação de máquinas -ferramentas para metais","INDÚSTRIA"]
[null,"25720","Fabricação de fechaduras, dobradiças e de outras ferragens","INDÚSTRIA","28490","Fabricação de outras máquinas -ferramentas","INDÚSTRIA"]
[null,"25731","Fabricação de ferramentas manuais","INDÚSTRIA","28910","Fabricação de máquinas para a metalurgia","INDÚSTRIA"]
[null,"25732","Fabricação de ferramentas mecânicas","INDÚSTRIA","28920","Fabricação de máquinas para as indústrias extractivas e para a construção","INDÚSTRIA"]
[null,"25733","Fabricação de peças sinterizadas","INDÚSTRIA","28930","Fabricação de máquinas para as indústrias alimentares, das bebidas e do tabaco","INDÚSTRIA"]
[null,"25734","Fabricação de moldes metálicos","INDÚSTRIA","28940","Fabricação de máquinas para as indústrias têxtil, do vestuário e do couro","INDÚSTRIA"]
[null,"25910","Fabricação de embalagens metálicas pesadas","INDÚSTRIA","28950","Fabricação de máquinas para as indústrias do papel e do cartão","INDÚSTRIA"]
[null,"25920","Fabricação de embalagens metálicas ligeiras","INDÚSTRIA","28960","Fabricação de máquinas para as indústrias do plástico e da borracha","INDÚSTRIA"]
[null,"25931","Fabricação de produtos de arame","INDÚSTRIA","28991","Fabricação de máquinas para as indústrias de materiais de construção,\ncerâmica e vidro","INDÚSTRIA"]
[null,"25932","Fabricação de molas","INDÚSTRIA","28992","Fabricação de outras máquinas diversas para uso específico, n. e.","INDÚSTRIA"]
[null,"25933","Fabricação de correntes metálicas","INDÚSTRIA","29100","Fabricação de veículos automóveis","INDÚSTRIA"]
[null,"25940","Fabricação de rebites, parafusos e porcas","INDÚSTRIA","29200","Fabricação de carroçarias, reboques e semi -reboques","INDÚSTRIA"]
[null,"25991","Fabricação de louça metálica e artigos de uso doméstico","INDÚSTRIA","29310","Fabricação de equipamento eléctrico e electrónico para veículos automóveis","INDÚSTRIA"]
[null,"25992","Fabricação de outros produtos metálicos diversos, n.e.","INDÚSTRIA","29320","Fabricação de outros componentes e acessórios para veículos automóvei","INDÚSTRIA"]
[null,"26110","Fabricação de componentes electrónicos","INDÚSTRIA","30200","Fabricação de material circulante para caminhos -de -ferro","INDÚSTRIA"]
[null,"26120","Fabricação de placas de circuitos electrónicos","INDÚSTRIA","30300","Fabricação de aeronaves, de veículos espaciais e equipamento relacionado","INDÚSTRIA"]
[null,"26200","Fabricação de computadores e de equipamento periférico","INDÚSTRIA","30400","Fabricação de veículos militares de combate","INDÚSTRIA"]
[null,"26300","Fabricação de aparelhos e de equipamentos para comunicações","INDÚSTRIA","30910","Fabricação de motociclos","INDÚSTRIA"]
[null,"26400","Fabricação de receptores de rádio e de televisão e bens de consumo similares","INDÚSTRIA","30920","Fabricação de bicicletas e veículos para inválidos","INDÚSTRIA"]
[null,"26511","Fabricação de contadores de electricidade, gás, água e de outros líquidos","INDÚSTRIA","30990","Fabricação de outro equipamento de transporte, n. e.","INDÚSTRIA"]
[null,"26512","Fabricação de instrumentos e aparelhos de medida, verificação, navegação e outros afins, n.e.","INDÚSTRIA","31010","Fabricação de mobiliário para escritório e comércio","INDÚSTRIA"]
[null,"26520","Fabricação de relógios e material de relojoaria","INDÚSTRIA","31020","Fabricação de mobiliário de cozinha","INDÚSTRIA"]
[null,"26660","Fabricação de equipamentos de radiação, electromedicina e electroterapêutico","INDÚSTRIA","31030","Fabricação de colchoaria","INDÚSTRIA"]
[null,"26701","Fabricação de instrumentos e equipamentos ópticos não oftálmicos","INDÚSTRIA","31091","Fabricação de mobiliário de madeira para outros fins","INDÚSTRIA"]
[null,"26702","Fabricação de material fotográfico e cinematográfico","INDÚSTRIA","31092","Fabricação de mobiliário metálico para outros fins","INDÚSTRIA"]
[null,"26800","Fabricação de suportes de informação magnéticos e ópticos","INDÚSTRIA","31093","Fabricação de mobiliário de outros materiais para outros fins","INDÚSTRIA"]
[null,"27110","Fabricação de motores, geradores e transformadores eléctricos","INDÚSTRIA","31094","Actividades de acabamento de mobiliário","INDÚSTRIA"]
[null,"27721","Fabricação de material de distribuição e de controlo para instalações eléctricas de alta tensão","INDÚSTRIA","32110","Cunhagem de moedas","INDÚSTRIA"]
[null,"27722","Fabricação de material de distribuição e de controlo para instalações eléctricas de baixa tensão","INDÚSTRIA","32121","Fabricação de filigranas","INDÚSTRIA"]
[null,"27200","Fabricação de acumuladores e pilhas","INDÚSTRIA","32122","Fabricação de artigos de joalharia e de outros artigos de ourivesaria","INDÚSTRIA"]
[null,"27310","Fabricação de cabos de fibra óptica","INDÚSTRIA","32123","Trabalho de diamantes e de outras pedras preciosas ou semipreciosas para\njoalharia e uso industrial","INDÚSTRIA"]
[null,"27320","Fabricação de outros fios e cabos eléctricos e electrónicos","INDÚSTRIA","32130","Fabricação de bijutarias","INDÚSTRIA"]
[null,"27330","Fabricação de dispositivos e acessórios para instalações","INDÚSTRIA","32200","Fabricação de instrumentos musicais","INDÚSTRIA"]
[null,"27400","Fabricação de lâmpadas eléctricas e de outro equipamento de iluminação","INDÚSTRIA","32300","Fabricação de artigos de desporto","INDÚSTRIA"]
[null,"27510","Fabricação de electrodomésticos","INDÚSTRIA","32400","Fabricação de jogos e de brinquedos","INDÚSTRIA"]
[null,"27520","Fabricação de aparelhos não eléctricos para uso doméstico","INDÚSTRIA","32501","Fabricação de material óptico oftálmico","INDÚSTRIA"]
[null,"26702","Fabricação de material fotográfico e cinematográfico.","INDÚSTRIA","32502","Fabricação de material ortopédico e próteses e de instrumentos médico-\n-cirúrgicos","INDÚSTRIA"]
[null,"26800","Fabricação de suportes de informação magnéticos e ópticos.","INDÚSTRIA","32910","Fabricação de vassouras, escovas e pincéis","INDÚSTRIA"]
[null,"27110","Fabricação de motores, geradores e transformadores eléctricos.","INDÚSTRIA","32991","Fabricação de canetas, lápis e similares","INDÚSTRIA"]
[null,"27121","Fabricação de material de distribuição e de controlo para instalações eléctricas\nde alta tensão","INDÚSTRIA","32992","Fabricação de fechos de correr, botões e similares","INDÚSTRIA"]
[null,"27122","Fabricação de material de distribuição e de controlo para instalações eléctricas\nde baixa tensão","INDÚSTRIA","32993","Fabricação de guarda -sóis e chapéus de chuva","INDÚSTRIA"]
[null,"27200","Fabricação de acumuladores e pilhas","INDÚSTRIA","32994","Fabricação de equipamento de protecção e segurança","INDÚSTRIA"]
[null,"27310","Fabricação de cabos de fibra óptica","INDÚSTRIA","32995","Fabricação de caixões mortuários em madeira","INDÚSTRIA"]
[null,"27320","Fabricação de outros fios e cabos eléctricos e electrónicos","INDÚSTRIA","32996","Outras indústrias transformadoras diversas, n. e.","INDÚSTRIA"]
[null,"27330","Fabricação de dispositivos e acessórios para instalações eléctricas, de baixa\ntensão","INDÚSTRIA","33110","Reparação e manutenção de produtos metálicos (excepto máquinas e equipamentos)","INDÚSTRIA"]
[null,"27400","Fabricação de lâmpadas eléctricas e de outro equipamento de iluminação.\n275 Fabricação de aparelhos para uso doméstico","INDÚSTRIA","33120","Reparação e manutenção de máquinas e equipamentos","INDÚSTRIA"]
[null,"27510","Fabricação de electrodomésticos","INDÚSTRIA","33130","Reparação e manutenção de equipamento electrónico e óptico","INDÚSTRIA"]
[null,"27520","Fabricação de aparelhos não eléctricos para uso doméstico","INDÚSTRIA","33140","Reparação e manutenção de equipamento eléctrico","INDÚSTRIA"]
[null,"27900","Fabricação de outro equipamento eléctrico","INDÚSTRIA","33150","Reparação e manutenção de embarcações","INDÚSTRIA"]
[null,"28110","Fabricação de motores e turbinas, excepto motores para aeronaves, automóveis\ne motociclos","INDÚSTRIA","33160","Reparação e manutenção de aeronaves e de veículos espaciais","INDÚSTRIA"]
[null,"28120","Fabricação de equipamento hidráulico e pneumático","INDÚSTRIA","33170","Reparação e manutenção de outro equipamento de transporte","INDÚSTRIA"]
[null,"28130","Fabricação de outras bombas e compressores","INDÚSTRIA","33190","Reparação e manutenção de outro equipamento","INDÚSTRIA"]
[null,"28140","Fabricação de outras torneiras e válvulas","INDÚSTRIA","33200","Instalação de máquinas e de equipamentos industriais","INDÚSTRIA"]
[null,"28150","Fabricação de rolamentos, de engrenagens e de outros órgãos de transmissão","INDÚSTRIA","35111","Produção de electricidade de origem hídrica","ENERGIA"]
[null,"28210","Fabricação de fornos e queimadores","INDÚSTRIA","35112","Produção de electricidade de origem térmica","ENERGIA"]
[null,"28221","Fabricação de ascensores e monta cargas, escadas e passadeiras rolantes","INDÚSTRIA","35113","Produção de electricidade de origem eólica, geotérmica, solar e de origem,\nn. e.","ENERGIA"]
[null,"28222","Fabricação de equipamentos de elevação e de movimentação, n. e.","INDÚSTRIA","35120","Transporte de electricidade","ENERGIA"]
[null,"28230","Fabricação de máquinas e equipamento de escritório, excepto computadores\ne equipamento periférico.","INDÚSTRIA","35130","Distribuição de electricidade","ENERGIA"]
[null,"47230","Comércio a retalho de peixe, crustáceos e moluscos, em estabelecimentos\nespecializados","COMÉRCIO","35140","Comércio de electricidade","ENERGIA"]
[null,"28240","Fabricação de máquinas -ferramentas portáteis com motor","INDÚSTRIA","35210","Produção de gás","ENERGIA"]
[null,"28250","Fabricação de equipamento não doméstico para refrigeração e ventilação","INDÚSTRIA","35220","Distribuição de combustíveis gasosos por condutas","ENERGIA"]
[null,"28291","Fabricação de máquinas de acondicionamento e de embalagem","INDÚSTRIA","35230","Comércio de gás por condutas","ENERGIA"]
[null,"28292","Fabricação de balanças e de outro equipamento para pesagem","INDÚSTRIA","35301","Produção e distribuição de vapor, água quente e fria e ar frio por conduta","ENERGIA"]
[null,"28293","Fabricação de outras máquinas diversas de uso geral, n. e.","INDÚSTRIA","35302","Produção de gelo","ENERGIA"]
[null,"28300","Fabricação de máquinas e de tractores para a agricultura, pecuária e silvicultura","INDÚSTRIA","36001","Captação e tratamento de água","AMBIENTE"]
[null,"28410","Fabricação de máquinas -ferramentas para metais","INDÚSTRIA","36002","Distribuição de água","AMBIENTE"]
[null,"28490","Fabricação de outras máquinas -ferramentas","INDÚSTRIA","37001","Recolha e drenagem de águas residuais","AMBIENTE"]
[null,"28910","Fabricação de máquinas para a metalurgia","INDÚSTRIA","37002","Tratamento de águas residuais","AMBIENTE"]
[null,"28920","Fabricação de máquinas para as indústrias extractivas e para a construção","INDÚSTRIA","38111","Recolha de resíduos inertes","AMBIENTE"]
[null,"28930","Fabricação de máquinas para as indústrias alimentares, das bebidas e do tabaco","INDÚSTRIA","38112","Recolha de outros resíduos não perigosos","AMBIENTE"]
[null,"28940","Fabricação de máquinas para as indústrias têxtil, do vestuário e do couro","INDÚSTRIA","38120","Recolha de resíduos perigosos","AMBIENTE"]
[null,"28950","Fabricação de máquinas para as indústrias do papel e do cartão","INDÚSTRIA","38211","Tratamento e eliminação de resíduos inertes","AMBIENTE"]
[null,"28960","Fabricação de máquinas para as indústrias do plástico e da borracha","INDÚSTRIA","38212","Tratamento e eliminação de outros resíduos não perigosos","AMBIENTE"]
[null,"28991","Fabricação de máquinas para as indústrias de materiais de construção,\ncerâmica e vidro","INDÚSTRIA","38220","Tratamento e eliminação de resíduos perigosos","AMBIENTE"]
[null,"28992","Fabricação de outras máquinas diversas para uso específico, n. e.","INDÚSTRIA","38311","Desmantelamento de veículos automóveis, em fim de vida","AMBIENTE"]
[null,"29100","Fabricação de veículos automóveis","INDÚSTRIA","38312","Desmantelamento de equipamentos eléctricos e electrónicos, em fim de\nvida","AMBIENTE"]
[null,"29200","Fabricação de carroçarias, reboques e semi -reboques","INDÚSTRIA","38313","Desmantelamento de outros equipamentos e bens, em fim de vida","AMBIENTE"]
[null,"29310","Fabricação de equipamento eléctrico e electrónico para veículos automóveis","INDÚSTRIA","38321","Valorização de resíduos metálicos","AMBIENTE"]
[null,"29320","Fabricação de outros componentes e acessórios para veículos automóvei","INDÚSTRIA","38322","Valorização de resíduos não metálicos","AMBIENTE"]
[null,"30111","Construção de embarcações metálicas e estruturas flutuantes, excepto de\nrecreio e desporto","INDÚSTRIA","39000","Descontaminação e actividades similares","AMBIENTE"]
[null,"30112","Construção de embarcações não metálicas, excepto de recreio e desporto","INDÚSTRIA","41100","Promoção imobiliária (desenvolvimento de projectos de edifícios)","CONSTRUÇÃO"]
[null,"30200","Fabricação de material circulante para caminhos -de -ferro","INDÚSTRIA","41200","Construção de edifícios (residenciais e não residenciais)","CONSTRUÇÃO"]
[null,"30300","Fabricação de aeronaves, de veículos espaciais e equipamento relacionado","INDÚSTRIA","42110","Construção de estradas e pistas de aeroportos","CONSTRUÇÃO"]
[null,"30400","Fabricação de veículos militares de combate","INDÚSTRIA","42120","Construção de vias férreas","CONSTRUÇÃO"]
[null,"30910","Fabricação de motociclos","INDÚSTRIA","42130","Construção de pontes e túneis","CONSTRUÇÃO"]
[null,"30920","Fabricação de bicicletas e veículos para inválidos","INDÚSTRIA","42210","Construção de redes de transporte de águas, de esgotos e de outros fluidos","CONSTRUÇÃO"]
[null,"30990","Fabricação de outro equipamento de transporte, n. e.","INDÚSTRIA","42220","Construção de redes de transporte e distribuição de electricidade e redes de\ntelecomunicações","CONSTRUÇÃO"]
[null,"31010","Fabricação de mobiliário para escritório e comércio","INDÚSTRIA","42910","Engenharia hidráulica","CONSTRUÇÃO"]
[null,"31020","Fabricação de mobiliário de cozinha","INDÚSTRIA","42990","Construção de outras obras de engenharia civil, n. e.","CONSTRUÇÃO"]
[null,"31030","Fabricação de colchoaria","INDÚSTRIA","43110","Demolição","CONSTRUÇÃO"]
[null,"31091","Fabricação de mobiliário de madeira para outros fins","INDÚSTRIA","43120","Preparação dos locais de construção","CONSTRUÇÃO"]
[null,"31092","Fabricação de mobiliário metálico para outros fins","INDÚSTRIA","43130","Perfurações e sondagens","CONSTRUÇÃO"]
[null,"31093","Fabricação de mobiliário de outros materiais para outros fins","INDÚSTRIA","43210","Instalação eléctrica","CONSTRUÇÃO"]
[null,"31094","Actividades de acabamento de mobiliário","INDÚSTRIA","43221","Instalação de canalizações","CONSTRUÇÃO"]
[null,"32110","Cunhagem de moedas","INDÚSTRIA","43222","Instalação de climatização","CONSTRUÇÃO"]
[null,"32122","Fabricação de artigos de joalharia e de outros artigos de ourivesaria","INDÚSTRIA","43290","Outras instalações em construções","CONSTRUÇÃO"]
[null,"32123","Trabalho de diamantes e de outras pedras preciosas ou semipreciosas para\njoalharia e uso industrial","INDÚSTRIA","43310","Estucagem","CONSTRUÇÃO"]
[null,"32130","Fabricação de bijutarias","INDÚSTRIA","43310","Estucagem","CONSTRUÇÃO"]
[null,"32200","Fabricação de instrumentos musicais","INDÚSTRIA","43320","Montagem de trabalhos de carpintaria e de caixilharia","CONSTRUÇÃO"]
[null,"32300","Fabricação de artigos de desporto","INDÚSTRIA","43330","Revestimento de pavimentos e de paredes","CONSTRUÇÃO"]
[null,"32400","Fabricação de jogos e de brinquedos","INDÚSTRIA","43340","Pintura e colocação de vidros","CONSTRUÇÃO"]
[null,"32501","Fabricação de material óptico oftálmico","INDÚSTRIA","43390","Outras actividades de acabamento em edifícios","CONSTRUÇÃO"]
[null,"32502","Fabricação de material ortopédico e próteses e de instrumentos médico-\n-cirúrgicos","INDÚSTRIA","43910","Actividades de colocação de coberturas","CONSTRUÇÃO"]
[null,"32910","Fabricação de vassouras, escovas e pincéis","INDÚSTRIA","43991","Aluguer de equipamento de construção e de demolição, com operador","CONSTRUÇÃO"]
[null,"32991","Fabricação de canetas, lápis e similares","INDÚSTRIA","43992","Outras actividades especializadas de construção diversas, n. e.","CONSTRUÇÃO"]
[null,"47240","Comércio a retalho de pão, de produtos de pastelaria e de confeitaria, em\nestabelecimentos especializados","COMÉRCIO","45110","Comércio de veículos automóveis ligeiros","COMÉRCIO"]
[null,"32992","Fabricação de fechos de correr, botões e similares","INDÚSTRIA","45190","Comércio de outros veículos automóveis","COMÉRCIO"]
[null,"32993","Fabricação de guarda -sóis e chapéus de chuva","INDÚSTRIA","45200","Manutenção e reparação de veículos automóveis","COMÉRCIO"]
[null,"32994","Fabricação de equipamento de protecção e segurança","INDÚSTRIA"]
[null,"32995","Fabricação de caixões mortuários em madeira","INDÚSTRIA","45310","Comércio por grosso de peças e acessórios para veículos automóveis","COMÉRCIO"]
[null,"32996","Outras indústrias transformadoras diversas, n. e.","INDÚSTRIA","45320","Comércio a retalho de peças e acessórios para veículos automóveis","COMÉRCIO"]
[null,"33110","Reparação e manutenção de produtos metálicos (excepto máquinas e equipamentos)","INDÚSTRIA","45401","Comércio por grosso e a retalho de motociclos, de suas peças e acessórios","COMÉRCIO"]
[null,"33120","Reparação e manutenção de máquinas e equipamentos","INDÚSTRIA","45402","Manutenção e reparação de motociclos, de suas peças e acessórios","COMÉRCIO"]
[null,"33130","Reparação e manutenção de equipamento electrónico e óptico","INDÚSTRIA","46110","Agentes do comércio por grosso de matérias -primas agrícolas e têxteis, animais\nvivos e produtos semi -acabados","COMÉRCIO"]
[null,"33140","Reparação e manutenção de equipamento eléctrico","INDÚSTRIA","46120","Agentes do comércio por grosso de combustíveis, minérios, metais e de produtos químicos para a indústria","COMÉRCIO"]
[null,"33150","Reparação e manutenção de embarcações","INDÚSTRIA","46130","Agentes do comércio por grosso de madeira e materiais de construção","COMÉRCIO"]
[null,"32121","Fabricação de filigranas","INDÚSTRIA","46140","Agentes do comércio por grosso de máquinas, equipamento industrial, embarcações e aeronaves","COMÉRCIO"]
[null,"33160","Reparação e manutenção de aeronaves e de veículos espaciais","INDÚSTRIA","46150","Agentes do comércio por grosso de mobiliário, artigos para uso doméstico\ne ferragens","COMÉRCIO"]
[null,"33190","Reparação e manutenção de outro equipamento","INDÚSTRIA","46160","Agentes do comércio por grosso de têxteis, vestuário, calçado e artigos de\ncouro","COMÉRCIO"]
[null,"33200","Instalação de máquinas e de equipamentos industriais","INDÚSTRIA","46170","Agentes do comércio por grosso de produtos alimentares, bebidas e tabaco","COMÉRCIO"]
[null,"35111","Produção de electricidade de origem hídrica","ENERGIA","46180","Agentes especializados do comércio por grosso de outros produtos","COMÉRCIO"]
[null,"35112","Produção de electricidade de origem térmica","ENERGIA","46190","Agentes do comércio por grosso misto sem predominância","COMÉRCIO"]
[null,"35113","Produção de electricidade de origem eólica, geotérmica, solar e de origem,\nn. e.","ENERGIA","46211","Comércio por grosso de alimentos para animais","COMÉRCIO"]
[null,"35120","Transporte de electricidade","ENERGIA","46212","Comércio por grosso de tabaco em bruto","COMÉRCIO"]
[null,"35130","Distribuição de electricidade","ENERGIA","46213","Comércio por grosso de cortiça em bruto","COMÉRCIO"]
[null,"35140","Comércio de electricidade","ENERGIA","46214","Comércio por grosso de cereais, sementes, leguminosas, oleaginosas e outras matérias -primas agrícolas","COMÉRCIO"]
[null,"35210","Produção de gás","ENERGIA","46220","Comércio por grosso de flores e plantas","COMÉRCIO"]
[null,"35220","Distribuição de combustíveis gasosos por condutas","ENERGIA","46230","Comércio por grosso de animais vivos","COMÉRCIO"]
[null,"35230","Comércio de gás por condutas","ENERGIA","46240","Comércio por grosso de peles e couro","COMÉRCIO"]
[null,"35301","Produção e distribuição de vapor, água quente e fria e ar frio por conduta","ENERGIA","46311","Comércio por grosso de fruta e de produtos hortícolas, excepto batata","COMÉRCIO"]
[null,"35302","Produção de gelo","ENERGIA","46312","Comércio por grosso de batata","COMÉRCIO"]
[null,"36001","Captação e tratamento de água","AMBIENTE","46320","Comércio por grosso de carne e produtos à base de carne","COMÉRCIO"]
[null,"36002","Distribuição de água","AMBIENTE","46331","Comércio por grosso de leite, seus derivados e ovos","COMÉRCIO"]
[null,"37001","Recolha e drenagem de águas residuais","AMBIENTE","46332","Comércio por grosso de azeite, óleos e gorduras alimentares","COMÉRCIO"]
[null,"37002","Tratamento de águas residuais","AMBIENTE","46341","Comércio por grosso de bebidas alcoólicas","COMÉRCIO"]
[null,"38111","Recolha de resíduos inertes","AMBIENTE","46342","Comércio por grosso de bebidas não alcoólicas","COMÉRCIO"]
[null,"38112","Recolha de outros resíduos não perigosos","AMBIENTE","46350","Comércio por grosso de tabaco","COMÉRCIO"]
[null,"38120","Recolha de resíduos perigosos","AMBIENTE","46361","Comércio por grosso de açúcar","COMÉRCIO"]
[null,"38211","Tratamento e eliminação de resíduos inertes","AMBIENTE","46362","Comércio por grosso de chocolate e de produtos de confeitaria","COMÉRCIO"]
[null,"38212","Tratamento e eliminação de outros resíduos não perigosos","AMBIENTE","46370","Comércio por grosso de café, chá, cacau e especiarias","COMÉRCIO"]
[null,"38220","Tratamento e eliminação de resíduos perigosos","AMBIENTE","46382","Comércio por grosso de outros produtos alimentares, n. e.","COMÉRCIO"]
[null,"38311","Desmantelamento de veículos automóveis, em fim de vida","AMBIENTE","46390","Comércio por grosso não especializado de produtos alimentares, bebidas e tabaco","COMÉRCIO"]
[null,"38312","Desmantelamento de equipamentos eléctricos e electrónicos, em fim de\nvida","AMBIENTE","46410","Comércio por grosso de têxteis","COMÉRCIO"]
[null,"38313","Desmantelamento de outros equipamentos e bens, em fim de vida","AMBIENTE","46421","Comércio por grosso de vestuário e de acessórios","COMÉRCIO"]
[null,"38321","Valorização de resíduos metálicos","AMBIENTE","46422","Comércio por grosso de calçado","COMÉRCIO"]
[null,"38322","Valorização de resíduos não metálicos","AMBIENTE","46430","Comércio por grosso de electrodomésticos, aparelhos de rádio e de televisão","COMÉRCIO"]
[null,"39000","Descontaminação e actividades similares","AMBIENTE","46441","Comércio por grosso de louças em cerâmica e em vidro","COMÉRCIO"]
[null,"41100","Promoção imobiliária (desenvolvimento de projectos de edifícios)","CONSTRUÇÃO","46442","Comércio por grosso de produtos de limpeza","COMÉRCIO"]
[null,"74900","Outras actividades de consultoria, científicas, técnicas e similares, n. e.","SERVIÇOS","46450","Comércio por grosso de perfumes e de produtos de higiene","COMÉRCIO"]
[null,"41200","Construção de edifícios (residenciais e não residenciais)","CONSTRUÇÃO","46460","Comércio por grosso de produtos farmacêuticos","COMÉRCIO"]
[null,"42110","Construção de estradas e pistas de aeroportos","CONSTRUÇÃO","46470","Comércio por grosso de móveis para uso doméstico, carpetes, tapetes e artigos de iluminação","COMÉRCIO"]
[null,"42120","Construção de vias férreas","CONSTRUÇÃO","46480","Comércio por grosso de relógios e de artigos de ourivesaria e joalharia","COMÉRCIO"]
[null,"42130","Construção de pontes e túneis","CONSTRUÇÃO","46491","Comércio por grosso de artigos de papelaria","COMÉRCIO"]
[null,"42210","Construção de redes de transporte de águas, de esgotos e de outros fluidos","CONSTRUÇÃO","46492","Comércio por grosso de livros, revistas e jornais","COMÉRCIO"]
[null,"42220","Construção de redes de transporte e distribuição de electricidade e redes de\ntelecomunicações","CONSTRUÇÃO","46493","Comércio por grosso de brinquedos, jogos e artigos de desporto","COMÉRCIO"]
[null,"45250","Outras obras especializadas de construção","CONSTRUÇÃO","46494","Outro comércio por grosso de bens de consumo, n. e","COMÉRCIO"]
[null,"42910","Engenharia hidráulica","CONSTRUÇÃO","46510","Comércio por grosso de computadores, equipamentos periféricos e programas informáticos","COMÉRCIO"]
[null,"42990","Construção de outras obras de engenharia civil, n. e.","CONSTRUÇÃO","46520","Comércio por grosso de equipamentos electrónicos, de telecomunicações e suas partes","COMÉRCIO"]
[null,"43110","Demolição","CONSTRUÇÃO","46610","Comércio por grosso de máquinas e equipamentos, agrícolas","COMÉRCIO"]
[null,"43120","Preparação dos locais de construção","CONSTRUÇÃO","46620","Comércio por grosso de máquinas -ferramentas","COMÉRCIO"]
[null,"43130","Perfurações e sondagens","CONSTRUÇÃO","46630","Comércio por grosso de máquinas para a indústria extractiva, construção e\nengenharia civil","COMÉRCIO"]
[null,"43210","Instalação eléctrica","CONSTRUÇÃO","46640","Comércio por grosso de máquinas para a indústria têxtil, máquinas de costura e de tricotar","COMÉRCIO"]
[null,"43221","Instalação de canalizações","CONSTRUÇÃO","46650","Comércio por grosso de mobiliário de escritório","COMÉRCIO"]
[null,"43222","Instalação de climatização","CONSTRUÇÃO","46660","Comércio por grosso de outras máquinas e material de escritório","COMÉRCIO"]
[null,"43290","Outras instalações em construções","CONSTRUÇÃO","46690","Comércio por grosso de outras máquinas e equipamentos","COMÉRCIO"]
[null,"43320","Montagem de trabalhos de carpintaria e de caixilharia","CONSTRUÇÃO","46711","Comércio por grosso de produtos petrolíferos","COMÉRCIO"]
[null,"43330","Revestimento de pavimentos e de paredes","CONSTRUÇÃO","46712","Comércio por grosso de combustíveis sólidos, líquidos e gasosos, não derivados do petróleo","COMÉRCIO"]
[null,"43340","Pintura e colocação de vidros","CONSTRUÇÃO","46720","Comércio por grosso de minérios e de metais","COMÉRCIO"]
[null,"43390","Outras actividades de acabamento em edifícios","CONSTRUÇÃO","46731","Comércio por grosso de madeira em bruto e de produtos derivados","COMÉRCIO"]
[null,"43910","Actividades de colocação de coberturas","CONSTRUÇÃO","46732","Comércio por grosso de materiais de construção (excepto madeira) e equipamento sanitário","COMÉRCIO"]
[null,"43991","Aluguer de equipamento de construção e de demolição, com operador","CONSTRUÇÃO","46740","Comércio por grosso de ferragens, ferramentas manuais e artigos para canalizações e aquecimento","COMÉRCIO"]
[null,"43992","Outras actividades especializadas de construção diversas, n. e.","CONSTRUÇÃO","46750","Comércio por grosso de produtos químicos","COMÉRCIO"]
[null,"45110","Comércio de veículos automóveis ligeiros","COMÉRCIO","46762","Comércio por grosso de outros bens intermédios, n. e.","COMÉRCIO"]
[null,"45190","Comércio de outros veículos automóveis","COMÉRCIO","46771","Comércio por grosso de sucatas e de desperdícios metálicos","COMÉRCIO"]
[null,"45200","Manutenção e reparação de veículos automóveis","COMÉRCIO","46772","Comércio por grosso de desperdícios têxteis, de cartão e papéis velhos","COMÉRCIO"]
[null,"45310","Comércio por grosso de peças e acessórios para veículos automóveis","COMÉRCIO","46773","Comércio por grosso de desperdícios de materiais, n. e","COMÉRCIO"]
[null,"45320","Comércio a retalho de peças e acessórios para veículos automóveis","COMÉRCIO","46900","Comércio por grosso não especializado","COMÉRCIO"]
[null,"45401","Comércio por grosso e a retalho de motociclos, de suas peças e acessórios","COMÉRCIO","47111","Comércio a retalho em supermercados e hipermercados","COMÉRCIO"]
[null,"45402","Manutenção e reparação de motociclos, de suas peças e acessórios","COMÉRCIO","47112","Comércio a retalho em outros estabelecimentos não especializados, com\npredominância de produtos alimentares, bebidas ou tabaco","COMÉRCIO"]
[null,"46180","Agentes especializados do comércio por grosso de outros produtos","COMÉRCIO","47191","Comércio a retalho não especializado, sem predominância de produtos\nalimentares, bebidas ou tabaco, em grandes armazéns e similares","COMÉRCIO"]
[null,"46190","Agentes do comércio por grosso misto sem predominância","COMÉRCIO","47192","Comércio a retalho em outros estabelecimentos não especializados, sem\npredominância de produtos alimentares, bebidas ou tabaco","COMÉRCIO"]
[null,"75000","Actividades veterinárias","SERVIÇOS","47210","Comércio a retalho de frutas e produtos hortícolas, em estabelecimentos especializados","COMÉRCIO"]
[null,"46211","Comércio por grosso de alimentos para animais","COMÉRCIO","47220","Comércio a retalho de carne e produtos à base de carne, em estabelecimentos especializados","COMÉRCIO"]
[null,"46212","Comércio por grosso de tabaco em bruto","COMÉRCIO","47240","Comércio a retalho de pão, de produtos de pastelaria e de confeitaria, em\nestabelecimentos especializados","COMÉRCIO"]
[null,"46213","Comércio por grosso de cortiça em bruto","COMÉRCIO","47250","Comércio a retalho de bebidas, em estabelecimentos especializados","COMÉRCIO"]
[null,"46214","Comércio por grosso de cereais, sementes, leguminosas, oleaginosas e outras matérias -primas agrícolas","COMÉRCIO","47260","Comércio a retalho de tabaco, em estabelecimentos especializados","COMÉRCIO"]
[null,"46220","Comércio por grosso de flores e plantas","COMÉRCIO","47291","Comércio a retalho de leite e de derivados, em estabelecimentos especializados","COMÉRCIO"]
[null,"46230","Comércio por grosso de animais vivos","COMÉRCIO","47292","Comércio a retalho de produtos alimentares, naturais e dietéticos, em estabelecimentos especializados","COMÉRCIO"]
[null,"46240","Comércio por grosso de peles e couro","COMÉRCIO","47293","Outro comércio a retalho de produtos alimentares, em estabelecimentos\nespecializados, n. e.","COMÉRCIO"]
[null,"46311","Comércio por grosso de fruta e de produtos hortícolas, excepto batata","COMÉRCIO","47300","Comércio a retalho de combustível para veículos a motor, em estabelecimentos especializados","COMÉRCIO"]
[null,"46312","Comércio por grosso de batata","COMÉRCIO","47410","Comércio a retalho de computadores, unidades periféricas e programas informáticos, em estabelecimentos especializados","COMÉRCIO"]
[null,"46320","Comércio por grosso de carne e produtos à base de carne","COMÉRCIO","47420","Comércio a retalho de equipamento de telecomunicações, em estabelecimentos especializados","COMÉRCIO"]
[null,"46331","Comércio por grosso de leite, seus derivados e ovos","COMÉRCIO","47430","Comércio a retalho de equipamento áudio -visual, em estabelecimentos especializados","COMÉRCIO"]
[null,"77110","Aluguer de veículos automóveis ligeiros","SERVIÇOS","47510","Comércio a retalho de têxteis, em estabelecimentos especializados","COMÉRCIO"]
[null,"46332","Comércio por grosso de azeite, óleos e gorduras alimentares","COMÉRCIO","47521","Comércio a retalho de ferragens e de vidro plano, em estabelecimentos\nespecializados","COMÉRCIO"]
[null,"46341","Comércio por grosso de bebidas alcoólicas","COMÉRCIO","47522","Comércio a retalho de tintas, vernizes e produtos similares, em estabelecimentos especializados","COMÉRCIO"]
[null,"46342","Comércio por grosso de bebidas não alcoólicas","COMÉRCIO","47523","Comércio a retalho de material de bricolage, equipamento sanitário, ladrilhos\ne materiais similares, em estabelecimentos especializados","COMÉRCIO"]
[null,"46350","Comércio por grosso de tabaco","COMÉRCIO","47530","Comércio a retalho de carpetes, tapetes, cortinados e revestimentos para paredes e pavimentos, em estabelecimentos especializados","COMÉRCIO"]
[null,"46361","Comércio por grosso de açúcar","COMÉRCIO","47540","Comércio a retalho de electrodomésticos, em estabelecimentos especializados","COMÉRCIO"]
[null,"46362","Comércio por grosso de chocolate e de produtos de confeitaria","COMÉRCIO","47591","Comércio a retalho de mobiliário e artigos de iluminação, em estabelecimentos especializados","COMÉRCIO"]
[null,"46370","Comércio por grosso de café, chá, cacau e especiarias","COMÉRCIO","47592","Comércio a retalho de louças, cutelaria e de outros artigos similares para\nuso doméstico, em estabelecimentos especializados","COMÉRCIO"]
[null,"46381","Comércio por grosso de peixe, crustáceos e moluscos","COMÉRCIO","47593","Comércio a retalho de outros artigos para o lar, n. e., em estabelecimentos\nespecializados","COMÉRCIO"]
[null,"46382","Comércio por grosso de outros produtos alimentares, n. e.","COMÉRCIO","47610","Comércio a retalho de livros, em estabelecimentos especializados","COMÉRCIO"]
[null,"46390","Comércio por grosso não especializado de produtos alimentares, bebidas e tabaco","COMÉRCIO","47620","Comércio a retalho de jornais, revistas e artigos de papelaria, em estabelecimentos especializados","COMÉRCIO"]
[null,"46410","Comércio por grosso de têxteis","COMÉRCIO","47630","Comércio a retalho de discos, CD, DVD, cassetes e similares, em estabelecimentos especializados","COMÉRCIO"]
[null,"46421","Comércio por grosso de vestuário e de acessórios","COMÉRCIO","47640","Comércio a retalho de artigos de desporto, de campismo e lazer, em estabelecimentos especializados","COMÉRCIO"]
[null,"46422","Comércio por grosso de calçado","COMÉRCIO","47650","Comércio a retalho de jogos e brinquedos, em estabelecimentos especializados","COMÉRCIO"]
[null,"46430","Comércio por grosso de electrodomésticos, aparelhos de rádio e de televisão","COMÉRCIO","47711","Comércio a retalho de vestuário para adultos, em estabelecimentos especializados","COMÉRCIO"]
[null,"46441","Comércio por grosso de louças em cerâmica e em vidro","COMÉRCIO","47712","Comércio a retalho de vestuário para bebés e crianças, em estabelecimentos especializados","COMÉRCIO"]
[null,"46442","Comércio por grosso de produtos de limpeza","COMÉRCIO","47721","Comércio a retalho de calçado, em estabelecimentos especializados","COMÉRCIO"]
[null,"46450","Comércio por grosso de perfumes e de produtos de higiene","COMÉRCIO","47722","Comércio a retalho de marroquinaria e artigos de viagem, em estabelecimentos especializados","COMÉRCIO"]
[null,"46460","Comércio por grosso de produtos farmacêuticos","COMÉRCIO","47730","Comércio a retalho de produtos farmacêuticos, em estabelecimentos especializados","COMÉRCIO"]
[null,"46470","Comércio por grosso de móveis para uso doméstico, carpetes, tapetes e artigos de iluminação","COMÉRCIO","47740","Comércio a retalho de produtos médicos e ortopédicos, em estabelecimentos especializados","COMÉRCIO"]
[null,"46480","Comércio por grosso de relógios e de artigos de ourivesaria e joalharia","COMÉRCIO","47750","Comércio a retalho de produtos cosméticos e de higiene, em estabelecimentos especializados","COMÉRCIO"]
[null,"46491","Comércio por grosso de artigos de papelaria","COMÉRCIO","47761","Comércio a retalho de flores, plantas, sementes e fertilizantes, em estabelecimentos especializados","COMÉRCIO"]
[null,"46492","Comércio por grosso de livros, revistas e jornais","COMÉRCIO","47762","Comércio a retalho de animais de companhia e respectivos alimentos, em\nestabelecimentos especializados","COMÉRCIO"]
[null,"46493","Comércio por grosso de brinquedos, jogos e artigos de desporto","COMÉRCIO","47770","Comércio a retalho de relógios e de artigos de ourivesaria e joalharia, em\nestabelecimentos especializados","COMÉRCIO"]
[null,"46494","Outro comércio por grosso de bens de consumo, n. e","COMÉRCIO","47781","Comércio a retalho de máquinas e de outro material de escritório, em estabelecimentos especializados","COMÉRCIO"]
[null,"46510","Comércio por grosso de computadores, equipamentos periféricos e programas informáticos","COMÉRCIO","47782","Comércio a retalho de material óptico, fotográfico, cinematográfico e de\ninstrumentos de precisão, em estabelecimentos especializados","COMÉRCIO"]
[null,"46520","Comércio por grosso de equipamentos electrónicos, de telecomunicações e suas partes","COMÉRCIO","47783","Comércio a retalho de combustíveis para uso doméstico, em estabelecimentos especializados","COMÉRCIO"]
[null,"46610","Comércio por grosso de máquinas e equipamentos, agrícolas","COMÉRCIO","47784","Comércio a retalho de outros produtos novos, em estabelecimentos especializados, n. e.","COMÉRCIO"]
[null,"46620","Comércio por grosso de máquinas -ferramentas","COMÉRCIO","47790","Comércio a retalho de artigos em segunda mão, em estabelecimentos especializados","COMÉRCIO"]
[null,"46630","Comércio por grosso de máquinas para a indústria extractiva, construção e\nengenharia civil","COMÉRCIO","47810","Comércio a retalho em bancas, feiras e unidades móveis de venda, de produtos alimentares, bebidas e tabaco","COMÉRCIO"]
[null,"46640","Comércio por grosso de máquinas para a indústria têxtil, máquinas de costura e de tricotar","COMÉRCIO","47820","Comércio a retalho em bancas, feiras e unidades móveis de venda, de têxteis, vestuário, calçado, malas e similares","COMÉRCIO"]
[null,"46650","Comércio por grosso de mobiliário de escritório","COMÉRCIO","47890","Comércio a retalho em bancas, feiras e unidades móveis de venda, de outros\nprodutos","COMÉRCIO"]
[null,"46660","Comércio por grosso de outras máquinas e material de escritório","COMÉRCIO","47910","Comércio a retalho por correspondência ou via Internet","COMÉRCIO"]
[null,"46690","Comércio por grosso de outras máquinas e equipamentos","COMÉRCIO","47990","Comércio a retalho por outros métodos, não efectuado em estabelecimentos, bancas, feiras ou unidades móveis de venda","COMÉRCIO"]
[null,"46711","Comércio por grosso de produtos petrolíferos","COMÉRCIO","49310","Transportes terrestres, urbanos e suburbanos, de passageiros","TRANSPORTES"]
[null,"46712","Comércio por grosso de combustíveis sólidos, líquidos e gasosos, não derivados do petróleo","COMÉRCIO","49320","Transporte ocasional de passageiros em veículos ligeiros","TRANSPORTES"]
[null,"46720","Comércio por grosso de minérios e de metais","COMÉRCIO","49392","Outros transportes terrestres de passageiros diversos n. e.","TRANSPORTES"]
[null,"46731","Comércio por grosso de madeira em bruto e de produtos derivados","COMÉRCIO","49410","Transportes rodoviários de mercadorias","TRANSPORTES"]
[null,"46732","Comércio por grosso de materiais de construção (excepto madeira) e equipamento sanitário","COMÉRCIO","49420","Actividades de mudanças, por via rodoviária","TRANSPORTES"]
[null,"52102","Armazenagem não frigorífica","TRANSPORTES","52101","Armazenagem frigorífica","TRANSPORTES"]
[null,"52212","Assistência a veículos na estrada","TRANSPORTES","52102","Armazenagem não frigorífica","TRANSPORTES"]
[null,"52213","Outras actividades auxiliares dos transportes terrestres","TRANSPORTES"]
[null,"52220","Actividades auxiliares dos transportes por água","TRANSPORTES"]
[null,"52230","Actividades auxiliares dos transportes aéreos","TRANSPORTES"]
[null,"52240","Manuseamento de carga","TRANSPORTES"]
[null,"46740","Comércio por grosso de ferragens, ferramentas manuais e artigos para canalizações e aquecimento","COMÉRCIO"]
[null,"46750","Comércio por grosso de produtos químicos","COMÉRCIO","52240","Manuseamento de carga","TRANSPORTES"]
[null,"46761","Comércio por grosso de fibras têxteis naturais, artificiais e sintéticas","COMÉRCIO","52291","Organização do transporte","TRANSPORTES"]
[null,"46762","Comércio por grosso de outros bens intermédios, n. e.","COMÉRCIO","52292","Agentes aduaneiros e similares de apoio ao transporte","TRANSPORTES"]
[null,"46771","Comércio por grosso de sucatas e de desperdícios metálicos","COMÉRCIO","53100","Actividades postais sujeitas a obrigações do serviço universal","TRANSPORTES"]
[null,"52211","Gestão de infra -estruturas dos transportes terrestres","TRANSPORTES","53200","Outras actividades postais e de courier","TRANSPORTES"]
[null,"46110","Agentes do comércio por grosso de matérias -primas agrícolas e têxteis, animais\nvivos e produtos semi -acabados","COMÉRCIO","55111","Hotéis com restaurante","TURISMO"]
[null,"46120","Agentes do comércio por grosso de combustíveis, minérios, metais e de produtos químicos para a indústria","COMÉRCIO","55112","Pensões com restaurante","TURISMO"]
[null,"46130","Agentes do comércio por grosso de madeira e materiais de construção","COMÉRCIO","55113","Estalagens com restaurante","TURISMO"]
[null,"46140","Agentes do comércio por grosso de máquinas, equipamento industrial, embarcações e aeronaves","COMÉRCIO","55114","Pousadas com restaurante","TURISMO"]
[null,"46150","Agentes do comércio por grosso de mobiliário, artigos para uso doméstico\ne ferragens","COMÉRCIO","55115","Motéis com restaurante","TURISMO"]
[null,"46160","Agentes do comércio por grosso de têxteis, vestuário, calçado e artigos de\ncouro","COMÉRCIO","55116","Hotéis -apartamentos com restaurante","TURISMO"]
[null,"46170","Agentes do comércio por grosso de produtos alimentares, bebidas e tabaco","COMÉRCIO","55117","Aldeamentos turísticos com restaurante","TURISMO"]
[null,"47250","Comércio a retalho de bebidas, em estabelecimentos especializados","COMÉRCIO","55118","Apartamentos turísticos com restaurante","TURISMO"]
[null,"47260","Comércio a retalho de tabaco, em estabelecimentos especializados","COMÉRCIO","55119","Outros estabelecimentos hoteleiros com restaurante","TURISMO"]
[null,"47291","Comércio a retalho de leite e de derivados, em estabelecimentos especializados","COMÉRCIO","55121","Hotéis sem restaurante","TURISMO"]
[null,"47292","Comércio a retalho de produtos alimentares, naturais e dietéticos, em estabelecimentos especializados","COMÉRCIO","55122","Pensões sem restaurante","TURISMO"]
[null,"47293","Outro comércio a retalho de produtos alimentares, em estabelecimentos\nespecializados, n. e.","COMÉRCIO","55123","Apartamentos turísticos sem restaurante","TURISMO"]
[null,"47300","Comércio a retalho de combustível para veículos a motor, em estabelecimentos especializados","COMÉRCIO","55124","Outros estabelecimentos hoteleiros sem restaurante","TURISMO"]
[null,"47410","Comércio a retalho de computadores, unidades periféricas e programas informáticos, em estabelecimentos especializados","COMÉRCIO","55201","Alojamento mobilado para turistas","TURISMO"]
[null,"47420","Comércio a retalho de equipamento de telecomunicações, em estabelecimentos especializados","COMÉRCIO","55202","Turismo no espaço rural","TURISMO"]
[null,"47430","Comércio a retalho de equipamento áudio -visual, em estabelecimentos especializados","COMÉRCIO","55203","Colónias e campos de férias","TURISMO"]
[null,"47510","Comércio a retalho de têxteis, em estabelecimentos especializados","COMÉRCIO","55204","Outros locais de alojamento de curta duração","TURISMO"]
[null,"47521","Comércio a retalho de ferragens e de vidro plano, em estabelecimentos\nespecializados","COMÉRCIO","55300","Parques de campismo e de caravanismo","TURISMO"]
[null,"47522","Comércio a retalho de tintas, vernizes e produtos similares, em estabelecimentos especializados","COMÉRCIO","55900","Outros locais de alojamento","TURISMO"]
[null,"47523","Comércio a retalho de material de bricolage, equipamento sanitário, ladrilhos\ne materiais similares, em estabelecimentos especializados","COMÉRCIO","56101","Restaurantes tipo tradicional","TURISMO"]
[null,"47530","Comércio a retalho de carpetes, tapetes, cortinados e revestimentos para paredes e pavimentos, em estabelecimentos especializados","COMÉRCIO","56102","Restaurantes com lugares ao balcão","TURISMO"]
[null,"47540","Comércio a retalho de electrodomésticos, em estabelecimentos especializados","COMÉRCIO","56103","Restaurantes sem serviço de mesa","TURISMO"]
[null,"47591","Comércio a retalho de mobiliário e artigos de iluminação, em estabelecimentos especializados","COMÉRCIO","56104","Restaurantes típicos","TURISMO"]
[null,"47592","Comércio a retalho de louças, cutelaria e de outros artigos similares para\nuso doméstico, em estabelecimentos especializados","COMÉRCIO","56105","Restaurantes com espaço de dança","TURISMO"]
[null,"47593","Comércio a retalho de outros artigos para o lar, n. e., em estabelecimentos\nespecializados","COMÉRCIO","56106","Confecção de refeições prontas a levar para casa","TURISMO"]
[null,"47610","Comércio a retalho de livros, em estabelecimentos especializados","COMÉRCIO","56107","Restaurantes, n. e. (inclui actividades de restauração em meios móveis)","TURISMO"]
[null,"47620","Comércio a retalho de jornais, revistas e artigos de papelaria, em estabelecimentos especializados","COMÉRCIO","56210","Fornecimento de refeições para eventos","TURISMO"]
[null,"47630","Comércio a retalho de discos, CD, DVD, cassetes e similares, em estabelecimentos especializados","COMÉRCIO","56290","Outras actividades de serviço de refeições","TURISMO"]
[null,"47640","Comércio a retalho de artigos de desporto, de campismo e lazer, em estabelecimentos especializados","COMÉRCIO","56301","Cafés","TURISMO"]
[null,"47650","Comércio a retalho de jogos e brinquedos, em estabelecimentos especializados","COMÉRCIO","56302","Bares","TURISMO"]
[null,"47711","Comércio a retalho de vestuário para adultos, em estabelecimentos especializados","COMÉRCIO","56303","Pastelarias e casas de chá","TURISMO"]
[null,"47712","Comércio a retalho de vestuário para bebés e crianças, em estabelecimentos especializados","COMÉRCIO","56304","Outros estabelecimentos de bebidas sem espectáculo","TURISMO"]
[null,"47721","Comércio a retalho de calçado, em estabelecimentos especializados","COMÉRCIO","56305","Estabelecimentos de bebidas com espaço de dança","TURISMO"]
[null,"47722","Comércio a retalho de marroquinaria e artigos de viagem, em estabelecimentos especializados","COMÉRCIO"]
[null,"47730","Comércio a retalho de produtos farmacêuticos, em estabelecimentos especializados","COMÉRCIO"]
[null,"47740","Comércio a retalho de produtos médicos e ortopédicos, em estabelecimentos especializados","COMÉRCIO"]
[null,"47750","Comércio a retalho de produtos cosméticos e de higiene, em estabelecimentos especializados","COMÉRCIO"]
[null,"47761","Comércio a retalho de flores, plantas, sementes e fertilizantes, em estabelecimentos especializados","COMÉRCIO"]
[null,"47762","Comércio a retalho de animais de companhia e respectivos alimentos, em\nestabelecimentos especializados","COMÉRCIO"]
[null,"47770","Comércio a retalho de relógios e de artigos de ourivesaria e joalharia, em\nestabelecimentos especializados","COMÉRCIO"]
[null,"47781","Comércio a retalho de máquinas e de outro material de escritório, em estabelecimentos especializados","COMÉRCIO"]
[null,"47782","Comércio a retalho de material óptico, fotográfico, cinematográfico e de\ninstrumentos de precisão, em estabelecimentos especializados","COMÉRCIO"]
[null,"47783","Comércio a retalho de combustíveis para uso doméstico, em estabelecimentos especializados","COMÉRCIO"]
[null,"47784","Comércio a retalho de outros produtos novos, em estabelecimentos especializados, n. e.","COMÉRCIO"]
[null,"47790","Comércio a retalho de artigos em segunda mão, em estabelecimentos especializados","COMÉRCIO"]
[null,"52101","Armazenagem frigorífica","TRANSPORTES"]
[null,"47810","Comércio a retalho em bancas, feiras e unidades móveis de venda, de produtos alimentares, bebidas e tabaco","COMÉRCIO"]
[null,"47820","Comércio a retalho em bancas, feiras e unidades móveis de venda, de têxteis, vestuário, calçado, malas e similares","COMÉRCIO"]
[null,"47890","Comércio a retalho em bancas, feiras e unidades móveis de venda, de outros\nprodutos","COMÉRCIO"]
[null,"47910","Comércio a retalho por correspondência ou via Internet","COMÉRCIO"]
[null,"47990","Comércio a retalho por outros métodos, não efectuado em estabelecimentos, bancas, feiras ou unidades móveis de venda","COMÉRCIO"]
[null,"49310","Transportes terrestres, urbanos e suburbanos, de passageiros","TRANSPORTES"]
[null,"49320","Transporte ocasional de passageiros em veículos ligeiros","TRANSPORTES"]
[null,"49392","Outros transportes terrestres de passageiros diversos n. e.","TRANSPORTES"]
[null,"49410","Transportes rodoviários de mercadorias","TRANSPORTES"]
[null,"49420","Actividades de mudanças, por via rodoviária","TRANSPORTES"]
[null,"01701","Caça e repovoamento cinegético","INDÚSTRIA"]
[null,"13301","Branqueamento e tingimento","INDÚSTRIA"]
[null,"17230","Fabricação de artigos de papel para papelaria","INDÚSTRIA"]
[null,"17240","Fabricação de papel de parede","INDÚSTRIA","68100","Compra e venda de bens imobiliários","SERVIÇOS"]
[null,"17290","Fabricação de outros artigos de pasta de papel, de papel e de cartão","INDÚSTRIA","68200","Arrendamento de bens imobiliários","SERVIÇOS"]
[null,"18110","Impressão de jornais","INDÚSTRIA","68311","Actividades de mediação imobiliária","SERVIÇOS"]
[null,"18120","Outra impressão","INDÚSTRIA","68312","Actividades de angariação imobiliária","SERVIÇOS"]
[null,"18130","Actividades de preparação da impressão e de produtos media","INDÚSTRIA","68313","Actividades de avaliação imobiliária","SERVIÇOS"]
[null,"18140","Encadernação e actividades relacionadas","INDÚSTRIA","68321","Administração de imóveis por conta de outrem","SERVIÇOS"]
[null,"18200","Reprodução de suportes gravados","INDÚSTRIA","68322","Administração de condomínios","SERVIÇOS"]
[null,"19100","Fabricação de produtod de coqueria","INDÚSTRIA","69200","Actividades de contabilidade e auditoria; consultoria fiscal","SERVIÇOS"]
[null,"33170","Reparação e manutenção de outro equipamento de transporte","INDÚSTRIA","70100","Actividades das sedes sociais","SERVIÇOS"]
[null,"43310","Estucagem","CONSTRUÇÃO","70210","Actividades de relações públicas e comunicação","SERVIÇOS"]
[null,"52291","Organização do transporte","TRANSPORTES","70220","Outras actividades de consultoria para os negócios e a gestão","SERVIÇOS"]
[null,"52292","Agentes aduaneiros e similares de apoio ao transporte","TRANSPORTES","71110","Actividades de arquitectura","SERVIÇOS"]
[null,"53100","Actividades postais sujeitas a obrigações do serviço universal","TRANSPORTES","71120","Actividades de engenharia e técnicas afins","SERVIÇOS"]
[null,"53200","Outras actividades postais e de courier","TRANSPORTES","71200","Actividades de ensaios e análises técnicas","SERVIÇOS"]
[null,"55111","Hotéis com restaurante","TURISMO","72110","Investigação e desenvolvimento em biotecnologia","SERVIÇOS"]
[null,"55112","Pensões com restaurante","TURISMO","72190","Outra investigação e desenvolvimento das ciências físicas e naturais","SERVIÇOS"]
[null,"55113","Estalagens com restaurante","TURISMO","72200","Investigação e desenvolvimento das ciências sociais e humanas","SERVIÇOS"]
[null,"55114","Pousadas com restaurante","TURISMO","73110","Agências de publicidade","SERVIÇOS"]
[null,"55115","Motéis com restaurante","TURISMO","73120","Actividades de representação nos meios de comunicação","SERVIÇOS"]
[null,"55116","Hotéis -apartamentos com restaurante","TURISMO","73200","Estudos de mercado e sondagens de opinião","SERVIÇOS"]
[null,"55117","Aldeamentos turísticos com restaurante","TURISMO","74100","Actividades de design","SERVIÇOS"]
[null,"55118","Apartamentos turísticos com restaurante","TURISMO","74200","Actividades fotográficas","SERVIÇOS"]
[null,"55119","Outros estabelecimentos hoteleiros com restaurante","TURISMO","74300","Actividades de tradução e interpretação","SERVIÇOS"]
[null,"55121","Hotéis sem restaurante","TURISMO","74900","Outras actividades de consultoria, científicas, técnicas e similares, n. e.","SERVIÇOS"]
[null,"55122","Pensões sem restaurante","TURISMO","75000","Actividades veterinárias","SERVIÇOS"]
[null,"55123","Apartamentos turísticos sem restaurante","TURISMO","77110","Aluguer de veículos automóveis ligeiros","SERVIÇOS"]
[null,"55124","Outros estabelecimentos hoteleiros sem restaurante","TURISMO","77120","Aluguer de veículos automóveis pesados","SERVIÇOS"]
[null,"55201","Alojamento mobilado para turistas","TURISMO","77210","Aluguer de bens recreativos e desportivos","SERVIÇOS"]
[null,"55202","Turismo no espaço rural","TURISMO","77220","Aluguer de videocassetes e discos","SERVIÇOS"]
[null,"55203","Colónias e campos de férias","TURISMO","77290","Aluguer de outros bens de uso pessoal e doméstico","SERVIÇOS"]
[null,"55204","Outros locais de alojamento de curta duração","TURISMO","77310","Aluguer de máquinas e equipamentos agrícolas","SERVIÇOS"]
[null,"55300","Parques de campismo e de caravanismo","TURISMO","77320","Aluguer de máquinas e equipamentos para a construção e engenharia civil","SERVIÇOS"]
[null,"55900","Outros locais de alojamento","TURISMO","77330","Aluguer de máquinas e equipamentos de escritório (inclui computadores)","SERVIÇOS"]
[null,"56101","Restaurantes tipo tradicional","TURISMO","77340","Aluguer de meios de transporte marítimo e fluvial","SERVIÇOS"]
[null,"56102","Restaurantes com lugares ao balcão","TURISMO","77350","Aluguer de meios de transporte aéreo","SERVIÇOS"]
[null,"56103","Restaurantes sem serviço de mesa","TURISMO","77390","Aluguer de outras máquinas e equipamentos, n. e.","SERVIÇOS"]
[null,"56104","Restaurantes típicos","TURISMO","77400","Locação de propriedade intelectual e produtos similares, excepto direitos de autor","SERVIÇOS"]
[null,"56105","Restaurantes com espaço de dança","TURISMO","78100","Actividades das empresas de selecção e colocação de pessoal","SERVIÇOS"]
[null,"56106","Confecção de refeições prontas a levar para casa","TURISMO","78200","Actividades das empresas de trabalho temporário","SERVIÇOS"]
[null,"56107","Restaurantes, n. e. (inclui actividades de restauração em meios móveis)","TURISMO","78300","Outro fornecimento de recursos humanos","SERVIÇOS"]
[null,"56210","Fornecimento de refeições para eventos","TURISMO","79110","Actividades das agências de viagem","SERVIÇOS"]
[null,"56290","Outras actividades de serviço de refeições","TURISMO","79120","Actividades dos operadores turísticos","SERVIÇOS"]
[null,"56301","Cafés","TURISMO","79900","Outros serviços de reservas e actividades relacionadas","SERVIÇOS"]
[null,"56302","Bares","TURISMO","80100","Actividades de segurança privada","SERVIÇOS"]
[null,"56303","Pastelarias e casas de chá","TURISMO","80200","Actividades relacionadas com sistemas de segurança","SERVIÇOS"]
[null,"56304","Outros estabelecimentos de bebidas sem espectáculo","TURISMO","80300","Actividades de investigação","SERVIÇOS"]
[null,"56305","Estabelecimentos de bebidas com espaço de dança","TURISMO","81100","Actividades combinadas de apoio aos edifícios","SERVIÇOS"]
[null,"58110","Edição de livros","SERVIÇOS","81210","Actividades de limpeza geral em edifícios","SERVIÇOS"]
[null,"58120","Edição de listas destinadas a consulta","SERVIÇOS","81220","Outras actividades de limpeza em edifícios e em equipamentos industriais","SERVIÇOS"]
[null,"58130","Edição de jornais","SERVIÇOS","81291","Actividades de desinfecção, desratização e similares","SERVIÇOS"]
[null,"58140","Edição de revistas e de outras publicações periódicas","SERVIÇOS","81292","Outras actividades de limpeza, n. e.","SERVIÇOS"]
[null,"58190","Outras actividades de edição","SERVIÇOS","81300","Actividades de plantação e manutenção de jardins","SERVIÇOS"]
[null,"58210","Edição de jogos de computador","SERVIÇOS","82110","Actividades combinadas de serviços administrativos","SERVIÇOS"]
[null,"58290","Edição de outros programas informáticos","SERVIÇOS","82190","Execução de fotocópias, preparação de documentos e outras actividades especializadas de apoio administrativo","SERVIÇOS"]
[null,"59110","Produção de filmes, de vídeos e de programas de televisão","SERVIÇOS","82200","Actividades dos centros de chamadas","SERVIÇOS"]
[null,"59120","Actividades técnicas de pós -produção para filmes, vídeos e programas de\ntelevisão","SERVIÇOS"]
[null,"59130","Distribuição de filmes, de vídeos e de programas de televisão","SERVIÇOS"]
[null,"59140","Projecção de filmes e de vídeos","SERVIÇOS"]
[null,"59200","Actividades de gravação de som e edição de música","SERVIÇOS"]
[null,"60100","Actividades de rádio","SERVIÇOS"]
[null,"60200","Actividades de televisão","SERVIÇOS"]
[null,"61100","Actividades de telecomunicações por fio","SERVIÇOS"]
[null,"61200","Actividades de telecomunicações sem fio","SERVIÇOS"]
[null,"61300","Actividades de telecomunicações por satélite","SERVIÇOS"]
[null,"61900","Outras actividades de telecomunicações","SERVIÇOS"]
[null,"62010","Actividades de programação informática","SERVIÇOS"]
[null,"62020","Actividades de consultoria em informática","SERVIÇOS"]
[null,"62030","Gestão e exploração de equipamento informático","SERVIÇOS"]
[null,"62090","Outras actividades relacionadas com as tecnologias da informação e informática","SERVIÇOS"]
[null,"63110","Actividades de processamento de dados, domiciliação de informação e actividades relacionadas","SERVIÇOS"]
[null,"63120","Portais web","SERVIÇOS"]
[null,"63910","Actividades de agências de notícias","SERVIÇOS","95110","Reparação de computadores e de equipamento periférico","SERVIÇOS"]
[null,"63990","Outras actividades dos serviços de informação, n. e.","SERVIÇOS","95120","Reparação de equipamento de comunicação","SERVIÇOS"]
[null,"68100","Compra e venda de bens imobiliários","SERVIÇOS","95210","Reparação de televisores e de outros bens de consumo similares","SERVIÇOS"]
[null,"68200","Arrendamento de bens imobiliários","SERVIÇOS","95220","Reparação de electrodomésticos e de outros equipamentos de uso doméstico e para jardim","SERVIÇOS"]
[null,"68311","Actividades de mediação imobiliária","SERVIÇOS","95230","Reparação de calçado e de artigos de couro","SERVIÇOS"]
[null,"68312","Actividades de angariação imobiliária","SERVIÇOS","95240","Reparação de mobiliário e similares, de uso doméstico","SERVIÇOS"]
[null,"68313","Actividades de avaliação imobiliária","SERVIÇOS","95250","Reparação de relógios e de artigos de joalharia","SERVIÇOS"]
[null,"68321","Administração de imóveis por conta de outrem","SERVIÇOS","95290","Reparação de outros bens de uso pessoal e doméstico","SERVIÇOS"]
[null,"68322","Administração de condomínios","SERVIÇOS","96010","Lavagem e limpeza a seco de têxteis e peles","SERVIÇOS"]
[null,"69200","Actividades de contabilidade e auditoria; consultoria fiscal","SERVIÇOS","96021","Salões de cabeleireiro","SERVIÇOS"]
[null,"70100","Actividades das sedes sociais","SERVIÇOS","96022","Institutos de beleza","SERVIÇOS"]
[null,"70210","Actividades de relações públicas e comunicação","SERVIÇOS","96030","Actividades funerárias e conexas","SERVIÇOS"]
[null,"70220","Outras actividades de consultoria para os negócios e a gestão","SERVIÇOS","96040","Actividades de bem -estar físico","SERVIÇOS"]
[null,"71110","Actividades de arquitectura","SERVIÇOS","96091","Actividades de tatuagem e similares","SERVIÇOS"]
[null,"71120","Actividades de engenharia e técnicas afins","SERVIÇOS","96092","Actividades dos serviços para animais de companhia","SERVIÇOS"]
[null,"71200","Actividades de ensaios e análises técnicas","SERVIÇOS"]
[null,"72110","Investigação e desenvolvimento em biotecnologia","SERVIÇOS"]
[null,"72190","Outra investigação e desenvolvimento das ciências físicas e naturais","SERVIÇOS"]
[null,"72200","Investigação e desenvolvimento das ciências sociais e humanas","SERVIÇOS"]
[null,"73110","Agências de publicidade","SERVIÇOS"]
[null,"73120","Actividades de representação nos meios de comunicação","SERVIÇOS"]
[null,"73200","Estudos de mercado e sondagens de opinião","SERVIÇOS"]
[null,"74100","Actividades de design","SERVIÇOS"]
[null,"74200","Actividades fotográficas","SERVIÇOS"]
[null,"77120","Aluguer de veículos automóveis pesados","SERVIÇOS"]
[null,"77210","Aluguer de bens recreativos e desportivos","SERVIÇOS"]
[null,"77220","Aluguer de videocassetes e discos","SERVIÇOS"]
[null,"77290","Aluguer de outros bens de uso pessoal e doméstico","SERVIÇOS"]
[null,"77310","Aluguer de máquinas e equipamentos agrícolas","SERVIÇOS"]
[null,"77320","Aluguer de máquinas e equipamentos para a construção e engenharia civil","SERVIÇOS"]
[null,"77330","Aluguer de máquinas e equipamentos de escritório (inclui computadores)","SERVIÇOS"]
[null,"77340","Aluguer de meios de transporte marítimo e fluvial","SERVIÇOS"]
[null,"77350","Aluguer de meios de transporte aéreo","SERVIÇOS"]
[null,"77390","Aluguer de outras máquinas e equipamentos, n. e.","SERVIÇOS"]
[null,"77400","Locação de propriedade intelectual e produtos similares, excepto direitos de autor","SERVIÇOS"]
[null,"78100","Actividades das empresas de selecção e colocação de pessoal","SERVIÇOS"]
[null,"78200","Actividades das empresas de trabalho temporário","SERVIÇOS"]
[null,"78300","Outro fornecimento de recursos humanos","SERVIÇOS"]
[null,"79110","Actividades das agências de viagem","SERVIÇOS"]
[null,"79120","Actividades dos operadores turísticos","SERVIÇOS"]
[null,"79900","Outros serviços de reservas e actividades relacionadas","SERVIÇOS"]
[null,"80100","Actividades de segurança privada","SERVIÇOS"]
[null,"80200","Actividades relacionadas com sistemas de segurança","SERVIÇOS"]
[null,"80300","Actividades de investigação","SERVIÇOS"]
[null,"81100","Actividades combinadas de apoio aos edifícios","SERVIÇOS"]
[null,"81210","Actividades de limpeza geral em edifícios","SERVIÇOS"]
[null,"81220","Outras actividades de limpeza em edifícios e em equipamentos industriais","SERVIÇOS"]
[null,"81291","Actividades de desinfecção, desratização e similares","SERVIÇOS"]
[null,"81292","Outras actividades de limpeza, n. e.","SERVIÇOS"]
[null,"81300","Actividades de plantação e manutenção de jardins","SERVIÇOS"]
[null,"82110","Actividades combinadas de serviços administrativos","SERVIÇOS"]
[null,"82190","Execução de fotocópias, preparação de documentos e outras actividades especializadas de apoio administrativo","SERVIÇOS"]
[null,"82200","Actividades dos centros de chamadas","SERVIÇOS"]
[null,"82300","Organização de feiras, congressos e outros eventos similares","SERVIÇOS"]
[null,"82910","Actividades de cobranças e avaliação de crédito","SERVIÇOS"]
[null,"82921","Engarrafamento de gases","SERVIÇOS"]
[null,"82922","Outras actividades de embalagem","SERVIÇOS"]
[null,"82990","Outras actividades de serviços de apoio prestados às empresas, n. e.","SERVIÇOS"]
[null,"84111","Administração central","SERVIÇOS"]
[null,"84112","Administração regional autónoma","SERVIÇOS"]
[null,"84113","Administração local","SERVIÇOS"]
[null,"84114","Actividades de apoio à Administração Pública","SERVIÇOS"]
[null,"84121","Administração Pública — actividades de saúde","SERVIÇOS"]
[null,"84122","Administração Pública — actividades de educação","SERVIÇOS"]
[null,"84123","Administração Pública — actividades da cultura, desporto, recreativas,\nambiente, habitação e de outras actividades sociais, excepto segurança social obrigatória","SERVIÇOS"]
[null,"84130","Administração Pública — actividades económicas","SERVIÇOS"]
[null,"84210","Negócios estrangeiros","SERVIÇOS"]
[null,"84220","Actividades de defesa","SERVIÇOS"]
[null,"84230","Actividades de justiça","SERVIÇOS"]
[null,"84240","Actividades de segurança e ordem pública","SERVIÇOS"]
[null,"84250","Actividades de protecção civil","SERVIÇOS"]
[null,"84300","Actividades de segurança social obrigatória","SERVIÇOS"]
[null,"85100","Educação pré -escolar","EDUCAÇÃO"]
[null,"85201","Ensino básico (1.º ciclo)","EDUCAÇÃO"]
[null,"85202","Ensino básico (2.º ciclo)","EDUCAÇÃO"]
[null,"85310","Ensinos básico (3.º ciclo) e secundário geral","EDUCAÇÃO"]
[null,"85320","Ensinos secundário tecnológico, artístico e profissional","EDUCAÇÃO"]
[null,"85410","Ensino pós -secundário não superior","EDUCAÇÃO"]
[null,"85420","Ensino superior","EDUCAÇÃO"]
[null,"85510","Ensinos desportivo e recreativo","EDUCAÇÃO"]
[null,"85520","Ensino de actividades culturais","EDUCAÇÃO"]
[null,"85530","Escolas de condução e pilotagem","EDUCAÇÃO"]
[null,"85591","Formação profissional","EDUCAÇÃO"]
[null,"85592","Escolas de línguas","EDUCAÇÃO"]
[null,"85593","Outras actividades educativas, n. e.","EDUCAÇÃO"]
[null,"85600","Actividades de serviços de apoio à educação","EDUCAÇÃO"]
[null,"86100","Actividades dos estabelecimentos de saúde com internamento","SAÚDE"]
[null,"86210","Actividades de prática medica de clínica geral, em ambulatório","SAÚDE"]
[null,"86220","Actividades de prática medica de clínica especializada, em ambulatório","SAÚDE"]
[null,"86230","Actividades de medicina dentária e odontologia","SAÚDE"]
[null,"86901","Laboratórios de análises clínicas","SAÚDE"]
[null,"86902","Actividades de ambulâncias","SAÚDE"]
[null,"86903","Actividades de enfermagem","SAÚDE"]
[null,"86904","Centros de recolha e bancos de órgãos","SAÚDE"]
[null,"86905","Actividades termais","SAÚDE"]
[null,"86906","Outras actividades de saúde humana, n. e.","SAÚDE"]
[null,"87100","Actividades dos estabelecimentos de cuidados continuados integrados, com alojamento","SAÚDE"]
[null,"87200","Actividades dos estabelecimentos para pessoas com doença do foro mental e do abuso de drogas, com alojamento.","SAÚDE"]
[null,"87301","Actividades de apoio social para pessoas idosas, com alojamento","SAÚDE"]
[null,"87302","Actividades de apoio social para pessoas com deficiência, com alojamento","SAÚDE"]
[null,"87901","Actividades de apoio social para crianças e jovens, com alojamento","SAÚDE"]
[null,"87902","Actividades de apoio social com alojamento, n. e.","SAÚDE"]
[null,"88101","Actividades de apoio social para pessoas idosas, sem alojamento","SAÚDE"]
[null,"88102","Actividades de apoio social para pessoas com deficiência, sem alojamento","SAÚDE"]
[null,"88910","Actividades de cuidados para crianças, sem alojamento","SAÚDE"]
[null,"88990","Outras actividades de apoio social sem alojamento, n. e.","SAÚDE"]
[null,"90010","Actividades das artes do espectáculo","SERVIÇOS"]
[null,"90020","Actividades de apoio às artes do espectáculo","SERVIÇOS"]
[null,"90030","Criação artística e literária","SERVIÇOS"]
[null,"90040","Exploração de salas de espectáculos e actividades conexas","SERVIÇOS"]
[null,"93130","Actividades de ginásio (fitness)","SERVIÇOS"]
[null,"93293","Organização de actividades de animação turística","SERVIÇOS"]
[null,"93294","Outras actividades de diversão e recreativas, n. e.","SERVIÇOS"]
[null,"95110","Reparação de computadores e de equipamento periférico","SERVIÇOS"]
[null,"95120","Reparação de equipamento de comunicação","SERVIÇOS"]
[null,"95210","Reparação de televisores e de outros bens de consumo similares","SERVIÇOS"]
[null,"95220","Reparação de electrodomésticos e de outros equipamentos de uso doméstico e para jardim","SERVIÇOS"]
[null,"95230","Reparação de calçado e de artigos de couro","SERVIÇOS"]
[null,"95240","Reparação de mobiliário e similares, de uso doméstico","SERVIÇOS"]
[null,"95250","Reparação de relógios e de artigos de joalharia","SERVIÇOS"]
[null,"95290","Reparação de outros bens de uso pessoal e doméstico","SERVIÇOS"]
[null,"96010","Lavagem e limpeza a seco de têxteis e peles","SERVIÇOS"]
[null,"96021","Salões de cabeleireiro","SERVIÇOS"]
[null,"96022","Institutos de beleza","SERVIÇOS"]
[null,"96030","Actividades funerárias e conexas","SERVIÇOS"]
[null,"96040","Actividades de bem -estar físico","SERVIÇOS"]
[null,"96091","Actividades de tatuagem e similares","SERVIÇOS"]
[null,"96092","Actividades dos serviços para animais de companhia","SERVIÇOS"]